{"text_format":"1","workbook":"xlsx","n_sheets":21,"sheets":["CHANGE_LOG","ARCHETYPES","TYPE_GENETIQUE","ATTRIBUTS","CAPACITES_SPECIALES","EXPERIENCE_PRELIMINAIRE","AVANTAGES_DESAVANTAGES","AVANTAGES_PROFESSIONNELS","ACHATS","MJ_EXPERIENCE","INFORMATIONS_GENERALES","RELATIONS","AVANTAGES_MUTATIONS","ATTRIBUTS_COMPETENCES","CONNAISSANCES_LANGUES","ACTIONS_COMBAT","ACTIONS SPECIALES","EQUIPEMENT","ARMURE_MECANISEE","NAVIRES_VEHICULES","PNJ"],"not_rendered":{"charts":0,"images":59,"macros":1,"external_links":1,"defined_names":11,"comments":20,"pivot_tables":0},"unopened":[],"bounds":{"document_bytes":16777216,"sheet_cells":100000,"rows_first":2000,"rows_last":500,"rows_between":2000,"halvings":0,"cell_chars":16384,"cell_head_chars":4096},"cells_cut":0,"cells_raw":0,"read":"whole","date_system":"1900"}

{"sheet":"CHANGE_LOG","index":0,"n_rows":250,"n_cols":14,"rows_kept":250,"cut":false,"hidden":false,"merged":[]}
[null,null,null,null,null,null,"FOREWORD"]
[]
["Le but de ce fichier est de pouvoir créer un personnage pas à pas, que le MJ puisse contrôler (en limitant donc les macros), et de pouvoir l'imprimer."]
[]
[]
[null,null,null,null,null,null,"NOTES"]
[]
["Si en utilisant la touche SUPPR sur certaines listes déroulantes vous obtenez un message d'erreur, utilisez à la place la touche ESPACE."]
["Les éléments/valeurs en violet sont issus de modifications liées au supplément Guide Technique. L'abréviation GT est aussi utilisée pour souligner certaines nouveautés."]
["Les éléments/valeurs en brun tanné sont issus de modifications liées au supplément Créatures. L'abréviation C est aussi utilisée pour souligner certaines nouveautés."]
["Les éléments/valeurs en bleu foncé sont issus de modifications liées au supplément Univers. L'abréviation U est aussi utilisée pour souligner certaines nouveautés."]
["Les éléments/valeurs en orange sont issus de modifications liées au supplément République du Corail. L'abréviation RC est aussi utilisée pour souligner certaines nouveautés."]
["Les éléments/valeurs en vert d'eau sont issus de modifications liées au supplément Alliance Polaire. L'abréviation AP est aussi utilisée pour souligner certaines nouveautés."]
["Les éléments/valeurs en vert sont issus de modifications liées au supplément Union Méditéranéenne. L'abréviation UM est aussi utilisée pour souligner certaines nouveautés."]
["Les éléments/valeurs en vert olive sont issus de modifications liées au supplément Amazonia. L'abréviation A est aussi utilisée pour souligner certaines nouveautés."]
[]
[null,null,null,null,null,null,"CHANGE LOG"]
[null,null,null,null,null,null,null,null,null,null,null,null,null,"Indique les changements entre chaque version"]
[null,"V 5.00",null,null,"Introduction de REPUBLIQUE DU CORAIL RC"]
[]
[null,null,null,"OK","Ajout des différents professions des Empathes du Corail dans l'onglet EXPERIENCE PRELIMINAIRE"]
[null,null,null,"OK","Diversification des compétences qu'à partir de la 3ème année"]
[null,null,null,"OK","Ajout d'une option de sélection d'Empathie à 3PC pour ceux qui n'ont pas la mutation du même nom"]
[null,null,null,"OK","Prise en compte des nouvelles professions dans l'onglet AVANTAGES PROFESSIONNELS"]
[null,null,null,"OK","Mise à jour des avantages professionnels aléatoires"]
[null,null,null,"OK","Ajout de la Discipline dans l'onglet AVANTAGES PROFESSIONNELS"]
[null,null,null,"OK","Modification de l'âge dans l'onglet ATTRIBUTS en fonction du niveau mis en Discipline"]
[null,null,null,"OK","Ajout d'une profession perso. : Travailleur hybride indépendant, que j'espère voir devenir officielle un jour ! ;)"]
[null,null,null,"OK","Ajout du choix du lieu de travail pour cet hybride pour définir son salaire et ses avantages professionnels"]
[null,null,null,"OK","Prise en compte de cette nouvelle profession dans l'onglet AVANTAGES PROFESSIONNELS"]
[]
[]
[null,"V4.11",null,"OK","Correctif : Artisan/Artiste. Tout comme les marchands cette profession peut désormais acquérir des connaissances dans"]
[null,null,null,null,null,"les sciences liées aux produits fabriqués (vendus pour les marchands) - Merci à Gortogg"]
[null,null,null,"OK","Correctif : Scientifique/Ingénieur. Les avantages pro aléatoires Mécène et Financement gouvernemental fournissent"]
[null,null,null,null,null,"désormais le revenu supplémentaire - Merci à Gortogg"]
[]
[null,"V 4.10",null,"OK","Création de l'onglet PNJ pour créer facilement ces derniers ou des persos pré-tirés"]
[null,null,null,"OK","Macros de modifications et de RAZ pour ces onglets"]
[null,null,null,"OK","Correctif : choix des langues des altérés sur l'onglet EXPERIENCE PRELIMINAIRE"]
[null,null,null,"OK","Correctif : macro de tri de le feuille imprimable AVANTAGES, MUTATIONS, POLARIS & IMPLANTS"]
[]
[]
[null,"V 4.00",null,null,"Introduction de UNIVERS U"]
[]
[null,null,null,"OK","Ajout des nouveaux types génétique"]
[null,null,null,"OK","Ajout des nouveaux attributs secondaires"]
[null,null,null,"OK","Ajout de ces attributs sur la feuille imprimable ACTION & COMBAT"]
[null,null,null,"OK","Ajout des nouvelles mutations"]
[null,null,null,"OK","Ajout des nouveaux avantages et désavantages"]
[null,null,null,"OK","Ajout des nouvelles compétences"]
[null,null,null,"OK","Mise à jour des liaisons des feuilles imprimables pour les compétences"]
[null,null,null,"OK","Ajout des nouvelles professions (voies) dans l'onlet EXPERIENCE PRELIMINAIRE"]
[null,null,null,"OK","Ajout de l'expérience préliminaire simplifiée"]
[null,null,null,"OK","Ajout de l'expérience préliminaire des personnages de la surface"]
[null,null,null,"OK","Ajout des nouveaux avantages professionnels"]
[null,null,null,"OK","Gestion de l'évolution des altérés"]
[null,null,null,"OK","Prise en compte des nouvelles professions dans l'onglet AVANTAGES PROFESSIONNELS"]
[null,null,null,"OK","Mise à jour des avantages professionnels aléatoires"]
[null,null,null,"OK","Modification des macros de RAZ des onglets modifiés"]
[null,null,null,"OK","Modification du nom de la seconde feuille imprimable ATRIBUTS & COMPETENCES en CONNAISSANCES & LANGUES"]
[]
[]
[null,"V 3.00",null,null,"Introduction de CREATURES C"]
[null,null,null,"OK","Ajout des différents types de Techno-hybride"]
[null,null,null,"OK","Modification de l'ordre de création et de l'onglet où sélectionner le Type génétique"]
[null,null,null,"OK","Modification des tables de l'onglet TYPE GENETIQUE pour ajout de nouveaux Types génétiques"]
[null,null,null,"OK","Modification des tables de l'onglet ATTRIBUT pour ajout de nouveaux Types génétiques"]
[null,null,null,"OK","Modification de l'onglet CAPACITE SPECIALES pour prise en compte des mutations gratuites de certains T-H"]
[null,null,null,"OK","Modification de l'onglet ACHATS pour prise en compte des mutations gratuites de certains T-H"]
[null,null,null,"OK","Modification de la feuille AVANTAGES, MUTATIONS, POLARIS & IMPLANTS pour faire apparaître les effets du Type génétique"]
[null,null,null,"OK","Modification de la feuille ACTIONS & COMBAT pour faire apparaître l'armure naturelle et la profondeur opérationnelle"]
[null,null,null,"OK","Gestion de l'armure naturelle (Type génétique ou mutation)"]
[null,null,null,"OK","Correction de l'option du niveau max des compétences qui prend maintenant en compte les valeurs de progression naturelle"]
[null,null,null,"OK","Remplissage automatique des cases à cocher pour les compétences sur les feuilles imprimables"]
[null,null,null,"OK","Macro d'insertion d'image pour mettre le portrait d'un personnage dans la feuille INFORMATIONS GENERALES"]
[null,null,null,"OK","Modification des macros de RAZ des onglets modifiés"]
[]
[null,"V 2.10"]
[null,null,null,"OK","Création de l'onglet ARCHETYPE pour aider la création de personnage"]
[null,null,null,"OK","Création de l'onglet MJ & EXPERIENCE pour prendre en compte les revers et réaliser des modifications en cours de jeu "]
[null,null,null,"OK","Création de la feuille de personnage imprimable fourre-tout : techniques/bottes, compétences spéciales, avantages pro, revers"]
[null,null,null,"OK","Gestion des points d'expérience"]
[null,null,null,"OK","Gestion des techniques de combat et des bottes"]
[null,null,null,"OK","Gestion des points de fragments pour la création de programme informatique"]
[null,null,null,"OK","Prise en compte des effets des blessures, sequelles, maladie, virus sur les feuilles imprimables"]
[null,null,null,"OK","Prise en compte des modifications du MJ, des revers, et des points d'expérience sur l'onglet Attributs"]
[null,null,null,"OK","Prise en compte des modifications du MJ et des revers sur l'onglet Capacités spéciales"]
[null,null,null,"OK","Prise en compte des modifications du MJ, des revers, et des points d'expérience sur l'onglet Expérience préliminaire"]
[null,null,null,"OK","Prise en compte des modifications du MJ et des revers sur l'onglet Avantages et Désavantages"]
[null,null,null,"OK","Prise en compte des modifications du MJ et des revers sur l'onglet Avantages professionnels"]
[null,null,null,"OK","Prise en compte des modifications du MJ sur l'onglet Achats"]
[null,null,null,"OK","Macro de RAZ pour la nouvelle feuille imprimable AVANTAGES PROFESSIONNELS & ACTIONS SPECIALES"]
[null,null,null,"OK","Pas de macro de RAZ pour l'onglet MJ & EXPERIENCE, volontairement !"]
[]
[null,"V 2.00",null,null,"Introduction du GUIDE TECHNIQUE GT"]
[null,null,null,"OK","Ajout des nouveaux avantages et désavantages"]
[null,null,null,"OK","Ajout des modifications de certains avantages"]
[null,null,null,"OK","Modification de certaines compétences en fonction de ces avantages et désavantages"]
[null,null,null,"OK","Modification des économies et du revenu mensuel en fonction de ces avantages et désavantages"]
[null,null,null,"OK","Ajout de la nouvelle compétence Lecture sur les lèvres"]
[null,null,null,"OK","Remplacement du système d'amélioration des contacts"]
[null,null,null,"OK","Système optionnel à 20 points de compétence par année professionnelle"]
[null,null,null,"OK","Modification de l'avantage Formation si utilisation du système à 20 points"]
[null,null,null,"OK","Modification des études supérieures si utilisation du système à 20 points"]
[null,null,null,"OK","Modification de certains attributs pour certaines compétences"]
[null,null,null,"OK","Modification des seuils de blessure en fonction du type génétique"]
[null,null,null,"OK","Modification de la profondeur de plongée en fonction du type génétique"]
[null,null,null,"OK","Modification des attributs des ordinateurs et de leur poids"]
[null,null,null,"OK","Modification des bonus de dommage des armures"]
[null,null,null,"OK","Ajout de la pénétration dans les attributs des armes"]
[]
[null,"V 1.20"]
[null,null,null,"OK","Création de l'onglet ACHATS permettant de lister tout l'équipement acheté, y compris armure et véhicule"]
[null,null,null,"OK","Modification des attributs en fonction des implants achetés"]
[null,null,null,"OK","Gestion des économies, de l'endettement et de l'avantage Matériel"]
[null,null,null,"OK","Gestion du poids transporté"]
[null,null,null,"OK","Création de la feuille de personnage imprimable : EQUIPEMENT"]
[null,null,null,"OK","Création de la feuille de personnage imprimable : ARMURE MECANISEE"]
[null,null,null,"OK","Création de la feuille de personnage imprimable : NAVIRES & VEHICULES"]
[null,null,null,"OK","Macro de RAZ pour ces feuilles"]
[]
[null,"V 1.10"]
[null,null,null,"OK","Création de la feuille de personnage imprimable : INFORMATIONS GENERALES"]
[null,null,null,"OK","Création de la feuille de personnage imprimable : CONTACTS, ALLIES, FOURNISSEURS, OPPOSANTS ET ENNEMIS"]
[null,null,null,"OK","Création de la feuille de personnage imprimable : AVANTAGES, MUTATIONS, POLARIS & IMPLANTS"]
[null,null,null,"OK","Création de la feuille de personnage imprimable : ATTRIBUTS & COMPETENCES (2 pages)"]
[null,null,null,"OK","Création de la feuille de personnage imprimable : ACTIONS & COMBAT"]
[null,null,null,"OK","Macro de RAZ pour ces feuilles"]
[]
[]
[null,null,null,null,null,null,"CHECK LIST"]
[null,null,null,null,null,null,null,null,null,null,null,null,null,"Indique l'avancée du développement"]
[null,"V 1.00",null,null,"LIVRE DE BASE + ERRATA ECRAN DU MAîTRE"]
[null,null,"ATTRIBUTS"]
[null,null,null,"OK","Prise en compte de l'ambiance pour les points d'attributs"]
[null,null,null,"OK","Répartition des points d'attributs dans la valeur de base des attributs principaux"]
[null,null,null,"OK","Insertion de la règle optionnelle pour les personnages féminins"]
[null,null,null,"OK","Prise en compte du type génétique pour les attributs principaux et PC"]
[null,null,null,"OK","Choix du nombre de PC aloué aux attributs principaux"]
[null,null,null,"OK","Gestion des coûts des augmentations des attributs"]
[null,null,null,"OK","Répartition des points d'attributs obtenus avec les PC en tant que modificateurs aux attributs principaux"]
[null,null,null,"OK","Calcul de l'âge en fonction des études, de l'expérience professionnelles, et de l'avantage Formation"]
[null,null,null,"OK","Prise en compte des effets de l'âge sur les attributs principaux"]
[null,null,null,"OK","Insertion de la règle optionnelle pour les personnages jeunes"]
[null,null,null,"OK","Prise en compte des mutations pour les attributs principaux"]
[null,null,null,"OK","Prise en compte des avantages professionnels pour les attributs principaux"]
[null,null,null,"OK","Calcul des attributs secondaires et optionnels"]
[null,null,null,"OK","Prise en compte des mutations pour les attributs secondaires et optionnels"]
[null,null,null,"OK","Prise en compte des avantages/désavantages pour les attributs secondaires et optionnels"]
[null,null,null,"OK","Calcul du poids transportable"]
[null,null,null,"OK","Calcul de la vitesse de déplacement y compris sous l'eau"]
[null,null,null,"OK","Calcul final des attributs principaux, secondaires et optionnels"]
[null,null,null,"OK","Calcul des modificateurs d'aptitudes naturelles"]
[null,null,null,"OK","Bouton RAZ pour la répartition des valeurs de base des attributs"]
[null,null,null,"OK","Bouton RAZ pour la répartition des points de création aux attributs"]
[null,null,null,"OK","Bouton RAZ pour la page entière"]
[null,null,"TYPE GENETIQUE"]
[null,null,null,"OK","Table des avantages/désavantages des types génétiques consultable"]
[null,null,"CAPACITES SPECIALES"]
[null,null,null,"OK","Table des mutations consultable"]
[null,null,null,"OK","Choix des mutations (jusqu'à 6)"]
[null,null,null,"OK","Choix des mutations à coût réduit pour les mutations Caractère géné. Animal"]
[null,null,null,"OK","Choix des mutations gratuites (1 à 4) pour les mutations Parasites et Symbiotes"]
[null,null,null,"OK","Insertion de la règle optionnelle des mutations aléatoires (PC = 0)"]
[null,null,null,"OK","Prise en compte de la mutation Empathie offerte via un avantage professionnel aléatoire"]
[null,null,null,"OK","Gestion de la Force Polaris avec tirages automatiques et achetables"]
[null,null,null,"OK","Gestion du coût en PC"]
[null,null,null,"OK","Bouton RAZ pour la page entière"]
[null,null,"EXPERIENCE PRELIMINAIRE"]
[null,null,null,"OK","Choix du nombre de PC aloué à l'expérience professionnelle"]
[null,null,null,"OK","Choix de l'origine géographique"]
[null,null,null,"OK","Choix de l'origine sociale + sélection spécialités pour certaines"]
[null,null,null,"OK","Choix de la formation de base + sélection spécialités pour certaines"]
[null,null,null,"OK","Choix des études supérieures (jusqu'à 4) + sélection spécialités pour certaines"]
[null,null,null,"OK","Choix des professions et nombre d'années pour chacunes d'elles"]
[null,null,null,"OK","Insertion de la règle optionelle des compétences naturelles"]
[null,null,null,"OK","Valeurs de base pour les compétences naturelles Langue maternelle et Connaissance d'une nation (Pays d'origine)"]
[null,null,null,"OK","Prise en compte de l'avantage Bilingue"]
[null,null,null,"OK","Répartition des points de la formation de base Autodidacte"]
[null,null,null,"OK","Gestion des coûts des augmentations des compétences"]
[null,null,null,"OK","Gestion des compétences de classe/hors classe (choix perso : certains \"ou\" disparaîssent)"]
[null,null,null,"OK","Gestion des compétences de classe des Prêtres du Trident en fonction des années de service"]
[null,null,null,"OK","Gestion de la compétence Hybride en fonction du type génétique et de l'avantage Amphibie"]
[null,null,null,"OK","Gestion des compétences de classe dues aux formations d'origines"]
[null,null,null,"OK","Gestion des compétences de classe dues aux mutations"]
[null,null,null,"OK","Gestion des compétences de classe dues aux avantages professionnels aléatoires (Formation et Ordonnateurs)"]
[null,null,null,"OK","Ajout manuel de modificateurs de compétences naturelles pour la première profession (si niv. maîtrise <= 5)"]
[null,null,null,"OK","Répartition des points de compétences en tant que modificateurs pour les compétences de la première profession"]
[null,null,null,"OK","Ajout manuel de modificateurs de compétences naturelles pour la seconde profession (si niv. maîtrise <= 5)"]
[null,null,null,"OK","Répartition des points de compétences en tant que modificateurs pour les compétences de la seconde profession"]
[null,null,null,"OK","Ajout manuel de modificateurs de compétences naturelles pour la troisième profession (si niv. maîtrise <= 5)"]
[null,null,null,"OK","Répartition des points de compétences en tant que modificateurs pour les compétences de la troisième profession"]
[null,null,null,"OK","Ajout manuel de modificateurs de compétences naturelles pour la quatrième profession (si niv. maîtrise <= 5)"]
[null,null,null,"OK","Répartition des points de compétences en tant que modificateurs pour les compétences de la quatrième profession"]
[null,null,null,"OK","Prise en compte des bonus de mutations"]
[null,null,null,"OK","Gestion des points fournis par l'avantage Formation"]
[null,null,null,"OK","Gestion des points fournis par les avantages professionnels aléatoires"]
[null,null,null,"OK","Gestion des choix des compétences de classes pour certaines professions (connaissances, langues etc…)"]
[null,null,null,"OK","Insertion de la règle optionnelle du niveau maximum des compétences"]
[null,null,null,"OK","Calcul final du degré de maîtrise des compétences"]
[null,null,null,"OK","Prise en compte des aptitudes naturelles"]
[null,null,null,"OK","Calcul final des compétences"]
[null,null,null,"OK","Bouton RAZ pour les origines/formations"]
[null,null,null,"OK","Bouton RAZ pour les études supérieures"]
[null,null,null,"OK","Bouton RAZ pour les professions"]
[null,null,null,"OK","Bouton RAZ pour la répartition des points d'Autodidacte"]
[null,null,null,"OK","Bouton RAZ pour la répartition des bonus de compétences naturelles x4"]
[null,null,null,"OK","Bouton RAZ pour la répartition des bonus de compétences des professions x4"]
[null,null,null,"OK","Bouton RAZ pour la répartition des bonus de compétences de l'avantage Formation"]
[null,null,null,"OK","Bouton RAZ pour la page entière"]
[null,null,"AVANTAGES PROFESSIONNELS"]
[null,null,null,"OK","Calcul des économies par rapport aux années passées dans chaque profession"]
[null,null,null,"OK","Prise en compte d'un refus de revers sur les économies"]
[null,null,null,"OK","Prise en compte des bonus économiques annuels et pluri-annuels des avantages professionnels aléatoires"]
[null,null,null,"OK","Prise en compte de l'avantage Argent supplémentaire"]
[null,null,null,"OK","Prise en compte de l'avantage Fausse identité (vu avec Cyrull)"]
[null,null,null,"OK","Gestion spécifique des économies et titres pour les officiers sortis des rangs, et passant des forces régulières à élites"]
[null,null,null,"OK","Gestion des dettes (vu avec Cyrull)"]
[null,null,null,"OK","Calcul des points d'avantages pro. par rapport aux années passées dans chaque profession"]
[null,null,null,"OK","Modification des points d'avantages pro. si choix d'un avantage pro. aléatoire (tout les 5 ans dans la profession), et si résultat = 10"]
[null,null,null,"OK","Modification des points d'avantages pro. si choix d'un revers, et si refus de ce revers"]
[null,null,null,"OK","Insertion de la règle optionnelle des revers automatiques pour personnages expérimentés"]
[null,null,null,"OK","Gestion des coûts des augmentations de Célébrité (coûts attributs) et de d'autres avantages (coûts compétences)"]
[null,null,null,"OK","Prise en compte des années d'études supérieures sur les points de Célébrité"]
[null,null,null,"OK","Gestion des avantages professionnels de classe"]
[null,null,null,"OK","Répartition des points d'avantages pro."]
[null,null,null,"OK","Transformation d'Opposants en Ennemis"]
[null,null,null,"OK","Répartition des points de Relations"]
[null,null,null,"OK","Prise en compte des bonus des avantages pro. aléatoires"]
[null,null,null,"OK","Prise en compte des bonus des avantages/désavantages"]
[null,null,null,"OK","Calcul final des avantages professionnels"]
[null,null,null,"OK","Boutons RAZ"]
[null,null,"AVANTAGES/DESAVANTAGES"]
[null,null,null,"OK","Table des avantages/désavantages consultable"]
[null,null,null,"OK","Ajout de l'avantage Unité pour la profession Ouvrier/Docker (vu avec Cyrull)"]
[null,null,null,"OK","Choix des avantages/désavantages (jusqu'à 6 de chacun)"]
[null,null,null,"OK","Gestion du coût en PC"]
[null,null,null,"OK","Bouton RAZ pour la page entière"]
[]
[]
[null,null,null,null,null,null,"PROJECT"]
[null,null,null,null,null,null,null,null,null,null,null,null,null,"Défini les prochains ajouts souhaités"]
[]
[null,null,"V 6.0",null,"Ajout des éléments de création de personnage du livre Alliance Polaire"]
[]
[null,null,"V 7.0",null,"Ajout des éléments de création de personnage du livre Union Méditerranéenne"]
[]
[null,null,null,null,null,null,null,null,null,null,null,null,null,"Patrice \"Estheral\" Piron"]
[null,null,null,null,null,null,null,null,null,null,null,null,null,"Merci à la communauté active du forum officiel, et particulièrement à Cyrull et Iron, pour la création de cet univers et leur disponibilité"]

{"sheet":"ARCHETYPES","index":1,"n_rows":39,"n_cols":20,"rows_kept":39,"cut":false,"hidden":false,"merged":[[4,9,6,9],[33,15,35,15],[3,0,3,2],[13,3,13,4],[14,3,14,4],[15,3,15,4],[16,3,16,4],[33,3,33,4],[17,3,17,4],[18,3,18,4],[11,1,11,4],[21,1,21,4],[23,3,23,4],[24,3,24,4],[25,3,25,4],[26,3,26,4],[27,3,27,4],[28,3,28,4],[31,1,31,4],[11,6,11,9],[13,8,13,9],[14,8,14,9],[15,8,15,9],[16,8,16,9],[26,8,26,9],[27,8,27,9],[28,8,28,9],[31,6,31,9],[17,8,17,9],[18,8,18,9],[21,6,21,9],[23,8,23,9],[34,3,34,4],[35,3,35,4],[36,3,36,4],[37,3,37,4],[38,3,38,4],[24,8,24,9],[25,8,25,9],[35,8,35,9],[36,8,36,9],[37,8,37,9],[38,8,38,9],[33,8,33,9],[34,8,34,9],[38,13,38,14],[13,19,13,20],[14,19,14,20],[15,19,15,20],[16,19,16,20],[17,19,17,20],[18,19,18,20],[27,13,27,14],[28,13,28,14],[31,11,31,14],[33,13,33,14],[34,13,34,14],[13,13,13,14],[11,17,11,20],[36,13,36,14],[37,13,37,14],[11,11,11,14],[17,13,17,14],[26,13,26,14],[18,13,18,14],[21,11,21,14],[23,13,23,14],[24,13,24,14],[14,13,14,14],[15,13,15,14],[16,13,16,14],[35,13,35,14],[25,13,25,14]]}
[]
[null,null,null,null,null,null,null,null,null,"<< Légende _"]
[]
["TROISIEME EDITION",null,null,null,null,null,null,null,null,null,null,"Cellules à compléter / Sélection à faire dans le menu déroulant"]
[]
[null,null,null,null,null,null,null,null,null,null,null,"Passer la souris au dessus de ce symbole pour afficher un commentaire"]
[]
[]
[]
[null,"Voici les archétypes du livre de base qui vous permettront de cibler les PC à dépenser ou de situer votre personnage au fur et à mesure de sa création."]
[]
[null,"LE PERSONNAGE PAR DEFAUT",null,null,null,null,"L'HYBRIDE",null,null,null,null,"LE VETERAN",null,null,null,null,null,"CREATION EN COURS"]
[]
[null,"Attributs",null,8,null,null,"Attributs",null,5,null,null,"Attributs",null,3,null,null,null,"Attributs",null,{"$f":"ATTRIBUTS!D24","v":0}]
[null,"Type génétique",null,0,null,null,"Type génétique",null,5,null,null,"Type génétique",null,0,null,null,null,"Type génétique",null,{"$f":"ATTRIBUTS!D25","v":0}]
[null,"Capacités spéciales",null,0,null,null,"Capacités spéciales",null,0,null,null,"Capacités spéciales",null,0,null,null,null,"Capacités spéciales",null,{"$f":"ATTRIBUTS!D26","v":0}]
[null,"Expérience préliminaire",null,12,null,null,"Expérience préliminaire",null,10,null,null,"Expérience préliminaire",null,14,null,null,null,"Expérience préliminaire",null,{"$f":"ATTRIBUTS!D27","v":0}]
[null,"Avantages",null,0,null,null,"Avantages",null,0,null,null,"Avantages",null,3,null,null,null,"Avantages",null,{"$f":"AVANTAGES_DESAVANTAGES!AR6","v":0}]
[null,"Désavantages",null,0,null,null,"Désavantages",null,0,null,null,"Désavantages",null,0,null,null,null,"Désavantages",null,{"$f":"AVANTAGES_DESAVANTAGES!AR7","v":0}]
[]
[]
[null,"LE JEUNE PREMIER",null,null,null,null,"LE PHENOMENE",null,null,null,null,"LE VIEUX LOUP DE MER"]
[null,null,null,null,null,null,null,null,null,null,null,null,null,null,null,null,null,{"$f":"IF($T$14=D14,IF($T$15=D15,IF($T$16=D16,IF($T$17=D17,IF($T$18=D18,IF($T$19=D19,1,0),0),0),0),0),0)","v":0}]
[null,"Attributs",null,7,null,null,"Attributs",null,5,null,null,"Attributs",null,4,null,null,null,{"$f":"IF($T$14=D24,IF($T$15=D25,IF($T$16=D26,IF($T$17=D27,IF($T$18=D28,IF($T$19=D29,2,0),0),0),0),0),0)","v":0}]
[null,"Type génétique",null,0,null,null,"Type génétique",null,0,null,null,"Type génétique",null,0,null,null,null,{"$f":"IF($T$14=D34,IF($T$15=D35,IF($T$16=D36,IF($T$17=D37,IF($T$18=D38,IF($T$19=D39,3,0),0),0),0),0),0)","v":0}]
[null,"Capacités spéciales",null,3,null,null,"Capacités spéciales",null,7,null,null,"Capacités spéciales",null,0,null,null,null,{"$f":"IF($T$14=I14,IF($T$15=I15,IF($T$16=I16,IF($T$17=I17,IF($T$18=I18,IF($T$19=I19,4,0),0),0),0),0),0)","v":0}]
[null,"Expérience préliminaire",null,7,null,null,"Expérience préliminaire",null,12,null,null,"Expérience préliminaire",null,17,null,null,null,{"$f":"IF($T$14=I24,IF($T$15=I25,IF($T$16=I26,IF($T$17=I27,IF($T$18=I28,IF($T$19=I29,5,0),0),0),0),0),0)","v":0}]
[null,"Avantages",null,3,null,null,"Avantages",null,0,null,null,"Avantages",null,4,null,null,null,{"$f":"IF($T$14=I34,IF($T$15=I35,IF($T$16=I36,IF($T$17=I37,IF($T$18=I38,IF($T$19=I39,6,0),0),0),0),0),0)","v":0}]
[null,"Désavantages",null,0,null,null,"Désavantages",null,-4,null,null,"Désavantages",null,-5,null,null,null,{"$f":"IF($T$14=N14,IF($T$15=N15,IF($T$16=N16,IF($T$17=N17,IF($T$18=N18,IF($T$19=N19,7,0),0),0),0),0),0)","v":0}]
[null,null,null,null,null,null,null,null,null,null,null,null,null,null,null,null,null,{"$f":"IF($T$14=N24,IF($T$15=N25,IF($T$16=N26,IF($T$17=N27,IF($T$18=N28,IF($T$19=N29,8,0),0),0),0),0),0)","v":0}]
[null,null,null,null,null,null,null,null,null,null,null,null,null,null,null,null,null,{"$f":"SUM(R23:R30)","v":0}]
[null,"LE JEUNE HERITIER",null,null,null,null,"LE SURVIVANT",null,null,null,null,"LE PERSONNAGE SUR MESURE"]
[]
[null,"Attributs",null,5,null,null,"Attributs",null,7,null,null,"Attributs",null,{"$f":"T14","v":0}]
[null,"Type génétique",null,0,null,null,"Type génétique",null,0,null,null,"Type génétique",null,0]
[null,"Capacités spéciales",null,0,null,null,"Capacités spéciales",null,3,null,null,"Capacités spéciales",null,0]
[null,"Expérience préliminaire",null,5,null,null,"Expérience préliminaire",null,12,null,null,"Expérience préliminaire",null,0]
[null,"Avantages",null,10,null,null,"Avantages",null,3,null,null,"Avantages",null,0]
[null,"Désavantages",null,0,null,null,"Désavantages",null,-5,null,null,"Désavantages",null,0]

{"sheet":"TYPE_GENETIQUE","index":2,"n_rows":79,"n_cols":76,"rows_kept":79,"cut":false,"hidden":false,"merged":[[9,75,35,79],[22,3,22,5],[24,3,24,5],[18,3,18,4],[3,0,3,2],[4,9,6,9],[10,3,10,5],[16,3,16,4],[17,3,17,4],[9,6,11,6],[15,3,15,4],[12,3,12,4],[13,3,13,4],[14,3,14,4],[19,8,19,10]]}
[]
[null,null,null,null,null,null,null,null,null,"<< Légende _"]
[]
["TROISIEME EDITION",null,null,null,null,null,null,null,null,null,"Cellules à compléter / Sélection à faire dans le menu déroulant"]
[]
[null,null,null,null,null,null,null,null,null,null,"Passer la souris au dessus de ce symbole pour afficher un commentaire"]
[null,null,null,null,null,null,null,null,null,null,null,null,null,null,null,null,null,null,null,null,null,null,null,null,"TH ?",{"$f":"SUM(Y8:AB8)","v":0}]
[null,null,null,null,null,null,null,null,null,null,null,null,null,null,null,null,null,null,null,null,null,null,null,null,{"$f":"IF($D$11=Y10,1,0)","v":0},{"$f":"IF($D$11=Z10,1,0)","v":0},0,0,null,null,null,null,null,null,null,null,null,null,null,null,null,null,null,null,null,null,null,null,null,null,null,null,null,null,null,null,null,null,null,null,"HYBRIDE",{"$f":"IF(EXPERIENCE_PRELIMINAIRE!$W$325<0,0,EXPERIENCE_PRELIMINAIRE!$W$325)","v":"X"},null,"Perception"]
[null,null,null,null,null,null,null,null,null,null,null,null,null,null,null,null,null,null,null,null,null,null,null,null,null,null,null,null,null,null,null,null,null,null,null,null,null,null,null,null,null,null,null,null,null,null,null,null,null,null,null,null,null,null,null,null,null,null,null,null,"FOE",{"$f":"IF(EXPERIENCE_PRELIMINAIRE!$W$30<0,0,EXPERIENCE_PRELIMINAIRE!$W$30)","v":0},null,{"$f":"ATTRIBUTS!R19","v":7},null,"Coût développement compétence hybride",null,null,null,null,null,"TEXTE POUR FEUILLE IMPRIMABLE"]
[null,null,null,null,null,null,null,null,null,null,null,null,null,null,null,null,null,null,null,"Type génétique",null,null,"Néo-hybride (hybride naturel)","Géno-hybride","Techno-hybride Alpha","Techno-hybride Bêta 453","Techno-hybride Mamba","Techno-hybride Recyclé","Altéré","Mutant","Cyborg S","Cyborg M","Cyborg L","Race 06","Race 07","Race 08","Race 09","Race 10","Race 11","Race 12","Race 13","Race 14","Race 15","Race 16","Race 17","Race 18","Race 19","Race 20","Race 21","Race 22","Race 23","Race 24","Race 25","Race 26","Race 27","Race 28","Race 29","Race 30","Humain",1,null,null,null,null,null,null,null,null,null,null,"Mutation évolutive",{"$f":"IF(P16=0,\"\",CONCATENATE(L16,\" \",P16,\" \"))","v":""},null,{"$f":"IF(BT10=\"\",\"\",CONCATENATE(BT10,\"; \"))","v":""},null,{"$f":"CONCATENATE(BV10,BV11,BV12,BV13,BV14,BV15,BV16,BV17,BV18,BV19,BV20,BV21,BV22,BV23,BV24,BV25,BV26,BV27,BV28,BV29,BV30,BV31,BV32,BV33,BV34,BV35,BV36,BV40)","v":""}]
[null,"Type génétique",null,"Humain",null,null,null,null,null,"Compétence spéciale Hybride",null,"Niveau de maîtrise initial",null,null,null,{"$f":"HLOOKUP($D$11,$W$10:$BG$40,BH11,)","v":"X"},null,null,null,"Humain",null,null,3,0,0,0,0,0,{"$f":"IF(CAPACITES_SPECIALES!$AF$168>0,-3,\"X\")","v":"X"},{"$f":"IF(CAPACITES_SPECIALES!$AF$168>0,-3,\"X\")","v":"X"},"X","X","X",null,null,null,null,null,null,null,null,null,null,null,null,null,null,null,null,null,null,null,null,null,null,null,null,null,{"$f":"IF(CAPACITES_SPECIALES!$AF$168>0,-3,\"X\")","v":"X"},2,"Niv maîtrise comp Hybride",null,null,null,null,"Géno-hybride","Techno-hybride",null,null,null,null,"",null,{"$f":"IF(BT11=\"\",\"\",CONCATENATE(BT11,\"; \"))","v":""}]
[null,null,null,null,null,null,null,null,null,null,null,"Développement à un coût",null,null,null,{"$f":"HLOOKUP($D$11,$W$10:$BG$40,BH12,)","v":"Impossible"},null,null,null,"Néo-hybride (hybride naturel)",null,null,"Normal",{"$f":"IF($BN$16=1,\"Normal\",\"Doublé\")","v":"Doublé"},{"$f":"IF($BO$16=1,\"Normal\",\"Doublé\")","v":"Doublé"},{"$f":"IF($BO$16=1,\"Normal\",\"Doublé\")","v":"Doublé"},{"$f":"IF($BO$16=1,\"Normal\",\"Doublé\")","v":"Doublé"},{"$f":"IF($BO$16=1,\"Normal\",\"Doublé\")","v":"Doublé"},{"$f":"IF($BG$11=-3,\"Doublé\",\"Impossible\")","v":"Impossible"},{"$f":"IF($BG$11=-3,\"Doublé\",\"Impossible\")","v":"Impossible"},"Impossible","Impossible","Impossible",null,null,null,null,null,null,null,null,null,null,null,null,null,null,null,null,null,null,null,null,null,null,null,null,null,{"$f":"IF($BG$11=-3,\"Doublé\",\"Impossible\")","v":"Impossible"},3,{"$f":"EXPERIENCE_PRELIMINAIRE!V325","v":-3},null,null,null,null,{"$f":"IF(EXPERIENCE_PRELIMINAIRE!E184=\"Hybride du Trident (Membre du GSI)\",1,0)","v":0},{"$f":"IF(EXPERIENCE_PRELIMINAIRE!E184=\"Techno-Hybride\",1,0)","v":0},null,null,null,null,"",null,""]
[null,"PC base",null,{"$f":"ATTRIBUTS!D23","v":20},null,null,null,null,null,null,null,"Peut être utilisé à la place de Manœuvres sous-marines (N-H et G-H) ou d'Athlétisme (N-H)",null,null,null,null,null,null,null,"Géno-hybride",null,null,null,null,null,null,null,null,null,null,null,null,null,null,null,null,null,null,null,null,null,null,null,null,null,null,null,null,null,null,null,null,null,null,null,null,null,null,null,4,null,null,null,null,null,{"$f":"IF(EXPERIENCE_PRELIMINAIRE!E204=\"Hybride du Trident (Membre du GSI)\",1,0)","v":0},{"$f":"IF(EXPERIENCE_PRELIMINAIRE!E204=\"Techno-Hybride\",1,0)","v":0},null,null,null,null,{"$f":"IF(P19=0,\"\",CONCATENATE(L19,\" \",P19,\" \"))","v":""},null,""]
[null,"PC Attributs",null,{"$f":"ATTRIBUTS!D24","v":0},null,null,null,null,null,"Profondeur opérationelle GT",null,"Profondeur maximale",null,null,null,{"$f":"HLOOKUP($D$11,$W$10:$BG$40,BH14,)","v":100},"m",null,null,"Techno-hybride Alpha",null,null,{"$f":"IF(EXPERIENCE_PRELIMINAIRE!$W$325=\"X\",100,IF(EXPERIENCE_PRELIMINAIRE!$W$325<1,100,W15))","v":100},{"$f":"IF(EXPERIENCE_PRELIMINAIRE!$W$325=\"X\",100,IF(EXPERIENCE_PRELIMINAIRE!$W$325<1,100,X15))","v":100},{"$f":"IF(EXPERIENCE_PRELIMINAIRE!$W$325=\"X\",100,IF(EXPERIENCE_PRELIMINAIRE!$W$325<1,100,Y15))","v":100},{"$f":"IF(EXPERIENCE_PRELIMINAIRE!$W$325=\"X\",100,IF(EXPERIENCE_PRELIMINAIRE!$W$325<1,100,Z15))","v":100},{"$f":"IF(EXPERIENCE_PRELIMINAIRE!$W$325=\"X\",100,IF(EXPERIENCE_PRELIMINAIRE!$W$325<1,100,AA15))","v":100},{"$f":"IF(EXPERIENCE_PRELIMINAIRE!$W$325=\"X\",100,IF(EXPERIENCE_PRELIMINAIRE!$W$325<1,100,AB15))","v":100},{"$f":"IF(BG11=\"X\",BG15,IF(EXPERIENCE_PRELIMINAIRE!$W$325=\"X\",BG15,IF(EXPERIENCE_PRELIMINAIRE!$W$325<1,100,EXPERIENCE_PRELIMINAIRE!$W$325*500)))","v":100},{"$f":"IF(BG11=\"X\",BG15,IF(EXPERIENCE_PRELIMINAIRE!$W$325=\"X\",BG15,IF(EXPERIENCE_PRELIMINAIRE!$W$325<1,100,EXPERIENCE_PRELIMINAIRE!$W$325*500)))","v":100},null,null,null,null,null,null,null,null,null,null,null,null,null,null,null,null,null,null,null,null,null,null,null,null,null,null,null,null,{"$f":"IF(BG11=\"X\",BG15,IF(EXPERIENCE_PRELIMINAIRE!$W$325=\"X\",BG15,IF(EXPERIENCE_PRELIMINAIRE!$W$325<1,100,EXPERIENCE_PRELIMINAIRE!$W$325*500)))","v":100},5,"Niv","modif de comp évolutive",null,null,null,{"$f":"IF(EXPERIENCE_PRELIMINAIRE!E235=\"Hybride du Trident (Membre du GSI)\",1,0)","v":0},{"$f":"IF(EXPERIENCE_PRELIMINAIRE!E235=\"Techno-Hybride\",1,0)","v":0},null,null,null,"Perception sous-marine",{"$f":"IF(P20=0,\"\",CONCATENATE(L20,\" \",P20,\"m \"))","v":""},null,""]
[null,"PC Type génétique",null,{"$f":"ATTRIBUTS!D25","v":0},null,{"$f":"IF(AND(Z7=1,D23=\"Oui\"),-1,0)","v":0},null,null,null,null,null,null,null,null,null,null,null,null,null,"Techno-hybride Bêta 453",null,null,{"$f":"1000+(1000*$BJ$8)","v":{"$error":"#VALUE!"}},{"$f":"1500+(750*$BJ$8)","v":{"$error":"#VALUE!"}},{"$f":"3000+(750*$BJ$8)","v":{"$error":"#VALUE!"}},{"$f":"2000+(1000*$BJ$8)","v":{"$error":"#VALUE!"}},{"$f":"2000+(1000*$BJ$8)","v":{"$error":"#VALUE!"}},{"$f":"3000+(750*$BJ$8)","v":{"$error":"#VALUE!"}},{"$f":"IF(D25=BP22,500+(500*BJ9),IF(D25=BP23,750+(750*BJ9),100))","v":100},{"$f":"IF(D25=BP22,500+(500*BJ9),IF(D25=BP23,750+(750*BJ9),100))","v":100},null,null,null,null,null,null,null,null,null,null,null,null,null,null,null,null,null,null,null,null,null,null,null,null,null,null,null,null,{"$f":"IF(D25=BP22,500+(500*BJ9),IF(D25=BP23,750+(750*BJ9),100))","v":100},6,-5,0,0,0,null,{"$f":"IF(EXPERIENCE_PRELIMINAIRE!E260=\"Hybride du Trident (Membre du GSI)\",1,0)","v":0},{"$f":"IF(EXPERIENCE_PRELIMINAIRE!E1306=\"Techno-Hybride\",1,0)","v":0},null,null,null,"Adaptation aquatique",{"$f":"IF(P22=\"Oui\",\"\",CONCATENATE(\"Comp. Physiques non limitées par Manœuvres sous-marines \"))","v":""},null,""]
[null,"PC Capacités spé.",null,{"$f":"ATTRIBUTS!D26","v":0},null,null,null,null,null,"Mutation évolutive",null,"Résistance aux dommages physiques au sec",null,null,null,{"$f":"HLOOKUP($D$11,$W$10:$BG$40,BH16,)","v":0},null,null,null,"Techno-hybride Mamba",null,"Muta evol",{"$f":"VLOOKUP($BI$12,$BI$15:$BL$45,2,)","v":0},{"$f":"VLOOKUP($BI$12,$BI$15:$BL$45,3,)","v":0},0,0,0,0,0,0,null,null,null,null,null,null,null,null,null,null,null,null,null,null,null,null,null,null,null,null,null,null,null,null,null,null,null,null,0,7,-4,0,0,0,null,{"$f":"IF((BN12+BN13+BN14+BN15)>0,1,0)","v":0},{"$f":"IF((BO12+BO13+BO14+BO15)>0,1,0)","v":0},null,null,null,"Immunitié au froid",{"$f":"IF(P24=\"Oui\",\"\",CONCATENATE(\"Immunité aux effets du froid sous l'eau \"))","v":""},null,""]
[null,"PC Exp. préliminaire",null,{"$f":"ATTRIBUTS!D27","v":0},null,null,null,null,null,null,null,"Résistance aux dommages physiques sous l'eau",null,null,null,{"$f":"HLOOKUP($D$11,$W$10:$BG$40,BH17,)","v":0},null,null,null,"Techno-hybride Recyclé",null,null,{"$f":"VLOOKUP($BI$12,$BI$15:$BL$45,2,)*(-1)","v":0},{"$f":"VLOOKUP($BI$12,$BI$15:$BL$45,3,)*(-1)","v":0},0,0,0,0,0,0,null,null,null,null,null,null,null,null,null,null,null,null,null,null,null,null,null,null,null,null,null,null,null,null,null,null,null,null,0,8,-3,0,0,0,null,null,null,null,null,null,"Sensibilité chakeur",{"$f":"IF(P26=0,\"\",CONCATENATE(L26,\" \",P26,\" \"))","v":""},null,""]
[null,"PC Avantages/Desav.",null,{"$f":"ATTRIBUTS!D28","v":0},null,null,null,null,null,null,null,"Perception visuelle au sec",null,null,null,{"$f":"HLOOKUP($D$11,$W$10:$BG$40,BH18,)","v":0},null,null,null,"Altéré",null,null,{"$f":"VLOOKUP($BI$12,$BI$15:$BL$45,2,)*(-1)","v":0},{"$f":"VLOOKUP($BI$12,$BI$15:$BL$45,3,)*(-1)","v":0},0,0,0,0,0,0,null,null,null,null,null,null,null,null,null,null,null,null,null,null,null,null,null,null,null,null,null,null,null,null,null,null,null,null,0,9,-2,0,0,0,null,null,null,null,null,null,null,{"$f":"IF(P27=0,\"\",CONCATENATE(L27,\" \",P27,\" toutes les \",R27,\"h \"))","v":""},null,""]
[null,"PC restants",null,{"$f":"D13-D14-D15-D16-D17-D18","v":20},null,null,null,null,null,null,null,"Perception visuelle sous l'eau",null,null,null,{"$f":"HLOOKUP($D$11,$W$10:$BG$40,BH19,)","v":0},null,null,null,"Mutant",null,null,{"$f":"VLOOKUP($BI$12,$BI$15:$BL$45,2,)","v":0},{"$f":"VLOOKUP($BI$12,$BI$15:$BL$45,3,)","v":0},0,0,0,0,0,0,null,null,null,null,null,null,null,null,null,null,null,null,null,null,null,null,null,null,null,null,null,null,null,null,null,null,null,null,0,10,-1,0,0,0,null,null,null,null,null,null,"Dépendance milieu aquatique",{"$f":"IF(P29=0,\"\",CONCATENATE(L29,\" \",P29,\"h \"))","v":""},null,{"$f":"IF(BT19=\"\",\"\",CONCATENATE(BT19,\", \"))","v":""}]
[null,null,null,null,null,null,null,null,"Perception sous-marine C",null,null,"Perception sous-marine (sens passif)",null,null,null,{"$f":"HLOOKUP($D$11,$W$10:$BG$40,BH20,)","v":0},"m",null,null,"Cyborg S",null,null,{"$f":"10*$BL$9","v":70},{"$f":"5*$BL$9","v":35},{"$f":"2*$BL$9","v":14},{"$f":"5*$BL$9","v":35},{"$f":"5*$BL$9","v":35},{"$f":"2*$BL$9","v":14},0,0,null,null,null,null,null,null,null,null,null,null,null,null,null,null,null,null,null,null,null,null,null,null,null,null,null,null,null,null,0,11,0,0,0,0,null,"Déserteur ?",null,"Fluide",null,null,null,{"$f":"IF(P30=0,\"\",CONCATENATE(L30,\" \",P30,\" toutes les \",R30,\"h \"))","v":""},null,""]
[null,null,null,null,null,null,null,null,null,null,null,null,null,null,null,null,null,null,null,"Cyborg M",null,"Adapta aqua","Non","Oui","Oui","Oui","Oui","Oui","Oui","Oui",null,null,null,null,null,null,null,null,null,null,null,null,null,null,null,null,null,null,null,null,null,null,null,null,null,null,null,null,"Oui",12,1,0,0,0,null," ",null," ",null,null,"Claustrophobie",{"$f":"IF(P36=0,\"\",CONCATENATE(L36,\" \",P36,\" \"))","v":""},null,""]
[null,null,null,null,null,null,null,null,null,"Adaptation aquatique",null,"Comp. physiques limitées par Manœuvres sous-marines",null,null,null,{"$f":"HLOOKUP($D$11,$W$10:$BG$40,BH21,)","v":"Oui"},null,null,null,"Cyborg L",null,null,null,null,null,null,null,null,null,null,null,null,null,null,null,null,null,null,null,null,null,null,null,null,null,null,null,null,null,null,null,null,null,null,null,null,null,null,null,13,2,0,0,0,null,"Oui",null,"Néo-fluide",null,null,null,{"$f":"IF(P37=\"Non\",\"\",CONCATENATE(\"Dans lieu bondé, attaque si non soumis à une autorité \"))","v":""},null,""]
[null,"T-H : Déserteur ?",null,"Non",null,null,null,null,null,null,null,null,null,null,null,null,null,null,null,"Race 06",null,"Sens froid","Non","Non","Non","Non","Non","Non","Oui","Oui",null,null,null,null,null,null,null,null,null,null,null,null,null,null,null,null,null,null,null,null,null,null,null,null,null,null,null,null,"Oui",14,3,0,0,0,null,"Non",null,"Hyper-fluide",null,null,null,{"$f":"IF(P38=\"Impossible\",\"\",IF(P38=0,\"\",CONCATENATE(L38,\" \",P38,\" \")))","v":""},null,""]
[null,null,null,null,null,null,null,null,null,"Immunité au froid",null,"Dans l'eau, pénalité à cause du froid",null,null,null,{"$f":"HLOOKUP($D$11,$W$10:$BG$40,BH23,)","v":"Oui"},null,null,null,"Race 07",null,null,null,null,null,null,null,null,null,null,null,null,null,null,null,null,null,null,null,null,null,null,null,null,null,null,null,null,null,null,null,null,null,null,null,null,null,null,null,15,4,0,0,0,null,null,null,null,null,null,null,{"$f":"IF(P39=\"Impossible\",\"\",IF(P39=0,\"\",CONCATENATE(L39,\" \",P39,\" toutes les \",R39,\"h \")))","v":""},null,{"$f":"IF(BT24=\"\",\"\",CONCATENATE(BT24,\"; \"))","v":""}]
[null,"Utilisation fluide",null," ",null,null,null,null,null,null,null,null,null,null,null,null,null,null,null,"Race 08",null,"Sens chaleur",3,2,2,4,4,1,0,0,null,null,null,null,null,null,null,null,null,null,null,null,null,null,null,null,null,null,null,null,null,null,null,null,null,null,null,null,0,16,5,1,1,0,null,null,null,null,null,null,"Blocage du trident",{"$f":"IF(P41=0,\"\",CONCATENATE(L41,\" \",P41,\" \"))","v":""},null,""]
[null,null,null,null,null,null,null,null,null,"Sensibilité à la chaleur",null,"Dommages dus au feu ou à la chaleur augmentée de",null,null,null,{"$f":"HLOOKUP($D$11,$W$10:$BG$40,BH25,)","v":0},null,null,null,"Race 09",null,null,-3,-3,-3,-3,-3,-3,0,0,null,null,null,null,null,null,null,null,null,null,null,null,null,null,null,null,null,null,null,null,null,null,null,null,null,null,null,null,0,17,6,1,1,0,null,null,null,null,null,null,"Surface",{"$f":"IF(P43=\"Non\",\"\",CONCATENATE(L43,\" \"))","v":""},null,""]
[null,null,null,null,null,null,null,null,null,null,null,"Environnement chaud, Test de Fatigue avec un malus de",null,null,null,{"$f":"HLOOKUP($D$11,$W$10:$BG$40,BH26,)","v":0},"toutes les",{"$f":"HLOOKUP($D$11,$W$10:$BG$40,BH27,)","v":0},"h","Race 10",null,null,2,2,2,2,2,2,0,0,null,null,null,null,null,null,null,null,null,null,null,null,null,null,null,null,null,null,null,null,null,null,null,null,null,null,null,null,0,18,7,2,1,0,null,null,null,null,null,null,"Caméléon",{"$f":"IF(P52=\"Non\",\"\",CONCATENATE(\"Caméléon : difficulté de base pour être repérer \",P52,\" \"))","v":""},null,""]
[null,null,null,null,null,null,null,null,null,null,null,null,null,null,null,null,null,null,null,"Race 11",null,"Dépend Aqua",{"$f":"ATTRIBUTS!$V$19","v":7},{"$f":"ATTRIBUTS!$V$19","v":7},{"$f":"ATTRIBUTS!$V$19","v":7},0,0,{"$f":"ATTRIBUTS!$V$19","v":7},0,0,null,null,null,null,null,null,null,null,null,null,null,null,null,null,null,null,null,null,null,null,null,null,null,null,null,null,null,null,0,19,8,2,1,0,null,null,null,null,null,null,"Malus aux compétences",{"$f":"IF(P56=0,\"\",CONCATENATE(L56,\" \",P56,\" \"))","v":""},null,""]
[null,null,null,null,null,null,null,null,null,"Dépendance au milieu aquatique",null,"Test de Volonté après durée hors de l'eau égal à",null,null,null,{"$f":"HLOOKUP($D$11,$W$10:$BG$40,BH28,)","v":0},"h",null,null,"Race 12",null,null,{"$f":"IF($BI$12>6,-3,-2)","v":-2},{"$f":"IF($BI$12>9,-3,-2)","v":-2},-2,0,0,-2,0,0,null,null,null,null,null,null,null,null,null,null,null,null,null,null,null,null,null,null,null,null,null,null,null,null,null,null,null,null,0,20,9,2,1,0,null,null,null,null,null,null,null,{"$f":"IF(P57=0,\"\",CONCATENATE(L57,\" \",P57,\" \"))","v":""},null,""]
[null,null,null,null,null,null,null,null,null,null,null,"Nouveau test avec malus cumulatif de",null,null,null,{"$f":"HLOOKUP($D$11,$W$10:$BG$40,BH29,)","v":0},"toutes les",{"$f":"HLOOKUP($D$11,$W$10:$BG$40,BH30,)","v":0},"h","Race 13",null,null,1,2,10,0,0,10,0,0,null,null,null,null,null,null,null,null,null,null,null,null,null,null,null,null,null,null,null,null,null,null,null,null,null,null,null,null,0,21,10,3,2,0,null,null,null,null,null,null,"Contrôle des COE",{"$f":"IF(P59=0,\"\",CONCATENATE(L59,\" \",P59,\" \"))","v":""},null,""]
[null,null,null,null,null,null,null,null,null,null,null,"Si échec, -1 en Force et -1 aux tests d'actions physiques*, cumulatifs",null,null,null,null,null,null,null,"Race 14",null,null,null,null,null,null,null,null,null,null,null,null,null,null,null,null,null,null,null,null,null,null,null,null,null,null,null,null,null,null,null,null,null,null,null,null,null,null,null,22,11,3,2,0,null,null,null,null,null,null,"Résistance à la fatigue",{"$f":"IF(P61=0,\"\",CONCATENATE(L61,\" \",P61,\" \"))","v":""},null,""]
[null,null,null,null,null,null,null,null,null,null,null,"* y compris tests de Résistance à la Fatigue",null,null,null,null,null,null,null,"Race 15",null,null,null,null,null,null,null,null,null,null,null,null,null,null,null,null,null,null,null,null,null,null,null,null,null,null,null,null,null,null,null,null,null,null,null,null,null,null,null,23,12,3,2,0,null,null,null,null,null,null,null,{"$f":"IF(P62=0,\"\",CONCATENATE(L62,\" \",P62,\" \"))","v":""},null,""]
[null,null,null,null,null,null,null,null,null,null,null,"A 50% de Force, doit se baigner. Récupère ses capacités en 2D6 minutes",null,null,null,null,null,null,null,"Race 16",null,null,null,null,null,null,null,null,null,null,null,null,null,null,null,null,null,null,null,null,null,null,null,null,null,null,null,null,null,null,null,null,null,null,null,null,null,null,null,24,13,4,2,0,null,null,null,null,null,null,null,{"$f":"IF(P63=0,\"\",CONCATENATE(L63,\" \",P63,\" \"))","v":""},null,""]
[null,null,null,null,null,null,null,null,null,null,null,"Une tenue hydratante apporte toujours un bonus de +10 lors du test de Volonté",null,null,null,null,null,null,null,"Race 17",null,null,null,null,null,null,null,null,null,null,null,null,null,null,null,null,null,null,null,null,null,null,null,null,null,null,null,null,null,null,null,null,null,null,null,null,null,null,null,25,14,4,2,0,null,null,null,null,null,null,"Guérison naturelle",{"$f":"IF(P65=0,\"\",CONCATENATE(L65,\" \",P65,\" \"))","v":""},null,""]
[null,null,null,null,null,null,null,null,null,null,null,null,null,null,null,null,null,null,null,"Race 18",null,"Claustro",-3,-3,-3,0,0,-3,0,0,null,null,null,null,null,null,null,null,null,null,null,null,null,null,null,null,null,null,null,null,null,null,null,null,null,null,null,null,0,26,15,5,3,0,null,null,null,null,null,null,null,{"$f":"IF(P66=0,\"\",CONCATENATE(L66,\" \",P66,\" \"))","v":""},null,""]
[null,null,null,null,null,null,null,null,null,"Claustrophobie",null,"Dans lieu étroit ou bondé pénalité aux test de",null,null,null,{"$f":"HLOOKUP($D$11,$W$10:$BG$40,BH35,)","v":0},null,null,null,"Race 19",null,null,"Non","Non","Non","Oui","Oui","Non","Non","Non",null,null,null,null,null,null,null,null,null,null,null,null,null,null,null,null,null,null,null,null,null,null,null,null,null,null,null,null,"Non",27,16,5,3,0,null,null,null,null,null,null,null,{"$f":"IF(P64=0,\"\",CONCATENATE(L64,\" \",P64,\" \"))","v":""},null,""]
[null,null,null,null,null,null,null,null,null,null,null,"Dans lieu bondé, attaque si non soumis à une autorité C",null,null,null,{"$f":"HLOOKUP($D$11,$W$10:$BG$40,BH36,)","v":"Non"},null,null,null,"Race 20",null,null,-2,-2,-2,"Impossible","Impossible",-2,0,0,null,null,null,null,null,null,null,null,null,null,null,null,null,null,null,null,null,null,null,null,null,null,null,null,null,null,null,null,0,28,17,5,3,0]
[null,null,null,null,null,null,null,null,null,null,null,"Dans armure pénalité aux tests de",null,null,null,{"$f":"HLOOKUP($D$11,$W$10:$BG$40,BH37,)","v":0},null,null,null,"Race 21",null,null,-2,-2,-2,"Impossible","Impossible",-2,0,0,null,null,null,null,null,null,null,null,null,null,null,null,null,null,null,null,null,null,null,null,null,null,null,null,null,null,null,null,0,29,18,5,3,0,null,null,null,null,null,null,null,null,null,"EVOLUTION"]
[null,null,null,null,null,null,null,null,null,null,null,"Test de Volonté pour ne pas ôter armure avec malus de",null,null,null,{"$f":"HLOOKUP($D$11,$W$10:$BG$40,BH38,)","v":0},"toutes les",{"$f":"HLOOKUP($D$11,$W$10:$BG$40,BH39,)","v":0},"h","Race 22",null,null,1,1,1,0,0,1,0,0,null,null,null,null,null,null,null,null,null,null,null,null,null,null,null,null,null,null,null,null,null,null,null,null,null,null,null,null,0,30,19,5,3,0,null,null,null,null,null,null,null,null,null,"ALTERE"]
[null,null,null,null,null,null,null,null,null,null,null,null,null,null,null,null,null,null,null,"Race 23",null,"Bloc Trident",-5,-7,0,0,0,0,0,0,null,null,null,null,null,null,null,null,null,null,null,null,null,null,null,null,null,null,null,null,null,null,null,null,null,null,null,null,0,31,20,5,3,0,null,null,null,null,null,null,null,null,null,{"$f":"AVANTAGES_PROFESSIONNELS!CD87","v":""}]
[null,null,null,null,null,null,null,null,null,"Blocage du Trident",null,"Test de Volonté pour nuire au Culte avec malus de",null,null,null,{"$f":"HLOOKUP($D$11,$W$10:$BG$40,BH40,)","v":0},null,null,null,"Race 24",null,"Surface","Non","Non","Non","Oui","Oui","Non","Non","Non",null,null,null,null,null,null,null,null,null,null,null,null,null,null,null,null,null,null,null,null,null,null,null,null,null,null,null,null,"Non",32,21,5,3,0]
[null,null,null,null,null,null,null,null,null,null,null,null,null,null,null,null,null,null,null,"Race 25",null,null,null,null,null,null,null,null,null,null,null,null,null,null,null,null,null,null,null,null,null,null,null,null,null,null,null,null,null,null,null,null,null,null,null,null,null,null,null,33,22,5,3,0]
[null,null,null,null,null,null,null,null,null,"Evolution en surface C",null,"Immunité à l'Altération de la surface",null,null,null,{"$f":"HLOOKUP($D$11,$W$10:$BG$41,BH41,)","v":"Non"},null,null,null,"Race 26",null,"Seuils blessures",0,0,5,5,5,5,5,0,0,5,10,null,null,null,null,null,null,null,null,null,null,null,null,null,null,null,null,null,null,null,null,null,null,null,null,null,0,34,23,5,3,0]
[null,null,null,null,null,null,null,null,null,null,null,null,null,null,null,null,null,null,null,"Race 27",null,null,5,5,10,10,10,10,10,5,5,10,15,null,null,null,null,null,null,null,null,null,null,null,null,null,null,null,null,null,null,null,null,null,null,null,null,null,5,35,24,5,3,0]
[null,null,null,null,null,null,null,null,null,"Seuils des blessures GT",null,"Légères",null,null,null,{"$f":"HLOOKUP($D$11,$W$10:$BG$48,BH43,)","v":0},null,null,null,"Race 28",null,null,10,10,15,15,15,15,15,10,10,15,20,null,null,null,null,null,null,null,null,null,null,null,null,null,null,null,null,null,null,null,null,null,null,null,null,null,10,36,25,5,3,0]
[null,null,null,null,null,null,null,null,null,null,null,"Moyennes",null,null,null,{"$f":"HLOOKUP($D$11,$W$10:$BG$48,BH44,)","v":5},null,null,null,"Race 29",null,null,15,15,20,20,20,20,20,15,15,20,25,null,null,null,null,null,null,null,null,null,null,null,null,null,null,null,null,null,null,null,null,null,null,null,null,null,15,37]
[null,null,null,null,null,null,null,null,null,null,null,"Graves",null,null,null,10,null,null,null,"Race 30",null,null,20,20,25,25,25,25,25,20,20,25,30,null,null,null,null,null,null,null,null,null,null,null,null,null,null,null,null,null,null,null,null,null,null,null,null,null,20,38]
[null,null,null,null,null,null,null,null,null,null,null,"Critiques",null,null,null,15,null,null,null,null,null,null,25,25,30,30,30,30,30,25,25,30,35,null,null,null,null,null,null,null,null,null,null,null,null,null,null,null,null,null,null,null,null,null,null,null,null,null,25,39]
[null,null,null,null,null,null,null,null,null,null,null,"Mortelles",null,null,null,20,null,null,null,null,null,null,null,null,null,null,null,null,null,null,null,null,null,null,null,null,null,null,null,null,null,null,null,null,null,null,null,null,null,null,null,null,null,null,null,null,null,null,null,40]
[null,null,null,null,null,null,null,null,null,null,null,"Mort/Membre d.",null,null,null,25,null,null,null,null,null,null,null,null,null,null,null,null,null,null,null,null,null,null,null,null,null,null,null,null,null,null,null,null,null,null,null,null,null,null,null,null,null,null,null,null,null,null,null,41]
[null,null,null,null,null,null,null,null,null,null,null,null,null,null,null,null,null,null,null,null,null,null,null,null,null,null,null,null,null,null,null,null,null,null,null,null,null,null,null,null,null,null,null,null,null,null,null,null,null,null,null,null,null,null,null,null,null,null,null,42]
[null,null,null,null,null,null,null,null,null,"Mutations contrôlées C",null,"Caméléon : difficulté de détection",null,null,null,{"$f":"HLOOKUP($D$11,$W$10:$BG$59,BH52,)","v":"Non"},null,null,null,null,null,"Caméléon","Non","Non","Non","Difficile","Très Difficile","Non","Non","Non","Non","Non","Non",null,null,null,null,null,null,null,null,null,null,null,null,null,null,null,null,null,null,null,null,null,null,null,null,null,"Non",43]
[null,null,null,null,null,null,null,null,null,null,null,"Peau renforcée : Armure naturelle de",null,null,null,{"$f":"HLOOKUP($D$11,$W$10:$BG$59,BH53,)","v":0},null,null,null,null,null,"Armure nat.",0,0,0,5,7,5,0,0,0,0,0,null,null,null,null,null,null,null,null,null,null,null,null,null,null,null,null,null,null,null,null,null,null,null,null,null,0,44]
[null,null,null,null,null,null,null,null,null,null,null,"Les autres mutations sont à mettre dans capacités spéciales",null,null,null,null,null,null,null,null,null,null,null,null,null,null,null,null,null,null,null,null,null,null,null,null,null,null,null,null,null,null,null,null,null,null,null,null,null,null,null,null,null,null,null,null,null,null,null,45]
[null,null,null,null,null,null,null,null,null,null,null,null,null,null,null,null,null,null,null,null,null,null,null,null,null,null,null,null,null,null,null,null,null,null,null,null,null,null,null,null,null,null,null,null,null,null,null,null,null,null,null,null,null,null,null,null,null,null,null,46]
[null,null,null,null,null,null,null,null,null,"Malus aux compétences U",null,"Compétences spécifiques aux fonds marins à",null,null,null,{"$f":"HLOOKUP($D$11,$W$10:$BG$59,BH56,)","v":0},null,null,null,null,null,"Malus comp",0,0,0,0,0,0,-2,-2,0,0,0,0,0,0,0,0,0,0,0,0,0,0,0,0,0,0,0,0,0,0,0,0,0,0,0,0,0,47]
[null,null,null,null,null,null,null,null,null,null,null,"Compétences associées à INT ou PRE à",null,null,null,{"$f":"HLOOKUP($D$11,$W$10:$BG$59,BH57,)","v":0},null,null,null,null,null,null,0,0,0,0,0,0,-2,0,0,0,0,0,0,0,0,0,0,0,0,0,0,0,0,0,0,0,0,0,0,0,0,0,0,0,0,0,0,48]
[null,null,null,null,null,null,null,null,null,null,null,null,null,null,null,null,null,null,null,null,null,null,null,null,null,null,null,null,null,null,null,null,null,null,null,null,null,null,null,null,null,null,null,null,null,null,null,null,null,null,null,null,null,null,null,null,null,null,null,49]
[null,null,null,null,null,null,null,null,null,"Contrôle des COE U",null,"Bonus aux Tests de Volonté contre les COE de",null,null,null,{"$f":"HLOOKUP($D$11,$W$10:$BG$59,BH59,)","v":0},null,null,null,null,null,"Contrôle COE",0,0,0,0,0,0,0,2,0,0,0,0,0,0,0,0,0,0,0,0,0,0,0,0,0,0,0,0,0,0,0,0,0,0,0,0,0,50]
[null,null,null,null,null,null,null,null,null,null,null,null,null,null,null,null,null,null,null,null,null,null,null,null,null,null,null,null,null,null,null,null,null,null,null,null,null,null,null,null,null,null,null,null,null,null,null,null,null,null,null,null,null,null,null,null,null,null,null,51]
[null,null,null,null,null,null,null,null,null,"Résistance à la fatigue U",null,"Malus aux Tests de fatigue divisés par",null,null,null,{"$f":"HLOOKUP($D$11,$W$10:$BG$79,BH61,)","v":0},null,null,null,null,null,"Fatigue",0,0,0,0,0,0,2,0,0,0,0,0,0,0,0,0,0,0,0,0,0,0,0,0,0,0,0,0,0,0,0,0,0,0,0,0,0,52]
[null,null,null,null,null,null,null,null,null,null,null,"Fréquence de ces tests multiplié par",null,null,null,{"$f":"HLOOKUP($D$11,$W$10:$BG$79,BH62,)","v":0},null,null,null,null,null,null,0,0,0,0,0,0,2,0,0,0,0,0,0,0,0,0,0,0,0,0,0,0,0,0,0,0,0,0,0,0,0,0,0,0,0,0,0,53]
[null,null,null,null,null,null,null,null,null,null,null,"Temps de récupération divisé par",null,null,null,0,null,null,null,null,null,null,0,0,0,0,0,0,2,0,0,0,0,0,0,0,0,0,0,0,0,0,0,0,0,0,0,0,0,0,0,0,0,0,0,0,0,0,0,54]
[null,null,null,null,null,null,null,null,null,null,null,null,null,null,null,null,null,null,null,null,null,null,null,null,null,null,null,null,null,null,null,null,null,null,null,null,null,null,null,null,null,null,null,null,null,null,null,null,null,null,null,null,null,null,null,null,null,null,null,55]
[null,null,null,null,null,null,null,null,null,"Guérison naturelle U",null,"Bonus aux Tests de guérion de",null,null,null,{"$f":"HLOOKUP($D$11,$W$10:$BG$79,BH65,)","v":0},null,null,null,null,null,"Guérison",0,0,0,0,0,0,2,1,0,0,0,0,0,0,0,0,0,0,0,0,0,0,0,0,0,0,0,0,0,0,0,0,0,0,0,0,0,56]
[null,null,null,null,null,null,null,null,null,null,null,"Applicable si inférieur au seuil de Blessures",null,null,null,{"$f":"HLOOKUP($D$11,$W$10:$BG$79,BH66,)","v":0},null,null,null,null,null,null,0,0,0,0,0,0,"mortelles","critiques",0,0,0,0,0,0,0,0,0,0,0,0,0,0,0,0,0,0,0,0,0,0,0,0,0,0,0,0,0,57]
[null,null,null,null,null,null,null,null,null,null,null,null,null,null,null,null,null,null,null,null,null,null,null,null,null,null,null,null,null,null,null,null,null,null,null,null,null,null,null,null,null,null,null,null,null,null,null,null,null,null,null,null,null,null,null,null,null,null,null,58]
[null,null,null,null,null,null,null,null,null,null,null,null,null,null,null,null,null,null,null,null,null,null,null,null,null,null,null,null,null,null,null,null,null,null,null,null,null,null,null,null,null,null,null,null,null,null,null,null,null,null,null,null,null,null,null,null,null,null,null,59]
[null,null,null,null,null,null,null,null,null,null,null,null,null,null,null,null,null,null,null,null,null,null,null,null,null,null,null,null,null,null,null,null,null,null,null,null,null,null,null,null,null,null,null,null,null,null,null,null,null,null,null,null,null,null,null,null,null,null,null,60]
[null,null,null,null,null,null,null,null,null,null,null,null,null,null,null,null,null,null,null,null,null,null,null,null,null,null,null,null,null,null,null,null,null,null,null,null,null,null,null,null,null,null,null,null,null,null,null,null,null,null,null,null,null,null,null,null,null,null,null,61]
[null,null,null,null,null,null,null,null,null,null,null,null,null,null,null,null,null,null,null,null,null,null,null,null,null,null,null,null,null,null,null,null,null,null,null,null,null,null,null,null,null,null,null,null,null,null,null,null,null,null,null,null,null,null,null,null,null,null,null,62]
[null,null,null,null,null,null,null,null,null,null,null,null,null,null,null,null,null,null,null,null,null,null,null,null,null,null,null,null,null,null,null,null,null,null,null,null,null,null,null,null,null,null,null,null,null,null,null,null,null,null,null,null,null,null,null,null,null,null,null,63]
[null,null,null,null,null,null,null,null,null,null,null,null,null,null,null,null,null,null,null,null,null,null,null,null,null,null,null,null,null,null,null,null,null,null,null,null,null,null,null,null,null,null,null,null,null,null,null,null,null,null,null,null,null,null,null,null,null,null,null,64]
[null,null,null,null,null,null,null,null,null,null,null,null,null,null,null,null,null,null,null,null,null,null,null,null,null,null,null,null,null,null,null,null,null,null,null,null,null,null,null,null,null,null,null,null,null,null,null,null,null,null,null,null,null,null,null,null,null,null,null,65]
[null,null,null,null,null,null,null,null,null,null,null,null,null,null,null,null,null,null,null,null,null,null,null,null,null,null,null,null,null,null,null,null,null,null,null,null,null,null,null,null,null,null,null,null,null,null,null,null,null,null,null,null,null,null,null,null,null,null,null,66]
[null,null,null,null,null,null,null,null,null,null,null,null,null,null,null,null,null,null,null,null,null,null,null,null,null,null,null,null,null,null,null,null,null,null,null,null,null,null,null,null,null,null,null,null,null,null,null,null,null,null,null,null,null,null,null,null,null,null,null,67]
[null,null,null,null,null,null,null,null,null,null,null,null,null,null,null,null,null,null,null,null,null,null,null,null,null,null,null,null,null,null,null,null,null,null,null,null,null,null,null,null,null,null,null,null,null,null,null,null,null,null,null,null,null,null,null,null,null,null,null,68]
[null,null,null,null,null,null,null,null,null,null,null,null,null,null,null,null,null,null,null,null,null,null,null,null,null,null,null,null,null,null,null,null,null,null,null,null,null,null,null,null,null,null,null,null,null,null,null,null,null,null,null,null,null,null,null,null,null,null,null,69]
[null,null,null,null,null,null,null,null,null,null,null,null,null,null,null,null,null,null,null,null,null,null,null,null,null,null,null,null,null,null,null,null,null,null,null,null,null,null,null,null,null,null,null,null,null,null,null,null,null,null,null,null,null,null,null,null,null,null,null,70]

{"sheet":"ATTRIBUTS","index":3,"n_rows":66,"n_cols":96,"rows_kept":66,"cut":false,"hidden":false,"merged":[[45,3,45,4],[36,9,36,11],[36,13,36,15],[37,9,37,11],[37,13,37,15],[9,45,9,46],[59,9,59,11],[62,9,62,11],[58,7,60,7],[58,9,58,11],[57,9,57,11],[57,13,57,15],[57,17,57,19],[49,3,49,4],[52,9,52,11],[53,9,53,11],[53,3,53,4],[52,3,52,4],[56,9,56,11],[48,3,48,4],[23,21,23,23],[24,21,24,23],[37,3,37,4],[32,17,32,19],[65,9,65,11],[11,26,13,26],[23,17,23,19],[3,0,3,2],[10,3,10,5],[11,3,11,5],[4,9,6,9],[17,7,19,7],[22,0,24,0],[10,0,12,0],[17,0,19,0],[14,3,14,4],[36,3,36,4],[20,3,20,4],[17,3,17,4],[18,3,18,4],[62,13,62,15],[62,17,62,19],[64,9,64,11],[63,9,63,11],[63,13,63,15],[63,17,63,19],[56,13,56,15],[56,17,56,19],[40,1,42,1],[23,13,23,15],[24,13,24,15],[29,9,29,11],[29,13,29,15],[30,13,30,15],[30,9,30,11],[43,9,43,11],[43,13,43,15],[23,3,23,4],[28,3,28,4],[30,3,30,4],[31,3,31,4],[24,3,24,4],[25,3,25,4],[26,3,26,4],[27,3,27,4],[27,13,27,15],[34,3,34,4],[32,9,32,11],[33,17,33,19],[19,3,19,4],[22,3,22,4],[29,17,29,19],[30,17,30,19],[32,13,32,15],[25,17,25,19],[26,17,26,19],[25,13,25,15],[26,13,26,15],[27,17,27,19],[32,3,32,4],[29,3,29,4],[31,9,31,11],[31,13,31,15],[31,17,31,19],[24,17,24,19],[30,21,30,23],[25,21,25,23],[26,21,26,23],[27,21,27,23],[33,21,33,23],[46,9,46,11],[46,13,46,15],[46,17,46,19],[44,9,44,11],[44,13,44,15],[44,17,44,19],[45,9,45,11],[45,13,45,15],[45,17,45,19],[43,17,43,19],[42,9,42,11],[41,17,42,19],[41,9,41,15],[33,13,33,15],[42,13,42,15],[31,21,31,23],[29,21,29,23],[32,21,32,23],[33,9,33,11]]}
[null,null,null,null,null,null,null,null,null,null,null,null,null,null,null,null,null,null,null,null,null,null,null,null,null,null,null,null,null,null,null,null,null,null,null,null,null,null,null,null,null,null,null,"Pour la comp hybride"]
[null,null,null,null,null,null,null,null,null,"<< Légende _",null,null,null,null,null,null,null,null,null,null,null,null,null,null,null,null,null,null,null,null,null,null,null,null,null,null,null,null,null,null,null,null,null,null,null,"Le personnag est-il un Hybride ?",{"$f":"IF($D$12=$AF$13,1,IF($D$12=$AF$14,1,IF($D$12=$AF$15,1,IF($D$12=$AF$16,1,IF($D$12=$AF$17,1,IF($D$12=$AF$18,1,0))))))","v":0}]
[null,null,null,null,null,null,null,null,null,null,null,null,null,null,null,null,null,null,null,null,null,null,null,null,null,null,null,"Ambiance","Points","Chance"]
["TROISIEME EDITION",null,null,null,null,null,null,null,null,null,null,"Cellules à compléter / Sélection à faire dans le menu déroulant",null,null,null,null,null,null,null,null,null,null,null,null,null,null,null,"Réaliste",30,11,"Oui",null,"Athlétisme"]
[null,null,null,null,null,null,null,null,null,null,null,null,null,null,null,null,null,null,null,null,null,null,null,null,null,null,null,"Intermédiaire",38,13,"Non",null,"Hybride"]
[null,null,null,null,null,null,null,null,null,null,null,"Passer la souris au dessus de ce symbole pour afficher un commentaire",null,null,null,null,null,null,null,null,null,null,null,null,null,null,null,"Héroïque",46,15]
[]
[null,null,null,null,null,null,null,null,null,null,null,null,null,null,null,null,null,null,null,null,null,null,null,null,null,null,null,null,null,null,null,null,null,null,null,null,null,null,null,null,null,null,null,null,null,null,null,null,null,null,null,null,null,null,null,null,null,null,null,null,null,null,null,null,null,null,null,null,null,null,null,null,null,null,null,null,null,null,null,null,null,null,null,"Table vitesse",{"$f":"VLOOKUP($D$12,$AF$12:$AP$38,11,)","v":"Humain"}]
[null,null,null,null,null,null,null,null,null,null,null,null,null,null,null,null,null,null,null,null,null,null,null,null,null,null,null,null,null,null,null,null,null,null,null,null,null,null,null,null,null,null,null,null,null,{"$f":"VLOOKUP($D$12,$AF$12:$AT$48,15,)","v":-3},{"$f":"VLOOKUP($D$12,$AF$12:$AU$48,16,)","v":-3},null,null,null,null,null,null,null,null,null,null,null,null,null,null,null,null,null,null,null,null,null,null,null,null,null,"Allure",null,null,null,null,null,"Allure sous l'eau"]
[null,null,null,null,null,null,null,null,"Attributs principaux",null,null,null,null,null,null,null,null,null,null,null,null,null,null,null,null,null,null,null,null,null,null,null,null,null,null,null,null,null,null,null,null,null,null,null,null,"Compétences",null,null,null,null,null,null,null,null,null,null,null,null,null,null,null,null,null,null,null,"CON ou",null,null,null,null,null,null,null,null,null,null,null,null,null,null,null,null,null,"Humain","Humain","Humain","Humain","Techno-H","Techno-H","Techno-H","Techno-H","Hybride","Hybride","Hybride","Hybride"]
[null,"Sexe",null,"Homme",null,null,null,null,null,"Force",null,"Constitution",null,"Coordination",null,"Adaptation",null,"Perception",null,"Intelligence",null,"Volonté",null,"Présence",null,null,null,"lvl","Coût","Sexe",null,"Type génétique","Force","Constitution","Coordinaton","Adaptation","Perception","Intelligence","Volonté","Présence","PC","Table vitesse","Résistances","Reduc. dom.","TOL COE","Ada ext.","Hybride","lvl","Apt. Nat.",null,"Age","Total","Force","Constitution","Coordinaton","Adaptation","Perception","Intelligence","Volonté","Présence",null,"FOR","Modif CAC","FOR+CON","Resist DOM","(CON+VOL)/2","Resist NAT",null,"FOR",null,"Poids",null,"COO/Athlétisme","Lente","Moyenne","Rapide","Max",null,"COO/Athlétisme","Lente","Moyenne","Rapide","Max","Lente","Moyenne","Rapide","Max","Lente","Moyenne","Rapide","Max","Lente","Moyenne","Rapide","Max"]
[null,"Type génétique",null,{"$f":"TYPE_GENETIQUE!D11","v":"Humain"},null,null,null,null,"Valeur de base",7,{"$f":"VLOOKUP(J12,$AB$12:$AC$32,2,)","v":0},7,{"$f":"VLOOKUP(L12,$AB$12:$AC$32,2,)","v":0},7,{"$f":"VLOOKUP(N12,$AB$12:$AC$32,2,)","v":0},7,{"$f":"VLOOKUP(P12,$AB$12:$AC$32,2,)","v":0},7,{"$f":"VLOOKUP(R12,$AB$12:$AC$32,2,)","v":0},7,{"$f":"VLOOKUP(T12,$AB$12:$AC$32,2,)","v":0},7,{"$f":"VLOOKUP(V12,$AB$12:$AC$32,2,)","v":0},7,{"$f":"VLOOKUP(X12,$AB$12:$AC$32,2,)","v":0},{"$f":"K12+M12+O12+Q12+S12+U12+W12+Y12","v":0},null,0,-7,"Homme",null,{"$f":"TYPE_GENETIQUE!T11","v":"Humain"},0,0,0,0,0,0,0,0,0,"Humain",0,0,{"$f":"$L$19+$N$19+$P$19+$V$19","v":28},-3,-3,0,"Injouable",0,16,-5,-3,0,0,0,0,0,0,-2,null,1,-6,2,6,1,6,null,1,5,{"$f":"BQ12*5","v":5},null,0,0,0,0,0,null,0,0,0,0,0,0,0,0,0,0,0,0,0,0,0,0,0,{"$f":"IF(AND(X13>0,D15=\"Non\"),1,0)","v":0}]
[null,null,null,null,null,null,null,null,"Modif. Sexe",{"$f":"IF(AND(D11=\"Femme\",D15=\"Oui\"),-2,0)","v":0},null,0,null,{"$f":"IF(AND(D11=\"Femme\",D15=\"Oui\"),2-X13,0)","v":0},null,0,null,0,null,0,null,0,null,0,null,null,null,1,-6,"Femme",null,{"$f":"TYPE_GENETIQUE!T12","v":"Néo-hybride (hybride naturel)"},1,2,2,1,0,-2,0,0,5,"Hybride",0,0,{"$f":"$L$19+$N$19+$P$19+$V$19","v":28},-3,3,1,"Injouable",-1,17,-5,-3,0,0,0,0,0,0,-2,null,2,-6,3,6,2,6,null,2,5,{"$f":"BS12+BR13","v":10},null,1,{"$f":"BW13/2","v":3},6,{"$f":"BW13*2","v":12},24,null,1,{"$f":"IF($CG$8=\"Hybride\",CN13,IF($CG$8=\"Techno-H\",CJ13,CF13))","v":0.5},{"$f":"IF($CG$8=\"Hybride\",CO13,IF($CG$8=\"Techno-H\",CK13,CG13))","v":1},2,3,{"$f":"CG13/2","v":0.5},1,{"$f":"CG13*2","v":2},{"$f":"CG13*3","v":3},{"$f":"CK13/2","v":2},4,{"$f":"CK13*2","v":8},{"$f":"CK13*4","v":16},{"$f":"CO13/2","v":3},6,{"$f":"CO13*2","v":12},24,{"$f":"IF(AND(X13>0,D11=\"Homme\"),1,0)","v":0}]
[null,null,null,null,null,null,null,null,"Modif. Type Géné.",{"$f":"VLOOKUP($D$12,$AF$12:$AN$38,2,)","v":0},{"$f":"VLOOKUP(J12+J13+J14,$AB$12:$AC$32,2)","v":0},{"$f":"VLOOKUP($D$12,$AF$12:$AN$38,3,)","v":0},{"$f":"VLOOKUP(L12+L13+L14,$AB$12:$AC$32,2)","v":0},{"$f":"VLOOKUP($D$12,$AF$12:$AN$38,4,)","v":0},{"$f":"VLOOKUP(N12+N13+N14,$AB$12:$AC$32,2)","v":0},{"$f":"VLOOKUP($D$12,$AF$12:$AN$38,5,)","v":0},{"$f":"VLOOKUP(P12+P13+P14,$AB$12:$AC$32,2)","v":0},{"$f":"VLOOKUP($D$12,$AF$12:$AN$38,6,)","v":0},{"$f":"VLOOKUP(R12+R13+R14,$AB$12:$AC$32,2)","v":0},{"$f":"VLOOKUP($D$12,$AF$12:$AN$38,7,)","v":0},{"$f":"VLOOKUP(T12+T13+T14,$AB$12:$AC$32,2)","v":0},{"$f":"VLOOKUP($D$12,$AF$12:$AN$38,8,)","v":0},{"$f":"VLOOKUP(V12+V13+V14,$AB$12:$AC$32,2)","v":0},{"$f":"VLOOKUP($D$12,$AF$12:$AN$38,9,)","v":0},{"$f":"IF(D15=\"Oui\",VLOOKUP(X12+X13+X14,$AB$12:$AC$32,2),VLOOKUP(X12+X14,$AB$12:$AC$32,2))","v":0},null,null,2,-5,"Androgyne",null,{"$f":"TYPE_GENETIQUE!T13","v":"Géno-hybride"},1,1,2,0,0,0,0,-2,5,"Hybride",0,0,28,-3,0,2,"Injouable",-2,18,-3,-2,0,0,0,0,0,0,-1,null,3,-4,4,6,3,4,null,3,5,{"$f":"BS13+BR14","v":15},null,2,{"$f":"BW14/2","v":3},6,12,24,null,2,{"$f":"IF($CG$8=\"Hybride\",CN14,IF($CG$8=\"Techno-H\",CJ14,CF14))","v":0.5},{"$f":"IF($CG$8=\"Hybride\",CO14,IF($CG$8=\"Techno-H\",CK14,CG14))","v":1},{"$f":"IF($CG$8=\"Hybride\",CP14,IF($CG$8=\"Techno-H\",CL14,CH14))","v":2},{"$f":"IF($CG$8=\"Hybride\",CQ14,IF($CG$8=\"Techno-H\",CM14,CI14))","v":3},{"$f":"CG14/2","v":0.5},1,2,{"$f":"CG14*3","v":3},{"$f":"CK14/2","v":2},4,8,{"$f":"CK14*4","v":16},{"$f":"CO14/2","v":3},6,12,24,{"$f":"IF(AND(X13>0,D11=\"Androgyne\"),1,0)","v":0}]
[null,null,"Règle optionnelle : Perso. féminin","Non",null,null,null,null,"Modif. Pts Création",0,{"$f":"VLOOKUP(J12+J13+J14+J15,$AB$12:$AC$32,2)-K14","v":0},0,{"$f":"VLOOKUP(L12+L13+L14+L15,$AB$12:$AC$32,2)-M14","v":0},0,{"$f":"VLOOKUP(N12+N13+N14+N15,$AB$12:$AC$32,2)-O14","v":0},0,{"$f":"VLOOKUP(P12+P13+P14+P15,$AB$12:$AC$32,2)-Q14","v":0},0,{"$f":"VLOOKUP(R12+R13+R14+R15,$AB$12:$AC$32,2)-S14","v":0},0,{"$f":"VLOOKUP(T12+T13+T14+T15,$AB$12:$AC$32,2)-U14","v":0},0,{"$f":"VLOOKUP(V12+V13+V14+V15,$AB$12:$AC$32,2)-W14","v":0},0,{"$f":"IF(D15=\"Oui\",VLOOKUP(X12+X13+X14+X15,$AB$12:$AC$32,2)-Y14,VLOOKUP(X12+X14+X15,$AB$12:$AC$32,2)-Y14)","v":0},{"$f":"K15+M15+O15+Q15+S15+U15+W15+Y15","v":0},null,3,-4,null,null,{"$f":"TYPE_GENETIQUE!T14","v":"Techno-hybride Alpha"},{"$f":"IF($D$50=\"Oui\",3,2)","v":2},3,0,{"$f":"IF($D$50=\"Oui\",-1,-2)","v":-2},0,0,3,-6,5,"Techno-H",0,0,28,-3,0,3,-4,-3,19,-1,-1,0,0,0,0,0,0,0,null,4,-4,5,6,4,4,null,4,5,20,null,3,{"$f":"BW15/2","v":3},6,12,24,null,3,0.5,1,2,3,{"$f":"CG15/2","v":0.5},1,2,{"$f":"CG15*3","v":3},{"$f":"CK15/2","v":2},4,8,{"$f":"CK15*4","v":16},{"$f":"CO15/2","v":3},6,12,24,{"$f":"SUM(CR12:CR14)","v":0}]
[null,null,null,null,null,null,null,null,"Modif. Age",{"$f":"IF(AND(D35=\"Oui\",D37<20),VLOOKUP(D37,AY12:BH15,3,),IF(D37>29,E39,0))","v":0},null,{"$f":"IF(D37>29,E40,0)","v":0},null,{"$f":"IF(D37>29,E41,0)","v":0},null,{"$f":"IF(D37>29,E42,0)","v":0},null,{"$f":"IF(D37>29,E43,0)","v":0},null,0,null,0,null,{"$f":"IF(AND(D35=\"Oui\",D37<20),VLOOKUP(D37,AY12:BH15,10,),0)","v":0},null,null,null,4,-3,null,null,{"$f":"TYPE_GENETIQUE!T15","v":"Techno-hybride Bêta 453"},{"$f":"IF($D$50=\"Oui\",3,2)","v":2},3,2,{"$f":"IF($D$50=\"Oui\",0,-1)","v":-1},3,-4,1,-6,5,"Hybride",0,0,28,-3,0,4,-3,-4,20,0,0,0,0,0,0,0,0,0,null,5,-2,6,4,5,2,null,5,5,25,null,4,{"$f":"BW16/2","v":3},6,12,24,null,4,0.5,1,2,3,{"$f":"CG16/2","v":0.5},1,2,{"$f":"CG16*3","v":3},{"$f":"CK16/2","v":2},4,8,{"$f":"CK16*4","v":16},{"$f":"CO16/2","v":3},6,{"$f":"CO16*2","v":12},24]
[null,null,null,null,null,null,null,null,"Modif. Muta. / Impl.",{"$f":"CAPACITES_SPECIALES!P168+ACHATS!I101","v":0},null,{"$f":"CAPACITES_SPECIALES!Q168","v":0},null,{"$f":"CAPACITES_SPECIALES!R168+ACHATS!J101","v":0},null,{"$f":"ACHATS!L101","v":0},null,{"$f":"ACHATS!K101","v":0},{"$f":"ACHATS!L101","v":0},{"$f":"ACHATS!M101","v":0},null,{"$f":"ACHATS!N101","v":0},null,{"$f":"CAPACITES_SPECIALES!S168+ACHATS!O101","v":0},null,null,null,5,-2,null,null,{"$f":"TYPE_GENETIQUE!T16","v":"Techno-hybride Mamba"},{"$f":"IF($D$50=\"Oui\",4,3)","v":3},4,1,{"$f":"IF($D$50=\"Oui\",2,1)","v":1},2,-3,2,-7,5,"Hybride",0,0,28,-3,0,5,-2,null,21,0,0,0,0,0,0,0,0,0,null,6,-2,7,4,6,2,null,6,5,30,null,5,3,6,12,24,null,5,0.5,1,2,3,0.5,1,2,3,2,4,8,16,3,6,12,24]
[null,"Ambiance",null,"Intermédiaire",null,null,null,null,"Modif. Av. Pro. /MJ",{"$f":"AVANTAGES_PROFESSIONNELS!CG1146-MJ_EXPERIENCE!E75+MJ_EXPERIENCE!W40","v":0},{"$f":"AVANTAGES_PROFESSIONNELS!CH1146","v":0},{"$f":"AVANTAGES_PROFESSIONNELS!CH1146-MJ_EXPERIENCE!E76+MJ_EXPERIENCE!W41","v":0},{"$f":"AVANTAGES_PROFESSIONNELS!CJ1146","v":0},{"$f":"AVANTAGES_PROFESSIONNELS!CI1146-MJ_EXPERIENCE!E77+MJ_EXPERIENCE!W42","v":0},{"$f":"AVANTAGES_PROFESSIONNELS!CL1146","v":0},{"$f":"AVANTAGES_PROFESSIONNELS!CJ1146-MJ_EXPERIENCE!E78+MJ_EXPERIENCE!W43","v":0},{"$f":"AVANTAGES_PROFESSIONNELS!CN1146","v":0},{"$f":"AVANTAGES_PROFESSIONNELS!CK1146-MJ_EXPERIENCE!E79+MJ_EXPERIENCE!W44","v":0},{"$f":"AVANTAGES_PROFESSIONNELS!CP1146","v":0},{"$f":"AVANTAGES_PROFESSIONNELS!CL1146-MJ_EXPERIENCE!E80+MJ_EXPERIENCE!W45","v":0},{"$f":"AVANTAGES_PROFESSIONNELS!CR1146","v":0},{"$f":"AVANTAGES_PROFESSIONNELS!CM1146-MJ_EXPERIENCE!E81+MJ_EXPERIENCE!W46","v":0},{"$f":"AVANTAGES_PROFESSIONNELS!CT1146","v":0},{"$f":"AVANTAGES_PROFESSIONNELS!CN1146-MJ_EXPERIENCE!E82+MJ_EXPERIENCE!W47","v":0},null,null,"*",6,-1,null,null,{"$f":"TYPE_GENETIQUE!T17","v":"Techno-hybride Recyclé"},{"$f":"IF($D$50=\"Oui\",4,3)","v":3},3,1,{"$f":"IF($D$50=\"Oui\",0,-1)","v":-1},0,0,2,-5,5,"Techno-H",0,0,28,-3,0,6,-1,null,22,0,0,0,0,0,0,0,0,0,null,7,-1,8,4,7,1,null,7,5,35,null,6,4,8,16,32,null,6,1,2,4,6,1,2,4,6,3,6,12,24,4,8,16,32]
[null,"Points disponibles",null,{"$f":"VLOOKUP(D18,AB4:AC6,2,)+MJ_EXPERIENCE!E184","v":38},null,null,null,null,"Valeur finale",{"$f":"IF(SUM(J12:J18)<3,3,SUM(J12:J18))","v":7},{"$f":"IF(SUM(K12:K18)<3,3,SUM(K12:K18))","v":3},7,3,7,3,7,3,7,3,7,3,7,3,{"$f":"IF(SUM(X12:X18)<3,3,SUM(X12:X18))","v":7},null,null,null,7,0,null,null,{"$f":"TYPE_GENETIQUE!T18","v":"Altéré"},3,3,0,4,0,-3,-2,-5,4,"Humain",2,2,{"$f":"$L$19*2+$N$19*2+$P$19*2+$V$19*2","v":56},3,-3,7,-1,null,23,0,0,0,0,0,0,0,0,0,null,8,-1,9,4,8,1,null,8,5,40,null,7,4,8,16,32,null,7,1,2,4,6,1,2,4,6,3,6,12,24,4,8,16,32]
[null,"Pts restants",null,{"$f":"D19-Z12","v":38},null,"*",null,null,"Apt. Naturelles",{"$f":"VLOOKUP(J19,$AV$12:$AW$37,2,)","v":-1},null,{"$f":"VLOOKUP(L19,$AV$12:$AW$37,2,)","v":-1},null,{"$f":"VLOOKUP(N19,$AV$12:$AW$37,2,)","v":-1},null,{"$f":"VLOOKUP(P19,$AV$12:$AW$37,2,)","v":-1},null,{"$f":"VLOOKUP(R19,$AV$12:$AW$37,2,)","v":-1},null,{"$f":"VLOOKUP(T19,$AV$12:$AW$37,2,)","v":-1},null,{"$f":"VLOOKUP(V19,$AV$12:$AW$37,2,)","v":-1},null,{"$f":"VLOOKUP(X19,$AV$12:$AW$37,2,)","v":-1},null,null,null,8,{"$f":"AC19+1","v":1},null,null,{"$f":"TYPE_GENETIQUE!T19","v":"Mutant"},1,3,-1,2,0,-2,0,-3,3,"Humain",1,0,{"$f":"$L$19*2+$N$19+$P$19*2+$V$19","v":42},1,-3,8,0,null,24,0,0,0,0,0,0,0,0,0,null,9,0,10,2,9,0,null,9,5,45,null,8,4,8,16,32,null,8,1,2,4,6,1,2,4,6,3,6,12,24,4,8,16,32]
[null,null,null,{"$f":"IF(D20<0,\"ERREUR\",\"\")","v":""},null,null,null,null,null,{"$f":"IF((J12+J13)>20,\"ERREUR\",IF((J12+J13+J14)<3,\"ERREUR\",IF((J12+J13+J15)>20,\"ERREUR\",IF((J12+J13+J14+J15+J16)<3,\"ERREUR\",\"\"))))","v":""},null,{"$f":"IF((L12+L13)>20,\"ERREUR\",IF((L12+L13+L14)<3,\"ERREUR\",IF((L12+L13+L15)>20,\"ERREUR\",IF((L12+L13+L14+L15+L16)<3,\"ERREUR\",\"\"))))","v":""},null,{"$f":"IF((N12+N13)>20,\"ERREUR\",IF((N12+N13+N14)<3,\"ERREUR\",IF((N12+N13+N15)>20,\"ERREUR\",IF((N12+N13+N14+N15+N16)<3,\"ERREUR\",\"\"))))","v":""},null,{"$f":"IF((P12+P13)>20,\"ERREUR\",IF((P12+P13+P14)<3,\"ERREUR\",IF((P12+P13+P15)>20,\"ERREUR\",IF((P12+P13+P14+P15+P16)<3,\"ERREUR\",\"\"))))","v":""},null,{"$f":"IF((R12+R13)>20,\"ERREUR\",IF((R12+R13+R14)<3,\"ERREUR\",IF((R12+R13+R15)>20,\"ERREUR\",IF((R12+R13+R14+R15+R16)<3,\"ERREUR\",\"\"))))","v":""},null,{"$f":"IF((T12+T13)>20,\"ERREUR\",IF((T12+T13+T14)<3,\"ERREUR\",IF((T12+T13+T15)>20,\"ERREUR\",IF((T12+T13+T14+T15+T16)<3,\"ERREUR\",\"\"))))","v":""},null,{"$f":"IF((V12+V13)>20,\"ERREUR\",IF((V12+V13+V14)<3,\"ERREUR\",IF((V12+V13+V15)>20,\"ERREUR\",IF((V12+V13+V14+V15+V16)<3,\"ERREUR\",\"\"))))","v":""},null,{"$f":"IF((X12+X13)>20,\"ERREUR\",IF((X12+X13+X14)<3,\"ERREUR\",IF((X12+X13+X15)>20,\"ERREUR\",IF((X12+X13+X14+X15+X16)<3,\"ERREUR\",\"\"))))","v":""},null,null,null,9,{"$f":"AC20+1","v":2},null,null,{"$f":"TYPE_GENETIQUE!T20","v":"Cyborg S"},0,0,0,0,0,0,0,0,0,"Humain",0,0,28,-3,-3,9,0,null,25,0,0,0,0,0,0,0,0,0,null,10,0,11,2,10,0,null,10,5,50,null,9,4,8,16,32,null,9,1,2,4,6,1,2,4,6,3,6,12,24,4,8,16,32]
[null,null,null,null,null,null,null,null,null,null,null,null,null,null,null,null,null,null,null,null,null,null,null,null,null,null,null,10,3,null,null,{"$f":"TYPE_GENETIQUE!T21","v":"Cyborg M"},0,0,0,0,0,0,0,0,0,"Humain",0,0,28,-3,-3,10,1,null,26,0,0,0,0,0,0,0,0,0,null,11,0,12,2,11,0,null,11,5,55,null,10,4,8,16,32,null,10,1,2,4,6,1,2,4,6,3,6,12,24,4,8,16,32]
[null,"PC base",null,{"$f":"20+MJ_EXPERIENCE!E185","v":20},null,"*",null,null,"Attributs secondaires",null,null,null,null,null,null,null,null,null,null,null,null,null,null,null,null,null,null,11,4,null,null,{"$f":"TYPE_GENETIQUE!T22","v":"Cyborg L"},0,0,0,0,0,0,0,0,0,"Humain",0,0,28,-3,-3,11,1,null,27,0,0,0,0,0,0,0,0,0,null,12,1,13,2,12,-1,null,12,5,60,null,11,5,10,20,40,null,11,1.5,3,6,9,1.5,3,6,9,4,8,16,32,5,10,20,40]
[null,"PC Attributs",null,0,null,null,null,null,null,"Réaction",null,"Chance",null,"Modif. dommages c.à.c.",null,null,null,"Résistance aux dommages",null,null,null,"Armure naturelle",null,null,null,null,null,12,{"$f":"AC23+1","v":5},null,null,{"$f":"TYPE_GENETIQUE!T23","v":"Race 06"},0,0,0,0,0,0,0,0,0,"Humain",0,0,28,-3,-3,12,1,null,28,0,0,0,0,0,0,0,0,0,null,13,1,14,1,13,-1,null,13,5,65,null,12,5,10,20,40,null,12,1.5,3,6,9,1.5,3,6,9,4,8,16,32,5,10,20,40]
[null,"PC Type génétique",null,{"$f":"VLOOKUP(D12,AF12:AO38,10,)-MJ_EXPERIENCE!E166+TYPE_GENETIQUE!F15","v":0},null,"*",null,null,"Valeur calculée / TG",{"$f":"ROUNDUP(((P19+R19)/2)-0.5,0)","v":7},null,{"$f":"VLOOKUP(D18,AB4:AD6,3,)+F46","v":13},null,{"$f":"VLOOKUP(J19,BJ12:BK36,2,)","v":-1},null,null,null,{"$f":"VLOOKUP(J19+L19,BL12:BM60,2,)+VLOOKUP($D$12,$AF$12:$AR$48,13,)","v":1},null,null,null,0,null,null,null,null,null,13,6,null,null,{"$f":"TYPE_GENETIQUE!T24","v":"Race 07"},0,0,0,0,0,0,0,0,0,"Humain",0,0,28,-3,-3,13,2,null,29,0,0,0,0,0,0,0,0,0,null,14,2,15,1,14,-2,null,14,5,70,null,13,5,10,20,40,null,13,1.5,3,6,9,1.5,3,6,9,4,8,16,32,5,10,20,40]
[null,"PC Capacités spé.",null,{"$f":"CAPACITES_SPECIALES!H37","v":0},null,null,null,null,"Modif. Muta. / Impl.",{"$f":"CAPACITES_SPECIALES!T168","v":0},null,0,null,0,null,null,null,{"$f":"CAPACITES_SPECIALES!V168+ACHATS!P101","v":0},null,null,null,{"$f":"CAPACITES_SPECIALES!U168+TYPE_GENETIQUE!P53","v":0},null,null,null,null,null,14,7,null,null,{"$f":"TYPE_GENETIQUE!T25","v":"Race 08"},0,0,0,0,0,0,0,0,0,"Humain",0,0,28,-3,-3,14,2,null,30,-1,{"$f":"AZ26/3","v":-0.33333333333333331},{"$f":"AZ26/3","v":-0.33333333333333331},{"$f":"AZ26/3","v":-0.33333333333333331},0,0,0,0,0,null,15,2,16,1,15,-2,null,15,5,75,null,14,5,10,20,40,null,14,1.5,3,6,9,1.5,3,6,9,4,8,16,32,5,10,20,40]
[null,"PC Exp. préliminaire",null,{"$f":"EXPERIENCE_PRELIMINAIRE!E15","v":0},null,null,null,null,"Modif. Av./Desav.",{"$f":"AVANTAGES_DESAVANTAGES!O170","v":0},null,{"$f":"AVANTAGES_DESAVANTAGES!W170","v":0},null,0,null,null,null,{"$f":"AVANTAGES_DESAVANTAGES!P170","v":0},null,null,null,0,null,null,null,null,null,15,8,null,null,{"$f":"TYPE_GENETIQUE!T26","v":"Race 09"},0,0,0,0,0,0,0,0,0,"Humain",0,0,28,-3,-3,15,2,null,31,-1,-0.33333333333333331,-0.33333333333333331,-0.33333333333333331,0,0,0,0,0,null,16,3,17,1,16,-3,null,16,5,80,null,15,5,10,20,40,null,15,1.5,3,6,9,1.5,3,6,9,4,8,16,32,5,10,20,40]
[null,"PC Avantages/Desav.",null,{"$f":"AVANTAGES_DESAVANTAGES!H26","v":0},null,null,null,null,"Valeur finale",{"$f":"SUM(J25:J27)","v":7},null,{"$f":"SUM(L25:L27)","v":13},null,{"$f":"SUM(N25:P27)","v":-1},null,null,null,{"$f":"SUM(R25:T27)","v":1},null,null,null,{"$f":"SUM(V25:X27)","v":0},null,null,null,null,null,16,{"$f":"AC27+2","v":10},null,null,{"$f":"TYPE_GENETIQUE!T27","v":"Race 10"},0,0,0,0,0,0,0,0,0,"Humain",0,0,28,-3,-3,16,3,null,32,-1,-0.33333333333333331,-0.33333333333333331,-0.33333333333333331,0,0,0,0,0,null,17,3,18,0,17,-3,null,17,5,85,null,16,6,12,24,48,null,16,2,4,8,12,2,4,8,12,5,10,20,40,6,12,24,48]
[null,"PC restants",null,{"$f":"D23-D24-D25-D26-D27-D28","v":20},null,null,null,null,null,null,null,null,null,null,null,null,null,null,null,null,null,null,null,null,null,null,null,17,{"$f":"AC28+2","v":12},null,null,{"$f":"TYPE_GENETIQUE!T28","v":"Race 11"},0,0,0,0,0,0,0,0,0,"Humain",0,0,28,-3,-3,17,3,null,33,-1,-0.33333333333333331,-0.33333333333333331,-0.33333333333333331,0,0,0,0,0,null,18,4,19,0,18,-4,null,18,5,90,null,17,6,12,24,48,null,17,2,4,8,12,2,4,8,12,5,10,20,40,6,12,24,48]
[null,null,null,{"$f":"IF(D29<0,\"ERREUR\",\"\")","v":""},null,null,null,null,null,"Résistance aux poisons",null,null,null,"Résistance aux maladies",null,null,null,"Résistance aux radiations",null,null,null,"Résistance aux drogues",null,null,null,null,null,18,{"$f":"AC29+2","v":14},null,null,{"$f":"TYPE_GENETIQUE!T29","v":"Race 12"},0,0,0,0,0,0,0,0,0,"Humain",0,0,28,-3,-3,18,3,null,34,-1,-0.33333333333333331,-0.33333333333333331,-0.33333333333333331,0,0,0,0,0,null,19,4,20,0,19,-4,null,19,5,95,null,18,6,12,24,48,null,18,2,4,8,12,2,4,8,12,5,10,20,40,6,12,24,48]
[null,"Bonus Att. disponibles",null,{"$f":"D24*2","v":0},null,null,null,null,"Valeur calculée / TG",{"$f":"VLOOKUP(L19,BN12:BO36,2,)+VLOOKUP($D$12,$AF$12:$AR$48,12,)","v":1},null,null,null,{"$f":"VLOOKUP(L19,BN12:BO36,2,)+VLOOKUP($D$12,$AF$12:$AR$48,12,)","v":1},null,null,null,{"$f":"VLOOKUP(L19,BN12:BO36,2,)+VLOOKUP($D$12,$AF$12:$AR$48,12,)","v":1},null,null,null,{"$f":"VLOOKUP(ROUNDUP(((L19+V19)/2)-0.5,0),BN12:BO36,2,)+VLOOKUP($D$12,$AF$12:$AR$48,12,)","v":1},null,null,null,null,null,19,{"$f":"AC30+3","v":17},null,null,{"$f":"TYPE_GENETIQUE!T30","v":"Race 13"},0,0,0,0,0,0,0,0,0,"Humain",0,0,28,-3,-3,19,4,null,35,-1,-0.33333333333333331,-0.33333333333333331,-0.33333333333333331,0,0,0,0,0,null,20,5,21,0,20,-5,null,20,5,100,null,19,6,12,24,48,null,19,2,4,8,12,2,4,8,12,5,10,20,40,6,12,24,48]
[null,"Pts restants",null,{"$f":"D31-Z15","v":0},null,null,null,null,"Modif. Muta. / Impl.",{"$f":"CAPACITES_SPECIALES!Y168","v":0},null,null,null,{"$f":"CAPACITES_SPECIALES!X168","v":0},null,null,null,{"$f":"CAPACITES_SPECIALES!Z168","v":0},null,null,null,{"$f":"CAPACITES_SPECIALES!W168","v":0},null,null,null,null,null,20,{"$f":"AC31+3","v":20},null,null,{"$f":"TYPE_GENETIQUE!T31","v":"Race 14"},0,0,0,0,0,0,0,0,0,"Humain",0,0,28,-3,-3,20,4,null,36,-2,-0.66666666666666663,-0.66666666666666663,-0.66666666666666663,0,0,0,0,0,null,21,5,22,-1,21,-5,null,21,10,110,null,20,6,12,24,48,null,20,2,4,8,12,2,4,8,12,5,10,20,40,6,12,24,48]
[null,null,null,{"$f":"IF(D32<0,\"ERREUR\",\"\")","v":""},null,null,null,null,"Modif. Av./Desav.",{"$f":"AVANTAGES_DESAVANTAGES!S170","v":0},null,null,null,{"$f":"AVANTAGES_DESAVANTAGES!R170","v":0},null,null,null,{"$f":"AVANTAGES_DESAVANTAGES!T170","v":0},null,null,null,{"$f":"AVANTAGES_DESAVANTAGES!Q170","v":0},null,null,null,null,null,null,null,null,null,{"$f":"TYPE_GENETIQUE!T32","v":"Race 15"},0,0,0,0,0,0,0,0,0,"Humain",0,0,28,-3,-3,21,4,null,37,-2,-0.66666666666666663,-0.66666666666666663,-0.66666666666666663,0,0,0,0,0,null,22,6,23,-1,22,-6,null,22,10,120,null,21,7,14,{"$f":"BW33*2","v":28},56,null,21,2.5,5,10,15,2.5,5,10,15,6,12,24,48,7,14,28,56]
[null,null,null,null,null,null,null,null,"Valeur finale",{"$f":"SUM(J31:L33)","v":1},null,null,null,{"$f":"SUM(N31:P33)","v":1},null,null,null,{"$f":"SUM(R31:T33)","v":1},null,null,null,{"$f":"SUM(V31:X33)","v":1},null,null,null,null,null,null,null,null,null,{"$f":"TYPE_GENETIQUE!T33","v":"Race 16"},0,0,0,0,0,0,0,0,0,"Humain",0,0,28,-3,-3,22,5,null,38,-2,-0.66666666666666663,-0.66666666666666663,-0.66666666666666663,0,0,0,0,0,null,23,6,24,-1,23,-6,null,23,10,130,null,22,7,14,28,56,null,22,2.5,5,10,15,2.5,5,10,15,6,12,24,48,7,14,28,56]
[null,null,"Règle optionnelle : Perso. très jeunes","Non",null,null,null,null,null,null,null,null,null,null,null,null,null,null,null,null,null,null,null,null,null,null,null,null,"Age",null,null,{"$f":"TYPE_GENETIQUE!T34","v":"Race 17"},0,0,0,0,0,0,0,0,0,"Humain",0,0,28,-3,-3,23,5,null,39,-2,-0.66666666666666663,-0.66666666666666663,-0.66666666666666663,0,0,0,0,0,null,24,7,25,-1,24,-7,null,24,10,140,null,23,7,14,28,56,null,23,2.5,5,10,15,2.5,5,10,15,6,12,24,48,7,14,28,56]
[null,null,null,null,null,null,null,null,null,null,null,null,null,null,null,null,null,null,null,null,null,null,null,null,null,null,null,"Altéré",10,null,null,{"$f":"TYPE_GENETIQUE!T35","v":"Race 18"},0,0,0,0,0,0,0,0,0,"Humain",0,0,28,-3,-3,24,5,null,40,-2,-0.66666666666666663,-0.66666666666666663,-0.66666666666666663,0,0,0,0,0,null,25,7,26,-2,25,-7,null,25,10,150,null,24,7,14,28,56,null,24,2.5,5,10,15,2.5,5,10,15,6,12,24,48,7,14,{"$f":"CO36*2","v":28},56]
[null,"Age",null,{"$f":"AC39+EXPERIENCE_PRELIMINAIRE!T16+AVANTAGES_PROFESSIONNELS!Y115","v":16},null,null,null,null,null,"Tolérance aux C.O.E. U",null,null,null,"Contrôle des C.O.E. U",null,null,null,null,null,null,null,null,null,null,null,null,null,"Mutant",15,null,null,{"$f":"TYPE_GENETIQUE!T36","v":"Race 19"},0,0,0,0,0,0,0,0,0,"Humain",0,0,28,-3,-3,25,6,null,41,-3,{"$f":"AZ37/5","v":-0.6},{"$f":"AZ37/5","v":-0.6},{"$f":"AZ37/5","v":-0.6},{"$f":"AZ37/5","v":-0.6},{"$f":"AZ37/5","v":-0.6},0,0,0,null,null,null,27,-2,null,null,null,26,10,160,null,25,7,14,28,56,null,25,2.5,5,10,15,2.5,5,10,15,6,12,24,48,7,14,28,56]
[null,"Malus à répartir",null,{"$f":"IF(D37>19,VLOOKUP(D37,AY16:BH46,2,),0)","v":0},null,null,null,null,"Valeur",{"$f":"VLOOKUP($D$12,$AF$12:$AS$48,14,)","v":28},null,null,null,{"$f":"P19+T19+V19","v":21},null,null,null,null,null,null,null,null,null,null,null,null,null,"Autres",16,null,null,{"$f":"TYPE_GENETIQUE!T37","v":"Race 20"},0,0,0,0,0,0,0,0,0,"Humain",0,0,28,-3,-3,null,null,null,42,-3,-0.6,-0.6,-0.6,-0.6,-0.6,0,0,0,null,null,null,28,-2,null,null,null,27,10,170,null,26,8,16,32,64,null,26,3,6,12,18,3,6,12,18,7,14,28,56,8,16,32,64]
[null,null,"30 ans et +","FOR",0,null,null,null,null,null,null,null,null,null,null,null,null,null,null,null,null,null,null,null,null,null,null,"Choisi",{"$f":"IF(D12=AB36,AC36,IF(D12=AB37,AC37,AC38))","v":16},null,null,{"$f":"TYPE_GENETIQUE!T38","v":"Race 21"},0,0,0,0,0,0,0,0,0,"Humain",0,0,28,-3,-3,null,null,null,43,-3,-0.6,-0.6,-0.6,-0.6,-0.6,0,0,0,null,null,null,29,-2,null,null,null,28,10,180,null,27,8,16,32,64,null,27,3,6,12,18,3,6,12,18,7,14,28,56,8,16,32,64]
[null,null,"30 ans et +","CON",0,null,null,null,null,null,null,null,null,null,null,null,null,null,null,null,null,null,null,null,null,null,null,null,null,null,null,{"$f":"TYPE_GENETIQUE!T39","v":"Race 22"},0,0,0,0,0,0,0,0,0,"Humain",0,0,28,-3,-3,null,null,null,44,-3,-0.6,-0.6,-0.6,-0.6,-0.6,0,0,0,null,null,null,30,-3,null,null,null,29,10,190,null,28,8,16,32,64,null,28,3,6,12,18,3,6,12,18,7,14,28,56,8,16,32,64]
[null,null,"30 ans et +","COO",0,null,null,null,"Attributs optionnels",null,null,null,null,null,null,null,null,null,null,null,null,null,null,null,null,null,null,null,null,null,null,{"$f":"TYPE_GENETIQUE!T40","v":"Race 23"},0,0,0,0,0,0,0,0,0,"Humain",0,0,28,-3,-3,null,null,null,45,-3,-0.6,-0.6,-0.6,-0.6,-0.6,0,0,0,null,null,null,31,-3,null,null,null,30,10,200,null,29,8,16,32,64,null,29,3,6,12,18,3,6,12,18,7,14,28,56,8,16,32,64]
[null,null,"41 ans et +","ADA",0,null,null,null,null,"Résistance aux chocs",null,null,null,null,null,null,null,"Souffle",null,null,null,null,null,null,null,null,null,null,null,null,null,{"$f":"TYPE_GENETIQUE!T41","v":"Race 24"},0,0,0,0,0,0,0,0,0,"Humain",0,0,28,-3,-3,null,null,null,46,-4,-0.8,-0.8,-0.8,-0.8,-0.8,0,0,0,null,null,null,32,-3,null,null,null,null,null,null,null,30,8,16,32,64,null,30,3,6,12,18,3,6,12,18,7,14,28,56,8,16,32,64]
[null,null,"41 ans et +","PER",0,null,null,null,null,"Seuil d'étourdissement",null,null,null,"Seuil d'inconscience",null,null,null,null,null,null,null,null,null,null,null,null,null,null,null,null,null,{"$f":"TYPE_GENETIQUE!T42","v":"Race 25"},0,0,0,0,0,0,0,0,0,"Humain",0,0,28,-3,-3,null,null,null,47,-4,-0.8,-0.8,-0.8,-0.8,-0.8,0,0,0,null,null,null,33,-3,null,null,null,null,null,null,null,31,9,18,36,72,null,31,3.5,7,14,21,3.5,7,14,21,8,16,32,64,9,18,36,72]
[null,null,null,null,{"$f":"IF((D38-E39-E40-E41-E42-E43)>0,\"ERREUR\",\"\")","v":""},null,null,null,"Valeur calculée",{"$f":"ROUNDUP(((J19+L19+V19)/3)-0.5,0)","v":7},null,null,null,{"$f":"J44+10","v":17},null,null,null,{"$f":"ROUNDUP(((L19+V19)/2)-0.5,0)","v":7},null,null,null,null,null,null,null,null,null,null,null,null,null,{"$f":"TYPE_GENETIQUE!T43","v":"Race 26"},0,0,0,0,0,0,0,0,0,"Humain",0,0,28,-3,-3,null,null,null,48,-4,-0.8,-0.8,-0.8,-0.8,-0.8,0,0,0,null,null,null,34,-4,null,null,null,null,null,null,null,32,9,18,36,72,null,32,3.5,7,14,21,3.5,7,14,21,8,16,32,64,9,18,36,72]
[null,null,null,null,null,null,null,null,"Modif. Muta. / Impl.",{"$f":"CAPACITES_SPECIALES!AA168","v":0},null,null,null,null,null,null,null,0,null,null,null,null,null,null,null,null,null,null,null,null,null,{"$f":"TYPE_GENETIQUE!T44","v":"Race 27"},0,0,0,0,0,0,0,0,0,"Humain",0,0,28,-3,-3,null,null,null,49,-4,-0.8,-0.8,-0.8,-0.8,-0.8,0,0,0,null,null,null,35,-4,null,null,null,null,null,null,null,33,9,18,36,72,null,33,3.5,7,14,21,3.5,7,{"$f":"CG45*2","v":14},21,8,16,{"$f":"CK45*2","v":32},64,9,18,36,72]
[null,"Habitant de la surface U",null,"Non",null,{"$f":"IF(D46=\"Oui\",-2,0)","v":0},null,null,"Modif. Av./Desav.",{"$f":"AVANTAGES_DESAVANTAGES!U170","v":0},null,null,null,null,null,null,null,{"$f":"AVANTAGES_DESAVANTAGES!V170","v":0},null,null,null,null,null,null,null,null,null,null,null,null,null,{"$f":"TYPE_GENETIQUE!T45","v":"Race 28"},0,0,0,0,0,0,0,0,0,"Humain",0,0,28,-3,-3,null,null,null,50,-4,-0.8,-0.8,-0.8,-0.8,-0.8,0,0,0,null,null,null,36,-4,null,null,null,null,null,null,null,34,9,18,36,72,null,34,3.5,7,14,21,3.5,7,14,21,8,16,32,64,9,18,36,72]
[null,null,null,null,null,null,null,null,"Valeur finale",{"$f":"SUM(J44:L46)","v":7},null,null,null,{"$f":"J47+10","v":17},null,null,null,{"$f":"SUM(R44:T46)","v":7},null,null,null,null,null,null,null,null,null,null,null,null,null,{"$f":"TYPE_GENETIQUE!T46","v":"Race 29"},0,0,0,0,0,0,0,0,0,"Humain",0,0,28,-3,-3,null,null,null,null,null,null,null,null,null,null,null,null,null,null,null,null,37,-4,null,null,null,null,null,null,null,35,9,18,36,72,null,35,3.5,7,14,21,3.5,7,14,21,8,16,32,64,9,18,36,72]
[null,null,null,null,null,null,null,null,null,null,null,null,null,null,null,null,null,null,null,null,null,null,null,null,null,null,null,null,null,null,null,{"$f":"TYPE_GENETIQUE!T47","v":"Race 30"},0,0,0,0,0,0,0,0,0,"Humain",0,0,28,-3,-3,null,null,null,null,null,null,null,null,null,null,null,null,null,null,null,null,38,-5,null,null,null,null,null,null,null,36,10,20,40,80,null,36,4,8,16,24,4,8,16,24,9,18,36,72,10,20,40,80]
[null,null,null,"Techno-hybride",null,null,null,null,null,null,null,null,null,null,null,null,null,null,null,null,null,null,null,null,null,null,null,null,null,null,null,null,null,null,null,null,null,null,null,null,null,null,null,null,null,null,null,null,null,null,null,null,null,null,null,null,null,null,null,null,null,null,null,39,-5,null,null,null,null,null,null,null,37,10,20,40,80,null,37,4,8,16,24,4,8,16,24,9,18,36,72,10,20,40,80]
[null,null,"Règle optionnelle : Rééquilibrage T-H C","Non",null,null,null,null,"Autres caractéristiques du personnage",null,null,null,null,null,null,null,null,null,null,null,null,null,null,null,null,null,null,null,null,null,null,null,null,null,null,null,null,null,null,null,null,null,null,null,null,null,null,null,null,null,null,null,null,null,null,null,null,null,null,null,null,null,null,40,-5,null,null,null,null,null,null,null,38,10,20,40,80,null,38,4,8,16,24,4,8,16,24,9,18,36,72,10,20,40,80]
[null,null,null,null,null,null,null,null,null,null,null,null,null,null,null,null,null,null,null,null,null,null,null,null,null,null,null,null,null,null,null,null,null,null,null,null,null,null,null,null,null,null,null,null,null,null,null,null,null,null,null,null,null,null,null,null,null,null,null,null,null,null,null,41,-5,null,null,null,null,null,null,null,39,10,20,40,80,null,39,4,8,16,24,4,8,16,24,9,18,36,72,10,20,40,80]
[null,null,null,null,null,null,null,null,"Poids",null,null,null,null,null,null,null,null,null,null,null,null,null,null,null,null,null,null,null,null,null,null,null,null,null,null,null,null,null,null,null,null,null,null,null,null,null,null,null,null,null,null,null,null,null,null,null,null,null,null,null,null,null,null,42,-6,null,null,null,null,null,null,null,40,10,20,40,80,null,40,4,8,16,24,4,8,16,24,9,18,36,72,10,20,40,80]
[null,null,null,"Hybride naturel",null,null,null,null,"FOR","Poids soulevable",null,null,null,null,null,null,null,null,null,null,null,null,null,null,null,null,null,null,null,null,null,null,null,null,null,null,null,null,null,null,null,null,null,null,null,null,null,null,null,null,null,null,null,null,null,null,null,null,null,null,null,null,null,43,-6,null,null,null,null,null,null,null,41,11,22,{"$f":"BW53*2","v":44},88,null,41,4.5,9,18,27,4.5,9,18,27,10,20,40,80,11,22,44,88]
[null,null,"Compétence utilisée sous l'eau","Athlétisme",null,null,null,null,{"$f":"J19","v":7},{"$f":"VLOOKUP(I54,BQ12:BS41,3,)","v":35},null,null,null,"kg",null,null,null,null,null,null,null,null,null,null,null,null,null,null,null,null,null,null,null,null,null,null,null,null,null,null,null,null,null,null,null,null,null,null,null,null,null,null,null,null,null,null,null,null,null,null,null,null,null,44,-6,null,null,null,null,null,null,null,42,11,22,44,88,null,42,4.5,9,18,27,4.5,9,18,27,10,20,40,80,11,22,44,88]
[null,null,null,null,null,null,null,null,null,null,null,null,null,null,null,null,null,null,null,null,null,null,null,null,null,null,null,null,null,null,null,null,null,null,null,null,null,null,null,null,null,null,null,null,null,null,null,null,null,null,null,null,null,null,null,null,null,null,null,null,null,null,null,45,-6,null,null,null,null,null,null,null,43,11,22,44,88,null,43,4.5,9,18,27,4.5,9,18,27,10,20,40,80,11,22,44,88]
[null,null,null,null,null,null,null,null,"Allure",null,null,null,null,null,null,null,null,null,null,null,null,null,null,null,null,null,null,null,null,null,null,null,null,null,null,null,null,null,null,null,null,null,null,null,null,null,null,null,null,null,null,null,null,null,null,null,null,null,null,null,null,null,null,46,-7,null,null,null,null,null,null,null,44,11,22,44,88,null,44,4.5,9,18,27,4.5,9,18,27,10,20,40,80,11,22,{"$f":"CO56*2","v":44},88]
[null,null,null,null,null,null,null,null,"COO","Lente",null,null,null,"Moyenne",null,null,null,"Rapide",null,null,null,null,null,null,null,null,null,null,null,null,null,null,null,null,null,null,null,null,null,null,null,null,null,null,null,null,null,null,null,null,null,null,null,null,null,null,null,null,null,null,null,null,null,47,-7,null,null,null,null,null,null,null,45,11,22,44,88,null,45,4.5,9,18,27,4.5,9,18,27,10,20,40,80,11,22,44,88]
[null,null,null,null,null,null,null,null,{"$f":"N19","v":7},{"$f":"VLOOKUP(I58,$BU$12:$BY$62,2,)","v":4},null,null,null,{"$f":"VLOOKUP(I58,$BU$12:$BY$62,3,)","v":8},null,null,null,{"$f":"VLOOKUP(I58,$BU$12:$BY$62,4,)","v":16},null,null,null,"m",null,null,null,null,null,null,null,null,null,null,null,null,null,null,null,null,null,null,null,null,null,null,null,null,null,null,null,null,null,null,null,null,null,null,null,null,null,null,null,null,null,48,-7,null,null,null,null,null,null,null,46,12,24,48,96,null,46,5,10,20,30,5,10,20,30,11,22,44,88,12,24,48,96]
[null,null,null,null,null,{"$f":"IF(AND(D12<>\"Néo-hybride (hybride naturel)\",D54=\"Hybride\"),\"ERREUR\",\" \")","v":" "},null,null,"Athlétisme","Max",null,null,null,null,null,null,null,null,null,null,null,null,null,null,null,null,null,null,null,null,null,null,null,null,null,null,null,null,null,null,null,null,null,null,null,null,null,null,null,null,null,null,null,null,null,null,null,null,null,null,null,null,null,49,-7,null,null,null,null,null,null,null,47,12,24,48,96,null,47,5,10,20,30,5,10,20,30,11,22,44,88,12,24,48,96]
[null,null,null,null,null,null,null,null,{"$f":"EXPERIENCE_PRELIMINAIRE!W20","v":-2},{"$f":"IF(I60<I58,VLOOKUP(I58,$BU$12:$BY$62,5,),VLOOKUP(I60,$BU$12:$BY$62,5,))","v":32},null,null,null,"m",null,null,null,null,null,null,null,null,null,null,null,null,null,null,null,null,null,null,null,null,null,null,null,null,null,null,null,null,null,null,null,null,null,null,null,null,null,null,null,null,null,null,null,null,null,null,null,null,null,50,-8,null,null,null,null,null,null,null,48,12,24,48,96,null,48,5,10,20,30,5,10,20,30,11,22,44,88,12,24,48,96]
[null,null,null,null,null,null,null,null,null,null,null,null,null,null,null,null,null,null,null,null,null,null,null,null,null,null,null,null,null,null,null,null,null,null,null,null,null,null,null,null,null,null,null,null,null,null,null,null,null,null,null,null,null,null,null,null,null,null,null,null,null,null,null,null,null,null,null,null,null,null,null,null,49,12,24,48,96,null,49,5,10,20,30,5,10,20,30,11,22,44,88,12,24,48,96]
[null,null,null,null,null,null,null,null,"Allure sous l'eau",null,null,null,null,null,null,null,null,null,null,null,null,null,null,null,null,null,null,null,null,null,null,null,null,null,null,null,null,null,null,null,null,null,null,null,null,null,null,null,null,null,null,null,null,null,null,null,null,null,null,null,null,null,null,null,null,null,null,null,null,null,null,null,50,12,24,48,96,null,50,5,10,20,30,5,10,20,30,11,22,44,88,12,24,48,96]
[null,null,null,null,null,null,null,null,"COO","Lente",null,null,null,"Moyenne",null,null,null,"Rapide"]
[null,null,null,null,null,null,null,null,{"$f":"N19","v":7},{"$f":"VLOOKUP(I64,$CA$12:$CE$62,2,)","v":1},null,null,null,{"$f":"VLOOKUP(I64,$CA$12:$CE$62,3,)","v":2},null,null,null,{"$f":"VLOOKUP(I64,$CA$12:$CE$62,4,)","v":4},null,null,null,"m"]
[null,null,null,null,null,null,null,null,{"$f":"D54","v":"Athlétisme"},"Max"]
[null,null,null,null,null,null,null,null,{"$f":"IF(D54=\"Athlétisme\",EXPERIENCE_PRELIMINAIRE!W20,EXPERIENCE_PRELIMINAIRE!W325)","v":-2},{"$f":"IF(I66=\"X\",VLOOKUP(I64,$CA$12:$CE$62,5,),IF(I66<I64,VLOOKUP(I64,$CA$12:$CE$62,5,),VLOOKUP(I66,$CA$12:$CE$62,5,)))","v":6},null,null,null,"m"]

{"sheet":"CAPACITES_SPECIALES","index":4,"n_rows":781,"n_cols":64,"rows_kept":781,"cut":false,"hidden":false,"merged":[[63,8,63,14],[60,8,60,14],[69,1,69,4],[6,63,27,65],[121,1,121,4],[121,8,121,14],[122,1,122,4],[114,8,114,14],[115,1,115,4],[116,1,116,4],[115,8,115,14],[116,8,116,14],[14,15,15,15],[118,1,118,4],[118,8,118,14],[119,1,119,4],[86,8,86,14],[90,1,90,4],[91,1,91,4],[92,1,92,4],[94,1,94,4],[89,8,89,14],[90,8,90,14],[18,12,18,15],[19,23,19,26],[21,24,21,27],[25,24,25,27],[29,24,29,27],[32,3,32,6],[34,1,34,2],[31,3,31,6],[20,12,20,15],[20,3,20,6],[21,3,21,6],[34,19,36,19],[19,3,19,6],[32,1,32,2],[33,1,33,2],[21,10,23,10],[26,3,26,6],[27,3,27,6],[28,3,28,6],[29,12,29,15],[27,10,29,10],[25,12,25,15],[52,1,52,4],[12,3,12,4],[35,1,35,2],[19,8,21,8],[38,1,39,4],[26,8,28,8],[19,2,21,2],[34,12,34,15],[35,12,35,15],[38,15,38,29],[38,8,39,14],[41,8,41,14],[43,8,43,14],[40,8,40,14],[52,8,52,14],[46,8,46,14],[50,1,50,4],[50,8,50,14],[51,1,51,4],[51,8,51,14],[44,1,44,4],[48,1,48,4],[48,8,48,14],[38,6,39,6],[76,8,76,14],[74,8,74,14],[72,8,72,14],[73,8,73,14],[71,1,71,4],[57,1,57,4],[58,1,58,4],[59,1,59,4],[54,8,54,14],[70,1,70,4],[64,8,64,14],[68,8,68,14],[69,8,69,14],[66,8,66,14],[60,1,60,4],[59,8,59,14],[57,8,57,14],[58,8,58,14],[64,1,64,4],[65,1,65,4],[56,8,56,14],[54,1,54,4],[55,1,55,4],[63,1,63,4],[3,0,3,2],[4,9,6,9],[10,3,10,4],[11,3,11,4],[62,1,62,4],[62,8,62,14],[61,1,61,4],[61,8,61,14],[23,3,23,6],[24,3,24,6],[21,12,21,15],[22,12,22,15],[23,12,23,15],[26,12,26,15],[27,12,27,15],[28,12,28,15],[12,11,14,11],[12,15,13,15],[15,3,15,4],[16,3,16,4],[17,3,17,4],[13,3,13,4],[14,3,14,4],[56,1,56,4],[88,1,88,4],[91,8,91,14],[92,8,92,14],[94,8,94,14],[102,8,102,14],[105,8,105,14],[77,1,77,4],[77,8,77,14],[79,8,79,14],[78,1,78,4],[99,8,99,14],[100,8,100,14],[101,8,101,14],[102,1,102,4],[80,1,80,4],[80,8,80,14],[81,8,81,14],[87,8,87,14],[79,1,79,4],[88,8,88,14],[137,1,137,4],[138,1,138,4],[137,8,137,14],[103,1,103,4],[103,8,103,14],[104,1,104,4],[104,8,104,14],[108,1,108,4],[108,8,108,14],[111,1,111,4],[111,8,111,14],[123,8,123,14],[109,8,109,14],[119,8,119,14],[120,1,120,4],[123,1,123,4],[112,8,112,14],[129,1,129,4],[113,8,113,14],[107,8,107,14],[110,8,110,14],[112,1,112,4],[113,1,113,4],[114,1,114,4],[141,1,141,4],[141,8,141,14],[142,1,142,4],[142,8,142,14],[136,1,136,4],[136,8,136,14],[139,1,139,4],[139,8,139,14],[120,8,120,14],[138,8,138,14],[135,1,135,4],[132,8,132,14],[133,8,133,14],[130,1,130,4],[134,1,134,4],[130,8,130,14],[131,8,131,14],[131,1,131,4],[132,1,132,4],[133,1,133,4],[135,8,135,14],[134,8,134,14],[140,1,140,4],[140,8,140,14],[117,1,117,4],[122,8,122,14],[124,8,124,14],[125,1,125,4],[125,8,125,14],[129,8,129,14],[126,1,126,4],[127,1,127,4],[128,1,128,4],[126,8,126,14],[127,8,127,14],[128,8,128,14],[117,8,117,14],[110,1,110,4],[106,1,106,4],[81,1,81,4],[99,1,99,4],[100,1,100,4],[101,1,101,4],[95,1,95,4],[82,8,82,14],[83,8,83,14],[84,1,84,4],[98,1,98,4],[98,8,98,14],[96,1,96,4],[96,8,96,14],[85,1,85,4],[86,1,86,4],[87,1,87,4],[83,1,83,4],[107,1,107,4],[84,8,84,14],[89,1,89,4],[97,1,97,4],[97,8,97,14],[109,1,109,4],[9,26,9,27],[10,25,12,25],[9,21,9,22],[10,19,12,19],[10,21,10,22],[11,21,11,22],[12,21,12,22],[13,21,13,22],[14,21,14,22],[13,5,15,5],[49,1,49,4],[49,8,49,14],[43,1,43,4],[41,1,41,4],[33,3,33,6],[34,3,34,6],[35,3,35,6],[22,3,22,6],[40,1,40,4],[45,1,45,4],[45,8,45,14],[46,1,46,4],[47,1,47,4],[47,8,47,14],[42,1,42,4],[42,8,42,14],[38,7,39,7],[38,5,39,5],[44,8,44,14],[19,12,19,15],[15,21,15,22],[18,19,20,19],[106,8,106,14],[53,1,53,4],[53,8,53,14],[76,1,76,4],[75,1,75,4],[70,8,70,14],[95,8,95,14],[93,1,93,4],[93,8,93,14],[75,8,75,14],[78,8,78,14],[85,8,85,14],[55,8,55,14],[65,8,65,14],[66,1,66,4],[67,1,67,4],[72,1,72,4],[73,1,73,4],[74,1,74,4],[68,1,68,4],[71,8,71,14],[67,8,67,14]]}
[]
[null,null,null,null,null,null,null,null,null,"<< Légende _"]
[]
["TROISIEME EDITION",null,null,null,null,null,null,null,null,null,"Cellules à compléter / Sélection à faire dans le menu déroulant"]
[]
[null,null,null,null,null,null,null,null,null,null,"Passer la souris au dessus de ce symbole pour afficher un commentaire"]
[null,null,null,null,null,null,null,null,null,null,null,null,null,null,null,null,null,null,null,null,null,null,null,null,null,null,null,null,null,null,null,null,null,null,null,null,null,null,null,null,null,"Griffes","Rétract","Total",null,null,null,null,null,null,null,null,null,null,null,null,null,null,null,null,"Polaris",{"$f":"IF(D32=\" \",\"\",CONCATENATE(D32,\", \"))","v":""},null,{"$f":"CONCATENATE(BJ7,BJ8,BJ9,BJ10,BJ11,BJ12,BJ13,BJ14,BJ15,BJ16,BJ17,BJ18,BJ19,BJ20,BJ21,BJ22,BJ23,BJ24,BJ25,BJ26,BJ27,BJ28)","v":""}]
[null,null,null,null,null,null,null,null,null,null,null,null,null,null,null,null,null,null,null,null,null,null,null,null,null,null,null,null,null,null,null,null,null,null,null,null,null,null,null,null,null,0,null,null,null,null,null,null,null,null,null,null,null,null,null,null,null,null,null,null,"Muta",{"$f":"IF(D20=\" \",\"\",CONCATENATE(D20,\", \"))","v":""}]
[null,null,null,null,null,null,null,null,null,null,null,null,null,null,null,null,null,null,null,null,null,null,null,null,null,null,null,null,null,null,null,null,null,null,null,null,null,null,null,null,null,1,{"$f":"AB13","v":"Non"},{"$f":"IF($AO$168=1,\"1D10+3\",\"\")","v":""},null,null,null,null,null,null,null,null,null,null,null,null,null,null,null,null,null,{"$f":"IF(D21=\" \",\"\",CONCATENATE(D21,\", \"))","v":""}]
[null,null,null,null,null,null,null,null,null,null,null,null,null,null,null,null,null,null,null,null,"U","Sens animal",null,null,null,"U","Arme naturelle rétractable ?",null,null,null,null,null,null,null,null,null,null,null,null,null,null,2,{"$f":"AB13","v":"Non"},{"$f":"IF(AND($AO$168=2,AQ10=\"Non\"),\"1D10+6\",IF(AND($AO$168=2,AQ10=\"Oui\"),\"1D10+3\",\"\"))","v":""},null,null,null,null,null,null,null,null,null,null,null,null,null,null,null,null,null,""]
[null,"PC base",null,{"$f":"ATTRIBUTS!D23","v":20},null,null,null,null,null,null,null,null,null,null,null,null,null,null,null,null,"Mutation 1",null,null,null,null,null,"Corne","Non",null,null,null,null,null,null,null,null,null,null,null,null,null,3,{"$f":"AB13","v":"Non"},{"$f":"IF(AND($AO$168=3,AQ11=\"Non\"),\"2D10\",IF(AND($AO$168=3,AQ11=\"Oui\"),\"1D10+6\",\"\"))","v":""},null,null,null,null,null,null,null,null,null,null,null,null,null,null,null,null,null,""]
[null,"PC Attributs",null,{"$f":"ATTRIBUTS!D24","v":0},null,null,null,null,null,null,null,null,null,null,null,"Reduc PC",null,null,null,null,"Mutation 2",null,null,null,null,null,"Crocs","Non",null,null,null,null,null,null,null,null,null,null,null,null,null,null,null,{"$f":"CONCATENATE(AR9,AR10,AR11)","v":""},null,null,null,null,null,null,null,"Habitant de la surface",null,null,null,null,null,null,null,null,null,""]
[null,"PC Type génétique",null,{"$f":"ATTRIBUTS!D25","v":0},null,null,null,null,null,null,null,null,null,null,null,0,null,null,null,null,"Mutation 3",null,null,null,null,null,"Griffes","Non",null,null,null,null,null,null,null,null,null,null,null,null,null,null,null,null,null,null,null,null,null,null,null,{"$f":"ATTRIBUTS!D46","v":"Non"},null,null,null,null,null,null,null,null,null,{"$f":"IF(D25=\" \",\"\",CONCATENATE(D25,\", \"))","v":""}]
["*","PC Capacités spé.",null,{"$f":"ATTRIBUTS!D26","v":0},null,null,null,null,null,null,null,null,null,null,null,null,null,null,null,null,"Mutation 4",null,null,null,null,null,null,null,null,null,null,null,null,null,null,null,null,null,null,null,null,null,null,null,null,null,null,null,null,null,null,null,null,null,null,null,null,null,null,null,"Muta aléa",{"$f":"IF(Y22=\" \",\"\",CONCATENATE(Y22,\", \"))","v":""}]
[null,"PC Exp. préliminaire",null,{"$f":"ATTRIBUTS!D27","v":0},null,null,null,null,null,null,null,null,null,null,null,0,null,null,null,null,"Mutation 5",null,null,null,null,null,null,null,null,null,null,null,null,null,null,null,null,null,null,null,null,null,null,null,null,null,null,null,null,null,null,null,null,null,null,null,null,null,null,null,null,{"$f":"IF(Y26=\" \",\"\",CONCATENATE(Y26,\", \"))","v":""}]
[null,"PC Avantages/Desav.",null,{"$f":"ATTRIBUTS!D28","v":0},null,null,null,null,null,null,null,null,null,null,null,null,null,null,null,null,"Mutation 6",null,null,null,null,null,null,null,null,null,null,null,null,null,null,null,null,null,null,null,null,null,null,null,null,null,null,null,null,null,null,null,null,null,null,null,null,null,null,null,null,{"$f":"IF(Y30=\" \",\"\",CONCATENATE(Y30,\", \"))","v":""}]
[null,"PC restants",null,{"$f":"D11-D12-D13-D14-D15-D16","v":20},null,null,null,null,null,null,null,null,null,null,null,null,null,null,null,null,null,null,null,null,null,null,null,null,null,null,null,null,null,null,null,null,null,null,null,null,null,null,null,null,null,null,null,null,null,null,null,null,null,null,null,null,null,null,null,null,"Para/Symb1",{"$f":"IF(M21=\" \",\"\",CONCATENATE(M21,\", \"))","v":""}]
[null,null,null,{"$f":"IF(D17<0,\"ERREUR\",\"\")","v":""},null,null,null,null,null,null,null,null,null,null,null,null,null,null,null,null,null,null,null,null,null,null,null,null,null,null,null,null,null,null,null,null,null,null,null,null,null,null,null,null,null,null,null,null,null,null,null,null,null,null,null,null,null,"concatener",null,null,null,{"$f":"IF(M22=\" \",\"\",CONCATENATE(M22,\", \"))","v":""}]
[null,null,null,null,null,null,null,"PC",null,null,null,null,"Parasite(s) et Symbiote(s)",null,null,null,null,null,null,null,null,null,null,null,null,null,null,null,null,null,null,null,null,null,null,null,null,null,null,null,null,null,null,null,null,null,null,null,null,null,null,"Nom",null,"Texte",null,"Texte",null,null,null,null,null,""]
[null,"Mutation 1",null," ",null,null,null,{"$f":"VLOOKUP(D20,$B$41:$F$144,5,)","v":0},null,null,"1D4 =",4," ",null,null,null,"PC",null,null,null,"1D20=",20,null,"Règle optionnelle : Mutation aléatoire",null,null,null,"Non",null,null,null,null,null,null,null,null,null,null,null,null,null,"Parasite(s)","Symbiote(s)","Symbiote(s)","Symbiote(s)","Symbiote(s)",null,null,null,null,null,"3 prem muta",null,"3 prem muta",null,"3 aleatoires",null,null,null,null,null,""]
[null,"Mutation 2",null," ",null,null,null,0,null,null,null,"Muta. 1"," ",null,null,null,0,{"$f":"IF(AND(SUM(AQ24:AT24)<0,$M$20<>\"Symbiote(s)\"),\"ERREUR\",\"\")","v":""},null,null,null,null,null,null,{"$f":"VLOOKUP(AZ178,AZ182:BA781,2,)","v":"Adaptation extérieure"},null,null,null,null,null,null,null,null,null,null,null,null,null,null,null,null,"Resist DOM","Resist DRO","Resist MAL","Resist POI","Resist RAD",null,null,null,null,null,null,null,null,null,null,null,null,null,null,"Para/Symb2",{"$f":"IF(M27=\" \",\"\",CONCATENATE(M27,\", \"))","v":""}]
[null,"Mutation 3",null," ",null,null,null,0,null,null,null,{"$f":"IF(L20=1,\"\",\"Muta. 2\")","v":"Muta. 2"}," ",null,null,null,0,{"$f":"IF(AND(SUM(AQ25:AT25)<0,$M$20<>\"Symbiote(s)\"),\"ERREUR\",\"\")","v":""},null,null,null,"Muta. 1","1D100=",1,{"$f":"IF(AB20=\"Oui\",Y21,\" \")","v":" "},null,null,null,null,null,null,null,null,null,null,null,null,null,null,null,null,{"$f":"IF(AND(M20=\"Parasite(s)\",M26=\"Parasite(s)\"),ROUND(((L20+L26)/2)-0.5,0),IF(M20=\"Parasite(s)\",ROUND((L20/2)-0.5,0),IF(M26=\"Parasite(s)\",ROUND((L26/2)-0.5,0),0)))","v":0},{"$f":"SUM(AQ23:AQ33)","v":0},{"$f":"SUM(AR23:AR33)","v":0},{"$f":"SUM(AS23:AS33)","v":0},{"$f":"SUM(AT23:AT33)","v":0},null,null,null,null,null,{"$f":"IF(AND($AB$20=\"Oui\",Z23=\"Non\"),Y22,D20)","v":" "},null,{"$f":"IF(D20=\" \",\"\",CONCATENATE(\" : \",VLOOKUP(D20,$B$42:$O$144,8,)))","v":""},null,{"$f":"IF(AND($AB$20=\"Oui\",Z23=\"Non\"),CONCATENATE(\" : \",VLOOKUP(Y22,$B$42:$O$144,8,)),\"\")","v":""},null,{"$f":"CONCATENATE(BB22,BD22,V11)","v":""},null,{"$f":"IF(M21=\" \",\"\",CONCATENATE(\" : \",VLOOKUP(M21,$B$42:$O$144,8,)))","v":""},null,{"$f":"IF(M28=\" \",\"\",CONCATENATE(M28,\", \"))","v":""}]
[null,"Mutation 4",null," ",null,null,null,0,null,null,null,{"$f":"IF(L20=1,\"\",IF(L20=2,\"\",\"Muta. 3\"))","v":"Muta. 3"}," ",null,null,null,0,{"$f":"IF(AND(SUM(AQ26:AT26)<0,$M$20<>\"Symbiote(s)\"),\"ERREUR\",\"\")","v":""},null,null,null,"Organe sensoriel/Résistance naturelle","1D6=",1,"Refus","Non","PC",{"$f":"IF(AB20=\"Oui\",IF(Z23=\"Non\",0,IF(VLOOKUP(Y22,$B$41:$F$140,5)>0,0,1)),0)","v":0},null,null,null,null,null,null,null,null,null,null,null,null,null,null,null,null,null,null,null,null,null,null,null,{"$f":"IF(AND($AB$20=\"Oui\",Z27=\"Non\",V20>15),Y26,D21)","v":" "},null,{"$f":"IF(D21=\" \",\"\",CONCATENATE(\" : \",VLOOKUP(D21,$B$42:$O$144,8,)))","v":""},null,{"$f":"IF(AND($AB$20=\"Oui\",Z27=\"Non\",V20>15),CONCATENATE(\" : \",VLOOKUP(Y26,$B$42:$O$144,8,)),\"\")","v":""},null,{"$f":"CONCATENATE(BB23,BD23,V12)","v":""},null,{"$f":"IF(M22=\" \",\"\",CONCATENATE(\" : \",VLOOKUP(M22,$B$42:$O$144,8,)))","v":""},null,""]
[null,"Mutation 5",null," ",null,null,null,0,null,null,null,{"$f":"IF(L20=4,\"Muta. 4\",\"\")","v":"Muta. 4"}," ",null,null,null,0,{"$f":"IF(AND(SUM(AQ27:AT27)<0,$M$20<>\"Symbiote(s)\"),\"ERREUR\",\"\")","v":""},null,null,null,"Caractère génétique animal","ou 1D4",null,null,null,null,null,null,null,null,null,null,null,null,null,null,null,null,null,null,null,{"$f":"IF($M21=$AS$178,-2,0)","v":0},{"$f":"IF($M21=$AS$179,-2,0)","v":0},{"$f":"IF($M21=$AS$180,-2,0)","v":0},{"$f":"IF($M21=$AS$181,-2,0)","v":0},null,null,null,null,null,{"$f":"IF(AND($AB$20=\"Oui\",Z31=\"Non\",V20=20),Y30,D22)","v":" "},null,{"$f":"IF(D22=\" \",\"\",CONCATENATE(\" : \",VLOOKUP(D22,$B$42:$O$144,8,)))","v":""},null,{"$f":"IF(AND($AB$20=\"Oui\",Z31=\"Non\",V20=20),CONCATENATE(\" : \",VLOOKUP(Y30,$B$42:$O$144,8,)),\"\")","v":""},null,"",null,{"$f":"IF(M23=\" \",\"\",CONCATENATE(\" : \",VLOOKUP(M23,$B$42:$O$144,8,)))","v":""},null,""]
[null,"Mutation 6",null," ",null,null,null,0,null,null,null,null,null,null,null,null,null,null,null,null,null,null,null,null,{"$f":"IF(VLOOKUP(AZ179,AZ182:BA781,2,)=Y22,IF(VLOOKUP(Y22,B41:G140,6)=\"Non\",\"Relancer !\",CONCATENATE(Y22,\"I\")),VLOOKUP(AZ179,AZ182:BA781,2,))","v":"Adaptation extérieure"},null,null,null,null,null,null,null,null,null,null,null,null,null,null,null,null,null,{"$f":"IF($M22=$AS$178,-2,0)","v":0},{"$f":"IF($M22=$AS$179,-2,0)","v":0},{"$f":"IF($M22=$AS$180,-2,0)","v":0},{"$f":"IF($M22=$AS$181,-2,0)","v":0},null,null,null,null,null,{"$f":"IF(AND($AB$20=\"Oui\",Z32=\"Non\",V21=20),Y31,D23)","v":" "},null,{"$f":"IF(D23=\" \",\"\",CONCATENATE(\" : \",VLOOKUP(D23,$B$42:$O$144,8,)))","v":""},null,null,null,{"$f":"CONCATENATE(BB25,BD25,V14)","v":""},null,{"$f":"IF(M24=\" \",\"\",CONCATENATE(\" : \",VLOOKUP(M24,$B$42:$O$144,8,)))","v":""},"Caract ani",{"$f":"IF(D27=\" \",\"\",CONCATENATE(D27,\", \"))","v":""}]
[null,null,null,null,null,null,null,null,null,null,"1D4 =",4," ",null,null,null,"PC",null,null,null,null,{"$f":"IF(V20>15,\"Muta. 2\",\"\")","v":"Muta. 2"},"1D100=",1,{"$f":"IF(AB20=\"Oui\",IF(V20>15,Y25,\" \"),\" \")","v":" "},null,null,null,null,null,null,null,null,null,null,null,null,null,null,null,null,null,{"$f":"IF($M23=$AS$178,-2,0)","v":0},{"$f":"IF($M23=$AS$179,-2,0)","v":0},{"$f":"IF($M23=$AS$180,-2,0)","v":0},{"$f":"IF($M23=$AS$181,-2,0)","v":0},null,null,null,null,null," ",null,"",null,null,null,"",null,null,null,{"$f":"IF(D28=\" \",\"\",CONCATENATE(D28,\", \"))","v":""}]
[null,null,"Caractère géné. animal : félin"," ",null,null,null,{"$f":"VLOOKUP(D27,AQ177:AR179,2,)","v":0},null,null,null,"Muta. 1"," ",null,null,null,0,{"$f":"IF(AND(SUM(AQ30:AT30)<0,$M$26<>\"Symbiote(s)\"),\"ERREUR\",\"\")","v":""},null,null,null,{"$f":"IF(V20>15,\"Organe sensoriel/Résistance naturelle\",\"\")","v":"Organe sensoriel/Résistance naturelle"},"1D6=",1,"Refus","Non","PC",{"$f":"IF(V20>15,IF(Z27=\"Non\",0,IF(VLOOKUP(Y26,$B$41:$F$140,5)>0,0,1)),0)","v":0},null,null,null,null,null,null,null,null,null,null,null,null,null,null,{"$f":"IF($M24=$AS$178,-2,0)","v":0},{"$f":"IF($M24=$AS$179,-2,0)","v":0},{"$f":"IF($M24=$AS$180,-2,0)","v":0},{"$f":"IF($M24=$AS$181,-2,0)","v":0},null,null,null,null,null," ",null,"",null,null,null,{"$f":"CONCATENATE(BB27,BD27,V16)","v":""},null,{"$f":"IF(M27=\" \",\"\",CONCATENATE(\" : \",VLOOKUP(M27,$B$42:$O$144,8,)))","v":""},null,""]
[null,null,"Caractère géné. animal : canin"," ",null,null,null,0,null,null,null,{"$f":"IF(L26=1,\"\",\"Muta. 2\")","v":"Muta. 2"}," ",null,null,null,0,{"$f":"IF(AND(SUM(AQ31:AT31)<0,$M$26<>\"Symbiote(s)\"),\"ERREUR\",\"\")","v":""},null,null,null,{"$f":"IF(V20>15,\"Caractère génétique animal\",\"\")","v":"Caractère génétique animal"},"ou 1D4",null,null,null,null,null,null,null,null,null,null,null,null,null,null,null,null,null,null,null,null,null,null,null,null,null,null,null,null,null,null,null,null,null,null,null,null,{"$f":"IF(M28=\" \",\"\",CONCATENATE(\" : \",VLOOKUP(M28,$B$42:$O$144,8,)))","v":""},"Cult/Elev",{"$f":"IF(M36=\" \",\"\",CONCATENATE(M36,\", \"))","v":""}]
[null,null,"Caractère géné. animal : simiesque"," ",null,null,null,0,null,null,null,{"$f":"IF(L26=1,\"\",IF(L26=2,\"\",\"Muta. 3\"))","v":"Muta. 3"}," ",null,null,null,0,{"$f":"IF(AND(SUM(AQ32:AT32)<0,$M$26<>\"Symbiote(s)\"),\"ERREUR\",\"\")","v":""},null,null,null,null,null,null,{"$f":"IF(CONCATENATE(VLOOKUP(AZ180,AZ182:BA781,2,),\"I\")=Y26,IF(VLOOKUP(Y26,B41:G140,6)=\"Non\",\"Relancer !\",CONCATENATE(Y26,\"I\")),IF(VLOOKUP(AZ180,AZ182:BA781,2,)=Y22,IF(VLOOKUP(Y22,B41:G140,6)=\"Non\",\"Relancer !\",CONCATENATE(Y22,\"I\")),IF(VLOOKUP(AZ180,AZ182:BA781,2,)=Y26,IF(VLOOKUP(Y26,B41:G140,6)=\"Non\",\"Relancer !\",CONCATENATE(Y26,\"I\")),VLOOKUP(AZ180,AZ182:BA781,2,))))","v":"Adaptation extérieure"},null,null,null,null,null,null,null,null,null,null,null,null,null,null,null,null,null,null,null,null,null,null,null,null,null,null,null,null,null,null,null,null,{"$f":"IF(D27=\" \",\"\",CONCATENATE(\" : \",VLOOKUP(D27,$B$42:$O$144,8,)))","v":""},null,{"$f":"IF(M29=\" \",\"\",CONCATENATE(\" : \",VLOOKUP(M29,$B$42:$O$144,8,)))","v":""}]
[null,null,null,null,null,null,null,null,null,null,null,{"$f":"IF(L26=4,\"Muta. 4\",\"\")","v":"Muta. 4"}," ",null,null,null,0,{"$f":"IF(AND(SUM(AQ33:AT33)<0,$M$26<>\"Symbiote(s)\"),\"ERREUR\",\"\")","v":""},null,null,null,{"$f":"IF(V20=20,\"Muta. 3\",\"\")","v":"Muta. 3"},"1D100=",1,{"$f":"IF(AB20=\"Oui\",IF(V20=20,Y29,\" \"),\" \")","v":" "},null,null,null,null,null,null,null,null,null,null,null,null,null,null,null,null,null,{"$f":"IF($M27=$AS$178,-2,0)","v":0},{"$f":"IF($M27=$AS$179,-2,0)","v":0},{"$f":"IF($M27=$AS$180,-2,0)","v":0},{"$f":"IF($M27=$AS$181,-2,0)","v":0},null,null,null,null,null,null,null,null,null,null,null,{"$f":"IF(D28=\" \",\"\",CONCATENATE(\" : \",VLOOKUP(D28,$B$42:$O$144,8,)))","v":""},null,{"$f":"IF(M30=\" \",\"\",CONCATENATE(\" : \",VLOOKUP(M30,$B$42:$O$144,8,)))","v":""}]
[null,null,null,null,null,null,null,null,null,null,null,null,null,null,null,null,null,null,null,null,null,{"$f":"IF(V20=20,\"Organe sensoriel/Résistance naturelle\",\"\")","v":"Organe sensoriel/Résistance naturelle"},"1D6=",1,"Refus","Non","PC",{"$f":"IF(V20=20,IF(Z31=\"Non\",0,IF(VLOOKUP(Y30,$B$41:$F$140,5)>0,0,1)),0)","v":0},null,null,null,null,null,null,null,null,null,null,null,null,null,null,{"$f":"IF($M28=$AS$178,-2,0)","v":0},{"$f":"IF($M28=$AS$179,-2,0)","v":0},{"$f":"IF($M28=$AS$180,-2,0)","v":0},{"$f":"IF($M28=$AS$181,-2,0)","v":0},null,null,null,null,null,null,null,null,null,null,null,{"$f":"IF(D29=\" \",\"\",CONCATENATE(\" : \",VLOOKUP(D29,$B$42:$O$144,8,)))","v":""}]
[null,"Force Polaris",null," ",null,null,null,{"$f":"VLOOKUP(D32,AW173:AX176,2,)","v":0},null,null,null,null,null,null,null,null,null,null,null,null,null,{"$f":"IF(V20=20,\"Caractère génétique animal\",\"\")","v":"Caractère génétique animal"},"ou 1D4",null,null,null,null,null,null,null,null,null,null,null,null,null,null,null,null,null,null,null,{"$f":"IF($M29=$AS$178,-2,0)","v":0},{"$f":"IF($M29=$AS$179,-2,0)","v":0},{"$f":"IF($M29=$AS$180,-2,0)","v":0},{"$f":"IF($M29=$AS$181,-2,0)","v":0},null,null,null,null,null,null,null,null,null,null,null,null,null,{"$f":"IF(M36=\" \",\"\",CONCATENATE(\" : \",VLOOKUP(M36,$B$42:$O$144,8,)))","v":""}]
[null,{"$f":"HLOOKUP($D$32,$AY$172:$BC$176,2,)","v":" "},null," ",null,null,null,{"$f":"IF(D33=\" \",0,IF(D32=\"Polaris non maîtrisé\",1,0))","v":0},{"$f":"IF(AND(D33<>\" \",B33=\" \"),\"ERREUR\",\"\")","v":""},null,null,null,null,null,null,null,null,null,null,null,null,null,null,null,null,null,null,null,null,null,null,null,null,null,null,null,null,null,null,null,null,null,{"$f":"IF($M30=$AS$178,-2,0)","v":0},{"$f":"IF($M30=$AS$179,-2,0)","v":0},{"$f":"IF($M30=$AS$180,-2,0)","v":0},{"$f":"IF($M30=$AS$181,-2,0)","v":0}]
[null,{"$f":"HLOOKUP($D$32,$AY$172:$BC$176,3,)","v":" "},null," ",null,null,null,{"$f":"IF(D34=\" \",0,1)","v":0},{"$f":"IF(AND(D34<>\" \",B34=\" \"),\"ERREUR\",\"\")","v":""},null,null,null,null,null,null,null,null,null,null,"Surface"]
[null,{"$f":"HLOOKUP($D$32,$AY$172:$BC$176,4,)","v":" "},null," ",null,null,null,{"$f":"IF(D35=\" \",0,1)","v":0},{"$f":"IF(AND(D35<>\" \",B35=\" \"),\"ERREUR\",\"\")","v":""},null,null,null,"Avantage professionnel aléatoire"]
[null,{"$f":"HLOOKUP($D$32,$AY$172:$BC$176,5,)","v":" "},null," ",null,null,null,{"$f":"IF(D36=\" \",0,1)","v":0},{"$f":"IF(AND(D36<>\" \",B36=\" \"),\"ERREUR\",\"\")","v":""},null,null,"Mutation Cultivateur/Eleveur",{"$f":"IF(AVANTAGES_PROFESSIONNELS!DP1146>0,\"Empathie\",\" \")","v":" "},null,null,null,0]
[null,null,null,"[sol] = Polaris solaire U",null,null,null,{"$f":"H20+H21+H22+H23+H24+H25+H27+H28+H29+H32+H33+H34+H35+H36+AB23+AB27+AB31-MJ_EXPERIENCE!E114+P13+P15+AVANTAGES_PROFESSIONNELS!CU93+Q36+EXPERIENCE_PRELIMINAIRE!J336","v":0}]
[]
[null,"Mutations",null,null,null,"PC","Cumulable","Réservée","Bonus non permanents / Descriptions succintes si besoin",null,null,null,null,null,null,"Bonus permanents"]
[null,null,null,null,null,null,null,null,null,null,null,null,null,null,null,"FOR","CON","COO","PRE","REA","Armure nat.","Resist DOM","Resist DRO","Resist MAL","Resist POI","Resist RAD","Resist CHOC","Tests Acrobatie","Tests Evasion","Tests Escalade","Adaptation extérieure","Hybride","Contagion","Empathie","Contrôle moléculaire","Métamorphose","Purulance","Agilité caudale","Radiations","Sonar","Griffes","Mimétisme","Vision Flux","Lang. terre",null,null,null,null,null,null,null,null,null,null,null,"Color"]
[null," ",null,null,null,0]
["U","Absorption de l'effet Polaris",null,null,null,4,"Oui","Alt./Mutant"," -1 aux tests d'utilisation et libération, -1 à l'intensité de l'effet, 2m de diamètre",null,null,null,null,null,null,null,null,null,null,null,null,null,null,null,null,null,null,null,null,null,null,null,null,null,null,null,null,null,null,null,null,null,null,null,null,null,null,null,null,null,null,null,null,null,null,0]
[null,"Adaptation extérieure",null,null,null,3,"Non","Non","Accès à la compétence spéciale Adaptation extérieure (CON/CON, -3, coût normal)",null,null,null,null,null,null,null,null,null,null,null,null,null,null,null,null,null,null,null,null,null,1,null,null,null,null,null,null,null,null,null,null,null,null,null,null,null,null,null,null,null,null,null,null,null,null,1]
[null,"Amphibie",null,null,null,2,"Non","Non","Accès à la compétence spéciale Hybride (CON/COO, -3, +0 max)",null,null,null,null,null,null,null,null,null,null,null,null,null,null,null,null,null,null,null,null,null,null,1,null,null,null,null,null,null,null,null,null,null,null,null,null,null,null,null,null,null,null,null,null,null,null,0]
[null,"Androgyne",null,null,null,0,"Non","Non",".",null,null,null,null,null,null,null,null,null,null,null,null,null,null,null,null,null,null,null,null,null,null,null,null,null,null,null,null,null,null,null,null,null,null,null,null,null,null,null,null,null,null,null,null,null,null,1]
["U","Arme naturelle : corne I",null,null,null,1,"Oui","Alt./Mutant","1D10 de dommages après saisie, +1D6 si coup à la tête",null,null,null,null,null,null,null,null,null,null,null,null,null,null,null,null,null,null,null,null,null,null,null,null,null,null,null,null,null,null,null,null,null,null,null,null,null,null,null,null,null,null,null,null,null,null,0]
["U","Arme naturelle : corne II",null,null,null,1,"Oui","Alt./Mutant",{"$f":"IF(AB11=\"Non\",\"1D10+3\",\"rétractable\")","v":"1D10+3"},null,null,null,null,null,null,null,null,null,null,null,null,null,null,null,null,null,null,null,null,null,null,null,null,null,null,null,null,null,null,null,null,null,null,null,null,null,null,null,null,null,null,null,null,null,null,1]
["U","Arme naturelle : corne III",null,null,null,1,"Oui","Alt./Mutant",{"$f":"IF(AB11=\"Non\",\"1D10+6\",\"1D10+3  et rétractable\")","v":"1D10+6"},null,null,null,null,null,null,null,null,null,null,null,null,null,null,null,null,null,null,null,null,null,null,null,null,null,null,null,null,null,null,null,null,null,null,null,null,null,null,null,null,null,null,null,null,null,null,0]
["U","Arme naturelle : crocs I",null,null,null,1,"Oui","Alt./Mutant","1D10+3+(Mod. DOM c.à.c.) de dommages après saisie",null,null,null,null,null,null,null,null,null,null,null,null,null,null,null,null,null,null,null,null,null,null,null,null,null,null,null,null,null,null,null,null,null,null,null,null,null,null,null,null,null,null,null,null,null,null,1]
["U","Arme naturelle : crocs II",null,null,null,1,"Oui","Alt./Mutant",{"$f":"IF(AB12=\"Non\",\"1D10+6\",\"rétractables\")","v":"1D10+6"},null,null,null,null,null,null,null,null,null,null,null,null,null,null,null,null,null,null,null,null,null,null,null,null,null,null,null,null,null,null,null,null,null,null,null,null,null,null,null,null,null,null,null,null,null,null,0]
["U","Arme naturelle : crocs III",null,null,null,1,"Oui","Alt./Mutant",{"$f":"IF(AB12=\"Non\",\"2D10\",\"1D10+6 et rétractables\")","v":"2D10"},null,null,null,null,null,null,null,null,null,null,null,null,null,null,null,null,null,null,null,null,null,null,null,null,null,null,null,null,null,null,null,null,null,null,null,null,null,null,null,null,null,null,null,null,null,null,1]
["U","Arme naturelle : griffes I",null,null,null,2,"Oui","Alt./Mutant","1D10+3+(Mod. DOM c.à.c.) en combat à mains nues, +3 Escalade si griffes utilisables",null,null,null,null,null,null,null,null,null,null,null,null,null,null,null,null,null,null,null,null,null,null,null,null,null,null,null,null,null,null,null,1,null,null,null,null,null,null,null,null,null,null,null,null,null,null,0]
["U","Arme naturelle : griffes II",null,null,null,2,"Oui","Alt./Mutant",{"$f":"IF(AB13=\"Non\",\"1D10+6\",\"rétractables\")","v":"1D10+6"},null,null,null,null,null,null,null,null,null,null,null,null,null,null,null,null,null,null,null,null,null,null,null,null,null,null,null,null,null,null,null,1,null,null,null,null,null,null,null,null,null,null,null,null,null,null,1]
["U","Arme naturelle : griffes III",null,null,null,2,"Oui","Alt./Mutant",{"$f":"IF(AB13=\"Non\",\"2D10\",\"1D10+6 et rétractables\")","v":"2D10"},null,null,null,null,null,null,null,null,null,null,null,null,null,null,null,null,null,null,null,null,null,null,null,null,null,null,null,null,null,null,null,1,null,null,null,null,null,null,null,null,null,null,null,null,null,null,0]
[null,"Asexué",null,null,null,0,"Non","Non",".",null,null,null,null,null,null,null,null,null,null,null,null,null,null,null,null,null,null,null,null,null,null,null,null,null,null,null,null,null,null,null,null,null,null,null,null,null,null,null,null,null,null,null,null,null,null,1]
[null,"Autofécondation",null,null,null,0,"Non","Non",".",null,null,null,null,null,null,null,null,null,null,null,null,null,null,null,null,null,null,null,null,null,null,null,null,null,null,null,null,null,null,null,null,null,null,null,null,null,null,null,null,null,null,null,null,null,null,0]
[null,"Caractère génétique animal : félin",null,null,null,2,"Non","Non","Immunité au vertige, Mutations Griffes et Vision nocture ne coûtent que 1 PC",null,null,null,null,null,null,null,null,2,null,null,null,null,null,null,null,null,null,3,null,null,null,null,null,null,null,null,null,null,null,null,null,null,null,null,null,null,null,null,null,null,null,null,null,null,null,1]
[null,"Caractère génétique animal : canin",null,null,null,2,"Non","Non"," +3 aux tests de Perception si odorat sollicité, Mutation Crocs gratuit",null,null,null,null,null,null,null,1,null,null,null,null,null,null,null,null,null,null,null,null,null,null,null,null,null,null,null,null,null,null,null,null,null,null,null,null,null,null,null,null,null,null,null,null,null,null,0]
[null,"Caractère génétique animal : reptilien",null,null,null,2,"Non","Non"," +3 aux tests de Perception si odorat sollicité, se faufile dans espaces étroits",null,null,null,null,null,null,null,null,1,null,null,null,null,null,null,null,null,null,null,3,null,null,null,null,null,null,null,null,null,null,null,null,null,null,null,null,null,null,null,null,null,null,null,null,null,null,1]
[null,"Caractère génétique animal : simiesque",null,null,null,2,"Non","Non","Mutation Queue gratuite",null,null,null,null,null,null,1,null,1,null,null,null,null,null,null,null,null,null,null,null,3,null,null,null,null,null,null,null,null,null,null,null,null,null,null,null,null,null,null,null,null,null,null,null,null,null,0]
[null,"Contact corrosif I",null,null,null,3,"Oui","Non","Inflige 1D10 de dommages au contact",null,null,null,null,null,null,null,null,null,null,null,null,null,null,null,null,null,null,null,null,null,null,null,null,null,null,null,null,null,null,null,null,null,null,null,null,null,null,null,null,null,null,null,null,null,null,1]
[null,"Contact corrosif II",null,null,null,3,"Oui","Non","Inflige 3 points de dommages supplémentaires",null,null,null,null,null,null,null,null,null,null,null,null,null,null,null,null,null,null,null,null,null,null,null,null,null,null,null,null,null,null,null,null,null,null,null,null,null,null,null,null,null,null,null,null,null,null,0]
[null,"Contact corrosif III",null,null,null,3,"Oui","Non","Inflige 3 points de dommages supplémentaires",null,null,null,null,null,null,null,null,null,null,null,null,null,null,null,null,null,null,null,null,null,null,null,null,null,null,null,null,null,null,null,null,null,null,null,null,null,null,null,null,null,null,null,null,null,null,1]
[null,"Contagion",null,null,null,3,"Non","Non","Transmets maladie par contact, compétence Contagion (CON/VOL, X; coût doublé)",null,null,null,null,null,null,null,null,null,null,null,null,null,null,null,null,null,null,null,null,null,null,null,1,null,null,null,null,null,null,null,null,null,null,null,null,null,null,null,null,null,null,null,null,null,null,0]
[null,"Corne",null,null,null,1,"Non","Non","1D10 de dommages après saisie, +1D6 si coup à la tête",null,null,null,null,null,null,null,null,null,null,null,null,null,null,null,null,null,null,null,null,null,null,null,null,null,null,null,null,null,null,null,null,null,null,null,null,null,null,null,null,null,null,null,null,null,null,1]
[null,"Crocs",null,null,null,1,"Non","Non","1D10+3+(Mod. DOM c.à.c.) de dommages après saisie",null,null,null,null,null,null,null,null,null,null,null,null,null,null,null,null,null,null,null,null,null,null,null,null,null,null,null,null,null,null,null,null,null,null,null,null,null,null,null,null,null,null,null,null,null,null,0]
[null,"Difformité légère I",null,null,null,-1,"Oui","Non",".",null,null,null,null,null,null,null,null,null,-1,null,null,null,null,null,null,null,null,null,null,null,null,null,null,null,null,null,null,null,null,null,null,null,null,null,null,null,null,null,null,null,null,null,null,null,null,1]
[null,"Difformité légère II",null,null,null,-1,"Oui","Non",".",null,null,null,null,null,null,null,null,null,-1,null,null,null,null,null,null,null,null,null,null,null,null,null,null,null,null,null,null,null,null,null,null,null,null,null,null,null,null,null,null,null,null,null,null,null,null,0]
[null,"Difformité légère III",null,null,null,-1,"Oui","Non",".",null,null,null,null,null,null,null,null,null,-1,null,null,null,null,null,null,null,null,null,null,null,null,null,null,null,null,null,null,null,null,null,null,null,null,null,null,null,null,null,null,null,null,null,null,null,null,1]
[null,"Difformité importante I",null,null,null,-3,"Oui","Non",".",null,null,null,null,null,null,null,null,null,-2,null,null,null,null,null,null,null,null,null,null,null,null,null,null,null,null,null,null,null,null,null,null,null,null,null,null,null,null,null,null,null,null,null,null,null,null,0]
[null,"Difformité importante II",null,null,null,-3,"Oui","Non",".",null,null,null,null,null,null,null,null,null,-2,null,null,null,null,null,null,null,null,null,null,null,null,null,null,null,null,null,null,null,null,null,null,null,null,null,null,null,null,null,null,null,null,null,null,null,null,1]
[null,"Difformité importante III",null,null,null,-3,"Oui","Non",".",null,null,null,null,null,null,null,null,null,-2,null,null,null,null,null,null,null,null,null,null,null,null,null,null,null,null,null,null,null,null,null,null,null,null,null,null,null,null,null,null,null,null,null,null,null,null,0]
[null,"Empathie",null,null,null,4,"Non","Non","Accès à la compétence spéciale Empathie (VOL/PRE, -3, coût doublé)",null,null,null,null,null,null,null,null,null,null,null,null,null,null,null,null,null,null,null,null,null,null,null,null,1,null,null,null,null,null,null,null,null,null,null,null,null,null,null,null,null,null,null,null,null,null,1]
[null,"Excroissance osseuse rétractable",null,null,null,3,"Non","Non","2D10+(Mod. DOM c.à.c.) points de dommages en combat à mains nues",null,null,null,null,null,null,null,null,null,null,null,null,null,null,null,null,null,null,null,null,null,null,null,null,null,null,null,null,null,null,null,null,null,null,null,null,null,null,null,null,null,null,null,null,null,null,0]
[null,"Griffes",null,null,null,2,"Non","Non","1D10+3+(Mod. DOM c.à.c.) en combat à mains nues, +3 Escalade si griffes utilisables",null,null,null,null,null,null,null,null,null,null,null,null,null,null,null,null,null,null,null,null,null,null,null,null,null,null,null,null,null,null,null,1,null,null,null,null,null,null,null,null,null,null,null,null,null,null,1]
[null,"Instabilité moléculaire",null,null,null,4,"Non","Non","Accès à la compétence spéciale Contrôle moléculaire (CON/VOL, coût doublé)",null,null,null,null,null,null,null,null,null,null,null,null,null,null,null,null,null,null,null,null,null,null,null,null,null,1,null,null,null,null,null,null,null,null,null,null,null,null,null,null,null,null,null,null,null,null,0]
["U","Jet d'acide I",null,null,null,1,"Oui","Alt./Mutant","Portée 1/3/7/14/21, 1D6 de dommage +1/tour sur 10 tours",null,null,null,null,null,null,null,null,null,null,null,null,null,null,null,null,null,null,null,null,null,null,null,null,null,null,null,null,null,null,null,null,null,null,null,null,null,null,null,null,null,null,null,null,null,null,1]
["U","Jet d'acide II",null,null,null,1,"Oui","Alt./Mutant","1D6+3 sur 12 tours",null,null,null,null,null,null,null,null,null,null,null,null,null,null,null,null,null,null,null,null,null,null,null,null,null,null,null,null,null,null,null,null,null,null,null,null,null,null,null,null,null,null,null,null,null,null,0]
["U","Jet d'acide III",null,null,null,1,"Oui","Alt./Mutant","1D6+6 sur 14 tours",null,null,null,null,null,null,null,null,null,null,null,null,null,null,null,null,null,null,null,null,null,null,null,null,null,null,null,null,null,null,null,null,null,null,null,null,null,null,null,null,null,null,null,null,null,null,1]
["U","Macrophage",null,null,null,5,"Non","Alt./Mutant","Absorbe radiations et toxines (U p314). Points de matière toxiques actuels :",null,null,null,null,null,null,null,null,null,null,null,null,null,-1,null,-1,-1,null,null,null,null,null,null,null,null,null,null,null,null,null,null,null,null,null,null,null,null,null,null,null,null,null,null,null,null,null,0]
[null,"Métamorphe",null,null,null,4,"Non","Non","Accès à la compétence spéciale Métamorphose (CON/VOL, -3, coût doublé)",null,null,null,null,null,null,null,null,null,null,null,null,null,null,null,null,null,null,null,null,null,null,null,null,null,null,1,null,null,null,null,null,null,null,null,null,null,null,null,null,null,null,null,null,null,null,1]
["U","Mimétisme",null,null,null,5,"Non","Alt./Mutant","Accès à la compétence spéciale Mimétisme (ADA/INT, coût normal) (U p314)",null,null,null,null,null,null,null,null,null,null,null,null,null,null,null,null,null,null,null,null,null,null,null,null,null,null,null,null,null,null,null,null,1,null,null,null,null,null,null,null,null,null,null,null,null,null,0]
[null,"Organe sensoriel : papilles gustatives atrophiées",null,null,null,0,"Non","Non"," -5 aux tests de Perception nécessitant l'utilisation de ce sens",null,null,null,null,null,null,null,null,null,null,null,null,null,null,null,null,null,null,null,null,null,null,null,null,null,null,null,null,null,null,null,null,null,null,null,null,null,null,null,null,null,null,null,null,null,null,1]
[null,"Organe sensoriel : nez atrophié",null,null,null,-1,"Non","Non"," -5 aux tests de Perception nécessitant l'utilisation de ce sens",null,null,null,null,null,null,null,null,null,null,null,null,null,null,null,null,null,null,null,null,null,null,null,null,null,null,null,null,null,null,null,null,null,null,null,null,null,null,null,null,null,null,null,null,null,null,0]
[null,"Organe sensoriel : sens du toucher atrophié",null,null,null,-1,"Non","Non"," -5 aux tests de Perception nécessitant l'utilisation de ce sens",null,null,null,null,null,null,null,null,null,null,null,null,null,null,null,null,null,null,null,null,null,null,null,null,null,null,null,null,null,null,null,null,null,null,null,null,null,null,null,null,null,null,null,null,null,null,1]
[null,"Organe sensoriel : oreille manquante",null,null,null,-2,"Non","Non"," -5 aux tests de Perception nécessitant l'utilisation de ce sens",null,null,null,null,null,null,null,null,null,null,null,null,null,null,null,null,null,null,null,null,null,null,null,null,null,null,null,null,null,null,null,null,null,null,null,null,null,null,null,null,null,null,null,null,null,null,0]
[null,"Organe sensoriel : œil manquant",null,null,null,-3,"Non","Non"," -5 aux tests de Perception nécessitant l'utilisation de ce sens",null,null,null,null,null,null,null,null,null,null,null,null,null,null,null,null,null,null,null,null,null,null,null,null,null,null,null,null,null,null,null,null,null,null,null,null,null,null,null,null,null,null,null,null,null,null,1]
[null,"Organe sensoriel : goût amélioré",null,null,null,0,"Non","Non"," +5 aux tests de Perception nécessitant l'utilisation de ce sens",null,null,null,null,null,null,null,null,null,null,null,null,null,null,null,null,null,null,null,null,null,null,null,null,null,null,null,null,null,null,null,null,null,null,null,null,null,null,null,null,null,null,null,null,null,null,0]
[null,"Organe sensoriel : odorat amélioré",null,null,null,1,"Non","Non"," +5 aux tests de Perception nécessitant l'utilisation de ce sens",null,null,null,null,null,null,null,null,null,null,null,null,null,null,null,null,null,null,null,null,null,null,null,null,null,null,null,null,null,null,null,null,null,null,null,null,null,null,null,null,null,null,null,null,null,null,1]
[null,"Organe sensoriel : toucher amélioré",null,null,null,1,"Non","Non"," +5 aux tests de Perception nécessitant l'utilisation de ce sens",null,null,null,null,null,null,null,null,null,null,null,null,null,null,null,null,null,null,null,null,null,null,null,null,null,null,null,null,null,null,null,null,null,null,null,null,null,null,null,null,null,null,null,null,null,null,0]
[null,"Organe sensoriel : oreille supplémentaire",null,null,null,2,"Non","Non"," +5 aux tests de Perception nécessitant l'utilisation de ce sens",null,null,null,null,null,null,null,null,null,null,null,null,null,null,null,null,null,null,null,null,null,null,null,null,null,null,null,null,null,null,null,null,null,null,null,null,null,null,null,null,null,null,null,null,null,null,1]
[null,"Organe sensoriel : œil supllémentaire",null,null,null,2,"Non","Non"," +5 aux tests de Perception nécessitant l'utilisation de ce sens",null,null,null,null,null,null,null,null,null,null,null,null,null,null,null,null,null,null,null,null,null,null,null,null,null,null,null,null,null,null,null,null,null,null,null,null,null,null,null,null,null,null,null,null,null,null,0]
[null,"Parasite(s) I",null,null,null,1,"Oui","Non","1D4 parasites , baisse Resist. Dom., auto-inflige dommages, octroie d'autres muta.",null,null,null,null,null,null,null,null,null,null,null,null,null,null,null,null,null,null,null,null,null,null,null,null,null,null,null,null,null,null,null,null,null,null,null,null,null,null,null,null,null,null,null,null,null,null,1]
[null,"Parasite(s) II",null,null,null,1,"Oui","Non","1D4 parasites , baisse Resist. Dom., auto-inflige dommages, octroie d'autres muta.",null,null,null,null,null,null,null,null,null,null,null,null,null,null,null,null,null,null,null,null,null,null,null,null,null,null,null,null,null,null,null,null,null,null,null,null,null,null,null,null,null,null,null,null,null,null,0]
[null,"Peau renforcée I",null,null,null,2,"Oui","Non",".",null,null,null,null,null,null,null,null,null,null,null,3,null,null,null,null,null,null,null,null,null,null,null,null,null,null,null,null,null,null,null,null,null,null,null,null,null,null,null,null,null,null,null,null,null,null,1]
[null,"Peau renforcée II",null,null,null,2,"Oui","Non",".",null,null,null,null,null,null,null,null,null,null,null,2,null,null,null,null,null,null,null,null,null,null,null,null,null,null,null,null,null,null,null,null,null,null,null,null,null,null,null,null,null,null,null,null,null,null,0]
[null,"Peau renforcée III",null,null,null,2,"Oui","Non",".",null,null,null,null,null,null,null,null,null,null,null,2,null,null,null,null,null,null,null,null,null,null,null,null,null,null,null,null,null,null,null,null,null,null,null,null,null,null,null,null,null,null,null,null,null,null,1]
["U","Perception du Flux",null,null,null,2,"Oui","Alt./Mutant","Accès au niveau 1 à Vision du Flux (PER/VOL, X, coût doublé) (U p314), ou +1",null,null,null,null,null,null,null,null,null,null,null,null,null,null,null,null,null,null,null,null,null,null,null,null,null,null,null,null,null,null,null,null,null,1,null,null,null,null,null,null,null,null,null,null,null,null,0]
["U","Perception des infrasons",null,null,null,2,"Oui","Alt./Mutant","Accès et +1 à Langage de la terre (INT/PER, coût normal)",null,null,null,null,null,null,null,null,null,null,null,null,null,null,null,null,null,null,null,null,null,null,null,null,null,null,null,null,null,null,null,null,null,null,1,null,null,null,null,null,null,null,null,null,null,null,1]
["U","Perception des perturbations ambiantes",null,null,null,3,"Non","Alt./Mutant","Perçoit les perturbations dans l'air en utilisant Observation. +1 aux tests de surprise",null,null,null,null,null,null,null,null,null,null,1,null,null,null,null,null,null,null,null,null,null,null,null,null,null,null,null,null,null,null,null,null,null,null,null,null,null,null,null,null,null,null,null,null,null,null,0]
["U","Perception des rayonnements",null,null,null,1,"Non","Alt./Mutant","Perçoit le niveau d'intensité des rayonnements, dont les radiations",null,null,null,null,null,null,null,null,null,null,null,null,null,null,null,null,null,null,null,null,null,null,null,null,null,null,null,null,null,null,null,null,null,null,null,null,null,null,null,null,null,null,null,null,null,null,1]
["U","Perception des vibrations",null,null,null,2,"Non","Alt./Mutant","Perçoit les vibrations dans le sol en utilisant Observation.",null,null,null,null,null,null,null,null,null,null,null,null,null,null,null,null,null,null,null,null,null,null,null,null,null,null,null,null,null,null,null,null,null,null,null,null,null,null,null,null,null,null,null,null,null,null,0]
[null,"Purulence I",null,null,null,-2,"Oui","Non","Accès à la compétence spéciale Purulence (CON/VOL, X, coût doublé)",null,null,null,null,null,null,null,null,null,-2,null,null,null,null,-3,null,null,null,null,null,null,null,null,null,null,null,null,1,null,null,null,null,null,null,null,null,null,null,null,null,null,null,null,null,null,null,1]
[null,"Purulence II",null,null,null,-2,"Oui","Non",".",null,null,null,null,null,null,null,null,null,-1,null,null,null,null,-2,null,null,null,null,null,null,null,null,null,null,null,null,1,null,null,null,null,null,null,null,null,null,null,null,null,null,null,null,null,null,null,0]
[null,"Purulence III",null,null,null,-2,"Oui","Non",".",null,null,null,null,null,null,null,null,null,-1,null,null,null,null,-2,null,null,null,null,null,null,null,null,null,null,null,null,1,null,null,null,null,null,null,null,null,null,null,null,null,null,null,null,null,null,null,1]
[null,"Queue",null,null,null,1,"Non","Non","Accès compétence spéciale Agilité caudale (COO/COO, coût normal) 1D10/2+Mod. CAC",null,null,null,null,null,null,null,null,null,null,null,null,null,null,null,null,null,null,null,null,null,null,null,null,null,null,null,null,1,null,null,null,null,null,null,null,null,null,null,null,null,null,null,null,null,null,0]
["U","Radiation (Surface)",null,null,null,6,"Non","Alt./Mutant","Concentre les radiations pour s'en servir (U p314). Points d'irradiation actuels :",null,null,null,null,null,null,null,null,null,null,null,null,null,null,null,null,null,null,null,null,null,null,null,null,null,null,null,null,null,null,null,null,null,null,null,null,null,null,null,null,null,null,null,null,null,null,1]
[null,"Radiation I",null,null,null,3,"Oui","Non","Compétence spéciale Radiations (CON/VOL, -3, coût doublé) 2D6 (+3 supp possible)",null,null,null,null,null,null,null,null,null,null,null,null,null,null,null,null,null,null,null,null,null,null,null,null,null,null,null,null,null,1,null,null,null,null,null,null,null,null,null,null,null,null,null,null,null,null,0]
[null,"Radiation II",null,null,null,3,"Oui","Non","Inflige 3 points de dommages supplémentaires",null,null,null,null,null,null,null,null,null,null,null,null,null,null,null,null,null,null,null,null,null,null,null,null,null,null,null,null,null,1,null,null,null,null,null,null,null,null,null,null,null,null,null,null,null,null,1]
[null,"Radiation III",null,null,null,3,"Oui","Non","Inflige 3 points de dommages supplémentaires",null,null,null,null,null,null,null,null,null,null,null,null,null,null,null,null,null,null,null,null,null,null,null,null,null,null,null,null,null,1,null,null,null,null,null,null,null,null,null,null,null,null,null,null,null,null,0]
[null,"Régénération I",null,null,null,2,"Oui","Non"," +2 tests de stabilisation blessures, +3 tests infection, durée guérion /2",null,null,null,null,null,null,null,null,null,null,null,null,null,null,null,null,null,null,null,null,null,null,null,null,null,null,null,null,null,null,null,null,null,null,null,null,null,null,null,null,null,null,null,null,null,null,1]
[null,"Régénération II",null,null,null,2,"Oui","Non"," +1 supp. sur les deux tests, durée guérison /3",null,null,null,null,null,null,null,null,null,null,null,null,null,null,null,null,null,null,null,null,null,null,null,null,null,null,null,null,null,null,null,null,null,null,null,null,null,null,null,null,null,null,null,null,null,null,0]
[null,"Résistance naturelle : résistance au feu",null,null,null,1,"Non","Non","Résist. DOM +3 si dus au feu, modérément insensible à la chaleur",null,null,null,null,null,null,null,null,null,null,null,null,null,null,null,null,null,null,null,null,null,null,null,null,null,null,null,null,null,null,null,null,null,null,null,null,null,null,null,null,null,null,null,null,null,null,1]
[null,"Résistance naturelle : résistance au froid",null,null,null,1,"Non","Non","Résist. DOM +3 si dus au froid, modérément insensible au froid",null,null,null,null,null,null,null,null,null,null,null,null,null,null,null,null,null,null,null,null,null,null,null,null,null,null,null,null,null,null,null,null,null,null,null,null,null,null,null,null,null,null,null,null,null,null,0]
[null,"Résistance naturelle : résistance aux drogues I",null,null,null,1,"Oui","Non",".",null,null,null,null,null,null,null,null,null,null,null,null,null,-1,null,null,null,null,null,null,null,null,null,null,null,null,null,null,null,null,null,null,null,null,null,null,null,null,null,null,null,null,null,null,null,null,1]
[null,"Résistance naturelle : résistance aux drogues II",null,null,null,1,"Oui","Non",".",null,null,null,null,null,null,null,null,null,null,null,null,null,-1,null,null,null,null,null,null,null,null,null,null,null,null,null,null,null,null,null,null,null,null,null,null,null,null,null,null,null,null,null,null,null,null,0]
[null,"Résistance naturelle : résistance aux drogues III",null,null,null,1,"Oui","Non",".",null,null,null,null,null,null,null,null,null,null,null,null,null,-1,null,null,null,null,null,null,null,null,null,null,null,null,null,null,null,null,null,null,null,null,null,null,null,null,null,null,null,null,null,null,null,null,1]
[null,"Résistance naturelle : résistance aux maladies I",null,null,null,1,"Oui","Non",".",null,null,null,null,null,null,null,null,null,null,null,null,null,null,-1,null,null,null,null,null,null,null,null,null,null,null,null,null,null,null,null,null,null,null,null,null,null,null,null,null,null,null,null,null,null,null,0]
[null,"Résistance naturelle : résistance aux maladies II",null,null,null,1,"Oui","Non",".",null,null,null,null,null,null,null,null,null,null,null,null,null,null,-1,null,null,null,null,null,null,null,null,null,null,null,null,null,null,null,null,null,null,null,null,null,null,null,null,null,null,null,null,null,null,null,1]
[null,"Résistance naturelle : résistance aux maladies III",null,null,null,1,"Oui","Non",".",null,null,null,null,null,null,null,null,null,null,null,null,null,null,-1,null,null,null,null,null,null,null,null,null,null,null,null,null,null,null,null,null,null,null,null,null,null,null,null,null,null,null,null,null,null,null,0]
[null,"Résistance naturelle : résistance aux poisons I",null,null,null,1,"Oui","Non",".",null,null,null,null,null,null,null,null,null,null,null,null,null,null,null,-1,null,null,null,null,null,null,null,null,null,null,null,null,null,null,null,null,null,null,null,null,null,null,null,null,null,null,null,null,null,null,1]
[null,"Résistance naturelle : résistance aux poisons II",null,null,null,1,"Oui","Non",".",null,null,null,null,null,null,null,null,null,null,null,null,null,null,null,-1,null,null,null,null,null,null,null,null,null,null,null,null,null,null,null,null,null,null,null,null,null,null,null,null,null,null,null,null,null,null,0]
[null,"Résistance naturelle : résistance aux poisons III",null,null,null,1,"Oui","Non",".",null,null,null,null,null,null,null,null,null,null,null,null,null,null,null,-1,null,null,null,null,null,null,null,null,null,null,null,null,null,null,null,null,null,null,null,null,null,null,null,null,null,null,null,null,null,null,1]
[null,"Résistance naturelle : résistance aux radiations I",null,null,null,1,"Oui","Non",".",null,null,null,null,null,null,null,null,null,null,null,null,null,null,null,null,-1,null,null,null,null,null,null,null,null,null,null,null,null,null,null,null,null,null,null,null,null,null,null,null,null,null,null,null,null,null,0]
[null,"Résistance naturelle : résistance aux radiations II",null,null,null,1,"Oui","Non",".",null,null,null,null,null,null,null,null,null,null,null,null,null,null,null,null,-1,null,null,null,null,null,null,null,null,null,null,null,null,null,null,null,null,null,null,null,null,null,null,null,null,null,null,null,null,null,1]
[null,"Résistance naturelle : résistance aux radiations III",null,null,null,1,"Oui","Non",".",null,null,null,null,null,null,null,null,null,null,null,null,null,null,null,null,-1,null,null,null,null,null,null,null,null,null,null,null,null,null,null,null,null,null,null,null,null,null,null,null,null,null,null,null,null,null,0]
["U","Sens animal 1",null,null,null,1,"Oui","Alt./Mutant","Confère un sens animal : ",null,null,null,null,null,null,null,null,null,null,null,null,null,null,null,null,null,null,null,null,null,null,null,null,null,null,null,null,null,null,null,null,null,null,null,null,null,null,null,null,null,null,null,null,null,null,1]
["U","Sens animal 2",null,null,null,2,"Oui","Alt./Mutant","Confère un sens animal : ",null,null,null,null,null,null,null,null,null,null,null,null,null,null,null,null,null,null,null,null,null,null,null,null,null,null,null,null,null,null,null,null,null,null,null,null,null,null,null,null,null,null,null,null,null,null,0]
["U","Sens animal 3",null,null,null,3,"Oui","Alt./Mutant","Confère un sens animal : ",null,null,null,null,null,null,null,null,null,null,null,null,null,null,null,null,null,null,null,null,null,null,null,null,null,null,null,null,null,null,null,null,null,null,null,null,null,null,null,null,null,null,null,null,null,null,1]
[null,"Sixième sens",null,null,null,1,"Non","Non",".",null,null,null,null,null,null,null,null,null,null,3,null,null,null,null,null,null,null,null,null,null,null,null,null,null,null,null,null,null,null,null,null,null,null,null,null,null,null,null,null,null,null,null,null,null,null,0]
[null,"Sonar",null,null,null,3,"Non","Non","Accès à la compétence spéciale Sonar (PER/PER, coût normal) 2D10",null,null,null,null,null,null,null,null,null,null,null,null,null,null,null,null,null,null,null,null,null,null,null,null,null,null,null,null,null,null,1,null,null,null,null,null,null,null,null,null,null,null,null,null,null,null,1]
[null,"Squelette renforcé I",null,null,null,3,"Oui","Non",".",null,null,null,null,null,null,null,null,null,null,null,null,-2,null,null,null,null,3,null,null,null,null,null,null,null,null,null,null,null,null,null,null,null,null,null,null,null,null,null,null,null,null,null,null,null,null,0]
[null,"Squelette renforcé II",null,null,null,3,"Oui","Non",".",null,null,null,null,null,null,null,null,null,null,null,null,-1,null,null,null,null,1,null,null,null,null,null,null,null,null,null,null,null,null,null,null,null,null,null,null,null,null,null,null,null,null,null,null,null,null,1]
[null,"Squelette renforcé III",null,null,null,3,"Oui","Non",".",null,null,null,null,null,null,null,null,null,null,null,null,-1,null,null,null,null,1,null,null,null,null,null,null,null,null,null,null,null,null,null,null,null,null,null,null,null,null,null,null,null,null,null,null,null,null,0]
[null,"Symbiote(s) I",null,null,null,3,"Oui","Non","1D4 symbiotes , peut auto-infliger dommages, octroie +2 Resist. Nat. ou autres muta.",null,null,null,null,null,null,null,null,null,null,null,null,null,null,null,null,null,null,null,null,null,null,null,null,null,null,null,null,null,null,null,null,null,null,null,null,null,null,null,null,null,null,null,null,null,null,1]
[null,"Symbiote(s) II",null,null,null,3,"Oui","Non","1D4 symbiotes , peut auto-infliger dommages, octroie +2 Resist. Nat. ou autres muta.",null,null,null,null,null,null,null,null,null,null,null,null,null,null,null,null,null,null,null,null,null,null,null,null,null,null,null,null,null,null,null,null,null,null,null,null,null,null,null,null,null,null,null,null,null,null,0]
[null,"Tentacule rétractable",null,null,null,1,"Non","Non","Peut faire jaillir un tentacule utilisable comme nouveau membre",null,null,null,null,null,null,null,null,null,null,null,null,null,null,null,null,null,null,null,null,null,null,null,null,null,null,null,null,null,null,null,null,null,null,null,null,null,null,null,null,null,null,null,null,null,null,1]
[null,"Vision nocturne",null,null,null,3,"Non","Non","De nuit, mais pas dans obscurité totale",null,null,null,null,null,null,null,null,null,null,null,null,null,null,null,null,null,null,null,null,null,null,null,null,null,null,null,null,null,null,null,null,null,null,null,null,null,null,null,null,null,null,null,null,null,null,0]
["U","Vision panoramique",null,null,null,2,"Non","Alt./Mutant","Champ de vision à 280°. +1 aux tests de surprise",null,null,null,null,null,null,null,null,null,null,1,null,null,null,null,null,null,null,null,null,null,null,null,null,null,null,null,null,null,null,null,null,null,null,null,null,null,null,null,null,null,null,null,null,null,null,1]
["U","Vision thermique",null,null,null,3,"Non","Alt./Mutant","Voit les sources de chaleur",null,null,null,null,null,null,null,null,null,null,null,null,null,null,null,null,null,null,null,null,null,null,null,null,null,null,null,null,null,null,null,null,null,null,null,null,null,null,null,null,null,null,null,null,null,null,0]
[null,"Symbiote uniquement : +2 Résist. aux drogues",null,null,null,0,"Oui","Non",".",null,null,null,null,null,null,null,null,null,null,null,null,null,-2,null,null,null,null,null,null,null,null,null,null,null,null,null,null,null,null,null,null,null,null,null,null,null,null,null,null,null,null,null,null,null,null,1]
[null,"Symbiote uniquement : +2 Résist. aux maladies",null,null,null,0,"Oui","Non",".",null,null,null,null,null,null,null,null,null,null,null,null,null,null,-2,null,null,null,null,null,null,null,null,null,null,null,null,null,null,null,null,null,null,null,null,null,null,null,null,null,null,null,null,null,null,null,0]
[null,"Symbiote uniquement : +2 Résist. aux poisons",null,null,null,0,"Oui","Non",".",null,null,null,null,null,null,null,null,null,null,null,null,null,null,null,-2,null,null,null,null,null,null,null,null,null,null,null,null,null,null,null,null,null,null,null,null,null,null,null,null,null,null,null,null,null,null,1]
[null,"Symbiote uniquement : +2 Résist. aux radiations",null,null,null,0,"Oui","Non",".",null,null,null,null,null,null,null,null,null,null,null,null,null,null,null,null,-2,null,null,null,null,null,null,null,null,null,null,null,null,null,null,null,null,null,null,null,null,null,null,null,null,null,null,null,null,null,0]
[null,1,2,3,4,5,6,7,8,9,10,11,12,13,14,15,16,17,18,19,20,21,22,23,24,25,26,27,28,29,30,31,32,33,34,35,36,37,38,39,40,41,42,43]
[null,null,null,null,null,null,null,null,null,null,null,null,null,null,{"$f":"D20","v":" "},{"$f":"IF($O146=\" \",0,VLOOKUP($O146,$B$42:$AN$144,P145,))","v":0},0,0,0,0,0,0,0,0,0,0,0,0,0,0,0,0,0,0,0,0,0,0,0,0,{"$f":"IF($O146=\" \",0,VLOOKUP($O146,$B$42:$AO$144,AO145,))","v":0},{"$f":"IF($O146=\" \",0,VLOOKUP($O146,$B$42:$AP$144,$AP$145,))","v":0},{"$f":"IF($O146=\" \",0,VLOOKUP($O146,$B$42:$AQ$144,$AQ$145,))","v":0},{"$f":"IF($O146=\" \",0,VLOOKUP($O146,$B$42:$AR$144,$AR$145,))","v":0}]
[null,null,null,null,null,null,null,null,null,null,null,null,null,null," ",{"$f":"IF($O147=\" \",0,VLOOKUP($O147,$B$42:$AN$144,P145,))","v":0},0,0,0,0,0,0,0,0,0,0,0,0,0,0,0,0,0,0,0,0,0,0,0,0,{"$f":"IF($O147=\" \",0,VLOOKUP($O147,$B$42:$AO$144,AO145,))","v":0},0,0,0]
[null,null,null,null,null,null,null,null,null,null,null,null,null,null," ",{"$f":"IF($O148=\" \",0,VLOOKUP($O148,$B$42:$AN$144,P145,))","v":0},0,0,0,0,0,0,0,0,0,0,0,0,0,0,0,0,0,0,0,0,0,0,0,0,{"$f":"IF($O148=\" \",0,VLOOKUP($O148,$B$42:$AO$144,AO145,))","v":0},0,0,0]
[null,null,null,null,null,null,null,null,null,null,null,null,null,null," ",{"$f":"IF($O149=\" \",0,VLOOKUP($O149,$B$42:$AN$144,P145,))","v":0},0,0,0,0,0,0,0,0,0,0,0,0,0,0,0,0,0,0,0,0,0,0,0,0,{"$f":"IF($O149=\" \",0,VLOOKUP($O149,$B$42:$AO$144,AO145,))","v":0},0,0,0]
[null,null,null,null,null,null,null,null,null,null,null,null,null,null," ",{"$f":"IF($O150=\" \",0,VLOOKUP($O150,$B$42:$AN$144,P145,))","v":0},0,0,0,0,0,0,0,0,0,0,0,0,0,0,0,0,0,0,0,0,0,0,0,0,{"$f":"IF($O150=\" \",0,VLOOKUP($O150,$B$42:$AO$144,AO145,))","v":0},0,0,0]
[null,null,null,null,null,null,null,null,null,null,null,null,null,null," ",{"$f":"IF($O151=\" \",0,VLOOKUP($O151,$B$42:$AN$144,P145,))","v":0},0,0,0,0,0,0,0,0,0,0,0,0,0,0,0,0,0,0,0,0,0,0,0,0,{"$f":"IF($O151=\" \",0,VLOOKUP($O151,$B$42:$AO$144,AO145,))","v":0},0,0,0]
[null,null,null,null,null,null,null,null,null,null,null,null,null,null,{"$f":"D27","v":" "},{"$f":"IF($O152=\" \",0,VLOOKUP($O152,$B$42:$AN$144,P145,))","v":0},0,0,0,0,0,0,0,0,0,0,0,0,0,0,0,0,0,0,0,0,0,0,0,0,{"$f":"IF($O152=\" \",0,VLOOKUP($O152,$B$42:$AO$144,AO145,))","v":0},0,0,0]
[null,null,null,null,null,null,null,null,null,null,null,null,null,null,{"$f":"D28","v":" "},{"$f":"IF($O153=\" \",0,VLOOKUP($O153,$B$42:$AN$144,P145,))","v":0},0,0,0,0,0,0,0,0,0,0,0,0,0,0,0,0,0,0,0,0,0,0,0,0,{"$f":"IF($O153=\" \",0,VLOOKUP($O153,$B$42:$AO$144,AO145,))","v":0},0,0,0]
[null,null,null,null,null,null,null,null,null,null,null,null,null,null,{"$f":"D29","v":" "},{"$f":"IF($O154=\" \",0,VLOOKUP($O154,$B$42:$AN$144,P145,))","v":0},0,0,0,0,0,0,0,0,0,0,0,0,0,0,0,0,0,0,0,0,0,0,0,0,{"$f":"IF($O154=\" \",0,VLOOKUP($O154,$B$42:$AO$144,AO145,))","v":0},0,0,0]
[null,null,null,null,null,null,null,null,null,null,null,null,null,null,{"$f":"M21","v":" "},{"$f":"IF($O155=\" \",0,VLOOKUP($O155,$B$42:$AN$144,P145,))","v":0},0,0,0,0,0,0,0,0,0,0,0,0,0,0,0,0,0,0,0,0,0,0,0,0,{"$f":"IF($O155=\" \",0,VLOOKUP($O155,$B$42:$AO$144,AO145,))","v":0},0,0,0]
[null,null,null,null,null,null,null,null,null,null,null,null,null,null,{"$f":"M22","v":" "},{"$f":"IF($O156=\" \",0,VLOOKUP($O156,$B$42:$AN$144,P145,))","v":0},0,0,0,0,0,0,0,0,0,0,0,0,0,0,0,0,0,0,0,0,0,0,0,0,{"$f":"IF($O156=\" \",0,VLOOKUP($O156,$B$42:$AO$144,AO145,))","v":0},0,0,0]
[null,null,null,null,null,null,null,null,null,null,null,null,null,null,{"$f":"M23","v":" "},{"$f":"IF($O157=\" \",0,VLOOKUP($O157,$B$42:$AN$144,P145,))","v":0},0,0,0,0,0,0,0,0,0,0,0,0,0,0,0,0,0,0,0,0,0,0,0,0,{"$f":"IF($O157=\" \",0,VLOOKUP($O157,$B$42:$AO$144,AO145,))","v":0},0,0,0]
[null,null,null,null,null,null,null,null,null,null,null,null,null,null,{"$f":"M24","v":" "},{"$f":"IF($O158=\" \",0,VLOOKUP($O158,$B$42:$AN$144,P145,))","v":0},0,0,0,0,0,0,0,0,0,0,0,0,0,0,0,0,0,0,0,0,0,0,0,0,{"$f":"IF($O158=\" \",0,VLOOKUP($O158,$B$42:$AO$144,AO145,))","v":0},0,0,0]
[null,null,null,null,null,null,null,null,null,null,null,null,null,null,{"$f":"M27","v":" "},{"$f":"IF($O159=\" \",0,VLOOKUP($O159,$B$42:$AN$144,P145,))","v":0},0,0,0,0,0,0,0,0,0,0,0,0,0,0,0,0,0,0,0,0,0,0,0,0,{"$f":"IF($O159=\" \",0,VLOOKUP($O159,$B$42:$AO$144,AO145,))","v":0},0,0,0]
[null,null,null,null,null,null,null,null,null,null,null,null,null,null,{"$f":"M28","v":" "},{"$f":"IF($O160=\" \",0,VLOOKUP($O160,$B$42:$AN$144,P145,))","v":0},0,0,0,0,0,0,0,0,0,0,0,0,0,0,0,0,0,0,0,0,0,0,0,0,{"$f":"IF($O160=\" \",0,VLOOKUP($O160,$B$42:$AO$144,AO145,))","v":0},0,0,0]
[null,null,null,null,null,null,null,null,null,null,null,null,null,null,{"$f":"M29","v":" "},{"$f":"IF($O161=\" \",0,VLOOKUP($O161,$B$42:$AN$144,P145,))","v":0},0,0,0,0,0,0,0,0,0,0,0,0,0,0,0,0,0,0,0,0,0,0,0,0,{"$f":"IF($O161=\" \",0,VLOOKUP($O161,$B$42:$AO$144,AO145,))","v":0},0,0,0]
[null,null,null,null,null,null,null,null,null,null,null,null,null,null,{"$f":"M30","v":" "},{"$f":"IF($O162=\" \",0,VLOOKUP($O162,$B$42:$AN$144,P145,))","v":0},0,0,0,0,0,0,0,0,0,0,0,0,0,0,0,0,0,0,0,0,0,0,0,0,{"$f":"IF($O162=\" \",0,VLOOKUP($O162,$B$42:$AO$144,AO145,))","v":0},0,0,0]
[null,null,null,null,null,null,null,null,null,null,null,null,null,null,{"$f":"Y22","v":" "},{"$f":"IF($O163=\" \",0,VLOOKUP($O163,$B$42:$AN$144,P145,))","v":0},0,0,0,0,0,0,0,0,0,0,0,0,0,0,0,0,0,0,0,0,0,0,0,0,{"$f":"IF($O163=\" \",0,VLOOKUP($O163,$B$42:$AO$144,AO145,))","v":0},0,0,0]
[null,null,null,null,null,null,null,null,null,null,null,null,null,null,{"$f":"IF(Y26=\"Relancer !\",\" \",Y26)","v":" "},{"$f":"IF($O164=\" \",0,VLOOKUP($O164,$B$42:$AN$144,P145,))","v":0},0,0,0,0,0,0,0,0,0,0,0,0,0,0,0,0,0,0,0,0,0,0,0,0,{"$f":"IF($O164=\" \",0,VLOOKUP($O164,$B$42:$AO$144,AO145,))","v":0},0,0,0]
[null,null,null,null,null,null,null,null,null,null,null,null,null,null,{"$f":"IF(Y30=\"Relancer !\",\" \",Y30)","v":" "},{"$f":"IF($O165=\" \",0,VLOOKUP($O165,$B$42:$AN$144,P145,))","v":0},0,0,0,0,0,0,0,0,0,0,0,0,0,0,0,0,0,0,0,0,0,0,0,0,{"$f":"IF($O165=\" \",0,VLOOKUP($O165,$B$42:$AO$144,AO145,))","v":0},0,0,0]
[null,null,null,null,null,null,null,null,null,null,null,null,null,null,{"$f":"M36","v":" "},{"$f":"IF($O166=\" \",0,VLOOKUP($O166,$B$42:$AN$144,P145,))","v":0},0,0,0,0,0,0,0,0,0,0,0,0,0,0,0,0,0,0,0,0,0,0,0,0,{"$f":"IF($O166=\" \",0,VLOOKUP($O166,$B$42:$AO$144,AO145,))","v":0},0,0,0]
[null,null,null,null,null,null,null,null,null,null,null,null,null,null,"Malus Parasites",null,null,null,null,null,null,{"$f":"IF(AND(M20=\"Parasite(s)\",M26=\"Parasite(s)\"),ROUND(((L20+L26)/2)-0.5,0),IF(M20=\"Parasite(s)\",ROUND((L20/2)-0.5,0),IF(M26=\"Parasite(s)\",ROUND((L26/2)-0.5,0),0)))","v":0}]
[null,null,null,null,null,null,null,null,null,null,null,null,null,null,"Total",{"$f":"SUM(P146:P167)","v":0},{"$f":"SUM(Q146:Q167)","v":0},0,0,0,0,0,0,0,0,0,0,0,0,0,0,0,0,0,0,0,0,0,0,0,0,0,0,0]
[]
[null,null,null,null,null,null,null,null,null,null,null,null,null,null,null,null,null,null,null,null,null,null,null,null,null,null,null,null,null,null,null,null,null,null,null,null,null,null,null,null,null,null,1,null,"Oui"]
[null,null,null,null,null,null,null,null,null,null,null,null,null,null,null,null,null,null,null,null,null,null,null,null,null,null,null,null,null,null,null,null,null,null,null,null,null,null,null,null,null,null,2,null,"Non"]
[null,null,null,null,null,null,null,null,null,null,null,null,null,null,null,null,null,null,null,null,null,null,null,null,null,null,null,null,null,null,null,null,null,null,null,null,null,null,null,null,null,null,3,null,"Parasites/Symbiotes",null,null,null,"Polaris",null," ","Polaris","Polaris latent","Polaris non maîtrisé"]
[null,null,null,null,null,null,null,null,null,null,null,null,null,null,null,null,null,null,null,null,null,null,null,null,null,null,null,null,null,null,null,null,null,null,null,null,null,null,null,null,null,null,4,null," ",null,null,null," ",0," ","Pouvoir obtenu"," ","Pouvoir supp. (1 tirage)"]
[null,null,null,null,null,null,null,null,null,null,null,null,null,null,null,null,null,null,null,null,null,null,null,null,null,null,null,null,null,null,null,null,null,null,null,null,null,null,null,null,null,null,null,null,"Parasite(s)",null,null,null,"Polaris",5," ","Pouvoir supp. (1 tirage)"," ","Pouvoir supp. (1 tirage)"]
[null,null,null,null,null,null,null,null,null,null,null,null,null,null,null,null,null,null,null,null,null,null,null,null,null,null,null,null,null,null,null,null,null,null,null,null,null,null,null,null,null,null,"Caract. géné animal",null,"Symbiote(s)",null,null,null,"Polaris latent",3," ","Pouvoir supp. (2 tirages)"," "," "]
[null,null,null,null,null,null,null,null,null,null,null,null,null,null,null,null,null,null,null,null,null,null,null,null,null,null,null,null,null,null,null,null,null,null,null,null,null,null,null,null,null,null,null,null,null,null,null,null,"Polaris non maîtrisé",3," ","Pouvoir supp. (3 tirages)"," "," "]
[null,null,null,null,null,null,null,null,null,null,null,null,null,null,null,null,null,null,null,null,null,null,null,null,null,null,null,null,null,null,null,null,null,null,null,null,null,null,null,null,null,null," ",0," "]
[null,null,null,null,null,null,null,null,null,null,null,null,null,null,null,null,null,null,null,null,null,null,null,null,null,null,null,null,null,null,null,null,null,null,null,null,null,null,null,null,null,null,"Griffes",1,"Symbiote uniquement : +2 Résist. aux drogues",null,null,null," ",null,null,{"$f":"CONCATENATE(X22,\" \",X23)","v":"1 1"}]
[null,null,null,null,null,null,null,null,null,null,null,null,null,null,null,null,null,null,null,null,null,null,null,null,null,null,null,null,null,null,null,null,null,null,null,null,null,null,null,null,null,null,"Vision nocturne",1,"Symbiote uniquement : +2 Résist. aux maladies",null,null,null,"Altération génétique [sol]",null,null,{"$f":"CONCATENATE(X26,\" \",X27)","v":"1 1"}]
[null,null,null,null,null,null,null,null,null,null,null,null,null,null,null,null,null,null,null,null,null,null,null,null,null,null,null,null,null,null,null,null,null,null,null,null,null,null,null,null,null,null,null,null,"Symbiote uniquement : +2 Résist. aux poisons",null,null,null,"Altération temporelle",null,null,{"$f":"CONCATENATE(X30,\" \",X31)","v":"1 1"}]
[null,null,null,null,null,null,null,null,null,null,null,null,null,null,null,null,null,null,null,null,null,null,null,null,null,null,null,null,null,null,null,null,null,null,null,null,null,null,null,null,null,null," ",0,"Symbiote uniquement : +2 Résist. aux radiations",null,null,null,"Attaque psychique"]
[null,null,null,null,null,null,null,null,null,null,null,null,null,null,null,null,null,null,null,null,null,null,null,null,null,null,null,null,null,null,null,null,null,null,null,null,null,null,null,null,null,null,"Crocs",0,"Adaptation extérieure",null,null,null,"Attaque sonique [sol]",null,1,{"$f":"CONCATENATE(AY182,\" 1\")","v":"1 1"},"Adaptation extérieure"]
[null,null,null,null,null,null,null,null,null,null,null,null,null,null,null,null,null,null,null,null,null,null,null,null,null,null,null,null,null,null,null,null,null,null,null,null,null,null,null,null,null,null,null,null,"Amphibie",null,null,null,"Aveuglement [sol]",null,2,{"$f":"CONCATENATE(AY183,\" 1\")","v":"2 1"},"Adaptation extérieure"]
[null,null,null,null,null,null,null,null,null,null,null,null,null,null,null,null,null,null,null,null,null,null,null,null,null,null,null,null,null,null,null,null,null,null,null,null,null,null,null,null,null,null," ",0,"Autofécondation",null,null,null,"Barrière de force",null,3,"3 1","Adaptation extérieure"]
[null,null,null,null,null,null,null,null,null,null,null,null,null,null,null,null,null,null,null,null,null,null,null,null,null,null,null,null,null,null,null,null,null,null,null,null,null,null,null,null,null,null,"Queue",0,"Caractère génétique animal : félin",null,null,null,"Barrière moléculaire",null,4,"4 1","Adaptation extérieure"]
[null,null,null,null,null,null,null,null,null,null,null,null,null,null,null,null,null,null,null,null,null,null,null,null,null,null,null,null,null,null,null,null,null,null,null,null,null,null,null,null,null,null,null,null,"Caractère génétique animal : canin",null,null,null,"Barrière psychique",null,5,"5 1","Adaptation extérieure"]
[null,null,null,null,null,null,null,null,null,null,null,null,null,null,null,null,null,null,null,null,null,null,null,null,null,null,null,null,null,null,null,null,null,null,null,null,null,null,null,null,null,null,null,null,"Caractère génétique animal : reptilien",null,null,null,"Bête du Flux",null,6,"6 1","Adaptation extérieure"]
[null,null,null,null,null,null,null,null,null,null,null,null,null,null,null,null,null,null,null,null,null,null,null,null,null,null,null,null,null,null,null,null,null,null,null,null,null,null,null,null,null,null,null,null,"Caractère génétique animal : simiesque",null,null,null,"Brouillage",null,7,"7 1","Amphibie"]
[null,null,null,null,null,null,null,null,null,null,null,null,null,null,null,null,null,null,null,null,null,null,null,null,null,null,null,null,null,null,null,null,null,null,null,null,null,null,null,null,null,null,null,null,"Contact corrosif I",null,null,null,"Brûlure [sol]",null,8,"8 1","Amphibie"]
[null,null,null,null,null,null,null,null,null,null,null,null,null,null,null,null,null,null,null,null,null,null,null,null,null,null,null,null,null,null,null,null,null,null,null,null,null,null,null,null,null,null,null,null,"Contact corrosif II",null,null,null,"Cauchemar",null,9,"9 1","Amphibie"]
[null,null,null,null,null,null,null,null,null,null,null,null,null,null,null,null,null,null,null,null,null,null,null,null,null,null,null,null,null,null,null,null,null,null,null,null,null,null,null,null,null,null,1,null,"Contact corrosif III",null,null,null,"Champ de force",null,10,"10 1","Amphibie"]
[null,null,null,null,null,null,null,null,null,null,null,null,null,null,null,null,null,null,null,null,null,null,null,null,null,null,null,null,null,null,null,null,null,null,null,null,null,null,null,null,null,null,2,null,"Contagion",null,null,null,"Champ moléculaire",null,11,"11 1","Androgyne"]
[null,null,null,null,null,null,null,null,null,null,null,null,null,null,null,null,null,null,null,null,null,null,null,null,null,null,null,null,null,null,null,null,null,null,null,null,null,null,null,null,null,null,3,null,"Empathie",null,null,null,"Champ psychique",null,12,"12 1","Androgyne"]
[null,null,null,null,null,null,null,null,null,null,null,null,null,null,null,null,null,null,null,null,null,null,null,null,null,null,null,null,null,null,null,null,null,null,null,null,null,null,null,null,null,null,4,null,"Métamorphe",null,null,null,"Combustion [sol]",null,13,"13 1","Androgyne"]
[null,null,null,null,null,null,null,null,null,null,null,null,null,null,null,null,null,null,null,null,null,null,null,null,null,null,null,null,null,null,null,null,null,null,null,null,null,null,null,null,null,null,5,null,"Organe sensoriel : goût amélioré",null,null,null,"Contrôle atmosphérique [sol]",null,14,"14 1","Asexué"]
[null,null,null,null,null,null,null,null,null,null,null,null,null,null,null,null,null,null,null,null,null,null,null,null,null,null,null,null,null,null,null,null,null,null,null,null,null,null,null,null,null,null,6,null,"Organe sensoriel : odorat amélioré",null,null,null,"Contrôle mental",null,15,"15 1","Asexué"]
[null,null,null,null,null,null,null,null,null,null,null,null,null,null,null,null,null,null,null,null,null,null,null,null,null,null,null,null,null,null,null,null,null,null,null,null,null,null,null,null,null,null,7,null,"Organe sensoriel : toucher amélioré",null,null,null,"Convulsion thermique [sol]",null,16,"16 1","Asexué"]
[null,null,null,null,null,null,null,null,null,null,null,null,null,null,null,null,null,null,null,null,null,null,null,null,null,null,null,null,null,null,null,null,null,null,null,null,null,null,null,null,null,null,8,null,"Organe sensoriel : oreille supplémentaire",null,null,null,"Dague psychique",null,17,"17 1","Autofécondation"]
[null,null,null,null,null,null,null,null,null,null,null,null,null,null,null,null,null,null,null,null,null,null,null,null,null,null,null,null,null,null,null,null,null,null,null,null,null,null,null,null,null,null,9,null,"Organe sensoriel : œil supllémentaire",null,null,null,"Déchirure du Flux",null,18,"18 1","Autofécondation"]
[null,null,null,null,null,null,null,null,null,null,null,null,null,null,null,null,null,null,null,null,null,null,null,null,null,null,null,null,null,null,null,null,null,null,null,null,null,null,null,null,null,null,10,null,"Peau renforcée I",null,null,null,"Désintégration moléculaire",null,19,"19 1","Autofécondation"]
[null,null,null,null,null,null,null,null,null,null,null,null,null,null,null,null,null,null,null,null,null,null,null,null,null,null,null,null,null,null,null,null,null,null,null,null,null,null,null,null,null,null,11,null,"Peau renforcée II",null,null,null,"Déstructuration",null,20,"20 1","Caractère génétique animal : félin"]
[null,null,null,null,null,null,null,null,null,null,null,null,null,null,null,null,null,null,null,null,null,null,null,null,null,null,null,null,null,null,null,null,null,null,null,null,null,null,null,null,null,null,12,null,"Peau renforcée III",null,null,null,"Disruption moléculaire",null,21,"21 1","Caractère génétique animal : félin"]
[null,null,null,null,null,null,null,null,null,null,null,null,null,null,null,null,null,null,null,null,null,null,null,null,null,null,null,null,null,null,null,null,null,null,null,null,null,null,null,null,null,null,13,null,"Purulence I",null,null,null,"Erosion [sol]",null,22,"22 1","Caractère génétique animal : félin"]
[null,null,null,null,null,null,null,null,null,null,null,null,null,null,null,null,null,null,null,null,null,null,null,null,null,null,null,null,null,null,null,null,null,null,null,null,null,null,null,null,null,null,14,null,"Purulence II",null,null,null,"Focale solaire [sol]",null,23,"23 1","Caractère génétique animal : félin"]
[null,null,null,null,null,null,null,null,null,null,null,null,null,null,null,null,null,null,null,null,null,null,null,null,null,null,null,null,null,null,null,null,null,null,null,null,null,null,null,null,null,null,15,null,"Purulence III",null,null,null,"Foudre",null,24,"24 1","Contact corrosif I"]
[null,null,null,null,null,null,null,null,null,null,null,null,null,null,null,null,null,null,null,null,null,null,null,null,null,null,null,null,null,null,null,null,null,null,null,null,null,null,null,null,null,null,16,null,"Radiation I",null,null,null,"Guérison moléculaire",null,25,"25 1","Contact corrosif I"]
[null,null,null,null,null,null,null,null,null,null,null,null,null,null,null,null,null,null,null,null,null,null,null,null,null,null,null,null,null,null,null,null,null,null,null,null,null,null,null,null,null,null,17,null,"Radiation II",null,null,null,"Guérison psychique",null,26,"26 1","Contagion"]
[null,null,null,null,null,null,null,null,null,null,null,null,null,null,null,null,null,null,null,null,null,null,null,null,null,null,null,null,null,null,null,null,null,null,null,null,null,null,null,null,null,null,18,null,"Radiation III",null,null,null,"Invisibilité [sol]",null,27,"27 1","Contagion"]
[null,null,null,null,null,null,null,null,null,null,null,null,null,null,null,null,null,null,null,null,null,null,null,null,null,null,null,null,null,null,null,null,null,null,null,null,null,null,null,null,null,null,19,null,"Régénération I",null,null,null,"Lames de mort [sol]",null,28,"28 1","Corne"]
[null,null,null,null,null,null,null,null,null,null,null,null,null,null,null,null,null,null,null,null,null,null,null,null,null,null,null,null,null,null,null,null,null,null,null,null,null,null,null,null,null,null,20,null,"Régénération II",null,null,null,"Lames d'énergie",null,29,"29 1","Corne"]
[null,null,null,null,null,null,null,null,null,null,null,null,null,null,null,null,null,null,null,null,null,null,null,null,null,null,null,null,null,null,null,null,null,null,null,null,null,null,null,null,null,null,null,null,"Résistance naturelle : résistance au feu",null,null,null,"Lames psychiques",null,30,"30 1","Corne"]
[null,null,null,null,null,null,null,null,null,null,null,null,null,null,null,null,null,null,null,null,null,null,null,null,null,null,null,null,null,null,null,null,null,null,null,null,null,null,null,null,null,null,null,null,"Résistance naturelle : résistance au froid",null,null,null,"Mangeur d'esprit",null,31,"31 1","Crocs"]
[null,null,null,null,null,null,null,null,null,null,null,null,null,null,null,null,null,null,null,null,null,null,null,null,null,null,null,null,null,null,null,null,null,null,null,null,null,null,null,null,null,null,null,null,"Résistance naturelle : résistance aux drogues I",null,null,null,"Masse de destruction",null,32,"32 1","Crocs"]
[null,null,null,null,null,null,null,null,null,null,null,null,null,null,null,null,null,null,null,null,null,null,null,null,null,null,null,null,null,null,null,null,null,null,null,null,null,null,null,null,null,null,null,null,"Résistance naturelle : résistance aux drogues II",null,null,null,"Modification de la masse",null,33,"33 1","Crocs"]
[null,null,null,null,null,null,null,null,null,null,null,null,null,null,null,null,null,null,null,null,null,null,null,null,null,null,null,null,null,null,null,null,null,null,null,null,null,null,null,null,null,null,null,null,"Résistance naturelle : résistance aux drogues III",null,null,null,"Modification de la pression",null,34,"34 1","Crocs"]
[null,null,null,null,null,null,null,null,null,null,null,null,null,null,null,null,null,null,null,null,null,null,null,null,null,null,null,null,null,null,null,null,null,null,null,null,null,null,null,null,null,null,null,null,"Résistance naturelle : résistance aux maladies I",null,null,null,"Modification de la température",null,35,"35 1","Crocs"]
[null,null,null,null,null,null,null,null,null,null,null,null,null,null,null,null,null,null,null,null,null,null,null,null,null,null,null,null,null,null,null,null,null,null,null,null,null,null,null,null,null,null,null,null,"Résistance naturelle : résistance aux maladies II",null,null,null,"Murmure de la terre [sol]",null,36,"36 1","Difformité légère I"]
[null,null,null,null,null,null,null,null,null,null,null,null,null,null,null,null,null,null,null,null,null,null,null,null,null,null,null,null,null,null,null,null,null,null,null,null,null,null,null,null,null,null,null,null,"Résistance naturelle : résistance aux maladies III",null,null,null,"Murmure végétal [sol]",null,37,"37 1","Difformité légère I"]
[null,null,null,null,null,null,null,null,null,null,null,null,null,null,null,null,null,null,null,null,null,null,null,null,null,null,null,null,null,null,null,null,null,null,null,null,null,null,null,null,null,null,null,null,"Résistance naturelle : résistance aux poisons I",null,null,null,"Nuée [sol]",null,38,"38 1","Difformité légère I"]
[null,null,null,null,null,null,null,null,null,null,null,null,null,null,null,null,null,null,null,null,null,null,null,null,null,null,null,null,null,null,null,null,null,null,null,null,null,null,null,null,null,null,null,null,"Résistance naturelle : résistance aux poisons II",null,null,null,"Oblitération psychique",null,39,"39 1","Difformité légère I"]
[null,null,null,null,null,null,null,null,null,null,null,null,null,null,null,null,null,null,null,null,null,null,null,null,null,null,null,null,null,null,null,null,null,null,null,null,null,null,null,null,null,null,null,null,"Résistance naturelle : résistance aux poisons III",null,null,null,"Onde Polaris",null,40,"40 1","Difformité légère I"]
[null,null,null,null,null,null,null,null,null,null,null,null,null,null,null,null,null,null,null,null,null,null,null,null,null,null,null,null,null,null,null,null,null,null,null,null,null,null,null,null,null,null,null,null,"Résistance naturelle : résistance aux radiations I",null,null,null,"Ondes de choc",null,41,"41 1","Difformité importante I"]
[null,null,null,null,null,null,null,null,null,null,null,null,null,null,null,null,null,null,null,null,null,null,null,null,null,null,null,null,null,null,null,null,null,null,null,null,null,null,null,null,null,null,null,null,"Résistance naturelle : résistance aux radiations II",null,null,null,"Ondes de choc psychiques",null,42,"42 1","Difformité importante I"]
[null,null,null,null,null,null,null,null,null,null,null,null,null,null,null,null,null,null,null,null,null,null,null,null,null,null,null,null,null,null,null,null,null,null,null,null,null,null,null,null,null,null,null,null,"Résistance naturelle : résistance aux radiations III",null,null,null,"Pacification/furie",null,43,"43 1","Difformité importante I"]
[null,null,null,null,null,null,null,null,null,null,null,null,null,null,null,null,null,null,null,null,null,null,null,null,null,null,null,null,null,null,null,null,null,null,null,null,null,null,null,null,null,null,null,null,"Sixième sens",null,null,null,"Parasites [sol]",null,44,"44 1","Empathie"]
[null,null,null,null,null,null,null,null,null,null,null,null,null,null,null,null,null,null,null,null,null,null,null,null,null,null,null,null,null,null,null,null,null,null,null,null,null,null,null,null,null,null,null,null,"Sonar",null,null,null,"Passage",null,45,"45 1","Empathie"]
[null,null,null,null,null,null,null,null,null,null,null,null,null,null,null,null,null,null,null,null,null,null,null,null,null,null,null,null,null,null,null,null,null,null,null,null,null,null,null,null,null,null,null,null,"Squelette renforcé I",null,null,null,"Perturbation de la réalité",null,46,"46 1","Empathie"]
[null,null,null,null,null,null,null,null,null,null,null,null,null,null,null,null,null,null,null,null,null,null,null,null,null,null,null,null,null,null,null,null,null,null,null,null,null,null,null,null,null,null,null,null,"Squelette renforcé II",null,null,null,"Peste foudroyante [sol]",null,47,"47 1","Excroissance osseuse rétractable"]
[null,null,null,null,null,null,null,null,null,null,null,null,null,null,null,null,null,null,null,null,null,null,null,null,null,null,null,null,null,null,null,null,null,null,null,null,null,null,null,null,null,null,null,null,"Squelette renforcé III",null,null,null,"Prescience",null,48,"48 1","Excroissance osseuse rétractable"]
[null,null,null,null,null,null,null,null,null,null,null,null,null,null,null,null,null,null,null,null,null,null,null,null,null,null,null,null,null,null,null,null,null,null,null,null,null,null,null,null,null,null,null,null,"Vision nocturne",null,null,null,"Prison mentale",null,49,"49 1","Excroissance osseuse rétractable"]
[null,null,null,null,null,null,null,null,null,null,null,null,null,null,null,null,null,null,null,null,null,null,null,null,null,null,null,null,null,null,null,null,null,null,null,null,null,null,null,null,null,null,null,null,null,null,null,null,"Prolifération bactérienne [sol]",null,50,"50 1","Griffes"]
[null,null,null,null,null,null,null,null,null,null,null,null,null,null,null,null,null,null,null,null,null,null,null,null,null,null,null,null,null,null,null,null,null,null,null,null,null,null,null,null,null,null,null,null,null,null,null,null,"Prolifération de la vermine [sol]",null,51,"51 1","Griffes"]
[null,null,null,null,null,null,null,null,null,null,null,null,null,null,null,null,null,null,null,null,null,null,null,null,null,null,null,null,null,null,null,null,null,null,null,null,null,null,null,null,null,null,null,null,null,null,null,null,"Prolifération végétale [sol]",null,52,"52 1","Griffes"]
[null,null,null,null,null,null,null,null,null,null,null,null,null,null,null,null,null,null,null,null,null,null,null,null,null,null,null,null,null,null,null,null,null,null,null,null,null,null,null,null,null,null,null,null,null,null,null,null,"Pulsion électromagnétique",null,53,"53 1","Instabilité moléculaire"]
[null,null,null,null,null,null,null,null,null,null,null,null,null,null,null,null,null,null,null,null,null,null,null,null,null,null,null,null,null,null,null,null,null,null,null,null,null,null,null,null,null,null,null,null,null,null,null,null,"Radiance [sol]",null,54,"54 1","Métamorphe"]
[null,null,null,null,null,null,null,null,null,null,null,null,null,null,null,null,null,null,null,null,null,null,null,null,null,null,null,null,null,null,null,null,null,null,null,null,null,null,null,null,null,null,null,null,null,null,null,null,"Régénération moléculaire",null,55,"55 1","Métamorphe"]
[null,null,null,null,null,null,null,null,null,null,null,null,null,null,null,null,null,null,null,null,null,null,null,null,null,null,null,null,null,null,null,null,null,null,null,null,null,null,null,null,null,null,null,null,null,null,null,null,"Sensibilité psychique",null,56,"56 1","Métamorphe"]
[null,null,null,null,null,null,null,null,null,null,null,null,null,null,null,null,null,null,null,null,null,null,null,null,null,null,null,null,null,null,null,null,null,null,null,null,null,null,null,null,null,null,null,null,null,null,null,null,"Siphon d'énergie",null,57,"57 1","Organe sensoriel : papilles gustatives atrophiées"]
[null,null,null,null,null,null,null,null,null,null,null,null,null,null,null,null,null,null,null,null,null,null,null,null,null,null,null,null,null,null,null,null,null,null,null,null,null,null,null,null,null,null,null,null,null,null,null,null,"Sonscan",null,58,"58 1","Organe sensoriel : papilles gustatives atrophiées"]
[null,null,null,null,null,null,null,null,null,null,null,null,null,null,null,null,null,null,null,null,null,null,null,null,null,null,null,null,null,null,null,null,null,null,null,null,null,null,null,null,null,null,null,null,null,null,null,null,"Sphère de gravité",null,59,"59 1","Organe sensoriel : goût amélioré"]
[null,null,null,null,null,null,null,null,null,null,null,null,null,null,null,null,null,null,null,null,null,null,null,null,null,null,null,null,null,null,null,null,null,null,null,null,null,null,null,null,null,null,null,null,null,null,null,null,"Sphère de répulsion organique",null,60,"60 1","Organe sensoriel : goût amélioré"]
[null,null,null,null,null,null,null,null,null,null,null,null,null,null,null,null,null,null,null,null,null,null,null,null,null,null,null,null,null,null,null,null,null,null,null,null,null,null,null,null,null,null,null,null,null,null,null,null,"Sphère de terreur",null,61,"61 1","Parasite(s) I"]
[null,null,null,null,null,null,null,null,null,null,null,null,null,null,null,null,null,null,null,null,null,null,null,null,null,null,null,null,null,null,null,null,null,null,null,null,null,null,null,null,null,null,null,null,null,null,null,null,"Sphère temporelle",null,62,"62 1","Peau renforcée I"]
[null,null,null,null,null,null,null,null,null,null,null,null,null,null,null,null,null,null,null,null,null,null,null,null,null,null,null,null,null,null,null,null,null,null,null,null,null,null,null,null,null,null,null,null,null,null,null,null,"Suffocation [sol]",null,63,"63 1","Peau renforcée I"]
[null,null,null,null,null,null,null,null,null,null,null,null,null,null,null,null,null,null,null,null,null,null,null,null,null,null,null,null,null,null,null,null,null,null,null,null,null,null,null,null,null,null,null,null,null,null,null,null,"Télékinésie",null,64,"64 1","Peau renforcée I"]
[null,null,null,null,null,null,null,null,null,null,null,null,null,null,null,null,null,null,null,null,null,null,null,null,null,null,null,null,null,null,null,null,null,null,null,null,null,null,null,null,null,null,null,null,null,null,null,null,"Téléportation",null,65,"65 1","Peau renforcée I"]
[null,null,null,null,null,null,null,null,null,null,null,null,null,null,null,null,null,null,null,null,null,null,null,null,null,null,null,null,null,null,null,null,null,null,null,null,null,null,null,null,null,null,null,null,null,null,null,null,"Tempête du Flux",null,66,{"$f":"CONCATENATE(AY247,\" 1\")","v":"66 1"},"Peau renforcée I"]
[null,null,null,null,null,null,null,null,null,null,null,null,null,null,null,null,null,null,null,null,null,null,null,null,null,null,null,null,null,null,null,null,null,null,null,null,null,null,null,null,null,null,null,null,null,null,null,null,"Tempête solaire [sol]",null,67,"67 1","Purulence I"]
[null,null,null,null,null,null,null,null,null,null,null,null,null,null,null,null,null,null,null,null,null,null,null,null,null,null,null,null,null,null,null,null,null,null,null,null,null,null,null,null,null,null,null,null,null,null,null,null,"Tornade d'énergie [sol]",null,68,"68 1","Queue"]
[null,null,null,null,null,null,null,null,null,null,null,null,null,null,null,null,null,null,null,null,null,null,null,null,null,null,null,null,null,null,null,null,null,null,null,null,null,null,null,null,null,null,null,null,null,null,null,null,"Tourbillon",null,69,"69 1","Queue"]
[null,null,null,null,null,null,null,null,null,null,null,null,null,null,null,null,null,null,null,null,null,null,null,null,null,null,null,null,null,null,null,null,null,null,null,null,null,null,null,null,null,null,null,null,null,null,null,null,"Tourbillon de mort",null,70,"70 1","Queue"]
[null,null,null,null,null,null,null,null,null,null,null,null,null,null,null,null,null,null,null,null,null,null,null,null,null,null,null,null,null,null,null,null,null,null,null,null,null,null,null,null,null,null,null,null,null,null,null,null,"Tremblement de terre [sol]",null,71,"71 1","Radiation I"]
[null,null,null,null,null,null,null,null,null,null,null,null,null,null,null,null,null,null,null,null,null,null,null,null,null,null,null,null,null,null,null,null,null,null,null,null,null,null,null,null,null,null,null,null,null,null,null,null,"Vortex physique",null,72,"72 1","Régénération I"]
[null,null,null,null,null,null,null,null,null,null,null,null,null,null,null,null,null,null,null,null,null,null,null,null,null,null,null,null,null,null,null,null,null,null,null,null,null,null,null,null,null,null,null,null,null,null,null,null,"Vortex psychique",null,73,"73 1","Régénération I"]
[null,null,null,null,null,null,null,null,null,null,null,null,null,null,null,null,null,null,null,null,null,null,null,null,null,null,null,null,null,null,null,null,null,null,null,null,null,null,null,null,null,null,null,null,null,null,null,null,null,null,74,"74 1","Régénération I"]
[null,null,null,null,null,null,null,null,null,null,null,null,null,null,null,null,null,null,null,null,null,null,null,null,null,null,null,null,null,null,null,null,null,null,null,null,null,null,null,null,null,null,null,null,null,null,null,null,null,null,75,"75 1","Régénération I"]
[null,null,null,null,null,null,null,null,null,null,null,null,null,null,null,null,null,null,null,null,null,null,null,null,null,null,null,null,null,null,null,null,null,null,null,null,null,null,null,null,null,null,null,null,null,null,null,null,null,null,76,"76 1","Résistance naturelle : résistance au feu"]
[null,null,null,null,null,null,null,null,null,null,null,null,null,null,null,null,null,null,null,null,null,null,null,null,null,null,null,null,null,null,null,null,null,null,null,null,null,null,null,null,null,null,null,null,null,null,null,null,null,null,77,"77 1","Résistance naturelle : résistance au feu"]
[null,null,null,null,null,null,null,null,null,null,null,null,null,null,null,null,null,null,null,null,null,null,null,null,null,null,null,null,null,null,null,null,null,null,null,null,null,null,null,null,null,null,null,null,null,null,null,null,null,null,78,"78 1","Résistance naturelle : résistance au feu"]
[null,null,null,null,null,null,null,null,null,null,null,null,null,null,null,null,null,null,null,null,null,null,null,null,null,null,null,null,null,null,null,null,null,null,null,null,null,null,null,null,null,null,null,null,null,null,null,null,null,null,79,"79 1","Résistance naturelle : résistance au feu"]
[null,null,null,null,null,null,null,null,null,null,null,null,null,null,null,null,null,null,null,null,null,null,null,null,null,null,null,null,null,null,null,null,null,null,null,null,null,null,null,null,null,null,null,null,null,null,null,null,null,null,80,"80 1","Résistance naturelle : résistance au feu"]
[null,null,null,null,null,null,null,null,null,null,null,null,null,null,null,null,null,null,null,null,null,null,null,null,null,null,null,null,null,null,null,null,null,null,null,null,null,null,null,null,null,null,null,null,null,null,null,null,null,null,81,"81 1","Sixième sens"]
[null,null,null,null,null,null,null,null,null,null,null,null,null,null,null,null,null,null,null,null,null,null,null,null,null,null,null,null,null,null,null,null,null,null,null,null,null,null,null,null,null,null,null,null,null,null,null,null,null,null,82,"82 1","Sixième sens"]
[null,null,null,null,null,null,null,null,null,null,null,null,null,null,null,null,null,null,null,null,null,null,null,null,null,null,null,null,null,null,null,null,null,null,null,null,null,null,null,null,null,null,null,null,null,null,null,null,null,null,83,"83 1","Sixième sens"]
[null,null,null,null,null,null,null,null,null,null,null,null,null,null,null,null,null,null,null,null,null,null,null,null,null,null,null,null,null,null,null,null,null,null,null,null,null,null,null,null,null,null,null,null,null,null,null,null,null,null,84,"84 1","Sixième sens"]
[null,null,null,null,null,null,null,null,null,null,null,null,null,null,null,null,null,null,null,null,null,null,null,null,null,null,null,null,null,null,null,null,null,null,null,null,null,null,null,null,null,null,null,null,null,null,null,null,null,null,85,"85 1","Sixième sens"]
[null,null,null,null,null,null,null,null,null,null,null,null,null,null,null,null,null,null,null,null,null,null,null,null,null,null,null,null,null,null,null,null,null,null,null,null,null,null,null,null,null,null,null,null,null,null,null,null,null,null,86,"86 1","Sonar"]
[null,null,null,null,null,null,null,null,null,null,null,null,null,null,null,null,null,null,null,null,null,null,null,null,null,null,null,null,null,null,null,null,null,null,null,null,null,null,null,null,null,null,null,null,null,null,null,null,null,null,87,{"$f":"CONCATENATE(AY268,\" 1\")","v":"87 1"},"Sonar"]
[null,null,null,null,null,null,null,null,null,null,null,null,null,null,null,null,null,null,null,null,null,null,null,null,null,null,null,null,null,null,null,null,null,null,null,null,null,null,null,null,null,null,null,null,null,null,null,null,null,null,88,"88 1","Sonar"]
[null,null,null,null,null,null,null,null,null,null,null,null,null,null,null,null,null,null,null,null,null,null,null,null,null,null,null,null,null,null,null,null,null,null,null,null,null,null,null,null,null,null,null,null,null,null,null,null,null,null,89,"89 1","Squelette renforcé I"]
[null,null,null,null,null,null,null,null,null,null,null,null,null,null,null,null,null,null,null,null,null,null,null,null,null,null,null,null,null,null,null,null,null,null,null,null,null,null,null,null,null,null,null,null,null,null,null,null,null,null,90,"90 1","Symbiote(s) I"]
[null,null,null,null,null,null,null,null,null,null,null,null,null,null,null,null,null,null,null,null,null,null,null,null,null,null,null,null,null,null,null,null,null,null,null,null,null,null,null,null,null,null,null,null,null,null,null,null,null,null,91,"91 1","Symbiote(s) I"]
[null,null,null,null,null,null,null,null,null,null,null,null,null,null,null,null,null,null,null,null,null,null,null,null,null,null,null,null,null,null,null,null,null,null,null,null,null,null,null,null,null,null,null,null,null,null,null,null,null,null,92,"92 1","Symbiote(s) I"]
[null,null,null,null,null,null,null,null,null,null,null,null,null,null,null,null,null,null,null,null,null,null,null,null,null,null,null,null,null,null,null,null,null,null,null,null,null,null,null,null,null,null,null,null,null,null,null,null,null,null,93,"93 1","Tentacule rétractable"]
[null,null,null,null,null,null,null,null,null,null,null,null,null,null,null,null,null,null,null,null,null,null,null,null,null,null,null,null,null,null,null,null,null,null,null,null,null,null,null,null,null,null,null,null,null,null,null,null,null,null,94,"94 1","Tentacule rétractable"]
[null,null,null,null,null,null,null,null,null,null,null,null,null,null,null,null,null,null,null,null,null,null,null,null,null,null,null,null,null,null,null,null,null,null,null,null,null,null,null,null,null,null,null,null,null,null,null,null,null,null,95,"95 1","Tentacule rétractable"]
[null,null,null,null,null,null,null,null,null,null,null,null,null,null,null,null,null,null,null,null,null,null,null,null,null,null,null,null,null,null,null,null,null,null,null,null,null,null,null,null,null,null,null,null,null,null,null,null,null,null,96,"96 1","Vision nocturne"]
[null,null,null,null,null,null,null,null,null,null,null,null,null,null,null,null,null,null,null,null,null,null,null,null,null,null,null,null,null,null,null,null,null,null,null,null,null,null,null,null,null,null,null,null,null,null,null,null,null,null,97,"97 1","Vision nocturne"]
[null,null,null,null,null,null,null,null,null,null,null,null,null,null,null,null,null,null,null,null,null,null,null,null,null,null,null,null,null,null,null,null,null,null,null,null,null,null,null,null,null,null,null,null,null,null,null,null,null,null,98,"98 1","Vision nocturne"]
[null,null,null,null,null,null,null,null,null,null,null,null,null,null,null,null,null,null,null,null,null,null,null,null,null,null,null,null,null,null,null,null,null,null,null,null,null,null,null,null,null,null,null,null,null,null,null,null,null,null,99,"99 1","Vision nocturne"]
[null,null,null,null,null,null,null,null,null,null,null,null,null,null,null,null,null,null,null,null,null,null,null,null,null,null,null,null,null,null,null,null,null,null,null,null,null,null,null,null,null,null,null,null,null,null,null,null,null,null,"00","00 1","Vision nocturne"]
[null,null,null,null,null,null,null,null,null,null,null,null,null,null,null,null,null,null,null,null,null,null,null,null,null,null,null,null,null,null,null,null,null,null,null,null,null,null,null,null,null,null,null,null,null,null,null,null,null,null,null,{"$f":"CONCATENATE(AY182,\" 2\")","v":"1 2"},"Adaptation extérieure"]
[null,null,null,null,null,null,null,null,null,null,null,null,null,null,null,null,null,null,null,null,null,null,null,null,null,null,null,null,null,null,null,null,null,null,null,null,null,null,null,null,null,null,null,null,null,null,null,null,null,null,null,"2 2","Adaptation extérieure"]
[null,null,null,null,null,null,null,null,null,null,null,null,null,null,null,null,null,null,null,null,null,null,null,null,null,null,null,null,null,null,null,null,null,null,null,null,null,null,null,null,null,null,null,null,null,null,null,null,null,null,null,"3 2","Adaptation extérieure"]
[null,null,null,null,null,null,null,null,null,null,null,null,null,null,null,null,null,null,null,null,null,null,null,null,null,null,null,null,null,null,null,null,null,null,null,null,null,null,null,null,null,null,null,null,null,null,null,null,null,null,null,"4 2","Adaptation extérieure"]
[null,null,null,null,null,null,null,null,null,null,null,null,null,null,null,null,null,null,null,null,null,null,null,null,null,null,null,null,null,null,null,null,null,null,null,null,null,null,null,null,null,null,null,null,null,null,null,null,null,null,null,"5 2","Adaptation extérieure"]
[null,null,null,null,null,null,null,null,null,null,null,null,null,null,null,null,null,null,null,null,null,null,null,null,null,null,null,null,null,null,null,null,null,null,null,null,null,null,null,null,null,null,null,null,null,null,null,null,null,null,null,"6 2","Adaptation extérieure"]
[null,null,null,null,null,null,null,null,null,null,null,null,null,null,null,null,null,null,null,null,null,null,null,null,null,null,null,null,null,null,null,null,null,null,null,null,null,null,null,null,null,null,null,null,null,null,null,null,null,null,null,"7 2","Amphibie"]
[null,null,null,null,null,null,null,null,null,null,null,null,null,null,null,null,null,null,null,null,null,null,null,null,null,null,null,null,null,null,null,null,null,null,null,null,null,null,null,null,null,null,null,null,null,null,null,null,null,null,null,"8 2","Amphibie"]
[null,null,null,null,null,null,null,null,null,null,null,null,null,null,null,null,null,null,null,null,null,null,null,null,null,null,null,null,null,null,null,null,null,null,null,null,null,null,null,null,null,null,null,null,null,null,null,null,null,null,null,"9 2","Amphibie"]
[null,null,null,null,null,null,null,null,null,null,null,null,null,null,null,null,null,null,null,null,null,null,null,null,null,null,null,null,null,null,null,null,null,null,null,null,null,null,null,null,null,null,null,null,null,null,null,null,null,null,null,"10 2","Amphibie"]
[null,null,null,null,null,null,null,null,null,null,null,null,null,null,null,null,null,null,null,null,null,null,null,null,null,null,null,null,null,null,null,null,null,null,null,null,null,null,null,null,null,null,null,null,null,null,null,null,null,null,null,"11 2","Androgyne"]
[null,null,null,null,null,null,null,null,null,null,null,null,null,null,null,null,null,null,null,null,null,null,null,null,null,null,null,null,null,null,null,null,null,null,null,null,null,null,null,null,null,null,null,null,null,null,null,null,null,null,null,"12 2","Androgyne"]
[null,null,null,null,null,null,null,null,null,null,null,null,null,null,null,null,null,null,null,null,null,null,null,null,null,null,null,null,null,null,null,null,null,null,null,null,null,null,null,null,null,null,null,null,null,null,null,null,null,null,null,"13 2","Androgyne"]
[null,null,null,null,null,null,null,null,null,null,null,null,null,null,null,null,null,null,null,null,null,null,null,null,null,null,null,null,null,null,null,null,null,null,null,null,null,null,null,null,null,null,null,null,null,null,null,null,null,null,null,"14 2","Asexué"]
[null,null,null,null,null,null,null,null,null,null,null,null,null,null,null,null,null,null,null,null,null,null,null,null,null,null,null,null,null,null,null,null,null,null,null,null,null,null,null,null,null,null,null,null,null,null,null,null,null,null,null,"15 2","Asexué"]
[null,null,null,null,null,null,null,null,null,null,null,null,null,null,null,null,null,null,null,null,null,null,null,null,null,null,null,null,null,null,null,null,null,null,null,null,null,null,null,null,null,null,null,null,null,null,null,null,null,null,null,"16 2","Asexué"]
[null,null,null,null,null,null,null,null,null,null,null,null,null,null,null,null,null,null,null,null,null,null,null,null,null,null,null,null,null,null,null,null,null,null,null,null,null,null,null,null,null,null,null,null,null,null,null,null,null,null,null,"17 2","Autofécondation"]
[null,null,null,null,null,null,null,null,null,null,null,null,null,null,null,null,null,null,null,null,null,null,null,null,null,null,null,null,null,null,null,null,null,null,null,null,null,null,null,null,null,null,null,null,null,null,null,null,null,null,null,"18 2","Autofécondation"]
[null,null,null,null,null,null,null,null,null,null,null,null,null,null,null,null,null,null,null,null,null,null,null,null,null,null,null,null,null,null,null,null,null,null,null,null,null,null,null,null,null,null,null,null,null,null,null,null,null,null,null,"19 2","Autofécondation"]
[null,null,null,null,null,null,null,null,null,null,null,null,null,null,null,null,null,null,null,null,null,null,null,null,null,null,null,null,null,null,null,null,null,null,null,null,null,null,null,null,null,null,null,null,null,null,null,null,null,null,null,"20 2","Caractère génétique animal : canin"]
[null,null,null,null,null,null,null,null,null,null,null,null,null,null,null,null,null,null,null,null,null,null,null,null,null,null,null,null,null,null,null,null,null,null,null,null,null,null,null,null,null,null,null,null,null,null,null,null,null,null,null,"21 2","Caractère génétique animal : canin"]
[null,null,null,null,null,null,null,null,null,null,null,null,null,null,null,null,null,null,null,null,null,null,null,null,null,null,null,null,null,null,null,null,null,null,null,null,null,null,null,null,null,null,null,null,null,null,null,null,null,null,null,"22 2","Caractère génétique animal : canin"]
[null,null,null,null,null,null,null,null,null,null,null,null,null,null,null,null,null,null,null,null,null,null,null,null,null,null,null,null,null,null,null,null,null,null,null,null,null,null,null,null,null,null,null,null,null,null,null,null,null,null,null,"23 2","Caractère génétique animal : canin"]
[null,null,null,null,null,null,null,null,null,null,null,null,null,null,null,null,null,null,null,null,null,null,null,null,null,null,null,null,null,null,null,null,null,null,null,null,null,null,null,null,null,null,null,null,null,null,null,null,null,null,null,"24 2","Contact corrosif I"]
[null,null,null,null,null,null,null,null,null,null,null,null,null,null,null,null,null,null,null,null,null,null,null,null,null,null,null,null,null,null,null,null,null,null,null,null,null,null,null,null,null,null,null,null,null,null,null,null,null,null,null,"25 2","Contact corrosif I"]
[null,null,null,null,null,null,null,null,null,null,null,null,null,null,null,null,null,null,null,null,null,null,null,null,null,null,null,null,null,null,null,null,null,null,null,null,null,null,null,null,null,null,null,null,null,null,null,null,null,null,null,"26 2","Contagion"]
[null,null,null,null,null,null,null,null,null,null,null,null,null,null,null,null,null,null,null,null,null,null,null,null,null,null,null,null,null,null,null,null,null,null,null,null,null,null,null,null,null,null,null,null,null,null,null,null,null,null,null,"27 2","Contagion"]
[null,null,null,null,null,null,null,null,null,null,null,null,null,null,null,null,null,null,null,null,null,null,null,null,null,null,null,null,null,null,null,null,null,null,null,null,null,null,null,null,null,null,null,null,null,null,null,null,null,null,null,"28 2","Corne"]
[null,null,null,null,null,null,null,null,null,null,null,null,null,null,null,null,null,null,null,null,null,null,null,null,null,null,null,null,null,null,null,null,null,null,null,null,null,null,null,null,null,null,null,null,null,null,null,null,null,null,null,"29 2","Corne"]
[null,null,null,null,null,null,null,null,null,null,null,null,null,null,null,null,null,null,null,null,null,null,null,null,null,null,null,null,null,null,null,null,null,null,null,null,null,null,null,null,null,null,null,null,null,null,null,null,null,null,null,"30 2","Corne"]
[null,null,null,null,null,null,null,null,null,null,null,null,null,null,null,null,null,null,null,null,null,null,null,null,null,null,null,null,null,null,null,null,null,null,null,null,null,null,null,null,null,null,null,null,null,null,null,null,null,null,null,"31 2","Crocs"]
[null,null,null,null,null,null,null,null,null,null,null,null,null,null,null,null,null,null,null,null,null,null,null,null,null,null,null,null,null,null,null,null,null,null,null,null,null,null,null,null,null,null,null,null,null,null,null,null,null,null,null,"32 2","Crocs"]
[null,null,null,null,null,null,null,null,null,null,null,null,null,null,null,null,null,null,null,null,null,null,null,null,null,null,null,null,null,null,null,null,null,null,null,null,null,null,null,null,null,null,null,null,null,null,null,null,null,null,null,{"$f":"CONCATENATE(AY214,\" 2\")","v":"33 2"},"Crocs"]
[null,null,null,null,null,null,null,null,null,null,null,null,null,null,null,null,null,null,null,null,null,null,null,null,null,null,null,null,null,null,null,null,null,null,null,null,null,null,null,null,null,null,null,null,null,null,null,null,null,null,null,"34 2","Crocs"]
[null,null,null,null,null,null,null,null,null,null,null,null,null,null,null,null,null,null,null,null,null,null,null,null,null,null,null,null,null,null,null,null,null,null,null,null,null,null,null,null,null,null,null,null,null,null,null,null,null,null,null,"35 2","Crocs"]
[null,null,null,null,null,null,null,null,null,null,null,null,null,null,null,null,null,null,null,null,null,null,null,null,null,null,null,null,null,null,null,null,null,null,null,null,null,null,null,null,null,null,null,null,null,null,null,null,null,null,null,"36 2","Difformité légère I"]
[null,null,null,null,null,null,null,null,null,null,null,null,null,null,null,null,null,null,null,null,null,null,null,null,null,null,null,null,null,null,null,null,null,null,null,null,null,null,null,null,null,null,null,null,null,null,null,null,null,null,null,"37 2","Difformité légère I"]
[null,null,null,null,null,null,null,null,null,null,null,null,null,null,null,null,null,null,null,null,null,null,null,null,null,null,null,null,null,null,null,null,null,null,null,null,null,null,null,null,null,null,null,null,null,null,null,null,null,null,null,"38 2","Difformité légère I"]
[null,null,null,null,null,null,null,null,null,null,null,null,null,null,null,null,null,null,null,null,null,null,null,null,null,null,null,null,null,null,null,null,null,null,null,null,null,null,null,null,null,null,null,null,null,null,null,null,null,null,null,"39 2","Difformité légère I"]
[null,null,null,null,null,null,null,null,null,null,null,null,null,null,null,null,null,null,null,null,null,null,null,null,null,null,null,null,null,null,null,null,null,null,null,null,null,null,null,null,null,null,null,null,null,null,null,null,null,null,null,"40 2","Difformité légère I"]
[null,null,null,null,null,null,null,null,null,null,null,null,null,null,null,null,null,null,null,null,null,null,null,null,null,null,null,null,null,null,null,null,null,null,null,null,null,null,null,null,null,null,null,null,null,null,null,null,null,null,null,"41 2","Difformité importante I"]
[null,null,null,null,null,null,null,null,null,null,null,null,null,null,null,null,null,null,null,null,null,null,null,null,null,null,null,null,null,null,null,null,null,null,null,null,null,null,null,null,null,null,null,null,null,null,null,null,null,null,null,"42 2","Difformité importante I"]
[null,null,null,null,null,null,null,null,null,null,null,null,null,null,null,null,null,null,null,null,null,null,null,null,null,null,null,null,null,null,null,null,null,null,null,null,null,null,null,null,null,null,null,null,null,null,null,null,null,null,null,"43 2","Difformité importante I"]
[null,null,null,null,null,null,null,null,null,null,null,null,null,null,null,null,null,null,null,null,null,null,null,null,null,null,null,null,null,null,null,null,null,null,null,null,null,null,null,null,null,null,null,null,null,null,null,null,null,null,null,"44 2","Empathie"]
[null,null,null,null,null,null,null,null,null,null,null,null,null,null,null,null,null,null,null,null,null,null,null,null,null,null,null,null,null,null,null,null,null,null,null,null,null,null,null,null,null,null,null,null,null,null,null,null,null,null,null,"45 2","Empathie"]
[null,null,null,null,null,null,null,null,null,null,null,null,null,null,null,null,null,null,null,null,null,null,null,null,null,null,null,null,null,null,null,null,null,null,null,null,null,null,null,null,null,null,null,null,null,null,null,null,null,null,null,"46 2","Empathie"]
[null,null,null,null,null,null,null,null,null,null,null,null,null,null,null,null,null,null,null,null,null,null,null,null,null,null,null,null,null,null,null,null,null,null,null,null,null,null,null,null,null,null,null,null,null,null,null,null,null,null,null,"47 2","Excroissance osseuse rétractable"]
[null,null,null,null,null,null,null,null,null,null,null,null,null,null,null,null,null,null,null,null,null,null,null,null,null,null,null,null,null,null,null,null,null,null,null,null,null,null,null,null,null,null,null,null,null,null,null,null,null,null,null,"48 2","Excroissance osseuse rétractable"]
[null,null,null,null,null,null,null,null,null,null,null,null,null,null,null,null,null,null,null,null,null,null,null,null,null,null,null,null,null,null,null,null,null,null,null,null,null,null,null,null,null,null,null,null,null,null,null,null,null,null,null,"49 2","Excroissance osseuse rétractable"]
[null,null,null,null,null,null,null,null,null,null,null,null,null,null,null,null,null,null,null,null,null,null,null,null,null,null,null,null,null,null,null,null,null,null,null,null,null,null,null,null,null,null,null,null,null,null,null,null,null,null,null,"50 2","Griffes"]
[null,null,null,null,null,null,null,null,null,null,null,null,null,null,null,null,null,null,null,null,null,null,null,null,null,null,null,null,null,null,null,null,null,null,null,null,null,null,null,null,null,null,null,null,null,null,null,null,null,null,null,"51 2","Griffes"]
[null,null,null,null,null,null,null,null,null,null,null,null,null,null,null,null,null,null,null,null,null,null,null,null,null,null,null,null,null,null,null,null,null,null,null,null,null,null,null,null,null,null,null,null,null,null,null,null,null,null,null,"52 2","Griffes"]
[null,null,null,null,null,null,null,null,null,null,null,null,null,null,null,null,null,null,null,null,null,null,null,null,null,null,null,null,null,null,null,null,null,null,null,null,null,null,null,null,null,null,null,null,null,null,null,null,null,null,null,"53 2","Instabilité moléculaire"]
[null,null,null,null,null,null,null,null,null,null,null,null,null,null,null,null,null,null,null,null,null,null,null,null,null,null,null,null,null,null,null,null,null,null,null,null,null,null,null,null,null,null,null,null,null,null,null,null,null,null,null,"54 2","Métamorphe"]
[null,null,null,null,null,null,null,null,null,null,null,null,null,null,null,null,null,null,null,null,null,null,null,null,null,null,null,null,null,null,null,null,null,null,null,null,null,null,null,null,null,null,null,null,null,null,null,null,null,null,null,"55 2","Métamorphe"]
[null,null,null,null,null,null,null,null,null,null,null,null,null,null,null,null,null,null,null,null,null,null,null,null,null,null,null,null,null,null,null,null,null,null,null,null,null,null,null,null,null,null,null,null,null,null,null,null,null,null,null,"56 2","Métamorphe"]
[null,null,null,null,null,null,null,null,null,null,null,null,null,null,null,null,null,null,null,null,null,null,null,null,null,null,null,null,null,null,null,null,null,null,null,null,null,null,null,null,null,null,null,null,null,null,null,null,null,null,null,"57 2","Organe sensoriel : nez atrophié"]
[null,null,null,null,null,null,null,null,null,null,null,null,null,null,null,null,null,null,null,null,null,null,null,null,null,null,null,null,null,null,null,null,null,null,null,null,null,null,null,null,null,null,null,null,null,null,null,null,null,null,null,"58 2","Organe sensoriel : nez atrophié"]
[null,null,null,null,null,null,null,null,null,null,null,null,null,null,null,null,null,null,null,null,null,null,null,null,null,null,null,null,null,null,null,null,null,null,null,null,null,null,null,null,null,null,null,null,null,null,null,null,null,null,null,"59 2","Organe sensoriel : odorat amélioré"]
[null,null,null,null,null,null,null,null,null,null,null,null,null,null,null,null,null,null,null,null,null,null,null,null,null,null,null,null,null,null,null,null,null,null,null,null,null,null,null,null,null,null,null,null,null,null,null,null,null,null,null,"60 2","Organe sensoriel : odorat amélioré"]
[null,null,null,null,null,null,null,null,null,null,null,null,null,null,null,null,null,null,null,null,null,null,null,null,null,null,null,null,null,null,null,null,null,null,null,null,null,null,null,null,null,null,null,null,null,null,null,null,null,null,null,"61 2","Parasite(s) I"]
[null,null,null,null,null,null,null,null,null,null,null,null,null,null,null,null,null,null,null,null,null,null,null,null,null,null,null,null,null,null,null,null,null,null,null,null,null,null,null,null,null,null,null,null,null,null,null,null,null,null,null,"62 2","Peau renforcée I"]
[null,null,null,null,null,null,null,null,null,null,null,null,null,null,null,null,null,null,null,null,null,null,null,null,null,null,null,null,null,null,null,null,null,null,null,null,null,null,null,null,null,null,null,null,null,null,null,null,null,null,null,"63 2","Peau renforcée I"]
[null,null,null,null,null,null,null,null,null,null,null,null,null,null,null,null,null,null,null,null,null,null,null,null,null,null,null,null,null,null,null,null,null,null,null,null,null,null,null,null,null,null,null,null,null,null,null,null,null,null,null,"64 2","Peau renforcée I"]
[null,null,null,null,null,null,null,null,null,null,null,null,null,null,null,null,null,null,null,null,null,null,null,null,null,null,null,null,null,null,null,null,null,null,null,null,null,null,null,null,null,null,null,null,null,null,null,null,null,null,null,{"$f":"CONCATENATE(AY246,\" 2\")","v":"65 2"},"Peau renforcée I"]
[null,null,null,null,null,null,null,null,null,null,null,null,null,null,null,null,null,null,null,null,null,null,null,null,null,null,null,null,null,null,null,null,null,null,null,null,null,null,null,null,null,null,null,null,null,null,null,null,null,null,null,"66 2","Peau renforcée I"]
[null,null,null,null,null,null,null,null,null,null,null,null,null,null,null,null,null,null,null,null,null,null,null,null,null,null,null,null,null,null,null,null,null,null,null,null,null,null,null,null,null,null,null,null,null,null,null,null,null,null,null,"67 2","Purulence I"]
[null,null,null,null,null,null,null,null,null,null,null,null,null,null,null,null,null,null,null,null,null,null,null,null,null,null,null,null,null,null,null,null,null,null,null,null,null,null,null,null,null,null,null,null,null,null,null,null,null,null,null,"68 2","Queue"]
[null,null,null,null,null,null,null,null,null,null,null,null,null,null,null,null,null,null,null,null,null,null,null,null,null,null,null,null,null,null,null,null,null,null,null,null,null,null,null,null,null,null,null,null,null,null,null,null,null,null,null,"69 2","Queue"]
[null,null,null,null,null,null,null,null,null,null,null,null,null,null,null,null,null,null,null,null,null,null,null,null,null,null,null,null,null,null,null,null,null,null,null,null,null,null,null,null,null,null,null,null,null,null,null,null,null,null,null,"70 2","Queue"]
[null,null,null,null,null,null,null,null,null,null,null,null,null,null,null,null,null,null,null,null,null,null,null,null,null,null,null,null,null,null,null,null,null,null,null,null,null,null,null,null,null,null,null,null,null,null,null,null,null,null,null,"71 2","Radiation I"]
[null,null,null,null,null,null,null,null,null,null,null,null,null,null,null,null,null,null,null,null,null,null,null,null,null,null,null,null,null,null,null,null,null,null,null,null,null,null,null,null,null,null,null,null,null,null,null,null,null,null,null,"72 2","Régénération I"]
[null,null,null,null,null,null,null,null,null,null,null,null,null,null,null,null,null,null,null,null,null,null,null,null,null,null,null,null,null,null,null,null,null,null,null,null,null,null,null,null,null,null,null,null,null,null,null,null,null,null,null,"73 2","Régénération I"]
[null,null,null,null,null,null,null,null,null,null,null,null,null,null,null,null,null,null,null,null,null,null,null,null,null,null,null,null,null,null,null,null,null,null,null,null,null,null,null,null,null,null,null,null,null,null,null,null,null,null,null,"74 2","Régénération I"]
[null,null,null,null,null,null,null,null,null,null,null,null,null,null,null,null,null,null,null,null,null,null,null,null,null,null,null,null,null,null,null,null,null,null,null,null,null,null,null,null,null,null,null,null,null,null,null,null,null,null,null,"75 2","Régénération I"]
[null,null,null,null,null,null,null,null,null,null,null,null,null,null,null,null,null,null,null,null,null,null,null,null,null,null,null,null,null,null,null,null,null,null,null,null,null,null,null,null,null,null,null,null,null,null,null,null,null,null,null,"76 2","Résistance naturelle : résistance au froid"]
[null,null,null,null,null,null,null,null,null,null,null,null,null,null,null,null,null,null,null,null,null,null,null,null,null,null,null,null,null,null,null,null,null,null,null,null,null,null,null,null,null,null,null,null,null,null,null,null,null,null,null,"77 2","Résistance naturelle : résistance au froid"]
[null,null,null,null,null,null,null,null,null,null,null,null,null,null,null,null,null,null,null,null,null,null,null,null,null,null,null,null,null,null,null,null,null,null,null,null,null,null,null,null,null,null,null,null,null,null,null,null,null,null,null,"78 2","Résistance naturelle : résistance au froid"]
[null,null,null,null,null,null,null,null,null,null,null,null,null,null,null,null,null,null,null,null,null,null,null,null,null,null,null,null,null,null,null,null,null,null,null,null,null,null,null,null,null,null,null,null,null,null,null,null,null,null,null,"79 2","Résistance naturelle : résistance au froid"]
[null,null,null,null,null,null,null,null,null,null,null,null,null,null,null,null,null,null,null,null,null,null,null,null,null,null,null,null,null,null,null,null,null,null,null,null,null,null,null,null,null,null,null,null,null,null,null,null,null,null,null,"80 2","Résistance naturelle : résistance au froid"]
[null,null,null,null,null,null,null,null,null,null,null,null,null,null,null,null,null,null,null,null,null,null,null,null,null,null,null,null,null,null,null,null,null,null,null,null,null,null,null,null,null,null,null,null,null,null,null,null,null,null,null,"81 2","Sixième sens"]
[null,null,null,null,null,null,null,null,null,null,null,null,null,null,null,null,null,null,null,null,null,null,null,null,null,null,null,null,null,null,null,null,null,null,null,null,null,null,null,null,null,null,null,null,null,null,null,null,null,null,null,"82 2","Sixième sens"]
[null,null,null,null,null,null,null,null,null,null,null,null,null,null,null,null,null,null,null,null,null,null,null,null,null,null,null,null,null,null,null,null,null,null,null,null,null,null,null,null,null,null,null,null,null,null,null,null,null,null,null,"83 2","Sixième sens"]
[null,null,null,null,null,null,null,null,null,null,null,null,null,null,null,null,null,null,null,null,null,null,null,null,null,null,null,null,null,null,null,null,null,null,null,null,null,null,null,null,null,null,null,null,null,null,null,null,null,null,null,"84 2","Sixième sens"]
[null,null,null,null,null,null,null,null,null,null,null,null,null,null,null,null,null,null,null,null,null,null,null,null,null,null,null,null,null,null,null,null,null,null,null,null,null,null,null,null,null,null,null,null,null,null,null,null,null,null,null,"85 2","Sixième sens"]
[null,null,null,null,null,null,null,null,null,null,null,null,null,null,null,null,null,null,null,null,null,null,null,null,null,null,null,null,null,null,null,null,null,null,null,null,null,null,null,null,null,null,null,null,null,null,null,null,null,null,null,"86 2","Sonar"]
[null,null,null,null,null,null,null,null,null,null,null,null,null,null,null,null,null,null,null,null,null,null,null,null,null,null,null,null,null,null,null,null,null,null,null,null,null,null,null,null,null,null,null,null,null,null,null,null,null,null,null,{"$f":"CONCATENATE(AY268,\" 2\")","v":"87 2"},"Sonar"]
[null,null,null,null,null,null,null,null,null,null,null,null,null,null,null,null,null,null,null,null,null,null,null,null,null,null,null,null,null,null,null,null,null,null,null,null,null,null,null,null,null,null,null,null,null,null,null,null,null,null,null,"88 2","Sonar"]
[null,null,null,null,null,null,null,null,null,null,null,null,null,null,null,null,null,null,null,null,null,null,null,null,null,null,null,null,null,null,null,null,null,null,null,null,null,null,null,null,null,null,null,null,null,null,null,null,null,null,null,"89 2","Squelette renforcé I"]
[null,null,null,null,null,null,null,null,null,null,null,null,null,null,null,null,null,null,null,null,null,null,null,null,null,null,null,null,null,null,null,null,null,null,null,null,null,null,null,null,null,null,null,null,null,null,null,null,null,null,null,"90 2","Symbiote(s) I"]
[null,null,null,null,null,null,null,null,null,null,null,null,null,null,null,null,null,null,null,null,null,null,null,null,null,null,null,null,null,null,null,null,null,null,null,null,null,null,null,null,null,null,null,null,null,null,null,null,null,null,null,"91 2","Symbiote(s) I"]
[null,null,null,null,null,null,null,null,null,null,null,null,null,null,null,null,null,null,null,null,null,null,null,null,null,null,null,null,null,null,null,null,null,null,null,null,null,null,null,null,null,null,null,null,null,null,null,null,null,null,null,"92 2","Symbiote(s) I"]
[null,null,null,null,null,null,null,null,null,null,null,null,null,null,null,null,null,null,null,null,null,null,null,null,null,null,null,null,null,null,null,null,null,null,null,null,null,null,null,null,null,null,null,null,null,null,null,null,null,null,null,"93 2","Tentacule rétractable"]
[null,null,null,null,null,null,null,null,null,null,null,null,null,null,null,null,null,null,null,null,null,null,null,null,null,null,null,null,null,null,null,null,null,null,null,null,null,null,null,null,null,null,null,null,null,null,null,null,null,null,null,"94 2","Tentacule rétractable"]
[null,null,null,null,null,null,null,null,null,null,null,null,null,null,null,null,null,null,null,null,null,null,null,null,null,null,null,null,null,null,null,null,null,null,null,null,null,null,null,null,null,null,null,null,null,null,null,null,null,null,null,"95 2","Tentacule rétractable"]
[null,null,null,null,null,null,null,null,null,null,null,null,null,null,null,null,null,null,null,null,null,null,null,null,null,null,null,null,null,null,null,null,null,null,null,null,null,null,null,null,null,null,null,null,null,null,null,null,null,null,null,"96 2","Vision nocturne"]
[null,null,null,null,null,null,null,null,null,null,null,null,null,null,null,null,null,null,null,null,null,null,null,null,null,null,null,null,null,null,null,null,null,null,null,null,null,null,null,null,null,null,null,null,null,null,null,null,null,null,null,"97 2","Vision nocturne"]
[null,null,null,null,null,null,null,null,null,null,null,null,null,null,null,null,null,null,null,null,null,null,null,null,null,null,null,null,null,null,null,null,null,null,null,null,null,null,null,null,null,null,null,null,null,null,null,null,null,null,null,"98 2","Vision nocturne"]
[null,null,null,null,null,null,null,null,null,null,null,null,null,null,null,null,null,null,null,null,null,null,null,null,null,null,null,null,null,null,null,null,null,null,null,null,null,null,null,null,null,null,null,null,null,null,null,null,null,null,null,"99 2","Vision nocturne"]
[null,null,null,null,null,null,null,null,null,null,null,null,null,null,null,null,null,null,null,null,null,null,null,null,null,null,null,null,null,null,null,null,null,null,null,null,null,null,null,null,null,null,null,null,null,null,null,null,null,null,null,"00 2","Vision nocturne"]
[null,null,null,null,null,null,null,null,null,null,null,null,null,null,null,null,null,null,null,null,null,null,null,null,null,null,null,null,null,null,null,null,null,null,null,null,null,null,null,null,null,null,null,null,null,null,null,null,null,null,null,{"$f":"CONCATENATE(AY182,\" 3\")","v":"1 3"},"Adaptation extérieure"]
[null,null,null,null,null,null,null,null,null,null,null,null,null,null,null,null,null,null,null,null,null,null,null,null,null,null,null,null,null,null,null,null,null,null,null,null,null,null,null,null,null,null,null,null,null,null,null,null,null,null,null,"2 3","Adaptation extérieure"]
[null,null,null,null,null,null,null,null,null,null,null,null,null,null,null,null,null,null,null,null,null,null,null,null,null,null,null,null,null,null,null,null,null,null,null,null,null,null,null,null,null,null,null,null,null,null,null,null,null,null,null,"3 3","Adaptation extérieure"]
[null,null,null,null,null,null,null,null,null,null,null,null,null,null,null,null,null,null,null,null,null,null,null,null,null,null,null,null,null,null,null,null,null,null,null,null,null,null,null,null,null,null,null,null,null,null,null,null,null,null,null,"4 3","Adaptation extérieure"]
[null,null,null,null,null,null,null,null,null,null,null,null,null,null,null,null,null,null,null,null,null,null,null,null,null,null,null,null,null,null,null,null,null,null,null,null,null,null,null,null,null,null,null,null,null,null,null,null,null,null,null,"5 3","Adaptation extérieure"]
[null,null,null,null,null,null,null,null,null,null,null,null,null,null,null,null,null,null,null,null,null,null,null,null,null,null,null,null,null,null,null,null,null,null,null,null,null,null,null,null,null,null,null,null,null,null,null,null,null,null,null,"6 3","Adaptation extérieure"]
[null,null,null,null,null,null,null,null,null,null,null,null,null,null,null,null,null,null,null,null,null,null,null,null,null,null,null,null,null,null,null,null,null,null,null,null,null,null,null,null,null,null,null,null,null,null,null,null,null,null,null,"7 3","Amphibie"]
[null,null,null,null,null,null,null,null,null,null,null,null,null,null,null,null,null,null,null,null,null,null,null,null,null,null,null,null,null,null,null,null,null,null,null,null,null,null,null,null,null,null,null,null,null,null,null,null,null,null,null,"8 3","Amphibie"]
[null,null,null,null,null,null,null,null,null,null,null,null,null,null,null,null,null,null,null,null,null,null,null,null,null,null,null,null,null,null,null,null,null,null,null,null,null,null,null,null,null,null,null,null,null,null,null,null,null,null,null,"9 3","Amphibie"]
[null,null,null,null,null,null,null,null,null,null,null,null,null,null,null,null,null,null,null,null,null,null,null,null,null,null,null,null,null,null,null,null,null,null,null,null,null,null,null,null,null,null,null,null,null,null,null,null,null,null,null,"10 3","Amphibie"]
[null,null,null,null,null,null,null,null,null,null,null,null,null,null,null,null,null,null,null,null,null,null,null,null,null,null,null,null,null,null,null,null,null,null,null,null,null,null,null,null,null,null,null,null,null,null,null,null,null,null,null,"11 3","Androgyne"]
[null,null,null,null,null,null,null,null,null,null,null,null,null,null,null,null,null,null,null,null,null,null,null,null,null,null,null,null,null,null,null,null,null,null,null,null,null,null,null,null,null,null,null,null,null,null,null,null,null,null,null,"12 3","Androgyne"]
[null,null,null,null,null,null,null,null,null,null,null,null,null,null,null,null,null,null,null,null,null,null,null,null,null,null,null,null,null,null,null,null,null,null,null,null,null,null,null,null,null,null,null,null,null,null,null,null,null,null,null,"13 3","Androgyne"]
[null,null,null,null,null,null,null,null,null,null,null,null,null,null,null,null,null,null,null,null,null,null,null,null,null,null,null,null,null,null,null,null,null,null,null,null,null,null,null,null,null,null,null,null,null,null,null,null,null,null,null,"14 3","Asexué"]
[null,null,null,null,null,null,null,null,null,null,null,null,null,null,null,null,null,null,null,null,null,null,null,null,null,null,null,null,null,null,null,null,null,null,null,null,null,null,null,null,null,null,null,null,null,null,null,null,null,null,null,"15 3","Asexué"]
[null,null,null,null,null,null,null,null,null,null,null,null,null,null,null,null,null,null,null,null,null,null,null,null,null,null,null,null,null,null,null,null,null,null,null,null,null,null,null,null,null,null,null,null,null,null,null,null,null,null,null,"16 3","Asexué"]
[null,null,null,null,null,null,null,null,null,null,null,null,null,null,null,null,null,null,null,null,null,null,null,null,null,null,null,null,null,null,null,null,null,null,null,null,null,null,null,null,null,null,null,null,null,null,null,null,null,null,null,"17 3","Autofécondation"]
[null,null,null,null,null,null,null,null,null,null,null,null,null,null,null,null,null,null,null,null,null,null,null,null,null,null,null,null,null,null,null,null,null,null,null,null,null,null,null,null,null,null,null,null,null,null,null,null,null,null,null,"18 3","Autofécondation"]
[null,null,null,null,null,null,null,null,null,null,null,null,null,null,null,null,null,null,null,null,null,null,null,null,null,null,null,null,null,null,null,null,null,null,null,null,null,null,null,null,null,null,null,null,null,null,null,null,null,null,null,"19 3","Autofécondation"]
[null,null,null,null,null,null,null,null,null,null,null,null,null,null,null,null,null,null,null,null,null,null,null,null,null,null,null,null,null,null,null,null,null,null,null,null,null,null,null,null,null,null,null,null,null,null,null,null,null,null,null,"20 3","Caractère génétique animal : reptilien"]
[null,null,null,null,null,null,null,null,null,null,null,null,null,null,null,null,null,null,null,null,null,null,null,null,null,null,null,null,null,null,null,null,null,null,null,null,null,null,null,null,null,null,null,null,null,null,null,null,null,null,null,"21 3","Caractère génétique animal : reptilien"]
[null,null,null,null,null,null,null,null,null,null,null,null,null,null,null,null,null,null,null,null,null,null,null,null,null,null,null,null,null,null,null,null,null,null,null,null,null,null,null,null,null,null,null,null,null,null,null,null,null,null,null,"22 3","Caractère génétique animal : reptilien"]
[null,null,null,null,null,null,null,null,null,null,null,null,null,null,null,null,null,null,null,null,null,null,null,null,null,null,null,null,null,null,null,null,null,null,null,null,null,null,null,null,null,null,null,null,null,null,null,null,null,null,null,"23 3","Caractère génétique animal : reptilien"]
[null,null,null,null,null,null,null,null,null,null,null,null,null,null,null,null,null,null,null,null,null,null,null,null,null,null,null,null,null,null,null,null,null,null,null,null,null,null,null,null,null,null,null,null,null,null,null,null,null,null,null,"24 3","Contact corrosif I"]
[null,null,null,null,null,null,null,null,null,null,null,null,null,null,null,null,null,null,null,null,null,null,null,null,null,null,null,null,null,null,null,null,null,null,null,null,null,null,null,null,null,null,null,null,null,null,null,null,null,null,null,"25 3","Contact corrosif I"]
[null,null,null,null,null,null,null,null,null,null,null,null,null,null,null,null,null,null,null,null,null,null,null,null,null,null,null,null,null,null,null,null,null,null,null,null,null,null,null,null,null,null,null,null,null,null,null,null,null,null,null,"26 3","Contagion"]
[null,null,null,null,null,null,null,null,null,null,null,null,null,null,null,null,null,null,null,null,null,null,null,null,null,null,null,null,null,null,null,null,null,null,null,null,null,null,null,null,null,null,null,null,null,null,null,null,null,null,null,"27 3","Contagion"]
[null,null,null,null,null,null,null,null,null,null,null,null,null,null,null,null,null,null,null,null,null,null,null,null,null,null,null,null,null,null,null,null,null,null,null,null,null,null,null,null,null,null,null,null,null,null,null,null,null,null,null,"28 3","Corne"]
[null,null,null,null,null,null,null,null,null,null,null,null,null,null,null,null,null,null,null,null,null,null,null,null,null,null,null,null,null,null,null,null,null,null,null,null,null,null,null,null,null,null,null,null,null,null,null,null,null,null,null,"29 3","Corne"]
[null,null,null,null,null,null,null,null,null,null,null,null,null,null,null,null,null,null,null,null,null,null,null,null,null,null,null,null,null,null,null,null,null,null,null,null,null,null,null,null,null,null,null,null,null,null,null,null,null,null,null,"30 3","Corne"]
[null,null,null,null,null,null,null,null,null,null,null,null,null,null,null,null,null,null,null,null,null,null,null,null,null,null,null,null,null,null,null,null,null,null,null,null,null,null,null,null,null,null,null,null,null,null,null,null,null,null,null,"31 3","Crocs"]
[null,null,null,null,null,null,null,null,null,null,null,null,null,null,null,null,null,null,null,null,null,null,null,null,null,null,null,null,null,null,null,null,null,null,null,null,null,null,null,null,null,null,null,null,null,null,null,null,null,null,null,"32 3","Crocs"]
[null,null,null,null,null,null,null,null,null,null,null,null,null,null,null,null,null,null,null,null,null,null,null,null,null,null,null,null,null,null,null,null,null,null,null,null,null,null,null,null,null,null,null,null,null,null,null,null,null,null,null,{"$f":"CONCATENATE(AY214,\" 3\")","v":"33 3"},"Crocs"]
[null,null,null,null,null,null,null,null,null,null,null,null,null,null,null,null,null,null,null,null,null,null,null,null,null,null,null,null,null,null,null,null,null,null,null,null,null,null,null,null,null,null,null,null,null,null,null,null,null,null,null,"34 3","Crocs"]
[null,null,null,null,null,null,null,null,null,null,null,null,null,null,null,null,null,null,null,null,null,null,null,null,null,null,null,null,null,null,null,null,null,null,null,null,null,null,null,null,null,null,null,null,null,null,null,null,null,null,null,"35 3","Crocs"]
[null,null,null,null,null,null,null,null,null,null,null,null,null,null,null,null,null,null,null,null,null,null,null,null,null,null,null,null,null,null,null,null,null,null,null,null,null,null,null,null,null,null,null,null,null,null,null,null,null,null,null,"36 3","Difformité légère I"]
[null,null,null,null,null,null,null,null,null,null,null,null,null,null,null,null,null,null,null,null,null,null,null,null,null,null,null,null,null,null,null,null,null,null,null,null,null,null,null,null,null,null,null,null,null,null,null,null,null,null,null,"37 3","Difformité légère I"]
[null,null,null,null,null,null,null,null,null,null,null,null,null,null,null,null,null,null,null,null,null,null,null,null,null,null,null,null,null,null,null,null,null,null,null,null,null,null,null,null,null,null,null,null,null,null,null,null,null,null,null,"38 3","Difformité légère I"]
[null,null,null,null,null,null,null,null,null,null,null,null,null,null,null,null,null,null,null,null,null,null,null,null,null,null,null,null,null,null,null,null,null,null,null,null,null,null,null,null,null,null,null,null,null,null,null,null,null,null,null,"39 3","Difformité légère I"]
[null,null,null,null,null,null,null,null,null,null,null,null,null,null,null,null,null,null,null,null,null,null,null,null,null,null,null,null,null,null,null,null,null,null,null,null,null,null,null,null,null,null,null,null,null,null,null,null,null,null,null,"40 3","Difformité légère I"]
[null,null,null,null,null,null,null,null,null,null,null,null,null,null,null,null,null,null,null,null,null,null,null,null,null,null,null,null,null,null,null,null,null,null,null,null,null,null,null,null,null,null,null,null,null,null,null,null,null,null,null,"41 3","Difformité importante I"]
[null,null,null,null,null,null,null,null,null,null,null,null,null,null,null,null,null,null,null,null,null,null,null,null,null,null,null,null,null,null,null,null,null,null,null,null,null,null,null,null,null,null,null,null,null,null,null,null,null,null,null,"42 3","Difformité importante I"]
[null,null,null,null,null,null,null,null,null,null,null,null,null,null,null,null,null,null,null,null,null,null,null,null,null,null,null,null,null,null,null,null,null,null,null,null,null,null,null,null,null,null,null,null,null,null,null,null,null,null,null,"43 3","Difformité importante I"]
[null,null,null,null,null,null,null,null,null,null,null,null,null,null,null,null,null,null,null,null,null,null,null,null,null,null,null,null,null,null,null,null,null,null,null,null,null,null,null,null,null,null,null,null,null,null,null,null,null,null,null,"44 3","Empathie"]
[null,null,null,null,null,null,null,null,null,null,null,null,null,null,null,null,null,null,null,null,null,null,null,null,null,null,null,null,null,null,null,null,null,null,null,null,null,null,null,null,null,null,null,null,null,null,null,null,null,null,null,"45 3","Empathie"]
[null,null,null,null,null,null,null,null,null,null,null,null,null,null,null,null,null,null,null,null,null,null,null,null,null,null,null,null,null,null,null,null,null,null,null,null,null,null,null,null,null,null,null,null,null,null,null,null,null,null,null,"46 3","Empathie"]
[null,null,null,null,null,null,null,null,null,null,null,null,null,null,null,null,null,null,null,null,null,null,null,null,null,null,null,null,null,null,null,null,null,null,null,null,null,null,null,null,null,null,null,null,null,null,null,null,null,null,null,"47 3","Excroissance osseuse rétractable"]
[null,null,null,null,null,null,null,null,null,null,null,null,null,null,null,null,null,null,null,null,null,null,null,null,null,null,null,null,null,null,null,null,null,null,null,null,null,null,null,null,null,null,null,null,null,null,null,null,null,null,null,"48 3","Excroissance osseuse rétractable"]
[null,null,null,null,null,null,null,null,null,null,null,null,null,null,null,null,null,null,null,null,null,null,null,null,null,null,null,null,null,null,null,null,null,null,null,null,null,null,null,null,null,null,null,null,null,null,null,null,null,null,null,"49 3","Excroissance osseuse rétractable"]
[null,null,null,null,null,null,null,null,null,null,null,null,null,null,null,null,null,null,null,null,null,null,null,null,null,null,null,null,null,null,null,null,null,null,null,null,null,null,null,null,null,null,null,null,null,null,null,null,null,null,null,"50 3","Griffes"]
[null,null,null,null,null,null,null,null,null,null,null,null,null,null,null,null,null,null,null,null,null,null,null,null,null,null,null,null,null,null,null,null,null,null,null,null,null,null,null,null,null,null,null,null,null,null,null,null,null,null,null,"51 3","Griffes"]
[null,null,null,null,null,null,null,null,null,null,null,null,null,null,null,null,null,null,null,null,null,null,null,null,null,null,null,null,null,null,null,null,null,null,null,null,null,null,null,null,null,null,null,null,null,null,null,null,null,null,null,"52 3","Griffes"]
[null,null,null,null,null,null,null,null,null,null,null,null,null,null,null,null,null,null,null,null,null,null,null,null,null,null,null,null,null,null,null,null,null,null,null,null,null,null,null,null,null,null,null,null,null,null,null,null,null,null,null,"53 3","Instabilité moléculaire"]
[null,null,null,null,null,null,null,null,null,null,null,null,null,null,null,null,null,null,null,null,null,null,null,null,null,null,null,null,null,null,null,null,null,null,null,null,null,null,null,null,null,null,null,null,null,null,null,null,null,null,null,"54 3","Métamorphe"]
[null,null,null,null,null,null,null,null,null,null,null,null,null,null,null,null,null,null,null,null,null,null,null,null,null,null,null,null,null,null,null,null,null,null,null,null,null,null,null,null,null,null,null,null,null,null,null,null,null,null,null,"55 3","Métamorphe"]
[null,null,null,null,null,null,null,null,null,null,null,null,null,null,null,null,null,null,null,null,null,null,null,null,null,null,null,null,null,null,null,null,null,null,null,null,null,null,null,null,null,null,null,null,null,null,null,null,null,null,null,"56 3","Métamorphe"]
[null,null,null,null,null,null,null,null,null,null,null,null,null,null,null,null,null,null,null,null,null,null,null,null,null,null,null,null,null,null,null,null,null,null,null,null,null,null,null,null,null,null,null,null,null,null,null,null,null,null,null,"57 3","Organe sensoriel : sens du toucher atrophié"]
[null,null,null,null,null,null,null,null,null,null,null,null,null,null,null,null,null,null,null,null,null,null,null,null,null,null,null,null,null,null,null,null,null,null,null,null,null,null,null,null,null,null,null,null,null,null,null,null,null,null,null,"58 3","Organe sensoriel : sens du toucher atrophié"]
[null,null,null,null,null,null,null,null,null,null,null,null,null,null,null,null,null,null,null,null,null,null,null,null,null,null,null,null,null,null,null,null,null,null,null,null,null,null,null,null,null,null,null,null,null,null,null,null,null,null,null,"59 3","Organe sensoriel : toucher amélioré"]
[null,null,null,null,null,null,null,null,null,null,null,null,null,null,null,null,null,null,null,null,null,null,null,null,null,null,null,null,null,null,null,null,null,null,null,null,null,null,null,null,null,null,null,null,null,null,null,null,null,null,null,"60 3","Organe sensoriel : toucher amélioré"]
[null,null,null,null,null,null,null,null,null,null,null,null,null,null,null,null,null,null,null,null,null,null,null,null,null,null,null,null,null,null,null,null,null,null,null,null,null,null,null,null,null,null,null,null,null,null,null,null,null,null,null,"61 3","Parasite(s) I"]
[null,null,null,null,null,null,null,null,null,null,null,null,null,null,null,null,null,null,null,null,null,null,null,null,null,null,null,null,null,null,null,null,null,null,null,null,null,null,null,null,null,null,null,null,null,null,null,null,null,null,null,"62 3","Peau renforcée I"]
[null,null,null,null,null,null,null,null,null,null,null,null,null,null,null,null,null,null,null,null,null,null,null,null,null,null,null,null,null,null,null,null,null,null,null,null,null,null,null,null,null,null,null,null,null,null,null,null,null,null,null,"63 3","Peau renforcée I"]
[null,null,null,null,null,null,null,null,null,null,null,null,null,null,null,null,null,null,null,null,null,null,null,null,null,null,null,null,null,null,null,null,null,null,null,null,null,null,null,null,null,null,null,null,null,null,null,null,null,null,null,"64 3","Peau renforcée I"]
[null,null,null,null,null,null,null,null,null,null,null,null,null,null,null,null,null,null,null,null,null,null,null,null,null,null,null,null,null,null,null,null,null,null,null,null,null,null,null,null,null,null,null,null,null,null,null,null,null,null,null,{"$f":"CONCATENATE(AY246,\" 3\")","v":"65 3"},"Peau renforcée I"]
[null,null,null,null,null,null,null,null,null,null,null,null,null,null,null,null,null,null,null,null,null,null,null,null,null,null,null,null,null,null,null,null,null,null,null,null,null,null,null,null,null,null,null,null,null,null,null,null,null,null,null,"66 3","Peau renforcée I"]
[null,null,null,null,null,null,null,null,null,null,null,null,null,null,null,null,null,null,null,null,null,null,null,null,null,null,null,null,null,null,null,null,null,null,null,null,null,null,null,null,null,null,null,null,null,null,null,null,null,null,null,"67 3","Purulence I"]
[null,null,null,null,null,null,null,null,null,null,null,null,null,null,null,null,null,null,null,null,null,null,null,null,null,null,null,null,null,null,null,null,null,null,null,null,null,null,null,null,null,null,null,null,null,null,null,null,null,null,null,"68 3","Queue"]
[null,null,null,null,null,null,null,null,null,null,null,null,null,null,null,null,null,null,null,null,null,null,null,null,null,null,null,null,null,null,null,null,null,null,null,null,null,null,null,null,null,null,null,null,null,null,null,null,null,null,null,"69 3","Queue"]
[null,null,null,null,null,null,null,null,null,null,null,null,null,null,null,null,null,null,null,null,null,null,null,null,null,null,null,null,null,null,null,null,null,null,null,null,null,null,null,null,null,null,null,null,null,null,null,null,null,null,null,"70 3","Queue"]
[null,null,null,null,null,null,null,null,null,null,null,null,null,null,null,null,null,null,null,null,null,null,null,null,null,null,null,null,null,null,null,null,null,null,null,null,null,null,null,null,null,null,null,null,null,null,null,null,null,null,null,"71 3","Radiation I"]
[null,null,null,null,null,null,null,null,null,null,null,null,null,null,null,null,null,null,null,null,null,null,null,null,null,null,null,null,null,null,null,null,null,null,null,null,null,null,null,null,null,null,null,null,null,null,null,null,null,null,null,"72 3","Régénération I"]
[null,null,null,null,null,null,null,null,null,null,null,null,null,null,null,null,null,null,null,null,null,null,null,null,null,null,null,null,null,null,null,null,null,null,null,null,null,null,null,null,null,null,null,null,null,null,null,null,null,null,null,"73 3","Régénération I"]
[null,null,null,null,null,null,null,null,null,null,null,null,null,null,null,null,null,null,null,null,null,null,null,null,null,null,null,null,null,null,null,null,null,null,null,null,null,null,null,null,null,null,null,null,null,null,null,null,null,null,null,"74 3","Régénération I"]
[null,null,null,null,null,null,null,null,null,null,null,null,null,null,null,null,null,null,null,null,null,null,null,null,null,null,null,null,null,null,null,null,null,null,null,null,null,null,null,null,null,null,null,null,null,null,null,null,null,null,null,"75 3","Régénération I"]
[null,null,null,null,null,null,null,null,null,null,null,null,null,null,null,null,null,null,null,null,null,null,null,null,null,null,null,null,null,null,null,null,null,null,null,null,null,null,null,null,null,null,null,null,null,null,null,null,null,null,null,"76 3","Résistance naturelle : résistance aux drogues I"]
[null,null,null,null,null,null,null,null,null,null,null,null,null,null,null,null,null,null,null,null,null,null,null,null,null,null,null,null,null,null,null,null,null,null,null,null,null,null,null,null,null,null,null,null,null,null,null,null,null,null,null,"77 3","Résistance naturelle : résistance aux drogues I"]
[null,null,null,null,null,null,null,null,null,null,null,null,null,null,null,null,null,null,null,null,null,null,null,null,null,null,null,null,null,null,null,null,null,null,null,null,null,null,null,null,null,null,null,null,null,null,null,null,null,null,null,"78 3","Résistance naturelle : résistance aux drogues I"]
[null,null,null,null,null,null,null,null,null,null,null,null,null,null,null,null,null,null,null,null,null,null,null,null,null,null,null,null,null,null,null,null,null,null,null,null,null,null,null,null,null,null,null,null,null,null,null,null,null,null,null,"79 3","Résistance naturelle : résistance aux drogues I"]
[null,null,null,null,null,null,null,null,null,null,null,null,null,null,null,null,null,null,null,null,null,null,null,null,null,null,null,null,null,null,null,null,null,null,null,null,null,null,null,null,null,null,null,null,null,null,null,null,null,null,null,"80 3","Résistance naturelle : résistance aux drogues I"]
[null,null,null,null,null,null,null,null,null,null,null,null,null,null,null,null,null,null,null,null,null,null,null,null,null,null,null,null,null,null,null,null,null,null,null,null,null,null,null,null,null,null,null,null,null,null,null,null,null,null,null,"81 3","Sixième sens"]
[null,null,null,null,null,null,null,null,null,null,null,null,null,null,null,null,null,null,null,null,null,null,null,null,null,null,null,null,null,null,null,null,null,null,null,null,null,null,null,null,null,null,null,null,null,null,null,null,null,null,null,"82 3","Sixième sens"]
[null,null,null,null,null,null,null,null,null,null,null,null,null,null,null,null,null,null,null,null,null,null,null,null,null,null,null,null,null,null,null,null,null,null,null,null,null,null,null,null,null,null,null,null,null,null,null,null,null,null,null,"83 3","Sixième sens"]
[null,null,null,null,null,null,null,null,null,null,null,null,null,null,null,null,null,null,null,null,null,null,null,null,null,null,null,null,null,null,null,null,null,null,null,null,null,null,null,null,null,null,null,null,null,null,null,null,null,null,null,"84 3","Sixième sens"]
[null,null,null,null,null,null,null,null,null,null,null,null,null,null,null,null,null,null,null,null,null,null,null,null,null,null,null,null,null,null,null,null,null,null,null,null,null,null,null,null,null,null,null,null,null,null,null,null,null,null,null,"85 3","Sixième sens"]
[null,null,null,null,null,null,null,null,null,null,null,null,null,null,null,null,null,null,null,null,null,null,null,null,null,null,null,null,null,null,null,null,null,null,null,null,null,null,null,null,null,null,null,null,null,null,null,null,null,null,null,"86 3","Sonar"]
[null,null,null,null,null,null,null,null,null,null,null,null,null,null,null,null,null,null,null,null,null,null,null,null,null,null,null,null,null,null,null,null,null,null,null,null,null,null,null,null,null,null,null,null,null,null,null,null,null,null,null,{"$f":"CONCATENATE(AY268,\" 3\")","v":"87 3"},"Sonar"]
[null,null,null,null,null,null,null,null,null,null,null,null,null,null,null,null,null,null,null,null,null,null,null,null,null,null,null,null,null,null,null,null,null,null,null,null,null,null,null,null,null,null,null,null,null,null,null,null,null,null,null,"88 3","Sonar"]
[null,null,null,null,null,null,null,null,null,null,null,null,null,null,null,null,null,null,null,null,null,null,null,null,null,null,null,null,null,null,null,null,null,null,null,null,null,null,null,null,null,null,null,null,null,null,null,null,null,null,null,"89 3","Squelette renforcé I"]
[null,null,null,null,null,null,null,null,null,null,null,null,null,null,null,null,null,null,null,null,null,null,null,null,null,null,null,null,null,null,null,null,null,null,null,null,null,null,null,null,null,null,null,null,null,null,null,null,null,null,null,"90 3","Symbiote(s) I"]
[null,null,null,null,null,null,null,null,null,null,null,null,null,null,null,null,null,null,null,null,null,null,null,null,null,null,null,null,null,null,null,null,null,null,null,null,null,null,null,null,null,null,null,null,null,null,null,null,null,null,null,"91 3","Symbiote(s) I"]
[null,null,null,null,null,null,null,null,null,null,null,null,null,null,null,null,null,null,null,null,null,null,null,null,null,null,null,null,null,null,null,null,null,null,null,null,null,null,null,null,null,null,null,null,null,null,null,null,null,null,null,"92 3","Symbiote(s) I"]
[null,null,null,null,null,null,null,null,null,null,null,null,null,null,null,null,null,null,null,null,null,null,null,null,null,null,null,null,null,null,null,null,null,null,null,null,null,null,null,null,null,null,null,null,null,null,null,null,null,null,null,"93 3","Tentacule rétractable"]
[null,null,null,null,null,null,null,null,null,null,null,null,null,null,null,null,null,null,null,null,null,null,null,null,null,null,null,null,null,null,null,null,null,null,null,null,null,null,null,null,null,null,null,null,null,null,null,null,null,null,null,"94 3","Tentacule rétractable"]
[null,null,null,null,null,null,null,null,null,null,null,null,null,null,null,null,null,null,null,null,null,null,null,null,null,null,null,null,null,null,null,null,null,null,null,null,null,null,null,null,null,null,null,null,null,null,null,null,null,null,null,"95 3","Tentacule rétractable"]
[null,null,null,null,null,null,null,null,null,null,null,null,null,null,null,null,null,null,null,null,null,null,null,null,null,null,null,null,null,null,null,null,null,null,null,null,null,null,null,null,null,null,null,null,null,null,null,null,null,null,null,"96 3","Vision nocturne"]
[null,null,null,null,null,null,null,null,null,null,null,null,null,null,null,null,null,null,null,null,null,null,null,null,null,null,null,null,null,null,null,null,null,null,null,null,null,null,null,null,null,null,null,null,null,null,null,null,null,null,null,"97 3","Vision nocturne"]
[null,null,null,null,null,null,null,null,null,null,null,null,null,null,null,null,null,null,null,null,null,null,null,null,null,null,null,null,null,null,null,null,null,null,null,null,null,null,null,null,null,null,null,null,null,null,null,null,null,null,null,"98 3","Vision nocturne"]
[null,null,null,null,null,null,null,null,null,null,null,null,null,null,null,null,null,null,null,null,null,null,null,null,null,null,null,null,null,null,null,null,null,null,null,null,null,null,null,null,null,null,null,null,null,null,null,null,null,null,null,"99 3","Vision nocturne"]
[null,null,null,null,null,null,null,null,null,null,null,null,null,null,null,null,null,null,null,null,null,null,null,null,null,null,null,null,null,null,null,null,null,null,null,null,null,null,null,null,null,null,null,null,null,null,null,null,null,null,null,"00 3","Vision nocturne"]
[null,null,null,null,null,null,null,null,null,null,null,null,null,null,null,null,null,null,null,null,null,null,null,null,null,null,null,null,null,null,null,null,null,null,null,null,null,null,null,null,null,null,null,null,null,null,null,null,null,null,null,{"$f":"CONCATENATE(AY182,\" 4\")","v":"1 4"},"Adaptation extérieure"]
[null,null,null,null,null,null,null,null,null,null,null,null,null,null,null,null,null,null,null,null,null,null,null,null,null,null,null,null,null,null,null,null,null,null,null,null,null,null,null,null,null,null,null,null,null,null,null,null,null,null,null,"2 4","Adaptation extérieure"]
[null,null,null,null,null,null,null,null,null,null,null,null,null,null,null,null,null,null,null,null,null,null,null,null,null,null,null,null,null,null,null,null,null,null,null,null,null,null,null,null,null,null,null,null,null,null,null,null,null,null,null,"3 4","Adaptation extérieure"]
[null,null,null,null,null,null,null,null,null,null,null,null,null,null,null,null,null,null,null,null,null,null,null,null,null,null,null,null,null,null,null,null,null,null,null,null,null,null,null,null,null,null,null,null,null,null,null,null,null,null,null,"4 4","Adaptation extérieure"]
[null,null,null,null,null,null,null,null,null,null,null,null,null,null,null,null,null,null,null,null,null,null,null,null,null,null,null,null,null,null,null,null,null,null,null,null,null,null,null,null,null,null,null,null,null,null,null,null,null,null,null,"5 4","Adaptation extérieure"]
[null,null,null,null,null,null,null,null,null,null,null,null,null,null,null,null,null,null,null,null,null,null,null,null,null,null,null,null,null,null,null,null,null,null,null,null,null,null,null,null,null,null,null,null,null,null,null,null,null,null,null,"6 4","Adaptation extérieure"]
[null,null,null,null,null,null,null,null,null,null,null,null,null,null,null,null,null,null,null,null,null,null,null,null,null,null,null,null,null,null,null,null,null,null,null,null,null,null,null,null,null,null,null,null,null,null,null,null,null,null,null,"7 4","Amphibie"]
[null,null,null,null,null,null,null,null,null,null,null,null,null,null,null,null,null,null,null,null,null,null,null,null,null,null,null,null,null,null,null,null,null,null,null,null,null,null,null,null,null,null,null,null,null,null,null,null,null,null,null,"8 4","Amphibie"]
[null,null,null,null,null,null,null,null,null,null,null,null,null,null,null,null,null,null,null,null,null,null,null,null,null,null,null,null,null,null,null,null,null,null,null,null,null,null,null,null,null,null,null,null,null,null,null,null,null,null,null,"9 4","Amphibie"]
[null,null,null,null,null,null,null,null,null,null,null,null,null,null,null,null,null,null,null,null,null,null,null,null,null,null,null,null,null,null,null,null,null,null,null,null,null,null,null,null,null,null,null,null,null,null,null,null,null,null,null,"10 4","Amphibie"]
[null,null,null,null,null,null,null,null,null,null,null,null,null,null,null,null,null,null,null,null,null,null,null,null,null,null,null,null,null,null,null,null,null,null,null,null,null,null,null,null,null,null,null,null,null,null,null,null,null,null,null,"11 4","Androgyne"]
[null,null,null,null,null,null,null,null,null,null,null,null,null,null,null,null,null,null,null,null,null,null,null,null,null,null,null,null,null,null,null,null,null,null,null,null,null,null,null,null,null,null,null,null,null,null,null,null,null,null,null,"12 4","Androgyne"]
[null,null,null,null,null,null,null,null,null,null,null,null,null,null,null,null,null,null,null,null,null,null,null,null,null,null,null,null,null,null,null,null,null,null,null,null,null,null,null,null,null,null,null,null,null,null,null,null,null,null,null,"13 4","Androgyne"]
[null,null,null,null,null,null,null,null,null,null,null,null,null,null,null,null,null,null,null,null,null,null,null,null,null,null,null,null,null,null,null,null,null,null,null,null,null,null,null,null,null,null,null,null,null,null,null,null,null,null,null,"14 4","Asexué"]
[null,null,null,null,null,null,null,null,null,null,null,null,null,null,null,null,null,null,null,null,null,null,null,null,null,null,null,null,null,null,null,null,null,null,null,null,null,null,null,null,null,null,null,null,null,null,null,null,null,null,null,"15 4","Asexué"]
[null,null,null,null,null,null,null,null,null,null,null,null,null,null,null,null,null,null,null,null,null,null,null,null,null,null,null,null,null,null,null,null,null,null,null,null,null,null,null,null,null,null,null,null,null,null,null,null,null,null,null,"16 4","Asexué"]
[null,null,null,null,null,null,null,null,null,null,null,null,null,null,null,null,null,null,null,null,null,null,null,null,null,null,null,null,null,null,null,null,null,null,null,null,null,null,null,null,null,null,null,null,null,null,null,null,null,null,null,"17 4","Autofécondation"]
[null,null,null,null,null,null,null,null,null,null,null,null,null,null,null,null,null,null,null,null,null,null,null,null,null,null,null,null,null,null,null,null,null,null,null,null,null,null,null,null,null,null,null,null,null,null,null,null,null,null,null,"18 4","Autofécondation"]
[null,null,null,null,null,null,null,null,null,null,null,null,null,null,null,null,null,null,null,null,null,null,null,null,null,null,null,null,null,null,null,null,null,null,null,null,null,null,null,null,null,null,null,null,null,null,null,null,null,null,null,"19 4","Autofécondation"]
[null,null,null,null,null,null,null,null,null,null,null,null,null,null,null,null,null,null,null,null,null,null,null,null,null,null,null,null,null,null,null,null,null,null,null,null,null,null,null,null,null,null,null,null,null,null,null,null,null,null,null,"20 4","Caractère génétique animal : simiesque"]
[null,null,null,null,null,null,null,null,null,null,null,null,null,null,null,null,null,null,null,null,null,null,null,null,null,null,null,null,null,null,null,null,null,null,null,null,null,null,null,null,null,null,null,null,null,null,null,null,null,null,null,"21 4","Caractère génétique animal : simiesque"]
[null,null,null,null,null,null,null,null,null,null,null,null,null,null,null,null,null,null,null,null,null,null,null,null,null,null,null,null,null,null,null,null,null,null,null,null,null,null,null,null,null,null,null,null,null,null,null,null,null,null,null,"22 4","Caractère génétique animal : simiesque"]
[null,null,null,null,null,null,null,null,null,null,null,null,null,null,null,null,null,null,null,null,null,null,null,null,null,null,null,null,null,null,null,null,null,null,null,null,null,null,null,null,null,null,null,null,null,null,null,null,null,null,null,"23 4","Caractère génétique animal : simiesque"]
[null,null,null,null,null,null,null,null,null,null,null,null,null,null,null,null,null,null,null,null,null,null,null,null,null,null,null,null,null,null,null,null,null,null,null,null,null,null,null,null,null,null,null,null,null,null,null,null,null,null,null,"24 4","Contact corrosif I"]
[null,null,null,null,null,null,null,null,null,null,null,null,null,null,null,null,null,null,null,null,null,null,null,null,null,null,null,null,null,null,null,null,null,null,null,null,null,null,null,null,null,null,null,null,null,null,null,null,null,null,null,"25 4","Contact corrosif I"]
[null,null,null,null,null,null,null,null,null,null,null,null,null,null,null,null,null,null,null,null,null,null,null,null,null,null,null,null,null,null,null,null,null,null,null,null,null,null,null,null,null,null,null,null,null,null,null,null,null,null,null,"26 4","Contagion"]
[null,null,null,null,null,null,null,null,null,null,null,null,null,null,null,null,null,null,null,null,null,null,null,null,null,null,null,null,null,null,null,null,null,null,null,null,null,null,null,null,null,null,null,null,null,null,null,null,null,null,null,"27 4","Contagion"]
[null,null,null,null,null,null,null,null,null,null,null,null,null,null,null,null,null,null,null,null,null,null,null,null,null,null,null,null,null,null,null,null,null,null,null,null,null,null,null,null,null,null,null,null,null,null,null,null,null,null,null,"28 4","Corne"]
[null,null,null,null,null,null,null,null,null,null,null,null,null,null,null,null,null,null,null,null,null,null,null,null,null,null,null,null,null,null,null,null,null,null,null,null,null,null,null,null,null,null,null,null,null,null,null,null,null,null,null,"29 4","Corne"]
[null,null,null,null,null,null,null,null,null,null,null,null,null,null,null,null,null,null,null,null,null,null,null,null,null,null,null,null,null,null,null,null,null,null,null,null,null,null,null,null,null,null,null,null,null,null,null,null,null,null,null,"30 4","Corne"]
[null,null,null,null,null,null,null,null,null,null,null,null,null,null,null,null,null,null,null,null,null,null,null,null,null,null,null,null,null,null,null,null,null,null,null,null,null,null,null,null,null,null,null,null,null,null,null,null,null,null,null,"31 4","Crocs"]
[null,null,null,null,null,null,null,null,null,null,null,null,null,null,null,null,null,null,null,null,null,null,null,null,null,null,null,null,null,null,null,null,null,null,null,null,null,null,null,null,null,null,null,null,null,null,null,null,null,null,null,"32 4","Crocs"]
[null,null,null,null,null,null,null,null,null,null,null,null,null,null,null,null,null,null,null,null,null,null,null,null,null,null,null,null,null,null,null,null,null,null,null,null,null,null,null,null,null,null,null,null,null,null,null,null,null,null,null,{"$f":"CONCATENATE(AY214,\" 4\")","v":"33 4"},"Crocs"]
[null,null,null,null,null,null,null,null,null,null,null,null,null,null,null,null,null,null,null,null,null,null,null,null,null,null,null,null,null,null,null,null,null,null,null,null,null,null,null,null,null,null,null,null,null,null,null,null,null,null,null,"34 4","Crocs"]
[null,null,null,null,null,null,null,null,null,null,null,null,null,null,null,null,null,null,null,null,null,null,null,null,null,null,null,null,null,null,null,null,null,null,null,null,null,null,null,null,null,null,null,null,null,null,null,null,null,null,null,"35 4","Crocs"]
[null,null,null,null,null,null,null,null,null,null,null,null,null,null,null,null,null,null,null,null,null,null,null,null,null,null,null,null,null,null,null,null,null,null,null,null,null,null,null,null,null,null,null,null,null,null,null,null,null,null,null,"36 4","Difformité légère I"]
[null,null,null,null,null,null,null,null,null,null,null,null,null,null,null,null,null,null,null,null,null,null,null,null,null,null,null,null,null,null,null,null,null,null,null,null,null,null,null,null,null,null,null,null,null,null,null,null,null,null,null,"37 4","Difformité légère I"]
[null,null,null,null,null,null,null,null,null,null,null,null,null,null,null,null,null,null,null,null,null,null,null,null,null,null,null,null,null,null,null,null,null,null,null,null,null,null,null,null,null,null,null,null,null,null,null,null,null,null,null,"38 4","Difformité légère I"]
[null,null,null,null,null,null,null,null,null,null,null,null,null,null,null,null,null,null,null,null,null,null,null,null,null,null,null,null,null,null,null,null,null,null,null,null,null,null,null,null,null,null,null,null,null,null,null,null,null,null,null,"39 4","Difformité légère I"]
[null,null,null,null,null,null,null,null,null,null,null,null,null,null,null,null,null,null,null,null,null,null,null,null,null,null,null,null,null,null,null,null,null,null,null,null,null,null,null,null,null,null,null,null,null,null,null,null,null,null,null,"40 4","Difformité légère I"]
[null,null,null,null,null,null,null,null,null,null,null,null,null,null,null,null,null,null,null,null,null,null,null,null,null,null,null,null,null,null,null,null,null,null,null,null,null,null,null,null,null,null,null,null,null,null,null,null,null,null,null,"41 4","Difformité importante I"]
[null,null,null,null,null,null,null,null,null,null,null,null,null,null,null,null,null,null,null,null,null,null,null,null,null,null,null,null,null,null,null,null,null,null,null,null,null,null,null,null,null,null,null,null,null,null,null,null,null,null,null,"42 4","Difformité importante I"]
[null,null,null,null,null,null,null,null,null,null,null,null,null,null,null,null,null,null,null,null,null,null,null,null,null,null,null,null,null,null,null,null,null,null,null,null,null,null,null,null,null,null,null,null,null,null,null,null,null,null,null,"43 4","Difformité importante I"]
[null,null,null,null,null,null,null,null,null,null,null,null,null,null,null,null,null,null,null,null,null,null,null,null,null,null,null,null,null,null,null,null,null,null,null,null,null,null,null,null,null,null,null,null,null,null,null,null,null,null,null,"44 4","Empathie"]
[null,null,null,null,null,null,null,null,null,null,null,null,null,null,null,null,null,null,null,null,null,null,null,null,null,null,null,null,null,null,null,null,null,null,null,null,null,null,null,null,null,null,null,null,null,null,null,null,null,null,null,"45 4","Empathie"]
[null,null,null,null,null,null,null,null,null,null,null,null,null,null,null,null,null,null,null,null,null,null,null,null,null,null,null,null,null,null,null,null,null,null,null,null,null,null,null,null,null,null,null,null,null,null,null,null,null,null,null,"46 4","Empathie"]
[null,null,null,null,null,null,null,null,null,null,null,null,null,null,null,null,null,null,null,null,null,null,null,null,null,null,null,null,null,null,null,null,null,null,null,null,null,null,null,null,null,null,null,null,null,null,null,null,null,null,null,"47 4","Excroissance osseuse rétractable"]
[null,null,null,null,null,null,null,null,null,null,null,null,null,null,null,null,null,null,null,null,null,null,null,null,null,null,null,null,null,null,null,null,null,null,null,null,null,null,null,null,null,null,null,null,null,null,null,null,null,null,null,"48 4","Excroissance osseuse rétractable"]
[null,null,null,null,null,null,null,null,null,null,null,null,null,null,null,null,null,null,null,null,null,null,null,null,null,null,null,null,null,null,null,null,null,null,null,null,null,null,null,null,null,null,null,null,null,null,null,null,null,null,null,"49 4","Excroissance osseuse rétractable"]
[null,null,null,null,null,null,null,null,null,null,null,null,null,null,null,null,null,null,null,null,null,null,null,null,null,null,null,null,null,null,null,null,null,null,null,null,null,null,null,null,null,null,null,null,null,null,null,null,null,null,null,"50 4","Griffes"]
[null,null,null,null,null,null,null,null,null,null,null,null,null,null,null,null,null,null,null,null,null,null,null,null,null,null,null,null,null,null,null,null,null,null,null,null,null,null,null,null,null,null,null,null,null,null,null,null,null,null,null,"51 4","Griffes"]
[null,null,null,null,null,null,null,null,null,null,null,null,null,null,null,null,null,null,null,null,null,null,null,null,null,null,null,null,null,null,null,null,null,null,null,null,null,null,null,null,null,null,null,null,null,null,null,null,null,null,null,"52 4","Griffes"]
[null,null,null,null,null,null,null,null,null,null,null,null,null,null,null,null,null,null,null,null,null,null,null,null,null,null,null,null,null,null,null,null,null,null,null,null,null,null,null,null,null,null,null,null,null,null,null,null,null,null,null,"53 4","Instabilité moléculaire"]
[null,null,null,null,null,null,null,null,null,null,null,null,null,null,null,null,null,null,null,null,null,null,null,null,null,null,null,null,null,null,null,null,null,null,null,null,null,null,null,null,null,null,null,null,null,null,null,null,null,null,null,"54 4","Métamorphe"]
[null,null,null,null,null,null,null,null,null,null,null,null,null,null,null,null,null,null,null,null,null,null,null,null,null,null,null,null,null,null,null,null,null,null,null,null,null,null,null,null,null,null,null,null,null,null,null,null,null,null,null,"55 4","Métamorphe"]
[null,null,null,null,null,null,null,null,null,null,null,null,null,null,null,null,null,null,null,null,null,null,null,null,null,null,null,null,null,null,null,null,null,null,null,null,null,null,null,null,null,null,null,null,null,null,null,null,null,null,null,"56 4","Métamorphe"]
[null,null,null,null,null,null,null,null,null,null,null,null,null,null,null,null,null,null,null,null,null,null,null,null,null,null,null,null,null,null,null,null,null,null,null,null,null,null,null,null,null,null,null,null,null,null,null,null,null,null,null,"57 4","Organe sensoriel : oreille manquante"]
[null,null,null,null,null,null,null,null,null,null,null,null,null,null,null,null,null,null,null,null,null,null,null,null,null,null,null,null,null,null,null,null,null,null,null,null,null,null,null,null,null,null,null,null,null,null,null,null,null,null,null,"58 4","Organe sensoriel : oreille manquante"]
[null,null,null,null,null,null,null,null,null,null,null,null,null,null,null,null,null,null,null,null,null,null,null,null,null,null,null,null,null,null,null,null,null,null,null,null,null,null,null,null,null,null,null,null,null,null,null,null,null,null,null,"59 4","Organe sensoriel : oreille supplémentaire"]
[null,null,null,null,null,null,null,null,null,null,null,null,null,null,null,null,null,null,null,null,null,null,null,null,null,null,null,null,null,null,null,null,null,null,null,null,null,null,null,null,null,null,null,null,null,null,null,null,null,null,null,"60 4","Organe sensoriel : oreille supplémentaire"]
[null,null,null,null,null,null,null,null,null,null,null,null,null,null,null,null,null,null,null,null,null,null,null,null,null,null,null,null,null,null,null,null,null,null,null,null,null,null,null,null,null,null,null,null,null,null,null,null,null,null,null,"61 4","Parasite(s) I"]
[null,null,null,null,null,null,null,null,null,null,null,null,null,null,null,null,null,null,null,null,null,null,null,null,null,null,null,null,null,null,null,null,null,null,null,null,null,null,null,null,null,null,null,null,null,null,null,null,null,null,null,"62 4","Peau renforcée I"]
[null,null,null,null,null,null,null,null,null,null,null,null,null,null,null,null,null,null,null,null,null,null,null,null,null,null,null,null,null,null,null,null,null,null,null,null,null,null,null,null,null,null,null,null,null,null,null,null,null,null,null,"63 4","Peau renforcée I"]
[null,null,null,null,null,null,null,null,null,null,null,null,null,null,null,null,null,null,null,null,null,null,null,null,null,null,null,null,null,null,null,null,null,null,null,null,null,null,null,null,null,null,null,null,null,null,null,null,null,null,null,"64 4","Peau renforcée I"]
[null,null,null,null,null,null,null,null,null,null,null,null,null,null,null,null,null,null,null,null,null,null,null,null,null,null,null,null,null,null,null,null,null,null,null,null,null,null,null,null,null,null,null,null,null,null,null,null,null,null,null,{"$f":"CONCATENATE(AY246,\" 4\")","v":"65 4"},"Peau renforcée I"]
[null,null,null,null,null,null,null,null,null,null,null,null,null,null,null,null,null,null,null,null,null,null,null,null,null,null,null,null,null,null,null,null,null,null,null,null,null,null,null,null,null,null,null,null,null,null,null,null,null,null,null,"66 4","Peau renforcée I"]
[null,null,null,null,null,null,null,null,null,null,null,null,null,null,null,null,null,null,null,null,null,null,null,null,null,null,null,null,null,null,null,null,null,null,null,null,null,null,null,null,null,null,null,null,null,null,null,null,null,null,null,"67 4","Purulence I"]
[null,null,null,null,null,null,null,null,null,null,null,null,null,null,null,null,null,null,null,null,null,null,null,null,null,null,null,null,null,null,null,null,null,null,null,null,null,null,null,null,null,null,null,null,null,null,null,null,null,null,null,"68 4","Queue"]
[null,null,null,null,null,null,null,null,null,null,null,null,null,null,null,null,null,null,null,null,null,null,null,null,null,null,null,null,null,null,null,null,null,null,null,null,null,null,null,null,null,null,null,null,null,null,null,null,null,null,null,"69 4","Queue"]
[null,null,null,null,null,null,null,null,null,null,null,null,null,null,null,null,null,null,null,null,null,null,null,null,null,null,null,null,null,null,null,null,null,null,null,null,null,null,null,null,null,null,null,null,null,null,null,null,null,null,null,"70 4","Queue"]
[null,null,null,null,null,null,null,null,null,null,null,null,null,null,null,null,null,null,null,null,null,null,null,null,null,null,null,null,null,null,null,null,null,null,null,null,null,null,null,null,null,null,null,null,null,null,null,null,null,null,null,"71 4","Radiation I"]
[null,null,null,null,null,null,null,null,null,null,null,null,null,null,null,null,null,null,null,null,null,null,null,null,null,null,null,null,null,null,null,null,null,null,null,null,null,null,null,null,null,null,null,null,null,null,null,null,null,null,null,"72 4","Régénération I"]
[null,null,null,null,null,null,null,null,null,null,null,null,null,null,null,null,null,null,null,null,null,null,null,null,null,null,null,null,null,null,null,null,null,null,null,null,null,null,null,null,null,null,null,null,null,null,null,null,null,null,null,"73 4","Régénération I"]
[null,null,null,null,null,null,null,null,null,null,null,null,null,null,null,null,null,null,null,null,null,null,null,null,null,null,null,null,null,null,null,null,null,null,null,null,null,null,null,null,null,null,null,null,null,null,null,null,null,null,null,"74 4","Régénération I"]
[null,null,null,null,null,null,null,null,null,null,null,null,null,null,null,null,null,null,null,null,null,null,null,null,null,null,null,null,null,null,null,null,null,null,null,null,null,null,null,null,null,null,null,null,null,null,null,null,null,null,null,"75 4","Régénération I"]
[null,null,null,null,null,null,null,null,null,null,null,null,null,null,null,null,null,null,null,null,null,null,null,null,null,null,null,null,null,null,null,null,null,null,null,null,null,null,null,null,null,null,null,null,null,null,null,null,null,null,null,"76 4","Résistance naturelle : résistance aux maladies I"]
[null,null,null,null,null,null,null,null,null,null,null,null,null,null,null,null,null,null,null,null,null,null,null,null,null,null,null,null,null,null,null,null,null,null,null,null,null,null,null,null,null,null,null,null,null,null,null,null,null,null,null,"77 4","Résistance naturelle : résistance aux maladies I"]
[null,null,null,null,null,null,null,null,null,null,null,null,null,null,null,null,null,null,null,null,null,null,null,null,null,null,null,null,null,null,null,null,null,null,null,null,null,null,null,null,null,null,null,null,null,null,null,null,null,null,null,"78 4","Résistance naturelle : résistance aux maladies I"]
[null,null,null,null,null,null,null,null,null,null,null,null,null,null,null,null,null,null,null,null,null,null,null,null,null,null,null,null,null,null,null,null,null,null,null,null,null,null,null,null,null,null,null,null,null,null,null,null,null,null,null,"79 4","Résistance naturelle : résistance aux maladies I"]
[null,null,null,null,null,null,null,null,null,null,null,null,null,null,null,null,null,null,null,null,null,null,null,null,null,null,null,null,null,null,null,null,null,null,null,null,null,null,null,null,null,null,null,null,null,null,null,null,null,null,null,"80 4","Résistance naturelle : résistance aux maladies I"]
[null,null,null,null,null,null,null,null,null,null,null,null,null,null,null,null,null,null,null,null,null,null,null,null,null,null,null,null,null,null,null,null,null,null,null,null,null,null,null,null,null,null,null,null,null,null,null,null,null,null,null,"81 4","Sixième sens"]
[null,null,null,null,null,null,null,null,null,null,null,null,null,null,null,null,null,null,null,null,null,null,null,null,null,null,null,null,null,null,null,null,null,null,null,null,null,null,null,null,null,null,null,null,null,null,null,null,null,null,null,"82 4","Sixième sens"]
[null,null,null,null,null,null,null,null,null,null,null,null,null,null,null,null,null,null,null,null,null,null,null,null,null,null,null,null,null,null,null,null,null,null,null,null,null,null,null,null,null,null,null,null,null,null,null,null,null,null,null,"83 4","Sixième sens"]
[null,null,null,null,null,null,null,null,null,null,null,null,null,null,null,null,null,null,null,null,null,null,null,null,null,null,null,null,null,null,null,null,null,null,null,null,null,null,null,null,null,null,null,null,null,null,null,null,null,null,null,"84 4","Sixième sens"]
[null,null,null,null,null,null,null,null,null,null,null,null,null,null,null,null,null,null,null,null,null,null,null,null,null,null,null,null,null,null,null,null,null,null,null,null,null,null,null,null,null,null,null,null,null,null,null,null,null,null,null,"85 4","Sixième sens"]
[null,null,null,null,null,null,null,null,null,null,null,null,null,null,null,null,null,null,null,null,null,null,null,null,null,null,null,null,null,null,null,null,null,null,null,null,null,null,null,null,null,null,null,null,null,null,null,null,null,null,null,"86 4","Sonar"]
[null,null,null,null,null,null,null,null,null,null,null,null,null,null,null,null,null,null,null,null,null,null,null,null,null,null,null,null,null,null,null,null,null,null,null,null,null,null,null,null,null,null,null,null,null,null,null,null,null,null,null,{"$f":"CONCATENATE(AY268,\" 4\")","v":"87 4"},"Sonar"]
[null,null,null,null,null,null,null,null,null,null,null,null,null,null,null,null,null,null,null,null,null,null,null,null,null,null,null,null,null,null,null,null,null,null,null,null,null,null,null,null,null,null,null,null,null,null,null,null,null,null,null,"88 4","Sonar"]
[null,null,null,null,null,null,null,null,null,null,null,null,null,null,null,null,null,null,null,null,null,null,null,null,null,null,null,null,null,null,null,null,null,null,null,null,null,null,null,null,null,null,null,null,null,null,null,null,null,null,null,"89 4","Squelette renforcé I"]
[null,null,null,null,null,null,null,null,null,null,null,null,null,null,null,null,null,null,null,null,null,null,null,null,null,null,null,null,null,null,null,null,null,null,null,null,null,null,null,null,null,null,null,null,null,null,null,null,null,null,null,"90 4","Symbiote(s) I"]
[null,null,null,null,null,null,null,null,null,null,null,null,null,null,null,null,null,null,null,null,null,null,null,null,null,null,null,null,null,null,null,null,null,null,null,null,null,null,null,null,null,null,null,null,null,null,null,null,null,null,null,"91 4","Symbiote(s) I"]
[null,null,null,null,null,null,null,null,null,null,null,null,null,null,null,null,null,null,null,null,null,null,null,null,null,null,null,null,null,null,null,null,null,null,null,null,null,null,null,null,null,null,null,null,null,null,null,null,null,null,null,"92 4","Symbiote(s) I"]
[null,null,null,null,null,null,null,null,null,null,null,null,null,null,null,null,null,null,null,null,null,null,null,null,null,null,null,null,null,null,null,null,null,null,null,null,null,null,null,null,null,null,null,null,null,null,null,null,null,null,null,"93 4","Tentacule rétractable"]
[null,null,null,null,null,null,null,null,null,null,null,null,null,null,null,null,null,null,null,null,null,null,null,null,null,null,null,null,null,null,null,null,null,null,null,null,null,null,null,null,null,null,null,null,null,null,null,null,null,null,null,"94 4","Tentacule rétractable"]
[null,null,null,null,null,null,null,null,null,null,null,null,null,null,null,null,null,null,null,null,null,null,null,null,null,null,null,null,null,null,null,null,null,null,null,null,null,null,null,null,null,null,null,null,null,null,null,null,null,null,null,"95 4","Tentacule rétractable"]
[null,null,null,null,null,null,null,null,null,null,null,null,null,null,null,null,null,null,null,null,null,null,null,null,null,null,null,null,null,null,null,null,null,null,null,null,null,null,null,null,null,null,null,null,null,null,null,null,null,null,null,"96 4","Vision nocturne"]
[null,null,null,null,null,null,null,null,null,null,null,null,null,null,null,null,null,null,null,null,null,null,null,null,null,null,null,null,null,null,null,null,null,null,null,null,null,null,null,null,null,null,null,null,null,null,null,null,null,null,null,"97 4","Vision nocturne"]
[null,null,null,null,null,null,null,null,null,null,null,null,null,null,null,null,null,null,null,null,null,null,null,null,null,null,null,null,null,null,null,null,null,null,null,null,null,null,null,null,null,null,null,null,null,null,null,null,null,null,null,"98 4","Vision nocturne"]
[null,null,null,null,null,null,null,null,null,null,null,null,null,null,null,null,null,null,null,null,null,null,null,null,null,null,null,null,null,null,null,null,null,null,null,null,null,null,null,null,null,null,null,null,null,null,null,null,null,null,null,"99 4","Vision nocturne"]
[null,null,null,null,null,null,null,null,null,null,null,null,null,null,null,null,null,null,null,null,null,null,null,null,null,null,null,null,null,null,null,null,null,null,null,null,null,null,null,null,null,null,null,null,null,null,null,null,null,null,null,"00 4","Vision nocturne"]
[null,null,null,null,null,null,null,null,null,null,null,null,null,null,null,null,null,null,null,null,null,null,null,null,null,null,null,null,null,null,null,null,null,null,null,null,null,null,null,null,null,null,null,null,null,null,null,null,null,null,null,{"$f":"CONCATENATE(AY182,\" 5\")","v":"1 5"},"Adaptation extérieure"]
[null,null,null,null,null,null,null,null,null,null,null,null,null,null,null,null,null,null,null,null,null,null,null,null,null,null,null,null,null,null,null,null,null,null,null,null,null,null,null,null,null,null,null,null,null,null,null,null,null,null,null,"2 5","Adaptation extérieure"]
[null,null,null,null,null,null,null,null,null,null,null,null,null,null,null,null,null,null,null,null,null,null,null,null,null,null,null,null,null,null,null,null,null,null,null,null,null,null,null,null,null,null,null,null,null,null,null,null,null,null,null,"3 5","Adaptation extérieure"]
[null,null,null,null,null,null,null,null,null,null,null,null,null,null,null,null,null,null,null,null,null,null,null,null,null,null,null,null,null,null,null,null,null,null,null,null,null,null,null,null,null,null,null,null,null,null,null,null,null,null,null,"4 5","Adaptation extérieure"]
[null,null,null,null,null,null,null,null,null,null,null,null,null,null,null,null,null,null,null,null,null,null,null,null,null,null,null,null,null,null,null,null,null,null,null,null,null,null,null,null,null,null,null,null,null,null,null,null,null,null,null,"5 5","Adaptation extérieure"]
[null,null,null,null,null,null,null,null,null,null,null,null,null,null,null,null,null,null,null,null,null,null,null,null,null,null,null,null,null,null,null,null,null,null,null,null,null,null,null,null,null,null,null,null,null,null,null,null,null,null,null,"6 5","Adaptation extérieure"]
[null,null,null,null,null,null,null,null,null,null,null,null,null,null,null,null,null,null,null,null,null,null,null,null,null,null,null,null,null,null,null,null,null,null,null,null,null,null,null,null,null,null,null,null,null,null,null,null,null,null,null,"7 5","Amphibie"]
[null,null,null,null,null,null,null,null,null,null,null,null,null,null,null,null,null,null,null,null,null,null,null,null,null,null,null,null,null,null,null,null,null,null,null,null,null,null,null,null,null,null,null,null,null,null,null,null,null,null,null,"8 5","Amphibie"]
[null,null,null,null,null,null,null,null,null,null,null,null,null,null,null,null,null,null,null,null,null,null,null,null,null,null,null,null,null,null,null,null,null,null,null,null,null,null,null,null,null,null,null,null,null,null,null,null,null,null,null,"9 5","Amphibie"]
[null,null,null,null,null,null,null,null,null,null,null,null,null,null,null,null,null,null,null,null,null,null,null,null,null,null,null,null,null,null,null,null,null,null,null,null,null,null,null,null,null,null,null,null,null,null,null,null,null,null,null,"10 5","Amphibie"]
[null,null,null,null,null,null,null,null,null,null,null,null,null,null,null,null,null,null,null,null,null,null,null,null,null,null,null,null,null,null,null,null,null,null,null,null,null,null,null,null,null,null,null,null,null,null,null,null,null,null,null,"11 5","Androgyne"]
[null,null,null,null,null,null,null,null,null,null,null,null,null,null,null,null,null,null,null,null,null,null,null,null,null,null,null,null,null,null,null,null,null,null,null,null,null,null,null,null,null,null,null,null,null,null,null,null,null,null,null,"12 5","Androgyne"]
[null,null,null,null,null,null,null,null,null,null,null,null,null,null,null,null,null,null,null,null,null,null,null,null,null,null,null,null,null,null,null,null,null,null,null,null,null,null,null,null,null,null,null,null,null,null,null,null,null,null,null,"13 5","Androgyne"]
[null,null,null,null,null,null,null,null,null,null,null,null,null,null,null,null,null,null,null,null,null,null,null,null,null,null,null,null,null,null,null,null,null,null,null,null,null,null,null,null,null,null,null,null,null,null,null,null,null,null,null,"14 5","Asexué"]
[null,null,null,null,null,null,null,null,null,null,null,null,null,null,null,null,null,null,null,null,null,null,null,null,null,null,null,null,null,null,null,null,null,null,null,null,null,null,null,null,null,null,null,null,null,null,null,null,null,null,null,"15 5","Asexué"]
[null,null,null,null,null,null,null,null,null,null,null,null,null,null,null,null,null,null,null,null,null,null,null,null,null,null,null,null,null,null,null,null,null,null,null,null,null,null,null,null,null,null,null,null,null,null,null,null,null,null,null,"16 5","Asexué"]
[null,null,null,null,null,null,null,null,null,null,null,null,null,null,null,null,null,null,null,null,null,null,null,null,null,null,null,null,null,null,null,null,null,null,null,null,null,null,null,null,null,null,null,null,null,null,null,null,null,null,null,"17 5","Autofécondation"]
[null,null,null,null,null,null,null,null,null,null,null,null,null,null,null,null,null,null,null,null,null,null,null,null,null,null,null,null,null,null,null,null,null,null,null,null,null,null,null,null,null,null,null,null,null,null,null,null,null,null,null,"18 5","Autofécondation"]
[null,null,null,null,null,null,null,null,null,null,null,null,null,null,null,null,null,null,null,null,null,null,null,null,null,null,null,null,null,null,null,null,null,null,null,null,null,null,null,null,null,null,null,null,null,null,null,null,null,null,null,"19 5","Autofécondation"]
[null,null,null,null,null,null,null,null,null,null,null,null,null,null,null,null,null,null,null,null,null,null,null,null,null,null,null,null,null,null,null,null,null,null,null,null,null,null,null,null,null,null,null,null,null,null,null,null,null,null,null,"20 5","1D4 !"]
[null,null,null,null,null,null,null,null,null,null,null,null,null,null,null,null,null,null,null,null,null,null,null,null,null,null,null,null,null,null,null,null,null,null,null,null,null,null,null,null,null,null,null,null,null,null,null,null,null,null,null,"21 5","1D4 !"]
[null,null,null,null,null,null,null,null,null,null,null,null,null,null,null,null,null,null,null,null,null,null,null,null,null,null,null,null,null,null,null,null,null,null,null,null,null,null,null,null,null,null,null,null,null,null,null,null,null,null,null,"22 5","1D4 !"]
[null,null,null,null,null,null,null,null,null,null,null,null,null,null,null,null,null,null,null,null,null,null,null,null,null,null,null,null,null,null,null,null,null,null,null,null,null,null,null,null,null,null,null,null,null,null,null,null,null,null,null,"23 5","1D4 !"]
[null,null,null,null,null,null,null,null,null,null,null,null,null,null,null,null,null,null,null,null,null,null,null,null,null,null,null,null,null,null,null,null,null,null,null,null,null,null,null,null,null,null,null,null,null,null,null,null,null,null,null,"24 5","Contact corrosif I"]
[null,null,null,null,null,null,null,null,null,null,null,null,null,null,null,null,null,null,null,null,null,null,null,null,null,null,null,null,null,null,null,null,null,null,null,null,null,null,null,null,null,null,null,null,null,null,null,null,null,null,null,"25 5","Contact corrosif I"]
[null,null,null,null,null,null,null,null,null,null,null,null,null,null,null,null,null,null,null,null,null,null,null,null,null,null,null,null,null,null,null,null,null,null,null,null,null,null,null,null,null,null,null,null,null,null,null,null,null,null,null,"26 5","Contagion"]
[null,null,null,null,null,null,null,null,null,null,null,null,null,null,null,null,null,null,null,null,null,null,null,null,null,null,null,null,null,null,null,null,null,null,null,null,null,null,null,null,null,null,null,null,null,null,null,null,null,null,null,"27 5","Contagion"]
[null,null,null,null,null,null,null,null,null,null,null,null,null,null,null,null,null,null,null,null,null,null,null,null,null,null,null,null,null,null,null,null,null,null,null,null,null,null,null,null,null,null,null,null,null,null,null,null,null,null,null,"28 5","Corne"]
[null,null,null,null,null,null,null,null,null,null,null,null,null,null,null,null,null,null,null,null,null,null,null,null,null,null,null,null,null,null,null,null,null,null,null,null,null,null,null,null,null,null,null,null,null,null,null,null,null,null,null,"29 5","Corne"]
[null,null,null,null,null,null,null,null,null,null,null,null,null,null,null,null,null,null,null,null,null,null,null,null,null,null,null,null,null,null,null,null,null,null,null,null,null,null,null,null,null,null,null,null,null,null,null,null,null,null,null,"30 5","Corne"]
[null,null,null,null,null,null,null,null,null,null,null,null,null,null,null,null,null,null,null,null,null,null,null,null,null,null,null,null,null,null,null,null,null,null,null,null,null,null,null,null,null,null,null,null,null,null,null,null,null,null,null,"31 5","Crocs"]
[null,null,null,null,null,null,null,null,null,null,null,null,null,null,null,null,null,null,null,null,null,null,null,null,null,null,null,null,null,null,null,null,null,null,null,null,null,null,null,null,null,null,null,null,null,null,null,null,null,null,null,"32 5","Crocs"]
[null,null,null,null,null,null,null,null,null,null,null,null,null,null,null,null,null,null,null,null,null,null,null,null,null,null,null,null,null,null,null,null,null,null,null,null,null,null,null,null,null,null,null,null,null,null,null,null,null,null,null,{"$f":"CONCATENATE(AY214,\" 5\")","v":"33 5"},"Crocs"]
[null,null,null,null,null,null,null,null,null,null,null,null,null,null,null,null,null,null,null,null,null,null,null,null,null,null,null,null,null,null,null,null,null,null,null,null,null,null,null,null,null,null,null,null,null,null,null,null,null,null,null,"34 5","Crocs"]
[null,null,null,null,null,null,null,null,null,null,null,null,null,null,null,null,null,null,null,null,null,null,null,null,null,null,null,null,null,null,null,null,null,null,null,null,null,null,null,null,null,null,null,null,null,null,null,null,null,null,null,"35 5","Crocs"]
[null,null,null,null,null,null,null,null,null,null,null,null,null,null,null,null,null,null,null,null,null,null,null,null,null,null,null,null,null,null,null,null,null,null,null,null,null,null,null,null,null,null,null,null,null,null,null,null,null,null,null,"36 5","Difformité légère I"]
[null,null,null,null,null,null,null,null,null,null,null,null,null,null,null,null,null,null,null,null,null,null,null,null,null,null,null,null,null,null,null,null,null,null,null,null,null,null,null,null,null,null,null,null,null,null,null,null,null,null,null,"37 5","Difformité légère I"]
[null,null,null,null,null,null,null,null,null,null,null,null,null,null,null,null,null,null,null,null,null,null,null,null,null,null,null,null,null,null,null,null,null,null,null,null,null,null,null,null,null,null,null,null,null,null,null,null,null,null,null,"38 5","Difformité légère I"]
[null,null,null,null,null,null,null,null,null,null,null,null,null,null,null,null,null,null,null,null,null,null,null,null,null,null,null,null,null,null,null,null,null,null,null,null,null,null,null,null,null,null,null,null,null,null,null,null,null,null,null,"39 5","Difformité légère I"]
[null,null,null,null,null,null,null,null,null,null,null,null,null,null,null,null,null,null,null,null,null,null,null,null,null,null,null,null,null,null,null,null,null,null,null,null,null,null,null,null,null,null,null,null,null,null,null,null,null,null,null,"40 5","Difformité légère I"]
[null,null,null,null,null,null,null,null,null,null,null,null,null,null,null,null,null,null,null,null,null,null,null,null,null,null,null,null,null,null,null,null,null,null,null,null,null,null,null,null,null,null,null,null,null,null,null,null,null,null,null,"41 5","Difformité importante I"]
[null,null,null,null,null,null,null,null,null,null,null,null,null,null,null,null,null,null,null,null,null,null,null,null,null,null,null,null,null,null,null,null,null,null,null,null,null,null,null,null,null,null,null,null,null,null,null,null,null,null,null,"42 5","Difformité importante I"]
[null,null,null,null,null,null,null,null,null,null,null,null,null,null,null,null,null,null,null,null,null,null,null,null,null,null,null,null,null,null,null,null,null,null,null,null,null,null,null,null,null,null,null,null,null,null,null,null,null,null,null,"43 5","Difformité importante I"]
[null,null,null,null,null,null,null,null,null,null,null,null,null,null,null,null,null,null,null,null,null,null,null,null,null,null,null,null,null,null,null,null,null,null,null,null,null,null,null,null,null,null,null,null,null,null,null,null,null,null,null,"44 5","Empathie"]
[null,null,null,null,null,null,null,null,null,null,null,null,null,null,null,null,null,null,null,null,null,null,null,null,null,null,null,null,null,null,null,null,null,null,null,null,null,null,null,null,null,null,null,null,null,null,null,null,null,null,null,"45 5","Empathie"]
[null,null,null,null,null,null,null,null,null,null,null,null,null,null,null,null,null,null,null,null,null,null,null,null,null,null,null,null,null,null,null,null,null,null,null,null,null,null,null,null,null,null,null,null,null,null,null,null,null,null,null,"46 5","Empathie"]
[null,null,null,null,null,null,null,null,null,null,null,null,null,null,null,null,null,null,null,null,null,null,null,null,null,null,null,null,null,null,null,null,null,null,null,null,null,null,null,null,null,null,null,null,null,null,null,null,null,null,null,"47 5","Excroissance osseuse rétractable"]
[null,null,null,null,null,null,null,null,null,null,null,null,null,null,null,null,null,null,null,null,null,null,null,null,null,null,null,null,null,null,null,null,null,null,null,null,null,null,null,null,null,null,null,null,null,null,null,null,null,null,null,"48 5","Excroissance osseuse rétractable"]
[null,null,null,null,null,null,null,null,null,null,null,null,null,null,null,null,null,null,null,null,null,null,null,null,null,null,null,null,null,null,null,null,null,null,null,null,null,null,null,null,null,null,null,null,null,null,null,null,null,null,null,"49 5","Excroissance osseuse rétractable"]
[null,null,null,null,null,null,null,null,null,null,null,null,null,null,null,null,null,null,null,null,null,null,null,null,null,null,null,null,null,null,null,null,null,null,null,null,null,null,null,null,null,null,null,null,null,null,null,null,null,null,null,"50 5","Griffes"]
[null,null,null,null,null,null,null,null,null,null,null,null,null,null,null,null,null,null,null,null,null,null,null,null,null,null,null,null,null,null,null,null,null,null,null,null,null,null,null,null,null,null,null,null,null,null,null,null,null,null,null,"51 5","Griffes"]
[null,null,null,null,null,null,null,null,null,null,null,null,null,null,null,null,null,null,null,null,null,null,null,null,null,null,null,null,null,null,null,null,null,null,null,null,null,null,null,null,null,null,null,null,null,null,null,null,null,null,null,"52 5","Griffes"]
[null,null,null,null,null,null,null,null,null,null,null,null,null,null,null,null,null,null,null,null,null,null,null,null,null,null,null,null,null,null,null,null,null,null,null,null,null,null,null,null,null,null,null,null,null,null,null,null,null,null,null,"53 5","Instabilité moléculaire"]
[null,null,null,null,null,null,null,null,null,null,null,null,null,null,null,null,null,null,null,null,null,null,null,null,null,null,null,null,null,null,null,null,null,null,null,null,null,null,null,null,null,null,null,null,null,null,null,null,null,null,null,"54 5","Métamorphe"]
[null,null,null,null,null,null,null,null,null,null,null,null,null,null,null,null,null,null,null,null,null,null,null,null,null,null,null,null,null,null,null,null,null,null,null,null,null,null,null,null,null,null,null,null,null,null,null,null,null,null,null,"55 5","Métamorphe"]
[null,null,null,null,null,null,null,null,null,null,null,null,null,null,null,null,null,null,null,null,null,null,null,null,null,null,null,null,null,null,null,null,null,null,null,null,null,null,null,null,null,null,null,null,null,null,null,null,null,null,null,"56 5","Métamorphe"]
[null,null,null,null,null,null,null,null,null,null,null,null,null,null,null,null,null,null,null,null,null,null,null,null,null,null,null,null,null,null,null,null,null,null,null,null,null,null,null,null,null,null,null,null,null,null,null,null,null,null,null,"57 5","Organe sensoriel : œil manquant"]
[null,null,null,null,null,null,null,null,null,null,null,null,null,null,null,null,null,null,null,null,null,null,null,null,null,null,null,null,null,null,null,null,null,null,null,null,null,null,null,null,null,null,null,null,null,null,null,null,null,null,null,"58 5","Organe sensoriel : œil manquant"]
[null,null,null,null,null,null,null,null,null,null,null,null,null,null,null,null,null,null,null,null,null,null,null,null,null,null,null,null,null,null,null,null,null,null,null,null,null,null,null,null,null,null,null,null,null,null,null,null,null,null,null,"59 5","Organe sensoriel : œil supplémentaire"]
[null,null,null,null,null,null,null,null,null,null,null,null,null,null,null,null,null,null,null,null,null,null,null,null,null,null,null,null,null,null,null,null,null,null,null,null,null,null,null,null,null,null,null,null,null,null,null,null,null,null,null,"60 5","Organe sensoriel : œil supplémentaire"]
[null,null,null,null,null,null,null,null,null,null,null,null,null,null,null,null,null,null,null,null,null,null,null,null,null,null,null,null,null,null,null,null,null,null,null,null,null,null,null,null,null,null,null,null,null,null,null,null,null,null,null,"61 5","Parasite(s) I"]
[null,null,null,null,null,null,null,null,null,null,null,null,null,null,null,null,null,null,null,null,null,null,null,null,null,null,null,null,null,null,null,null,null,null,null,null,null,null,null,null,null,null,null,null,null,null,null,null,null,null,null,"62 5","Peau renforcée I"]
[null,null,null,null,null,null,null,null,null,null,null,null,null,null,null,null,null,null,null,null,null,null,null,null,null,null,null,null,null,null,null,null,null,null,null,null,null,null,null,null,null,null,null,null,null,null,null,null,null,null,null,"63 5","Peau renforcée I"]
[null,null,null,null,null,null,null,null,null,null,null,null,null,null,null,null,null,null,null,null,null,null,null,null,null,null,null,null,null,null,null,null,null,null,null,null,null,null,null,null,null,null,null,null,null,null,null,null,null,null,null,"64 5","Peau renforcée I"]
[null,null,null,null,null,null,null,null,null,null,null,null,null,null,null,null,null,null,null,null,null,null,null,null,null,null,null,null,null,null,null,null,null,null,null,null,null,null,null,null,null,null,null,null,null,null,null,null,null,null,null,{"$f":"CONCATENATE(AY246,\" 5\")","v":"65 5"},"Peau renforcée I"]
[null,null,null,null,null,null,null,null,null,null,null,null,null,null,null,null,null,null,null,null,null,null,null,null,null,null,null,null,null,null,null,null,null,null,null,null,null,null,null,null,null,null,null,null,null,null,null,null,null,null,null,"66 5","Peau renforcée I"]
[null,null,null,null,null,null,null,null,null,null,null,null,null,null,null,null,null,null,null,null,null,null,null,null,null,null,null,null,null,null,null,null,null,null,null,null,null,null,null,null,null,null,null,null,null,null,null,null,null,null,null,"67 5","Purulence I"]
[null,null,null,null,null,null,null,null,null,null,null,null,null,null,null,null,null,null,null,null,null,null,null,null,null,null,null,null,null,null,null,null,null,null,null,null,null,null,null,null,null,null,null,null,null,null,null,null,null,null,null,"68 5","Queue"]
[null,null,null,null,null,null,null,null,null,null,null,null,null,null,null,null,null,null,null,null,null,null,null,null,null,null,null,null,null,null,null,null,null,null,null,null,null,null,null,null,null,null,null,null,null,null,null,null,null,null,null,"69 5","Queue"]
[null,null,null,null,null,null,null,null,null,null,null,null,null,null,null,null,null,null,null,null,null,null,null,null,null,null,null,null,null,null,null,null,null,null,null,null,null,null,null,null,null,null,null,null,null,null,null,null,null,null,null,"70 5","Queue"]
[null,null,null,null,null,null,null,null,null,null,null,null,null,null,null,null,null,null,null,null,null,null,null,null,null,null,null,null,null,null,null,null,null,null,null,null,null,null,null,null,null,null,null,null,null,null,null,null,null,null,null,"71 5","Radiation I"]
[null,null,null,null,null,null,null,null,null,null,null,null,null,null,null,null,null,null,null,null,null,null,null,null,null,null,null,null,null,null,null,null,null,null,null,null,null,null,null,null,null,null,null,null,null,null,null,null,null,null,null,"72 5","Régénération I"]
[null,null,null,null,null,null,null,null,null,null,null,null,null,null,null,null,null,null,null,null,null,null,null,null,null,null,null,null,null,null,null,null,null,null,null,null,null,null,null,null,null,null,null,null,null,null,null,null,null,null,null,"73 5","Régénération I"]
[null,null,null,null,null,null,null,null,null,null,null,null,null,null,null,null,null,null,null,null,null,null,null,null,null,null,null,null,null,null,null,null,null,null,null,null,null,null,null,null,null,null,null,null,null,null,null,null,null,null,null,"74 5","Régénération I"]
[null,null,null,null,null,null,null,null,null,null,null,null,null,null,null,null,null,null,null,null,null,null,null,null,null,null,null,null,null,null,null,null,null,null,null,null,null,null,null,null,null,null,null,null,null,null,null,null,null,null,null,"75 5","Régénération I"]
[null,null,null,null,null,null,null,null,null,null,null,null,null,null,null,null,null,null,null,null,null,null,null,null,null,null,null,null,null,null,null,null,null,null,null,null,null,null,null,null,null,null,null,null,null,null,null,null,null,null,null,"76 5","Résistance naturelle : résistance aux poisons I"]
[null,null,null,null,null,null,null,null,null,null,null,null,null,null,null,null,null,null,null,null,null,null,null,null,null,null,null,null,null,null,null,null,null,null,null,null,null,null,null,null,null,null,null,null,null,null,null,null,null,null,null,"77 5","Résistance naturelle : résistance aux poisons I"]
[null,null,null,null,null,null,null,null,null,null,null,null,null,null,null,null,null,null,null,null,null,null,null,null,null,null,null,null,null,null,null,null,null,null,null,null,null,null,null,null,null,null,null,null,null,null,null,null,null,null,null,"78 5","Résistance naturelle : résistance aux poisons I"]
[null,null,null,null,null,null,null,null,null,null,null,null,null,null,null,null,null,null,null,null,null,null,null,null,null,null,null,null,null,null,null,null,null,null,null,null,null,null,null,null,null,null,null,null,null,null,null,null,null,null,null,"79 5","Résistance naturelle : résistance aux poisons I"]
[null,null,null,null,null,null,null,null,null,null,null,null,null,null,null,null,null,null,null,null,null,null,null,null,null,null,null,null,null,null,null,null,null,null,null,null,null,null,null,null,null,null,null,null,null,null,null,null,null,null,null,"80 5","Résistance naturelle : résistance aux poisons I"]
[null,null,null,null,null,null,null,null,null,null,null,null,null,null,null,null,null,null,null,null,null,null,null,null,null,null,null,null,null,null,null,null,null,null,null,null,null,null,null,null,null,null,null,null,null,null,null,null,null,null,null,"81 5","Sixième sens"]
[null,null,null,null,null,null,null,null,null,null,null,null,null,null,null,null,null,null,null,null,null,null,null,null,null,null,null,null,null,null,null,null,null,null,null,null,null,null,null,null,null,null,null,null,null,null,null,null,null,null,null,"82 5","Sixième sens"]
[null,null,null,null,null,null,null,null,null,null,null,null,null,null,null,null,null,null,null,null,null,null,null,null,null,null,null,null,null,null,null,null,null,null,null,null,null,null,null,null,null,null,null,null,null,null,null,null,null,null,null,"83 5","Sixième sens"]
[null,null,null,null,null,null,null,null,null,null,null,null,null,null,null,null,null,null,null,null,null,null,null,null,null,null,null,null,null,null,null,null,null,null,null,null,null,null,null,null,null,null,null,null,null,null,null,null,null,null,null,"84 5","Sixième sens"]
[null,null,null,null,null,null,null,null,null,null,null,null,null,null,null,null,null,null,null,null,null,null,null,null,null,null,null,null,null,null,null,null,null,null,null,null,null,null,null,null,null,null,null,null,null,null,null,null,null,null,null,"85 5","Sixième sens"]
[null,null,null,null,null,null,null,null,null,null,null,null,null,null,null,null,null,null,null,null,null,null,null,null,null,null,null,null,null,null,null,null,null,null,null,null,null,null,null,null,null,null,null,null,null,null,null,null,null,null,null,"86 5","Sonar"]
[null,null,null,null,null,null,null,null,null,null,null,null,null,null,null,null,null,null,null,null,null,null,null,null,null,null,null,null,null,null,null,null,null,null,null,null,null,null,null,null,null,null,null,null,null,null,null,null,null,null,null,{"$f":"CONCATENATE(AY268,\" 5\")","v":"87 5"},"Sonar"]
[null,null,null,null,null,null,null,null,null,null,null,null,null,null,null,null,null,null,null,null,null,null,null,null,null,null,null,null,null,null,null,null,null,null,null,null,null,null,null,null,null,null,null,null,null,null,null,null,null,null,null,"88 5","Sonar"]
[null,null,null,null,null,null,null,null,null,null,null,null,null,null,null,null,null,null,null,null,null,null,null,null,null,null,null,null,null,null,null,null,null,null,null,null,null,null,null,null,null,null,null,null,null,null,null,null,null,null,null,"89 5","Squelette renforcé I"]
[null,null,null,null,null,null,null,null,null,null,null,null,null,null,null,null,null,null,null,null,null,null,null,null,null,null,null,null,null,null,null,null,null,null,null,null,null,null,null,null,null,null,null,null,null,null,null,null,null,null,null,"90 5","Symbiote(s) I"]
[null,null,null,null,null,null,null,null,null,null,null,null,null,null,null,null,null,null,null,null,null,null,null,null,null,null,null,null,null,null,null,null,null,null,null,null,null,null,null,null,null,null,null,null,null,null,null,null,null,null,null,"91 5","Symbiote(s) I"]
[null,null,null,null,null,null,null,null,null,null,null,null,null,null,null,null,null,null,null,null,null,null,null,null,null,null,null,null,null,null,null,null,null,null,null,null,null,null,null,null,null,null,null,null,null,null,null,null,null,null,null,"92 5","Symbiote(s) I"]
[null,null,null,null,null,null,null,null,null,null,null,null,null,null,null,null,null,null,null,null,null,null,null,null,null,null,null,null,null,null,null,null,null,null,null,null,null,null,null,null,null,null,null,null,null,null,null,null,null,null,null,"93 5","Tentacule rétractable"]
[null,null,null,null,null,null,null,null,null,null,null,null,null,null,null,null,null,null,null,null,null,null,null,null,null,null,null,null,null,null,null,null,null,null,null,null,null,null,null,null,null,null,null,null,null,null,null,null,null,null,null,"94 5","Tentacule rétractable"]
[null,null,null,null,null,null,null,null,null,null,null,null,null,null,null,null,null,null,null,null,null,null,null,null,null,null,null,null,null,null,null,null,null,null,null,null,null,null,null,null,null,null,null,null,null,null,null,null,null,null,null,"95 5","Tentacule rétractable"]
[null,null,null,null,null,null,null,null,null,null,null,null,null,null,null,null,null,null,null,null,null,null,null,null,null,null,null,null,null,null,null,null,null,null,null,null,null,null,null,null,null,null,null,null,null,null,null,null,null,null,null,"96 5","Vision nocturne"]
[null,null,null,null,null,null,null,null,null,null,null,null,null,null,null,null,null,null,null,null,null,null,null,null,null,null,null,null,null,null,null,null,null,null,null,null,null,null,null,null,null,null,null,null,null,null,null,null,null,null,null,"97 5","Vision nocturne"]
[null,null,null,null,null,null,null,null,null,null,null,null,null,null,null,null,null,null,null,null,null,null,null,null,null,null,null,null,null,null,null,null,null,null,null,null,null,null,null,null,null,null,null,null,null,null,null,null,null,null,null,"98 5","Vision nocturne"]
[null,null,null,null,null,null,null,null,null,null,null,null,null,null,null,null,null,null,null,null,null,null,null,null,null,null,null,null,null,null,null,null,null,null,null,null,null,null,null,null,null,null,null,null,null,null,null,null,null,null,null,"99 5","Vision nocturne"]
[null,null,null,null,null,null,null,null,null,null,null,null,null,null,null,null,null,null,null,null,null,null,null,null,null,null,null,null,null,null,null,null,null,null,null,null,null,null,null,null,null,null,null,null,null,null,null,null,null,null,null,"00 5","Vision nocturne"]
[null,null,null,null,null,null,null,null,null,null,null,null,null,null,null,null,null,null,null,null,null,null,null,null,null,null,null,null,null,null,null,null,null,null,null,null,null,null,null,null,null,null,null,null,null,null,null,null,null,null,null,{"$f":"CONCATENATE(AY182,\" 6\")","v":"1 6"},"Adaptation extérieure"]
[null,null,null,null,null,null,null,null,null,null,null,null,null,null,null,null,null,null,null,null,null,null,null,null,null,null,null,null,null,null,null,null,null,null,null,null,null,null,null,null,null,null,null,null,null,null,null,null,null,null,null,"2 6","Adaptation extérieure"]
[null,null,null,null,null,null,null,null,null,null,null,null,null,null,null,null,null,null,null,null,null,null,null,null,null,null,null,null,null,null,null,null,null,null,null,null,null,null,null,null,null,null,null,null,null,null,null,null,null,null,null,"3 6","Adaptation extérieure"]
[null,null,null,null,null,null,null,null,null,null,null,null,null,null,null,null,null,null,null,null,null,null,null,null,null,null,null,null,null,null,null,null,null,null,null,null,null,null,null,null,null,null,null,null,null,null,null,null,null,null,null,"4 6","Adaptation extérieure"]
[null,null,null,null,null,null,null,null,null,null,null,null,null,null,null,null,null,null,null,null,null,null,null,null,null,null,null,null,null,null,null,null,null,null,null,null,null,null,null,null,null,null,null,null,null,null,null,null,null,null,null,"5 6","Adaptation extérieure"]
[null,null,null,null,null,null,null,null,null,null,null,null,null,null,null,null,null,null,null,null,null,null,null,null,null,null,null,null,null,null,null,null,null,null,null,null,null,null,null,null,null,null,null,null,null,null,null,null,null,null,null,"6 6","Adaptation extérieure"]
[null,null,null,null,null,null,null,null,null,null,null,null,null,null,null,null,null,null,null,null,null,null,null,null,null,null,null,null,null,null,null,null,null,null,null,null,null,null,null,null,null,null,null,null,null,null,null,null,null,null,null,"7 6","Amphibie"]
[null,null,null,null,null,null,null,null,null,null,null,null,null,null,null,null,null,null,null,null,null,null,null,null,null,null,null,null,null,null,null,null,null,null,null,null,null,null,null,null,null,null,null,null,null,null,null,null,null,null,null,"8 6","Amphibie"]
[null,null,null,null,null,null,null,null,null,null,null,null,null,null,null,null,null,null,null,null,null,null,null,null,null,null,null,null,null,null,null,null,null,null,null,null,null,null,null,null,null,null,null,null,null,null,null,null,null,null,null,"9 6","Amphibie"]
[null,null,null,null,null,null,null,null,null,null,null,null,null,null,null,null,null,null,null,null,null,null,null,null,null,null,null,null,null,null,null,null,null,null,null,null,null,null,null,null,null,null,null,null,null,null,null,null,null,null,null,"10 6","Amphibie"]
[null,null,null,null,null,null,null,null,null,null,null,null,null,null,null,null,null,null,null,null,null,null,null,null,null,null,null,null,null,null,null,null,null,null,null,null,null,null,null,null,null,null,null,null,null,null,null,null,null,null,null,"11 6","Androgyne"]
[null,null,null,null,null,null,null,null,null,null,null,null,null,null,null,null,null,null,null,null,null,null,null,null,null,null,null,null,null,null,null,null,null,null,null,null,null,null,null,null,null,null,null,null,null,null,null,null,null,null,null,"12 6","Androgyne"]
[null,null,null,null,null,null,null,null,null,null,null,null,null,null,null,null,null,null,null,null,null,null,null,null,null,null,null,null,null,null,null,null,null,null,null,null,null,null,null,null,null,null,null,null,null,null,null,null,null,null,null,"13 6","Androgyne"]
[null,null,null,null,null,null,null,null,null,null,null,null,null,null,null,null,null,null,null,null,null,null,null,null,null,null,null,null,null,null,null,null,null,null,null,null,null,null,null,null,null,null,null,null,null,null,null,null,null,null,null,"14 6","Asexué"]
[null,null,null,null,null,null,null,null,null,null,null,null,null,null,null,null,null,null,null,null,null,null,null,null,null,null,null,null,null,null,null,null,null,null,null,null,null,null,null,null,null,null,null,null,null,null,null,null,null,null,null,"15 6","Asexué"]
[null,null,null,null,null,null,null,null,null,null,null,null,null,null,null,null,null,null,null,null,null,null,null,null,null,null,null,null,null,null,null,null,null,null,null,null,null,null,null,null,null,null,null,null,null,null,null,null,null,null,null,"16 6","Asexué"]
[null,null,null,null,null,null,null,null,null,null,null,null,null,null,null,null,null,null,null,null,null,null,null,null,null,null,null,null,null,null,null,null,null,null,null,null,null,null,null,null,null,null,null,null,null,null,null,null,null,null,null,"17 6","Autofécondation"]
[null,null,null,null,null,null,null,null,null,null,null,null,null,null,null,null,null,null,null,null,null,null,null,null,null,null,null,null,null,null,null,null,null,null,null,null,null,null,null,null,null,null,null,null,null,null,null,null,null,null,null,"18 6","Autofécondation"]
[null,null,null,null,null,null,null,null,null,null,null,null,null,null,null,null,null,null,null,null,null,null,null,null,null,null,null,null,null,null,null,null,null,null,null,null,null,null,null,null,null,null,null,null,null,null,null,null,null,null,null,"19 6","Autofécondation"]
[null,null,null,null,null,null,null,null,null,null,null,null,null,null,null,null,null,null,null,null,null,null,null,null,null,null,null,null,null,null,null,null,null,null,null,null,null,null,null,null,null,null,null,null,null,null,null,null,null,null,null,"20 6","1D4 !"]
[null,null,null,null,null,null,null,null,null,null,null,null,null,null,null,null,null,null,null,null,null,null,null,null,null,null,null,null,null,null,null,null,null,null,null,null,null,null,null,null,null,null,null,null,null,null,null,null,null,null,null,"21 6","1D4 !"]
[null,null,null,null,null,null,null,null,null,null,null,null,null,null,null,null,null,null,null,null,null,null,null,null,null,null,null,null,null,null,null,null,null,null,null,null,null,null,null,null,null,null,null,null,null,null,null,null,null,null,null,"22 6","1D4 !"]
[null,null,null,null,null,null,null,null,null,null,null,null,null,null,null,null,null,null,null,null,null,null,null,null,null,null,null,null,null,null,null,null,null,null,null,null,null,null,null,null,null,null,null,null,null,null,null,null,null,null,null,"23 6","1D4 !"]
[null,null,null,null,null,null,null,null,null,null,null,null,null,null,null,null,null,null,null,null,null,null,null,null,null,null,null,null,null,null,null,null,null,null,null,null,null,null,null,null,null,null,null,null,null,null,null,null,null,null,null,"24 6","Contact corrosif I"]
[null,null,null,null,null,null,null,null,null,null,null,null,null,null,null,null,null,null,null,null,null,null,null,null,null,null,null,null,null,null,null,null,null,null,null,null,null,null,null,null,null,null,null,null,null,null,null,null,null,null,null,"25 6","Contact corrosif I"]
[null,null,null,null,null,null,null,null,null,null,null,null,null,null,null,null,null,null,null,null,null,null,null,null,null,null,null,null,null,null,null,null,null,null,null,null,null,null,null,null,null,null,null,null,null,null,null,null,null,null,null,"26 6","Contagion"]
[null,null,null,null,null,null,null,null,null,null,null,null,null,null,null,null,null,null,null,null,null,null,null,null,null,null,null,null,null,null,null,null,null,null,null,null,null,null,null,null,null,null,null,null,null,null,null,null,null,null,null,"27 6","Contagion"]
[null,null,null,null,null,null,null,null,null,null,null,null,null,null,null,null,null,null,null,null,null,null,null,null,null,null,null,null,null,null,null,null,null,null,null,null,null,null,null,null,null,null,null,null,null,null,null,null,null,null,null,"28 6","Corne"]
[null,null,null,null,null,null,null,null,null,null,null,null,null,null,null,null,null,null,null,null,null,null,null,null,null,null,null,null,null,null,null,null,null,null,null,null,null,null,null,null,null,null,null,null,null,null,null,null,null,null,null,"29 6","Corne"]
[null,null,null,null,null,null,null,null,null,null,null,null,null,null,null,null,null,null,null,null,null,null,null,null,null,null,null,null,null,null,null,null,null,null,null,null,null,null,null,null,null,null,null,null,null,null,null,null,null,null,null,"30 6","Corne"]
[null,null,null,null,null,null,null,null,null,null,null,null,null,null,null,null,null,null,null,null,null,null,null,null,null,null,null,null,null,null,null,null,null,null,null,null,null,null,null,null,null,null,null,null,null,null,null,null,null,null,null,"31 6","Crocs"]
[null,null,null,null,null,null,null,null,null,null,null,null,null,null,null,null,null,null,null,null,null,null,null,null,null,null,null,null,null,null,null,null,null,null,null,null,null,null,null,null,null,null,null,null,null,null,null,null,null,null,null,"32 6","Crocs"]
[null,null,null,null,null,null,null,null,null,null,null,null,null,null,null,null,null,null,null,null,null,null,null,null,null,null,null,null,null,null,null,null,null,null,null,null,null,null,null,null,null,null,null,null,null,null,null,null,null,null,null,{"$f":"CONCATENATE(AY214,\" 6\")","v":"33 6"},"Crocs"]
[null,null,null,null,null,null,null,null,null,null,null,null,null,null,null,null,null,null,null,null,null,null,null,null,null,null,null,null,null,null,null,null,null,null,null,null,null,null,null,null,null,null,null,null,null,null,null,null,null,null,null,"34 6","Crocs"]
[null,null,null,null,null,null,null,null,null,null,null,null,null,null,null,null,null,null,null,null,null,null,null,null,null,null,null,null,null,null,null,null,null,null,null,null,null,null,null,null,null,null,null,null,null,null,null,null,null,null,null,"35 6","Crocs"]
[null,null,null,null,null,null,null,null,null,null,null,null,null,null,null,null,null,null,null,null,null,null,null,null,null,null,null,null,null,null,null,null,null,null,null,null,null,null,null,null,null,null,null,null,null,null,null,null,null,null,null,"36 6","Difformité légère I"]
[null,null,null,null,null,null,null,null,null,null,null,null,null,null,null,null,null,null,null,null,null,null,null,null,null,null,null,null,null,null,null,null,null,null,null,null,null,null,null,null,null,null,null,null,null,null,null,null,null,null,null,"37 6","Difformité légère I"]
[null,null,null,null,null,null,null,null,null,null,null,null,null,null,null,null,null,null,null,null,null,null,null,null,null,null,null,null,null,null,null,null,null,null,null,null,null,null,null,null,null,null,null,null,null,null,null,null,null,null,null,"38 6","Difformité légère I"]
[null,null,null,null,null,null,null,null,null,null,null,null,null,null,null,null,null,null,null,null,null,null,null,null,null,null,null,null,null,null,null,null,null,null,null,null,null,null,null,null,null,null,null,null,null,null,null,null,null,null,null,"39 6","Difformité légère I"]
[null,null,null,null,null,null,null,null,null,null,null,null,null,null,null,null,null,null,null,null,null,null,null,null,null,null,null,null,null,null,null,null,null,null,null,null,null,null,null,null,null,null,null,null,null,null,null,null,null,null,null,"40 6","Difformité légère I"]
[null,null,null,null,null,null,null,null,null,null,null,null,null,null,null,null,null,null,null,null,null,null,null,null,null,null,null,null,null,null,null,null,null,null,null,null,null,null,null,null,null,null,null,null,null,null,null,null,null,null,null,"41 6","Difformité importante I"]
[null,null,null,null,null,null,null,null,null,null,null,null,null,null,null,null,null,null,null,null,null,null,null,null,null,null,null,null,null,null,null,null,null,null,null,null,null,null,null,null,null,null,null,null,null,null,null,null,null,null,null,"42 6","Difformité importante I"]
[null,null,null,null,null,null,null,null,null,null,null,null,null,null,null,null,null,null,null,null,null,null,null,null,null,null,null,null,null,null,null,null,null,null,null,null,null,null,null,null,null,null,null,null,null,null,null,null,null,null,null,"43 6","Difformité importante I"]
[null,null,null,null,null,null,null,null,null,null,null,null,null,null,null,null,null,null,null,null,null,null,null,null,null,null,null,null,null,null,null,null,null,null,null,null,null,null,null,null,null,null,null,null,null,null,null,null,null,null,null,"44 6","Empathie"]
[null,null,null,null,null,null,null,null,null,null,null,null,null,null,null,null,null,null,null,null,null,null,null,null,null,null,null,null,null,null,null,null,null,null,null,null,null,null,null,null,null,null,null,null,null,null,null,null,null,null,null,"45 6","Empathie"]
[null,null,null,null,null,null,null,null,null,null,null,null,null,null,null,null,null,null,null,null,null,null,null,null,null,null,null,null,null,null,null,null,null,null,null,null,null,null,null,null,null,null,null,null,null,null,null,null,null,null,null,"46 6","Empathie"]
[null,null,null,null,null,null,null,null,null,null,null,null,null,null,null,null,null,null,null,null,null,null,null,null,null,null,null,null,null,null,null,null,null,null,null,null,null,null,null,null,null,null,null,null,null,null,null,null,null,null,null,"47 6","Excroissance osseuse rétractable"]
[null,null,null,null,null,null,null,null,null,null,null,null,null,null,null,null,null,null,null,null,null,null,null,null,null,null,null,null,null,null,null,null,null,null,null,null,null,null,null,null,null,null,null,null,null,null,null,null,null,null,null,"48 6","Excroissance osseuse rétractable"]
[null,null,null,null,null,null,null,null,null,null,null,null,null,null,null,null,null,null,null,null,null,null,null,null,null,null,null,null,null,null,null,null,null,null,null,null,null,null,null,null,null,null,null,null,null,null,null,null,null,null,null,"49 6","Excroissance osseuse rétractable"]
[null,null,null,null,null,null,null,null,null,null,null,null,null,null,null,null,null,null,null,null,null,null,null,null,null,null,null,null,null,null,null,null,null,null,null,null,null,null,null,null,null,null,null,null,null,null,null,null,null,null,null,"50 6","Griffes"]
[null,null,null,null,null,null,null,null,null,null,null,null,null,null,null,null,null,null,null,null,null,null,null,null,null,null,null,null,null,null,null,null,null,null,null,null,null,null,null,null,null,null,null,null,null,null,null,null,null,null,null,"51 6","Griffes"]
[null,null,null,null,null,null,null,null,null,null,null,null,null,null,null,null,null,null,null,null,null,null,null,null,null,null,null,null,null,null,null,null,null,null,null,null,null,null,null,null,null,null,null,null,null,null,null,null,null,null,null,"52 6","Griffes"]
[null,null,null,null,null,null,null,null,null,null,null,null,null,null,null,null,null,null,null,null,null,null,null,null,null,null,null,null,null,null,null,null,null,null,null,null,null,null,null,null,null,null,null,null,null,null,null,null,null,null,null,"53 6","Instabilité moléculaire"]
[null,null,null,null,null,null,null,null,null,null,null,null,null,null,null,null,null,null,null,null,null,null,null,null,null,null,null,null,null,null,null,null,null,null,null,null,null,null,null,null,null,null,null,null,null,null,null,null,null,null,null,"54 6","Métamorphe"]
[null,null,null,null,null,null,null,null,null,null,null,null,null,null,null,null,null,null,null,null,null,null,null,null,null,null,null,null,null,null,null,null,null,null,null,null,null,null,null,null,null,null,null,null,null,null,null,null,null,null,null,"55 6","Métamorphe"]
[null,null,null,null,null,null,null,null,null,null,null,null,null,null,null,null,null,null,null,null,null,null,null,null,null,null,null,null,null,null,null,null,null,null,null,null,null,null,null,null,null,null,null,null,null,null,null,null,null,null,null,"56 6","Métamorphe"]
[null,null,null,null,null,null,null,null,null,null,null,null,null,null,null,null,null,null,null,null,null,null,null,null,null,null,null,null,null,null,null,null,null,null,null,null,null,null,null,null,null,null,null,null,null,null,null,null,null,null,null,"57 6","Relancer !"]
[null,null,null,null,null,null,null,null,null,null,null,null,null,null,null,null,null,null,null,null,null,null,null,null,null,null,null,null,null,null,null,null,null,null,null,null,null,null,null,null,null,null,null,null,null,null,null,null,null,null,null,"58 6","Relancer !"]
[null,null,null,null,null,null,null,null,null,null,null,null,null,null,null,null,null,null,null,null,null,null,null,null,null,null,null,null,null,null,null,null,null,null,null,null,null,null,null,null,null,null,null,null,null,null,null,null,null,null,null,"59 6","Relancer !"]
[null,null,null,null,null,null,null,null,null,null,null,null,null,null,null,null,null,null,null,null,null,null,null,null,null,null,null,null,null,null,null,null,null,null,null,null,null,null,null,null,null,null,null,null,null,null,null,null,null,null,null,"60 6","Relancer !"]
[null,null,null,null,null,null,null,null,null,null,null,null,null,null,null,null,null,null,null,null,null,null,null,null,null,null,null,null,null,null,null,null,null,null,null,null,null,null,null,null,null,null,null,null,null,null,null,null,null,null,null,"61 6","Parasite(s) I"]
[null,null,null,null,null,null,null,null,null,null,null,null,null,null,null,null,null,null,null,null,null,null,null,null,null,null,null,null,null,null,null,null,null,null,null,null,null,null,null,null,null,null,null,null,null,null,null,null,null,null,null,"62 6","Peau renforcée I"]
[null,null,null,null,null,null,null,null,null,null,null,null,null,null,null,null,null,null,null,null,null,null,null,null,null,null,null,null,null,null,null,null,null,null,null,null,null,null,null,null,null,null,null,null,null,null,null,null,null,null,null,"63 6","Peau renforcée I"]
[null,null,null,null,null,null,null,null,null,null,null,null,null,null,null,null,null,null,null,null,null,null,null,null,null,null,null,null,null,null,null,null,null,null,null,null,null,null,null,null,null,null,null,null,null,null,null,null,null,null,null,"64 6","Peau renforcée I"]
[null,null,null,null,null,null,null,null,null,null,null,null,null,null,null,null,null,null,null,null,null,null,null,null,null,null,null,null,null,null,null,null,null,null,null,null,null,null,null,null,null,null,null,null,null,null,null,null,null,null,null,{"$f":"CONCATENATE(AY246,\" 6\")","v":"65 6"},"Peau renforcée I"]
[null,null,null,null,null,null,null,null,null,null,null,null,null,null,null,null,null,null,null,null,null,null,null,null,null,null,null,null,null,null,null,null,null,null,null,null,null,null,null,null,null,null,null,null,null,null,null,null,null,null,null,"66 6","Peau renforcée I"]
[null,null,null,null,null,null,null,null,null,null,null,null,null,null,null,null,null,null,null,null,null,null,null,null,null,null,null,null,null,null,null,null,null,null,null,null,null,null,null,null,null,null,null,null,null,null,null,null,null,null,null,"67 6","Purulence I"]
[null,null,null,null,null,null,null,null,null,null,null,null,null,null,null,null,null,null,null,null,null,null,null,null,null,null,null,null,null,null,null,null,null,null,null,null,null,null,null,null,null,null,null,null,null,null,null,null,null,null,null,"68 6","Queue"]
[null,null,null,null,null,null,null,null,null,null,null,null,null,null,null,null,null,null,null,null,null,null,null,null,null,null,null,null,null,null,null,null,null,null,null,null,null,null,null,null,null,null,null,null,null,null,null,null,null,null,null,"69 6","Queue"]
[null,null,null,null,null,null,null,null,null,null,null,null,null,null,null,null,null,null,null,null,null,null,null,null,null,null,null,null,null,null,null,null,null,null,null,null,null,null,null,null,null,null,null,null,null,null,null,null,null,null,null,"70 6","Queue"]
[null,null,null,null,null,null,null,null,null,null,null,null,null,null,null,null,null,null,null,null,null,null,null,null,null,null,null,null,null,null,null,null,null,null,null,null,null,null,null,null,null,null,null,null,null,null,null,null,null,null,null,"71 6","Radiation I"]
[null,null,null,null,null,null,null,null,null,null,null,null,null,null,null,null,null,null,null,null,null,null,null,null,null,null,null,null,null,null,null,null,null,null,null,null,null,null,null,null,null,null,null,null,null,null,null,null,null,null,null,"72 6","Régénération I"]
[null,null,null,null,null,null,null,null,null,null,null,null,null,null,null,null,null,null,null,null,null,null,null,null,null,null,null,null,null,null,null,null,null,null,null,null,null,null,null,null,null,null,null,null,null,null,null,null,null,null,null,"73 6","Régénération I"]
[null,null,null,null,null,null,null,null,null,null,null,null,null,null,null,null,null,null,null,null,null,null,null,null,null,null,null,null,null,null,null,null,null,null,null,null,null,null,null,null,null,null,null,null,null,null,null,null,null,null,null,"74 6","Régénération I"]
[null,null,null,null,null,null,null,null,null,null,null,null,null,null,null,null,null,null,null,null,null,null,null,null,null,null,null,null,null,null,null,null,null,null,null,null,null,null,null,null,null,null,null,null,null,null,null,null,null,null,null,"75 6","Régénération I"]
[null,null,null,null,null,null,null,null,null,null,null,null,null,null,null,null,null,null,null,null,null,null,null,null,null,null,null,null,null,null,null,null,null,null,null,null,null,null,null,null,null,null,null,null,null,null,null,null,null,null,null,"76 6","Résistance naturelle : résistance aux radiations I"]
[null,null,null,null,null,null,null,null,null,null,null,null,null,null,null,null,null,null,null,null,null,null,null,null,null,null,null,null,null,null,null,null,null,null,null,null,null,null,null,null,null,null,null,null,null,null,null,null,null,null,null,"77 6","Résistance naturelle : résistance aux radiations I"]
[null,null,null,null,null,null,null,null,null,null,null,null,null,null,null,null,null,null,null,null,null,null,null,null,null,null,null,null,null,null,null,null,null,null,null,null,null,null,null,null,null,null,null,null,null,null,null,null,null,null,null,"78 6","Résistance naturelle : résistance aux radiations I"]
[null,null,null,null,null,null,null,null,null,null,null,null,null,null,null,null,null,null,null,null,null,null,null,null,null,null,null,null,null,null,null,null,null,null,null,null,null,null,null,null,null,null,null,null,null,null,null,null,null,null,null,"79 6","Résistance naturelle : résistance aux radiations I"]
[null,null,null,null,null,null,null,null,null,null,null,null,null,null,null,null,null,null,null,null,null,null,null,null,null,null,null,null,null,null,null,null,null,null,null,null,null,null,null,null,null,null,null,null,null,null,null,null,null,null,null,"80 6","Résistance naturelle : résistance aux radiations I"]
[null,null,null,null,null,null,null,null,null,null,null,null,null,null,null,null,null,null,null,null,null,null,null,null,null,null,null,null,null,null,null,null,null,null,null,null,null,null,null,null,null,null,null,null,null,null,null,null,null,null,null,"81 6","Sixième sens"]
[null,null,null,null,null,null,null,null,null,null,null,null,null,null,null,null,null,null,null,null,null,null,null,null,null,null,null,null,null,null,null,null,null,null,null,null,null,null,null,null,null,null,null,null,null,null,null,null,null,null,null,"82 6","Sixième sens"]
[null,null,null,null,null,null,null,null,null,null,null,null,null,null,null,null,null,null,null,null,null,null,null,null,null,null,null,null,null,null,null,null,null,null,null,null,null,null,null,null,null,null,null,null,null,null,null,null,null,null,null,"83 6","Sixième sens"]
[null,null,null,null,null,null,null,null,null,null,null,null,null,null,null,null,null,null,null,null,null,null,null,null,null,null,null,null,null,null,null,null,null,null,null,null,null,null,null,null,null,null,null,null,null,null,null,null,null,null,null,"84 6","Sixième sens"]
[null,null,null,null,null,null,null,null,null,null,null,null,null,null,null,null,null,null,null,null,null,null,null,null,null,null,null,null,null,null,null,null,null,null,null,null,null,null,null,null,null,null,null,null,null,null,null,null,null,null,null,"85 6","Sixième sens"]
[null,null,null,null,null,null,null,null,null,null,null,null,null,null,null,null,null,null,null,null,null,null,null,null,null,null,null,null,null,null,null,null,null,null,null,null,null,null,null,null,null,null,null,null,null,null,null,null,null,null,null,"86 6","Sonar"]
[null,null,null,null,null,null,null,null,null,null,null,null,null,null,null,null,null,null,null,null,null,null,null,null,null,null,null,null,null,null,null,null,null,null,null,null,null,null,null,null,null,null,null,null,null,null,null,null,null,null,null,{"$f":"CONCATENATE(AY268,\" 6\")","v":"87 6"},"Sonar"]
[null,null,null,null,null,null,null,null,null,null,null,null,null,null,null,null,null,null,null,null,null,null,null,null,null,null,null,null,null,null,null,null,null,null,null,null,null,null,null,null,null,null,null,null,null,null,null,null,null,null,null,"88 6","Sonar"]
[null,null,null,null,null,null,null,null,null,null,null,null,null,null,null,null,null,null,null,null,null,null,null,null,null,null,null,null,null,null,null,null,null,null,null,null,null,null,null,null,null,null,null,null,null,null,null,null,null,null,null,"89 6","Squelette renforcé I"]
[null,null,null,null,null,null,null,null,null,null,null,null,null,null,null,null,null,null,null,null,null,null,null,null,null,null,null,null,null,null,null,null,null,null,null,null,null,null,null,null,null,null,null,null,null,null,null,null,null,null,null,"90 6","Symbiote(s) I"]
[null,null,null,null,null,null,null,null,null,null,null,null,null,null,null,null,null,null,null,null,null,null,null,null,null,null,null,null,null,null,null,null,null,null,null,null,null,null,null,null,null,null,null,null,null,null,null,null,null,null,null,"91 6","Symbiote(s) I"]
[null,null,null,null,null,null,null,null,null,null,null,null,null,null,null,null,null,null,null,null,null,null,null,null,null,null,null,null,null,null,null,null,null,null,null,null,null,null,null,null,null,null,null,null,null,null,null,null,null,null,null,"92 6","Symbiote(s) I"]
[null,null,null,null,null,null,null,null,null,null,null,null,null,null,null,null,null,null,null,null,null,null,null,null,null,null,null,null,null,null,null,null,null,null,null,null,null,null,null,null,null,null,null,null,null,null,null,null,null,null,null,"93 6","Tentacule rétractable"]
[null,null,null,null,null,null,null,null,null,null,null,null,null,null,null,null,null,null,null,null,null,null,null,null,null,null,null,null,null,null,null,null,null,null,null,null,null,null,null,null,null,null,null,null,null,null,null,null,null,null,null,"94 6","Tentacule rétractable"]
[null,null,null,null,null,null,null,null,null,null,null,null,null,null,null,null,null,null,null,null,null,null,null,null,null,null,null,null,null,null,null,null,null,null,null,null,null,null,null,null,null,null,null,null,null,null,null,null,null,null,null,"95 6","Tentacule rétractable"]
[null,null,null,null,null,null,null,null,null,null,null,null,null,null,null,null,null,null,null,null,null,null,null,null,null,null,null,null,null,null,null,null,null,null,null,null,null,null,null,null,null,null,null,null,null,null,null,null,null,null,null,"96 6","Vision nocturne"]
[null,null,null,null,null,null,null,null,null,null,null,null,null,null,null,null,null,null,null,null,null,null,null,null,null,null,null,null,null,null,null,null,null,null,null,null,null,null,null,null,null,null,null,null,null,null,null,null,null,null,null,"97 6","Vision nocturne"]
[null,null,null,null,null,null,null,null,null,null,null,null,null,null,null,null,null,null,null,null,null,null,null,null,null,null,null,null,null,null,null,null,null,null,null,null,null,null,null,null,null,null,null,null,null,null,null,null,null,null,null,"98 6","Vision nocturne"]
[null,null,null,null,null,null,null,null,null,null,null,null,null,null,null,null,null,null,null,null,null,null,null,null,null,null,null,null,null,null,null,null,null,null,null,null,null,null,null,null,null,null,null,null,null,null,null,null,null,null,null,"99 6","Vision nocturne"]
[null,null,null,null,null,null,null,null,null,null,null,null,null,null,null,null,null,null,null,null,null,null,null,null,null,null,null,null,null,null,null,null,null,null,null,null,null,null,null,null,null,null,null,null,null,null,null,null,null,null,null,"00 6","Vision nocturne"]

{"sheet":"EXPERIENCE_PRELIMINAIRE","index":5,"n_rows":740,"n_cols":268,"rows_kept":281,"cut":true,"hidden":false,"merged":[[315,10,317,10],[183,10,185,10],[31,10,33,10],[183,0,185,0],[284,0,286,0],[130,4,130,8],[131,4,131,8],[132,4,132,8],[133,4,133,8],[152,4,152,8],[134,4,134,8],[135,4,135,8],[136,4,136,8],[137,4,137,8],[138,4,138,8],[139,4,139,8],[140,4,140,8],[141,4,141,8],[142,4,142,8],[106,4,106,8],[147,4,147,8],[198,4,198,8],[218,4,218,8],[254,4,254,8],[327,4,327,8],[328,4,328,8],[329,4,329,8],[153,4,153,8],[154,4,154,8],[143,4,143,8],[156,4,156,8],[157,4,157,8],[158,4,158,8],[159,4,159,8],[203,4,203,8],[189,4,189,8],[193,4,193,8],[275,4,275,8],[190,4,190,8],[191,4,191,8],[192,4,192,8],[257,4,257,8],[266,4,266,8],[267,4,267,8],[216,4,216,8],[196,4,196,8],[183,4,183,8],[217,4,217,8],[115,4,115,8],[117,4,117,8],[128,4,128,8],[129,4,129,8],[213,4,213,8],[214,4,214,8],[215,4,215,8],[273,4,273,8],[274,4,274,8],[144,4,144,8],[145,4,145,8],[146,4,146,8],[155,4,155,8],[148,4,148,8],[149,4,149,8],[150,4,150,8],[235,4,235,8],[236,4,236,8],[268,4,268,8],[269,4,269,8],[270,4,270,8],[271,4,271,8],[272,4,272,8],[256,4,256,8],[328,0,330,0],[176,4,176,8],[177,4,177,8],[178,4,178,8],[179,4,179,8],[180,4,180,8],[160,4,160,8],[161,4,161,8],[162,4,162,8],[163,4,163,8],[164,4,164,8],[165,4,165,8],[171,4,171,8],[172,4,172,8],[173,4,173,8],[174,4,174,8],[175,4,175,8],[293,4,293,8],[204,4,204,8],[205,4,205,8],[206,4,206,8],[280,4,280,8],[207,4,207,8],[234,4,234,8],[111,4,111,8],[112,4,112,8],[113,4,113,8],[114,4,114,8],[97,4,97,8],[98,4,98,8],[99,4,99,8],[100,4,100,8],[101,4,101,8],[102,4,102,8],[103,4,103,8],[104,4,104,8],[105,4,105,8],[82,4,82,8],[84,4,84,8],[83,4,83,8],[350,15,352,15],[29,4,29,5],[2,55,14,55],[2,65,14,65],[2,75,14,75],[2,85,14,85],[70,4,70,8],[15,12,15,18],[2,52,14,52],[2,53,14,53],[2,54,14,54],[2,56,14,56],[92,4,92,8],[93,4,93,8],[94,4,94,8],[95,4,95,8],[96,4,96,8],[107,4,107,8],[108,4,108,8],[109,4,109,8],[110,4,110,8],[2,159,14,159],[2,160,14,160],[2,51,14,51],[2,161,14,161],[72,4,72,8],[69,4,69,8],[71,4,71,8],[75,4,75,8],[74,4,74,8],[2,155,14,155],[2,96,14,96],[2,154,14,154],[2,44,14,44],[48,4,48,8],[10,4,10,5],[11,4,11,5],[12,4,12,5],[13,4,13,5],[14,4,14,5],[15,4,15,5],[64,4,64,8],[65,4,65,8],[54,4,54,8],[37,4,37,8],[31,0,33,0],[57,0,64,0],[1,154,1,231],[2,34,14,34],[2,35,14,35],[2,37,14,37],[2,38,14,38],[2,95,14,95],[2,93,14,93],[2,94,14,94],[2,97,14,97],[2,98,14,98],[2,162,14,162],[2,163,14,163],[2,164,14,164],[2,165,14,165],[2,166,14,166],[2,42,14,42],[2,43,14,43],[2,45,14,45],[2,156,14,156],[2,157,14,157],[2,158,14,158],[3,0,3,2],[90,4,90,8],[19,4,19,5],[20,4,20,5],[21,4,21,5],[22,4,22,5],[23,4,23,5],[66,4,66,8],[73,4,73,8],[81,4,81,8],[57,4,57,8],[85,4,85,8],[86,4,86,8],[87,4,87,8],[88,4,88,8],[89,4,89,8],[32,4,32,8],[33,4,33,8],[31,4,31,8],[50,4,50,8],[53,4,53,8],[52,4,52,8],[67,4,67,8],[68,4,68,8],[47,4,47,8],[38,4,38,8],[39,4,39,8],[45,4,45,8],[7,8,9,8],[51,4,51,8],[46,4,46,8],[36,4,36,8],[16,4,16,5],[26,4,26,5],[49,4,49,8],[25,4,25,5],[19,1,21,1],[17,4,17,5],[36,0,38,0],[2,104,14,104],[2,105,14,105],[2,106,14,106],[2,107,14,107],[2,108,14,108],[2,109,14,109],[2,20,14,20],[2,33,14,33],[2,67,14,67],[2,68,14,68],[2,70,14,70],[2,71,14,71],[2,39,14,39],[2,40,14,40],[2,41,14,41],[2,25,14,25],[2,57,14,57],[2,58,14,58],[2,59,14,59],[2,60,14,60],[2,47,14,47],[2,110,14,110],[2,134,14,134],[2,114,14,114],[2,115,14,115],[2,116,14,116],[2,117,14,117],[2,118,14,118],[2,131,14,131],[2,132,14,132],[2,133,14,133],[2,119,14,119],[2,120,14,120],[2,121,14,121],[2,122,14,122],[1,125,14,125],[1,126,1,134],[2,126,14,126],[2,127,14,127],[2,128,14,128],[2,129,14,129],[2,130,14,130],[2,175,14,175],[2,176,14,176],[2,167,14,167],[2,168,14,168],[2,169,14,169],[2,170,14,170],[2,172,14,172],[2,173,14,173],[2,174,14,174],[2,171,14,171],[2,31,14,31],[2,36,14,36],[2,189,14,189],[2,190,14,190],[2,231,14,231],[2,177,14,177],[2,178,14,178],[2,179,14,179],[2,180,14,180],[2,181,14,181],[2,182,14,182],[2,183,14,183],[2,184,14,184],[2,185,14,185],[2,186,14,186],[2,187,14,187],[2,188,14,188],[2,191,14,191],[2,192,14,192],[2,200,14,200],[2,201,14,201],[2,202,14,202],[2,203,14,203],[2,204,14,204],[2,86,14,86],[2,87,14,87],[2,91,14,91],[2,24,14,24],[1,102,1,110],[2,102,14,102],[2,103,14,103],[2,92,14,92],[2,63,14,63],[2,64,14,64],[2,66,14,66],[2,72,14,72],[2,73,14,73],[2,74,14,74],[2,76,14,76],[2,77,14,77],[2,90,14,90],[2,78,14,78],[2,79,14,79],[2,80,14,80],[2,81,14,81],[1,90,1,98],[1,24,1,87],[2,46,14,46],[1,137,1,145],[2,137,14,137],[2,138,14,138],[2,139,14,139],[2,140,14,140],[2,141,14,141],[2,142,14,142],[2,143,14,143],[2,144,14,144],[2,145,14,145],[230,4,230,8],[231,4,231,8],[232,4,232,8],[240,4,240,8],[241,4,241,8],[242,4,242,8],[243,4,243,8],[292,4,292,8],[278,4,278,8],[287,4,287,8],[288,4,288,8],[250,4,250,8],[251,4,251,8],[252,4,252,8],[253,4,253,8],[255,4,255,8],[277,4,277,8],[2,22,14,22],[249,4,249,8],[2,30,14,30],[2,82,14,82],[2,83,14,83],[2,84,14,84],[2,69,14,69],[2,62,14,62],[297,4,297,8],[200,4,200,8],[201,4,201,8],[209,4,209,8],[210,4,210,8],[211,4,211,8],[212,4,212,8],[2,48,14,48],[2,49,14,49],[2,50,14,50],[2,61,14,61],[2,26,14,26],[2,27,14,27],[2,28,14,28],[2,29,14,29],[2,32,14,32],[355,176,367,176],[355,177,367,177],[355,178,367,178],[185,4,185,8],[186,4,186,8],[187,4,187,8],[184,4,184,8],[63,4,63,8],[1,114,1,122],[286,4,286,8],[197,4,197,8],[195,4,195,8],[1,113,14,113],[1,101,14,101],[1,89,14,89],[237,4,237,8],[238,4,238,8],[259,4,259,8],[260,4,260,8],[261,4,261,8],[262,4,262,8],[264,4,264,8],[2,21,14,21],[1,20,1,22],[301,4,301,8],[330,4,330,8],[302,4,302,8],[313,4,313,8],[276,4,276,8],[324,4,324,8],[320,4,320,8],[321,4,321,8],[322,4,322,8],[323,4,323,8],[290,4,290,8],[284,4,284,8],[289,4,289,8],[314,4,314,8],[315,4,315,8],[316,4,316,8],[318,4,318,8],[319,4,319,8],[294,4,294,8],[295,4,295,8],[296,4,296,8],[298,4,298,8],[300,4,300,8],[285,4,285,8],[355,189,367,189],[355,190,367,190],[355,231,367,231],[194,4,194,8],[199,4,199,8],[355,179,367,179],[355,180,367,180],[355,181,367,181],[355,182,367,182],[355,183,367,183],[355,184,367,184],[355,161,367,161],[355,162,367,162],[355,163,367,163],[355,164,367,164],[355,165,367,165],[355,166,367,166],[355,167,367,167],[355,168,367,168],[355,169,367,169],[355,156,367,156],[355,157,367,157],[355,158,367,158],[355,159,367,159],[355,188,367,188],[355,160,367,160],[355,170,367,170],[355,154,367,154],[355,155,367,155],[383,174,395,174],[383,175,395,175],[383,176,395,176],[383,177,395,177],[383,178,395,178],[383,179,395,179],[383,180,395,180],[383,181,395,181],[383,182,395,182],[383,183,395,183],[383,184,395,184],[355,185,367,185],[355,186,367,186],[355,187,367,187],[355,171,367,171],[355,172,367,172],[355,173,367,173],[355,174,367,174],[355,175,367,175],[383,157,395,157],[383,158,395,158],[383,159,395,159],[383,160,395,160],[383,161,395,161],[383,154,395,154],[383,155,395,155],[383,156,395,156],[383,185,395,185],[383,162,395,162],[383,171,395,171],[383,172,395,172],[383,173,395,173],[383,163,395,163],[383,164,395,164],[383,165,395,165],[383,166,395,166],[383,167,395,167],[383,168,395,168],[383,169,395,169],[383,170,395,170],[383,186,395,186],[383,187,395,187],[383,188,395,188],[383,189,395,189],[383,190,395,190],[383,231,395,231],[383,212,395,212],[383,213,395,213],[383,214,395,214],[383,215,395,215],[383,216,395,216],[383,217,395,217],[383,218,395,218],[383,219,395,219],[383,220,395,220],[383,221,395,221],[383,222,395,222],[383,223,395,223],[383,224,395,224],[383,225,395,225],[383,226,395,226],[532,154,544,154],[532,155,544,155],[532,156,544,156],[532,157,544,157],[532,158,544,158],[532,159,544,159],[532,160,544,160],[532,161,544,161],[532,162,544,162],[532,163,544,163],[532,164,544,164],[532,165,544,165],[532,166,544,166],[532,167,544,167],[532,168,544,168],[532,169,544,169],[532,170,544,170],[532,171,544,171],[532,172,544,172],[532,173,544,173],[532,174,544,174],[532,184,544,184],[532,185,544,185],[532,186,544,186],[532,187,544,187],[532,188,544,188],[532,189,544,189],[532,190,544,190],[532,231,544,231],[532,175,544,175],[532,176,544,176],[532,177,544,177],[532,178,544,178],[532,179,544,179],[532,180,544,180],[532,181,544,181],[532,182,544,182],[532,183,544,183],[532,212,544,212],[532,213,544,213],[532,214,544,214],[532,215,544,215],[532,216,544,216],[532,217,544,217],[532,218,544,218],[532,219,544,219],[532,220,544,220],[532,221,544,221],[532,222,544,222],[532,223,544,223],[532,224,544,224],[2,193,14,193],[2,194,14,194],[2,195,14,195],[2,196,14,196],[2,197,14,197],[2,198,14,198],[2,199,14,199],[2,205,14,205],[2,206,14,206],[2,225,14,225],[2,226,14,226],[2,227,14,227],[2,228,14,228],[2,229,14,229],[2,230,14,230],[2,216,14,216],[2,217,14,217],[2,218,14,218],[2,219,14,219],[2,220,14,220],[2,221,14,221],[2,222,14,222],[532,191,544,191],[355,192,367,192],[355,193,367,193],[355,194,367,194],[355,195,367,195],[355,196,367,196],[355,197,367,197],[355,198,367,198],[355,199,367,199],[532,192,544,192],[532,193,544,193],[532,194,544,194],[532,195,544,195],[532,196,544,196],[532,197,544,197],[532,198,544,198],[532,199,544,199],[355,191,367,191],[383,191,395,191],[2,207,14,207],[2,208,14,208],[2,209,14,209],[2,210,14,210],[2,211,14,211],[2,212,14,212],[355,217,367,217],[355,220,367,220],[355,221,367,221],[2,223,14,223],[2,224,14,224],[355,211,367,211],[355,212,367,212],[355,213,367,213],[355,214,367,214],[355,215,367,215],[2,213,14,213],[2,214,14,214],[2,215,14,215],[355,230,367,230],[383,192,395,192],[383,193,395,193],[383,194,395,194],[383,195,395,195],[383,196,395,196],[383,197,395,197],[383,198,395,198],[383,199,395,199],[383,200,395,200],[383,201,395,201],[383,202,395,202],[383,203,395,203],[383,204,395,204],[383,205,395,205],[383,206,395,206],[383,207,395,207],[383,208,395,208],[383,209,395,209],[383,210,395,210],[383,211,395,211],[355,218,367,218],[355,200,367,200],[355,201,367,201],[355,222,367,222],[355,223,367,223],[355,224,367,224],[355,225,367,225],[355,226,367,226],[355,228,367,228],[355,229,367,229],[532,200,544,200],[532,228,544,228],[532,229,544,229],[355,202,367,202],[355,203,367,203],[355,204,367,204],[355,205,367,205],[355,206,367,206],[532,230,544,230],[383,227,395,227],[383,228,395,228],[383,229,395,229],[383,230,395,230],[532,201,544,201],[532,202,544,202],[532,203,544,203],[532,211,544,211],[532,204,544,204],[532,205,544,205],[532,206,544,206],[532,225,544,225],[532,226,544,226],[532,227,544,227],[532,207,544,207],[532,208,544,208],[532,209,544,209],[532,210,544,210],[334,4,334,8],[335,4,335,8],[337,4,339,8],[352,4,355,8],[350,4,350,5],[266,242,313,244],[315,242,349,244],[18,246,349,248],[83,242,159,244],[161,242,171,244],[231,242,249,244],[251,242,264,244],[173,242,229,244],[18,242,29,244],[31,242,45,244],[47,242,63,244],[65,242,81,244],[355,207,367,207],[355,208,367,208],[355,209,367,209],[355,210,367,210],[355,216,367,216],[355,227,367,227],[355,219,367,219]],"bounds":{"rows_first":125,"rows_last":31,"rows_between":125,"halvings":4}}
[null,null,null,null,null,null,null,null,null,null,null,null,null,null,null,null,null,null,null,null,null,null,null,null,null,null,null,null,null,null,null,null,null,null,null,null,null,null,null,null,null,null,null,null,{"$f":"IF(E46=\"Surface\",1,IF(E46=\"Création simplifiée\",1,0))","v":0},null,null,null,null,null,null,null,null,null,null,null,null,null,null,null,null,null,null,null,null,null,null,null,null,null,null,null,null,null,null,null,null,null,null,null,null,null,null,null,null,null,null,null,null,null,null,null,null,null,null,null,null,null,null,null,null,null,null,null,null,null,null,null,null,null,null,null,null,null,null,null,null,null,null,null,null,null,null,null,null,null,null,null,null,null,null,null,null,null,null,null,null,null,null,null,null,null,null,null,null,null,null,null,null,null,null,null,null,null,null,null,null,null,null,null,null,null,null,null,null,null,null,null,null,null,null,null,null,null,null,null,null,null,null,null,null,null,null,null,null,null,null,null,null,null,null,null,null,null,null,null,null,null,{"$f":"IF($E$184=GQ3,$E$186,IF($E$204=GQ3,$E$206,IF($E$235=GQ3,$E$237,IF($E$260=GQ3,$E$262,0))))","v":0},{"$f":"IF($E$184=GR3,$E$186,IF($E$204=GR3,$E$206,IF($E$235=GR3,$E$237,IF($E$260=GR3,$E$262,0))))","v":0},0,0,0,0]
[null,null,null,null,null,null,null,null,"<< Légende _",null,null,null,null,null,null,null,null,null,null,null,"TOTAL",null,null,null,"Origines et formations",null,null,null,null,null,null,null,null,null,null,null,null,null,null,null,null,null,null,null,null,null,null,null,null,null,null,null,null,null,null,null,null,null,null,null,null,null,null,null,null,null,null,null,null,null,null,null,null,null,null,null,null,null,null,null,null,null,null,null,null,null,null,null,null,"Avantage pro aléatoire Formation","Profession 1",null,null,null,null,null,null,null,null,null,null,"Avantage pro aléatoire Formation","Profession 2",null,null,null,null,null,null,null,null,null,null,"Avantage pro aléatoire Formation","Profession 3",null,null,null,null,null,null,null,null,null,null,"Avantage pro aléatoire Formation","Profession 4",null,null,null,null,null,null,null,null,null,null,"Autre",null,null,null,null,null,null,null,null,null,null,null,null,null,null,null,null,"Professions"]
[null,null,null,null,null,null,null,null,null,null,null,null,null,null,null,null,null,null,null,null,"Niveau de base","Niveau de maîtrise","Niveau global",null,"Départ","Progression naturelle initiale","Navire nomade","Petite station","Station de taille moyenne","Grande cité","Surface ou Création simplifiée",{"$f":"E37","v":"Navire nomade"},"Bas-fonds","Milieu ouvrier","Classes moyennes","Classes supérieures","Surface ou Création simplifiée",{"$f":"E38","v":"Bas-fonds"},"Délinquance/Criminalité","Apprentissage technique (Aquaculture)","Apprentissage technique (Mines)","Apprentissage technique (Usine/Atelier)","Education scolaire","Autodidacte","Surface ou Création simplifiée",{"$f":"E46","v":"Délinquance/Criminalité"},"Commerce/Gestion","Droit","Ecole d'ingénieurs","Ecole militaire","Ecole navale","Médecine","Sciences/Sciences humaines","Sciences politiques",{"$f":"E58","v":"Pas d'étude sup."},{"$f":"BC3","v":"Pas d'étude sup."},"Commerce/Gestion","Droit","Ecole d'ingénieurs","Ecole militaire","Ecole navale","Médecine","Sciences/Sciences humaines","Sciences politiques",{"$f":"E93","v":"Pas d'étude sup."},{"$f":"BM3","v":"Pas d'étude sup."},"Commerce/Gestion","Droit","Ecole d'ingénieurs","Ecole militaire","Ecole navale","Médecine","Sciences/Sciences humaines","Sciences politiques",{"$f":"E118","v":"Pas d'étude sup."},{"$f":"BW3","v":"Pas d'étude sup."},"Commerce/Gestion","Droit","Ecole d'ingénieurs","Ecole militaire","Ecole navale","Médecine","Sciences/Sciences humaines","Sciences politiques",{"$f":"E153","v":"Pas d'étude sup."},{"$f":"CG3","v":"Pas d'étude sup."},"Total formation de base","Total formation de base",null,null,"Progression naturelle 1","Total avant Profession 1","Total avant Profession 1","Compétences origines","Compétences professionnelles",{"$f":"E184","v":"Sans profession"},"Lignes du tableau caché","Total Profession 1","Total Profession 1",null,null,null,"Progression naturelle 2","Total avant Profession 2","Total avant Profession 2","Compétences origines","Compétences professionnelles",{"$f":"E204","v":"Sans profession"},"Lignes du tableau caché","Total Profession 2","Total Profession 2",null,null,null,"Progression naturelle 3","Total avant Profession 3","Total avant Profession 3","Compétences origines","Compétences professionnelles",{"$f":"E235","v":"Sans profession"},"Lignes du tableau caché","Total Profession 3","Total Profession 3",null,null,null,"Progression naturelle 4","Total avant Profession 4","Total avant Profession 4","Compétences origines","Compétences professionnelles",{"$f":"E260","v":"Sans profession"},"Lignes du tableau caché","Total Profession 4","Total Profession 4",null,null,"Capacités spéciales, Av./Désav.","Total avant Avantage Formation","Total avant Avantage Formation","Compétences origines","Compétences professionnelles","Avantage Formation","Lignes du tableau caché","Total Avantage Formation","Total Avantage Formation",null,null,null,null,null,null,null,null,"Sans profession","Artisan/Artiste","Assassin","Barman","Chasseur de primes","Contrebandier","Cultivateur/Eleveur","Diplomate","Erudit/Archéologue","Espion","Hybride du Trident (Membre du GSI)","Marchand","Marchand itinérant/Conteur","Médecin/Chirurgien","Mercenaire","Mineur","Officier naval/Navigateur","Officier militaire","Officier militaire (Spé. Op. Surface)","Officier militaire (Spé. Op. Souterrains)","Ouvrier/Docker","Pilote de chasse (Chasseur atmosphérique)","Pilote de chasse (Chasseur sous-marin)","Pirate","Policier/Enquêteur","Prêtre du Trident","Prostituée","Scientifique/Ingénieur","Soldat/Milicien","Soldat d'élite (Commandos marin)","Soldat d'élite (Commandos souterrains)","Soldat d'élite (Commandos de surface)","Soldat d'élite (Forces spéciales)","Sous-marinier","Technicien/Mécanicien","Techno-Hybride","Veilleur","Voleur/Criminel","Voie des altérés","Voie de la connaissance et du spirituel","Voie de la chasse et du combat","Voie de l'errance et du commerce","Voie de la technologie","Voie de la nature et de l'artisanat","Prêtre/Prêtresse du Corail","Empathe adjoint aux patrouilles de sécurité","Empathe courtisane","Empathe administratif","Empathe médecin","Empathe combattante","Travailleur hybride indépendant","Profession 14","Profession 15","Profession 16","Profession 17","Profession 18","Profession 19","Profession 20","Profession 21","Profession 22","Profession 23","Profession 24","Profession 25","Profession 26","Profession 27","Profession 28","Profession 29","Profession 30","Profession 31","Profession 32","Profession 33","Profession 34","Profession 35","Profession 36","Profession 37","Profession 38","Profession 39","Profession 40"]
["TROISIEME EDITION",null,null,null,null,null,null,null,null,"Cellules à compléter / Sélection à faire dans le menu déroulant / Compétences professionnelles"]
[null,null,null,null,null,null,null,null,null,"Compétences professionnelles grâce aux origines et formations initiales (jusqu'à un degré de maîtrise de 5)"]
[null,null,null,null,null,null,null,null,null,"Compétences hors profession"]
[null,null,null,null,null,null,null,null,null,"Cellules à compléter par le MJ"]
[]
[null,null,null,null,null,null,null,null,null,"Passer la souris au dessus de ce symbole pour afficher un commentaire"]
[]
[null,null,"PC base",null,{"$f":"ATTRIBUTS!D23","v":20},null,null,null,"*","Compétence limitative"]
[null,null,"PC Attributs",null,{"$f":"ATTRIBUTS!D24","v":0},null,null,null,"PN","Compétence à progresion naturelle"]
[null,null,"PC Type génétique",null,{"$f":"ATTRIBUTS!D25","v":0},null,null,null,"+","Compétence nécessitant un pré-requis"]
[null,null,"PC Capacités spé.",null,{"$f":"ATTRIBUTS!D26","v":0},null,null,null,-3,"Compétence difficile"]
[null,null,"PC Exp. préliminaire",null,{"$f":"E20+E21","v":0},null,null,null,"X","Compétence réservée"]
[null,null,"PC Avantages/Desav.",null,{"$f":"ATTRIBUTS!D28","v":0},null,null,null,null,null,null,null,"Années d'expérience",null,null,null,null,null,null,{"$f":"BC16+BM16+BW16+CG16+CR16+DD16+DP16+EB16+EM16","v":0},null,null,null,null,null,null,null,null,null,null,null,null,null,null,null,null,null,null,null,null,null,null,null,null,null,null,2,2,2,2,2,2,2,2,{"$f":"IF(BC3=\"Pas d'étude sup.\",0,2)","v":0},{"$f":"BC16","v":0},2,2,2,2,2,2,2,2,{"$f":"IF(BM3=\"Pas d'étude sup.\",0,2)","v":0},{"$f":"BM16","v":0},2,2,2,2,2,2,2,2,{"$f":"IF(BW3=\"Pas d'étude sup.\",0,2)","v":0},{"$f":"BW16","v":0},2,2,2,2,2,2,2,2,{"$f":"IF(CG3=\"Pas d'étude sup.\",0,2)","v":0},{"$f":"CG16","v":0},null,null,null,null,null,null,null,null,null,{"$f":"E186","v":0},null,null,null,null,null,null,null,null,null,null,null,{"$f":"E206","v":0},null,null,null,null,null,null,null,null,null,null,null,{"$f":"E237","v":0},null,null,null,null,null,null,null,null,null,null,null,{"$f":"E262","v":0},null,null,null,null,null,null,null,null,null,null,{"$f":"AVANTAGES_DESAVANTAGES!$AL$170","v":0},null,null,null,null,null,null,null,null,null,null,null,null,null,null,null,null,null,null,null,null,null,null,null,null,null,null,null,null,null,null,null,null,null,null,null,null,null,null,null,null,null,null,null,null,null,null,null,null,null,null,null,null,null,null,null,null,null,null,null,null,null,null,null,null,null,null,null,null,null,null,null,null,null,null,null,null,null,null,null,null,null,null,null,null,null,null,null,null,null,null,null,null,null,"EO"]
[null,null,"PC restants",null,{"$f":"E11-E12-E13-E14-E15-E16","v":20},null,null,null,null,null,null,null,"COMPETENCES",null,null,null,null,null,null,null,null,null,null,null,null,null,null,null,null,null,null,null,null,null,null,null,null,null,null,null,null,null,null,null,null,null,null,null,null,null,null,null,null,null,null,null,null,null,null,null,null,null,null,null,null,null,null,null,null,null,null,null,null,null,null,null,null,null,null,null,null,null,null,null,null,null,null,null,null,null,null,null,null,null,null,null,null,null,null,null,null,null,null,null,null,null,null,null,null,null,null,null,null,null,null,null,null,null,null,null,null,null,null,null,null,null,null,null,null,null,null,null,null,null,null,null,null,null,null,null,null,null,null,null,null,null,null,null,null,null,null,null,null,null,null,null,null,null,null,null,null,null,null,null,null,null,null,null,null,null,null,null,null,null,null,null,null,null,null,null,null,null,null,null,null,null,null,null,null,null,null,null,null,null,null,null,null,null,null,null,null,null,null,null,null,null,null,null,null,null,null,null,null,null,null,null,null,null,null,null,null,null,null,null,null,null,null,null,null,null,null,null,null,null,null,null,"Y"]
[null,null,null,null,{"$f":"IF(E17<0,\"ERREUR\",\"\")","v":""},null,null,null,null,null,null,null,"Aptitudes physiques"]
[null,null,null,null,null,null,null,null,null,null,null,null,null,null,null,"Acrobatie/Equilibre *",null,"COO","COO",null,{"$f":"HLOOKUP(R19,$IZ$369:$JH$370,2,)+HLOOKUP(S19,$IZ$369:$JH$370,2,)","v":-2},{"$f":"EP19","v":0},{"$f":"IF(V19=\"X\",\"X\",U19+V19)","v":-2},null,{"$f":"IF(Q19=\"X\",-4,Q19)","v":0},null,null,null,null,null,null,{"$f":"IF($AF$3=$AA$3,AA19,IF($AF$3=$AB$3,AB19,IF($AF$3=$AC$3,AC19,IF($AF$3=$AD$3,AD19,0))))","v":0},null,null,null,null,null,{"$f":"IF($AL$3=$AG$3,AG19,IF($AL$3=$AH$3,AH19,IF($AL$3=$AI$3,AI19,IF($AL$3=$AJ$3,AJ19,0))))","v":0},null,null,null,null,null,0,0,{"$f":"IF($AT$3=$AM$3,AM19,IF($AT$3=$AN$3,AN19,IF($AT$3=$AO$3,AO19,IF($AT$3=$AP$3,AP19,IF($AT$3=$AQ$3,AQ19,IF($AT$3=$AR$3,AR19,IF($AS$1=1,AS19,0)))))))","v":0},null,null,null,null,null,null,null,null,{"$f":"IF(BD19=0,0,IF($IA$371=20,BD19+1,BD19))","v":0},{"$f":"IF(BC$3=AU$3,AU19,IF(BC$3=AV$3,AV19,IF(BC$3=AW$3,AW19,IF(BC$3=AX$3,AX19,IF(BC$3=AY$3,AY19,IF(BC$3=AZ$3,AZ19,IF(BC$3=BA$3,BA19,IF(BC$3=BB$3,BB19,0))))))))","v":0},null,null,null,null,null,null,null,null,{"$f":"IF(BN19=0,0,IF($IA$371=20,BN19+1,BN19))","v":0},{"$f":"IF(BM$3=BE$3,BE19,IF(BM$3=BF$3,BF19,IF(BM$3=BG$3,BG19,IF(BM$3=BH$3,BH19,IF(BM$3=BI$3,BI19,IF(BM$3=BJ$3,BJ19,IF(BM$3=BK$3,BK19,IF(BM$3=BL$3,BL19,0))))))))","v":0},null,null,null,null,null,null,null,null,{"$f":"IF(BX19=0,0,IF($IA$371=20,BX19+1,BX19))","v":0},{"$f":"IF(BW$3=BO$3,BO19,IF(BW$3=BP$3,BP19,IF(BW$3=BQ$3,BQ19,IF(BW$3=BR$3,BR19,IF(BW$3=BS$3,BS19,IF(BW$3=BT$3,BT19,IF(BW$3=BU$3,BU19,IF(BW$3=BV$3,BV19,0))))))))","v":0},null,null,null,null,null,null,null,null,{"$f":"IF(CH19=0,0,IF($IA$371=20,CH19+1,CH19))","v":0},{"$f":"IF(CG$3=BY$3,BY19,IF(CG$3=BZ$3,BZ19,IF(CG$3=CA$3,CA19,IF(CG$3=CB$3,CB19,IF(CG$3=CC$3,CC19,IF(CG$3=CD$3,CD19,IF(CG$3=CE$3,CE19,IF(CG$3=CF$3,CF19,0))))))))","v":0},{"$f":"IF(Q19=\"X\",Z19+AF19+AL19+AT19+BC19+BM19+BW19+CG19-4,IF(Q19=-3,Z19+AF19+AL19+AT19+BC19+BM19+BW19+CG19-3,Z19+AF19+AL19+AT19+BC19+BM19+BW19+CG19))","v":0},{"$f":"IF(CI19=-4,\"X\",CI19)","v":0},null,{"$f":"IF($E$286=P19,1,IF($E$287=P19,1,IF($E$288=P19,1,IF($E$289=P19,1,IF($E$290=P19,1,IF($E$291=P19,1,0))))))","v":0},null,{"$f":"CI19+CM19","v":0},{"$f":"IF(CN19=-4,\"X\",CN19)","v":0},{"$f":"IF(AND(($Z19+$AF19+$AL19+$AT19+$BC19+$BM19+$BW19+$CG19)>0,CT19>4),2,IF(AND(($Z19+$AF19+$AL19+$AT19+$BC19+$BM19+$BW19+$CG19)>0,CN19<5),1,0))","v":0},{"$f":"IF(CL19=1,1,(HLOOKUP($CR$3,$EY$3:$HX$349,CS19,)))","v":2},0,17,{"$f":"CN19+CR19","v":0},{"$f":"IF(CT19=-4,\"X\",CT19)","v":0},{"$f":"IF(ROUND(CQ19,0)=1,(VLOOKUP(CT19,$IQ$371:$IR$395,2,)-(4+$Y19))-(VLOOKUP(CN19,$IQ$371:$IR$395,2,)-(4+$Y19)),IF(ROUND(CP19,0)=1,(VLOOKUP(CT19,$IQ$371:$IR$395,2,)-(4+$Y19))-(VLOOKUP(CN19,$IQ$371:$IR$395,2,)-(4+$Y19)),((VLOOKUP(CT19,$IQ$371:$IR$395,2,)-(4+$Y19))-(VLOOKUP(CN19,$IQ$371:$IR$395,2,)-(4+$Y19)))*2))","v":0},{"$f":"IF(CQ19=1,0,IF(CP19=2,IF(AND(($Z19+$AF19+$AL19+$AT19+$BC19+$BM19+$BW19+$CG19)>0,CN19<5),5-CN19,0),0))","v":0},{"$f":"IF($E$294=P19,1,IF($E$295=P19,1,IF($E$296=P19,1,IF($E$297=P19,1,IF($E$298=P19,1,IF($E$299=P19,1,0))))))","v":0},null,{"$f":"CT19+CY19","v":0},{"$f":"IF(CZ19=-4,\"X\",CZ19)","v":0},{"$f":"IF(AND(($Z19+$AF19+$AL19+$AT19+$BC19+$BM19+$BW19+$CG19)>0,DF19>4),2,IF(AND(($Z19+$AF19+$AL19+$AT19+$BC19+$BM19+$BW19+$CG19)>0,CZ19<5),1,0))","v":0},{"$f":"IF(CX19=1,1,(HLOOKUP($DD$3,$EY$3:$HX$349,DE19,)))","v":2},0,17,{"$f":"CZ19+DD19","v":0},{"$f":"IF(DF19=-4,\"X\",DF19)","v":0},{"$f":"IF(ROUND(DC19,0)=1,(VLOOKUP(DF19,$IQ$371:$IR$395,2,)-(4+$Y19))-(VLOOKUP(CZ19,$IQ$371:$IR$395,2,)-(4+$Y19)),IF(ROUND(DB19,0)=1,(VLOOKUP(DF19,$IQ$371:$IR$395,2,)-(4+$Y19))-(VLOOKUP(CZ19,$IQ$371:$IR$395,2,)-(4+$Y19)),((VLOOKUP(DF19,$IQ$371:$IR$395,2,)-(4+$Y19))-(VLOOKUP(CZ19,$IQ$371:$IR$395,2,)-(4+$Y19)))*2))","v":0},{"$f":"IF(DC19=1,0,IF(DB19=2,IF(AND(($Z19+$AF19+$AL19+$AT19+$BC19+$BM19+$BW19+$CG19)>0,CZ19<5),5-CZ19,0),0))","v":0},{"$f":"IF($E$302=P19,1,IF($E$303=P19,1,IF($E$314=P19,1,IF($E$315=P19,1,IF($E$316=P19,1,IF($E$317=P19,1,0))))))","v":0},null,{"$f":"DF19+DK19","v":0},{"$f":"IF(DL19=-4,\"X\",DL19)","v":0},{"$f":"IF(AND(($Z19+$AF19+$AL19+$AT19+$BC19+$BM19+$BW19+$CG19)>0,DR19>4),2,IF(AND(($Z19+$AF19+$AL19+$AT19+$BC19+$BM19+$BW19+$CG19)>0,DL19<5),1,0))","v":0},{"$f":"IF(DJ19=1,1,(HLOOKUP($DP$3,$EY$3:$HX$349,DQ19,)))","v":2},0,17,{"$f":"DL19+DP19","v":0},{"$f":"IF(DR19=-4,\"X\",DR19)","v":0},{"$f":"IF(ROUND(DO19,0)=1,(VLOOKUP(DR19,$IQ$371:$IR$395,2,)-(4+$Y19))-(VLOOKUP(DL19,$IQ$371:$IR$395,2,)-(4+$Y19)),IF(ROUND(DN19,0)=1,(VLOOKUP(DR19,$IQ$371:$IR$395,2,)-(4+$Y19))-(VLOOKUP(DL19,$IQ$371:$IR$395,2,)-(4+$Y19)),((VLOOKUP(DR19,$IQ$371:$IR$395,2,)-(4+$Y19))-(VLOOKUP(DL19,$IQ$371:$IR$395,2,)-(4+$Y19)))*2))","v":0},{"$f":"IF(DO19=1,0,IF(DN19=2,IF(AND(($Z19+$AF19+$AL19+$AT19+$BC19+$BM19+$BW19+$CG19)>0,DL19<5),5-DL19,0),0))","v":0},{"$f":"IF($E$320=P19,1,IF($E$321=P19,1,IF($E$322=P19,1,IF($E$323=P19,1,IF($E$324=P19,1,IF($E$325=P19,1,0))))))","v":0},null,{"$f":"DR19+DW19","v":0},{"$f":"IF(DX19=-4,\"X\",DX19)","v":0},{"$f":"IF(AND(($Z19+$AF19+$AL19+$AT19+$BC19+$BM19+$BW19+$CG19)>0,ED19>4),2,IF(AND(($Z19+$AF19+$AL19+$AT19+$BC19+$BM19+$BW19+$CG19)>0,DX19<5),1,0))","v":0},{"$f":"IF(DV19=1,1,(HLOOKUP($EB$3,$EY$3:$HX$349,EC19,)))","v":2},0,17,{"$f":"DX19+EB19","v":0},{"$f":"IF(ED19=-4,\"X\",ED19)","v":0},{"$f":"IF(ROUND(EA19,0)=1,(VLOOKUP(ED19,$IQ$371:$IR$395,2,)-(4+$Y19))-(VLOOKUP(DX19,$IQ$371:$IR$395,2,)-(4+$Y19)),IF(ROUND(DZ19,0)=1,(VLOOKUP(ED19,$IQ$371:$IR$395,2,)-(4+$Y19))-(VLOOKUP(DX19,$IQ$371:$IR$395,2,)-(4+$Y19)),((VLOOKUP(ED19,$IQ$371:$IR$395,2,)-(4+$Y19))-(VLOOKUP(DX19,$IQ$371:$IR$395,2,)-(4+$Y19)))*2))","v":0},{"$f":"IF(EA19=1,0,IF(DZ19=2,IF(AND(($Z19+$AF19+$AL19+$AT19+$BC19+$BM19+$BW19+$CG19)>0,DX19<5),5-DX19,0),0))","v":0},{"$f":"CAPACITES_SPECIALES!AB168+AVANTAGES_DESAVANTAGES!Y170","v":0},{"$f":"ED19+EH19","v":0},{"$f":"IF(EI19=-4,\"X\",EI19)","v":0},0,1,0,17,{"$f":"EI19+EM19","v":0},{"$f":"IF(EO19=-4,\"X\",EO19)","v":0},{"$f":"IF(ROUND(EL19,0)=1,(VLOOKUP(EO19,$IQ$371:$IR$395,2,)-(4+$Y19))-(VLOOKUP(EI19,$IQ$371:$IR$395,2,)-(4+$Y19)),IF(ROUND(EK19,0)=1,(VLOOKUP(EO19,$IQ$371:$IR$395,2,)-(4+$Y19))-(VLOOKUP(EI19,$IQ$371:$IR$395,2,)-(4+$Y19)),((VLOOKUP(EO19,$IQ$371:$IR$395,2,)-(4+$Y19))-(VLOOKUP(EI19,$IQ$371:$IR$395,2,)-(4+$Y19)))*2))","v":0},null,null,null,null,null,null,null,2,2,1,2,2,2,2,2,2,1,2,2,2,2,2,2,2,2,2,2,2,2,2,2,2,{"$f":"IF(AVANTAGES_PROFESSIONNELS!DN1146>0,1,2)","v":2},2,2,2,2,2,2,2,2,2,2,2,1,1,2,1,1,2,2,2,2,2,2,2,{"$f":"IF(GV$1>2,1,2)","v":2},2,2,2,2,2,2,2,2,2,2,2,2,2,2,2,2,2,2,2,2,2,2,2,2,2,2,2,2,null,null,"Acrobatie/Equilibre",null,{"$f":"IF(EO19-Y19=0,\"\",IA19)","v":""},null,{"$f":"IF(EO19-Y19=0,\"\",W19)","v":""},null,{"$f":"IF(IC19=\"\",\"\",CONCATENATE(IC19,\" \",IE19,\", \"))","v":""},null,{"$f":"CONCATENATE(IG19,IG20,IG21,IG22,IG23,IG24,IG25,IG26,IG27,IG28,IG29,IG30)","v":"Manœuvres sous-marines -1, "},null,null,null,{"$f":"CONCATENATE(II19,II32,II48,II66,II84,II162,II174,II232,II252,II267,II316)","v":"Manœuvres sous-marines -1, Combat armé 0, Combat à mains nues 0, Armes de poing -1, Intimidation 0, Camouflage/Dissimulation -4, Pickpocket -2, Manœuvre d'armures (Sous-marines) -1, Pilotage (Navires légers) -5, Pilotage (Scooters sous-marins) 0, Connaissance d'un milieu naturel (Océans) -4, Mécanique (Navires/Chasseurs sous-marins) -1, Systèmes de sécurité -5, "}]
[null,null,"PC Etudes supérieures",null,{"$f":"J58+J93+J118+J153","v":0},null,null,null,null,null,null,null,null,null,null,"Athlétisme",null,"FOR","COO",null,-2,0,{"$f":"IF(V20=\"X\",\"X\",U20+V20)","v":-2},null,{"$f":"IF(Q20=\"X\",-4,Q20)","v":0},null,null,null,null,null,null,{"$f":"IF($AF$3=$AA$3,AA20,IF($AF$3=$AB$3,AB20,IF($AF$3=$AC$3,AC20,IF($AF$3=$AD$3,AD20,0))))","v":0},null,null,null,null,null,{"$f":"IF($AL$3=$AG$3,AG20,IF($AL$3=$AH$3,AH20,IF($AL$3=$AI$3,AI20,IF($AL$3=$AJ$3,AJ20,0))))","v":0},null,null,null,null,null,0,0,{"$f":"IF($AT$3=$AM$3,AM20,IF($AT$3=$AN$3,AN20,IF($AT$3=$AO$3,AO20,IF($AT$3=$AP$3,AP20,IF($AT$3=$AQ$3,AQ20,IF($AT$3=$AR$3,AR20,IF($AS$1=1,AS20,0)))))))","v":0},null,null,null,null,null,null,null,null,0,{"$f":"IF(BC$3=AU$3,AU20,IF(BC$3=AV$3,AV20,IF(BC$3=AW$3,AW20,IF(BC$3=AX$3,AX20,IF(BC$3=AY$3,AY20,IF(BC$3=AZ$3,AZ20,IF(BC$3=BA$3,BA20,IF(BC$3=BB$3,BB20,0))))))))","v":0},null,null,null,null,null,null,null,null,0,{"$f":"IF(BM$3=BE$3,BE20,IF(BM$3=BF$3,BF20,IF(BM$3=BG$3,BG20,IF(BM$3=BH$3,BH20,IF(BM$3=BI$3,BI20,IF(BM$3=BJ$3,BJ20,IF(BM$3=BK$3,BK20,IF(BM$3=BL$3,BL20,0))))))))","v":0},null,null,null,null,null,null,null,null,0,{"$f":"IF(BW$3=BO$3,BO20,IF(BW$3=BP$3,BP20,IF(BW$3=BQ$3,BQ20,IF(BW$3=BR$3,BR20,IF(BW$3=BS$3,BS20,IF(BW$3=BT$3,BT20,IF(BW$3=BU$3,BU20,IF(BW$3=BV$3,BV20,0))))))))","v":0},null,null,null,null,null,null,null,null,0,{"$f":"IF(CG$3=BY$3,BY20,IF(CG$3=BZ$3,BZ20,IF(CG$3=CA$3,CA20,IF(CG$3=CB$3,CB20,IF(CG$3=CC$3,CC20,IF(CG$3=CD$3,CD20,IF(CG$3=CE$3,CE20,IF(CG$3=CF$3,CF20,0))))))))","v":0},0,{"$f":"IF(CI20=-4,\"X\",CI20)","v":0},null,0,null,{"$f":"CI20+CM20","v":0},{"$f":"IF(CN20=-4,\"X\",CN20)","v":0},0,2,0,18,{"$f":"CN20+CR20","v":0},{"$f":"IF(CT20=-4,\"X\",CT20)","v":0},0,0,0,null,{"$f":"CT20+CY20","v":0},{"$f":"IF(CZ20=-4,\"X\",CZ20)","v":0},0,2,0,18,{"$f":"CZ20+DD20","v":0},{"$f":"IF(DF20=-4,\"X\",DF20)","v":0},0,0,0,null,{"$f":"DF20+DK20","v":0},{"$f":"IF(DL20=-4,\"X\",DL20)","v":0},0,2,0,18,{"$f":"DL20+DP20","v":0},{"$f":"IF(DR20=-4,\"X\",DR20)","v":0},0,0,0,null,{"$f":"DR20+DW20","v":0},{"$f":"IF(DX20=-4,\"X\",DX20)","v":0},0,2,0,18,{"$f":"DX20+EB20","v":0},{"$f":"IF(ED20=-4,\"X\",ED20)","v":0},0,0,{"$f":"AVANTAGES_DESAVANTAGES!Z170","v":0},{"$f":"ED20+EH20","v":0},{"$f":"IF(EI20=-4,\"X\",EI20)","v":0},0,1,0,18,{"$f":"EI20+EM20","v":0},{"$f":"IF(EO20=-4,\"X\",EO20)","v":0},0,null,null,null,null,null,null,null,2,2,1,2,1,2,2,2,2,1,1,2,2,2,1,2,2,1,1,1,2,1,1,2,1,2,2,2,1,1,1,1,1,2,2,1,1,2,1,1,2,2,2,2,2,2,2,2,2,2,1,2,2,2,2,2,2,2,2,2,2,2,2,2,2,2,2,2,2,2,2,2,2,2,2,2,2,2,null,null,"Athlétisme",null,{"$f":"IF(EO20-Y20=0,\"\",IA20)","v":""},null,{"$f":"IF(EO20-Y20=0,\"\",W20)","v":""},null,{"$f":"IF(IC20=\"\",\"\",CONCATENATE(IC20,\" \",IE20,\", \"))","v":""}]
[null,null,"PC Exp. professionnelle",null,0,null,null,null,null,null,null,"U ",null,null,null,"Contrôle COE",null,"COO","VOL",null,{"$f":"HLOOKUP(R21,$IZ$369:$JH$370,2,)+HLOOKUP(S21,$IZ$369:$JH$370,2,)","v":-2},{"$f":"EP21","v":0},{"$f":"IF(V21=\"X\",\"X\",U21+V21)","v":-2},null,0,null,null,null,null,null,null,0,null,null,null,null,null,0,null,null,null,null,null,0,0,0,null,null,null,null,null,null,null,null,{"$f":"IF(BD21=0,0,IF($IA$371=20,BD21+1,BD21))","v":0},{"$f":"IF(BC$3=AU$3,AU21,IF(BC$3=AV$3,AV21,IF(BC$3=AW$3,AW21,IF(BC$3=AX$3,AX21,IF(BC$3=AY$3,AY21,IF(BC$3=AZ$3,AZ21,IF(BC$3=BA$3,BA21,IF(BC$3=BB$3,BB21,0))))))))","v":0},null,null,null,null,null,null,null,null,{"$f":"IF(BN21=0,0,IF($IA$371=20,BN21+1,BN21))","v":0},{"$f":"IF(BM$3=BE$3,BE21,IF(BM$3=BF$3,BF21,IF(BM$3=BG$3,BG21,IF(BM$3=BH$3,BH21,IF(BM$3=BI$3,BI21,IF(BM$3=BJ$3,BJ21,IF(BM$3=BK$3,BK21,IF(BM$3=BL$3,BL21,0))))))))","v":0},null,null,null,null,null,null,null,null,{"$f":"IF(BX21=0,0,IF($IA$371=20,BX21+1,BX21))","v":0},{"$f":"IF(BW$3=BO$3,BO21,IF(BW$3=BP$3,BP21,IF(BW$3=BQ$3,BQ21,IF(BW$3=BR$3,BR21,IF(BW$3=BS$3,BS21,IF(BW$3=BT$3,BT21,IF(BW$3=BU$3,BU21,IF(BW$3=BV$3,BV21,0))))))))","v":0},null,null,null,null,null,null,null,null,{"$f":"IF(CH21=0,0,IF($IA$371=20,CH21+1,CH21))","v":0},{"$f":"IF(CG$3=BY$3,BY21,IF(CG$3=BZ$3,BZ21,IF(CG$3=CA$3,CA21,IF(CG$3=CB$3,CB21,IF(CG$3=CC$3,CC21,IF(CG$3=CD$3,CD21,IF(CG$3=CE$3,CE21,IF(CG$3=CF$3,CF21,0))))))))","v":0},0,{"$f":"IF(CI21=-4,\"X\",CI21)","v":0},null,0,null,{"$f":"CI21+CM21","v":0},{"$f":"IF(CN21=-4,\"X\",CN21)","v":0},0,2,0,19,{"$f":"CN21+CR21","v":0},{"$f":"IF(CT21=-4,\"X\",CT21)","v":0},0,0,0,null,{"$f":"CT21+CY21","v":0},{"$f":"IF(CZ21=-4,\"X\",CZ21)","v":0},0,2,0,19,{"$f":"CZ21+DD21","v":0},{"$f":"IF(DF21=-4,\"X\",DF21)","v":0},0,0,0,null,{"$f":"DF21+DK21","v":0},{"$f":"IF(DL21=-4,\"X\",DL21)","v":0},0,2,0,19,{"$f":"DL21+DP21","v":0},{"$f":"IF(DR21=-4,\"X\",DR21)","v":0},0,0,0,null,{"$f":"DR21+DW21","v":0},{"$f":"IF(DX21=-4,\"X\",DX21)","v":0},0,2,0,19,{"$f":"DX21+EB21","v":0},{"$f":"IF(ED21=-4,\"X\",ED21)","v":0},0,0,null,{"$f":"ED21+EH21","v":0},{"$f":"IF(EI21=-4,\"X\",EI21)","v":0},0,1,0,19,{"$f":"EI21+EM21","v":0},{"$f":"IF(EO21=-4,\"X\",EO21)","v":0},0,null,null,null,null,null,null,null,2,2,2,2,2,2,2,2,2,2,2,2,2,2,2,2,2,2,2,2,2,2,2,2,2,2,2,2,2,2,2,2,2,2,2,2,2,2,2,2,1,1,2,1,1,1,1,1,1,1,2,2,2,2,2,2,2,2,2,2,2,2,2,2,2,2,2,2,2,2,2,2,2,2,2,2,2,2,null,null,"Contrôle COE",null,"",null,"",null,""]
[null,null,"Pts Comp. disponibles",null,{"$f":"E21*IA371","v":0},null,null,null,null,null,null,"U ",null,null,null,"Contrôle physique",null,"ADA","VOL",null,-2,0,-2,null,0,null,null,null,null,null,null,0,null,null,null,null,null,0,null,null,null,null,null,0,0,0,null,null,null,null,null,null,null,null,0,0,null,null,null,null,null,null,null,null,0,0,null,null,null,null,null,null,null,null,0,0,null,null,null,null,null,null,null,null,0,0,0,0,null,0,null,0,0,0,2,0,20,0,0,0,0,0,null,0,0,0,2,0,20,0,0,0,0,0,null,0,0,0,2,0,20,0,0,0,0,0,null,0,0,0,2,0,20,0,0,0,0,null,0,0,0,1,0,20,0,0,0,null,null,null,null,null,null,null,2,2,2,2,2,2,2,2,2,2,2,2,2,2,2,2,2,2,2,2,2,2,2,2,2,2,2,2,2,2,2,2,2,2,2,2,2,2,2,2,1,2,2,2,2,2,2,2,2,2,2,2,2,2,2,2,2,2,2,2,2,2,2,2,2,2,2,2,2,2,2,2,2,2,2,2,2,2,null,null,"Contrôle physique",null,"",null,"",null,""]
[null,null,"Pts Comp. restants",null,{"$f":"CR353+DD353+DP353+EB353-AVANTAGES_PROFESSIONNELS!CF1146","v":0},null,null,null,null,null,null,null,null,null,null,"Endurance *",null,"CON","VOL",null,-2,0,-2,null,0,null,null,null,null,null,null,0,null,null,null,null,null,0,null,null,null,null,null,0,0,0,null,null,null,null,null,null,null,null,0,0,null,null,null,null,null,null,null,null,0,0,null,null,null,null,null,null,null,null,0,0,null,null,null,null,null,null,null,null,0,0,0,0,null,0,null,0,0,0,2,0,21,0,0,0,0,0,null,0,0,0,2,0,21,0,0,0,0,0,null,0,0,0,2,0,21,0,0,0,0,0,null,0,0,0,2,0,21,0,0,0,0,{"$f":"AVANTAGES_DESAVANTAGES!AA170","v":0},0,0,0,1,0,21,0,0,0,null,null,null,null,null,null,null,2,2,1,2,1,2,1,2,2,2,1,2,2,2,1,1,1,1,1,1,1,1,1,2,1,2,2,2,1,1,1,1,1,1,2,1,1,2,1,1,1,1,2,2,2,2,2,2,2,2,1,2,2,2,2,2,2,2,2,2,2,2,2,2,2,2,2,2,2,2,2,2,2,2,2,2,2,2,null,null,"Endurance",null,"",null,"",null,""]
[null,null,null,null,{"$f":"IF(E23<0,\"ERREUR\",IF(E23>E22,\"ERREUR\",\"\"))","v":""},null,null,null,null,null,null,null,null,null,null,"Escalade",null,"FOR","COO",null,-2,0,-2,null,0,null,null,null,null,null,null,0,null,null,null,null,null,0,null,null,null,null,null,0,0,0,null,null,null,null,null,null,null,null,0,0,null,null,null,null,null,null,null,null,0,0,null,null,null,null,null,null,null,null,0,0,null,null,null,null,null,null,null,null,0,0,0,0,null,0,null,0,0,0,2,0,22,0,0,0,0,0,null,0,0,0,2,0,22,0,0,0,0,0,null,0,0,0,2,0,22,0,0,0,0,0,null,0,0,0,2,0,22,0,0,0,0,{"$f":"CAPACITES_SPECIALES!AD168+AVANTAGES_DESAVANTAGES!AB170","v":0},0,0,0,1,0,22,0,0,0,null,null,null,null,null,null,null,2,2,1,2,2,2,2,2,2,1,2,2,2,2,2,1,2,2,2,2,2,2,2,2,2,2,2,2,1,2,1,1,2,2,2,2,2,1,1,2,1,1,2,2,2,2,2,2,2,2,2,2,2,2,2,2,2,2,2,2,2,2,2,2,2,2,2,2,2,2,2,2,2,2,2,2,2,2,null,null,"Escalade",null,"",null,"",null,""]
[null,null,null,null,null,null,null,null,null,null,null,null,null,null,null,"Manœuvres 0G *",null,"COO","ADA",null,-2,0,-2,null,0,null,null,null,null,null,null,0,null,null,null,null,null,0,null,null,null,null,null,0,0,0,null,null,null,null,null,null,null,null,0,0,null,null,null,null,null,null,null,null,0,0,null,null,null,null,null,null,null,null,0,0,null,null,null,null,null,null,null,null,0,0,0,0,null,0,null,0,0,0,2,0,23,0,0,0,0,0,null,0,0,0,2,0,23,0,0,0,0,0,null,0,0,0,2,0,23,0,0,0,0,0,null,0,0,0,2,0,23,0,0,0,0,null,0,0,0,1,0,23,0,0,0,null,null,null,null,null,null,null,2,2,2,2,2,2,2,2,2,2,2,2,2,2,2,2,2,2,2,2,2,2,2,2,2,2,2,2,2,2,2,2,2,2,2,2,2,2,2,2,2,2,2,2,2,2,2,2,2,2,2,2,2,2,2,2,2,2,2,2,2,2,2,2,2,2,2,2,2,2,2,2,2,2,2,2,2,2,null,null,"Manœuvres 0G",null,"",null,"",null,""]
[null,null,null,"Règle optionnelle : Niveau max. des compétences","Non",null,null,null,null,null,null,null,null,null,null,"Manœuvres sous-marines *",null,"FOR","COO",null,-2,1,-1,null,0,null,1,1,1,null,null,{"$f":"IF($AF$3=$AA$3,AA26,IF($AF$3=$AB$3,AB26,IF($AF$3=$AC$3,AC26,IF($AF$3=$AD$3,AD26,0))))","v":1},null,null,null,null,null,0,null,1,null,null,null,0,0,0,null,null,null,null,null,null,null,null,0,0,null,null,null,null,null,null,null,null,0,0,null,null,null,null,null,null,null,null,0,0,null,null,null,null,null,null,null,null,0,0,1,1,null,0,null,1,1,1,2,0,24,{"$f":"CN26+CR26","v":1},1,0,0,0,null,1,1,1,2,0,24,1,1,0,0,0,null,1,1,1,2,0,24,1,1,0,0,0,null,1,1,1,2,0,24,1,1,0,0,null,1,1,0,1,0,24,1,1,0,null,null,null,null,null,null,null,2,2,2,2,1,2,1,2,2,2,1,2,2,2,1,1,1,1,1,1,2,2,2,1,2,2,2,2,2,1,2,2,2,1,2,1,2,2,2,2,2,2,2,2,2,2,2,2,2,2,1,2,2,2,2,2,2,2,2,2,2,2,2,2,2,2,2,2,2,2,2,2,2,2,2,2,2,2,null,null,"Manœuvres sous-marines",null,"Manœuvres sous-marines",null,-1,null,"Manœuvres sous-marines -1, "]
[null,null,null,"Règle optionnelle : Progression naturelle","Non",null,null,null,null,null,null,"U ",null,null,null,"Monture",null,"COO","VOL",null,{"$f":"HLOOKUP(R27,$IZ$369:$JH$370,2,)+HLOOKUP(S27,$IZ$369:$JH$370,2,)","v":-2},0,-2,null,0,null,null,null,null,null,null,0,null,null,null,null,null,0,null,null,null,null,null,0,0,0,null,null,null,null,null,null,null,null,{"$f":"IF(BD27=0,0,IF($IA$371=20,BD27+1,BD27))","v":0},0,null,null,null,null,null,null,null,null,{"$f":"IF(BN27=0,0,IF($IA$371=20,BN27+1,BN27))","v":0},{"$f":"IF(BM$3=BE$3,BE27,IF(BM$3=BF$3,BF27,IF(BM$3=BG$3,BG27,IF(BM$3=BH$3,BH27,IF(BM$3=BI$3,BI27,IF(BM$3=BJ$3,BJ27,IF(BM$3=BK$3,BK27,IF(BM$3=BL$3,BL27,0))))))))","v":0},null,null,null,null,null,null,null,null,{"$f":"IF(BX27=0,0,IF($IA$371=20,BX27+1,BX27))","v":0},{"$f":"IF(BW$3=BO$3,BO27,IF(BW$3=BP$3,BP27,IF(BW$3=BQ$3,BQ27,IF(BW$3=BR$3,BR27,IF(BW$3=BS$3,BS27,IF(BW$3=BT$3,BT27,IF(BW$3=BU$3,BU27,IF(BW$3=BV$3,BV27,0))))))))","v":0},null,null,null,null,null,null,null,null,{"$f":"IF(CH27=0,0,IF($IA$371=20,CH27+1,CH27))","v":0},{"$f":"IF(CG$3=BY$3,BY27,IF(CG$3=BZ$3,BZ27,IF(CG$3=CA$3,CA27,IF(CG$3=CB$3,CB27,IF(CG$3=CC$3,CC27,IF(CG$3=CD$3,CD27,IF(CG$3=CE$3,CE27,IF(CG$3=CF$3,CF27,0))))))))","v":0},0,{"$f":"IF(CI27=-4,\"X\",CI27)","v":0},null,0,null,{"$f":"CI27+CM27","v":0},{"$f":"IF(CN27=-4,\"X\",CN27)","v":0},0,2,0,25,{"$f":"CN27+CR27","v":0},{"$f":"IF(CT27=-4,\"X\",CT27)","v":0},0,0,0,null,{"$f":"CT27+CY27","v":0},{"$f":"IF(CZ27=-4,\"X\",CZ27)","v":0},0,2,0,25,{"$f":"CZ27+DD27","v":0},{"$f":"IF(DF27=-4,\"X\",DF27)","v":0},0,0,0,null,{"$f":"DF27+DK27","v":0},{"$f":"IF(DL27=-4,\"X\",DL27)","v":0},0,2,0,25,{"$f":"DL27+DP27","v":0},{"$f":"IF(DR27=-4,\"X\",DR27)","v":0},0,0,0,null,{"$f":"DR27+DW27","v":0},{"$f":"IF(DX27=-4,\"X\",DX27)","v":0},0,2,0,25,{"$f":"DX27+EB27","v":0},{"$f":"IF(ED27=-4,\"X\",ED27)","v":0},0,0,null,{"$f":"ED27+EH27","v":0},{"$f":"IF(EI27=-4,\"X\",EI27)","v":0},0,1,0,25,{"$f":"EI27+EM27","v":0},{"$f":"IF(EO27=-4,\"X\",EO27)","v":0},0,null,null,null,null,null,null,null,2,2,2,2,2,2,2,2,2,2,2,2,2,2,2,2,2,2,2,2,2,2,2,2,2,2,2,2,2,2,2,2,2,2,2,2,2,2,2,2,1,1,2,2,2,2,2,2,2,2,2,2,2,2,2,2,2,2,2,2,2,2,2,2,2,2,2,2,2,2,2,2,2,2,2,2,2,2,null,null,"Monture",null,"",null,"",null,""]
[null,null,null,null,null,null,null,null,null,null,null,null,null,null,null,"Aptitudes physiques 04",null,"FOR","FOR",null,{"$f":"HLOOKUP(R28,$IZ$369:$JH$370,2,)+HLOOKUP(S28,$IZ$369:$JH$370,2,)","v":-2},0,-2,null,0,null,null,null,null,null,null,0,null,null,null,null,null,0,null,null,null,null,null,0,0,0,null,null,null,null,null,null,null,null,{"$f":"IF(BD28=0,0,IF($IA$371=20,BD28+1,BD28))","v":0},0,null,null,null,null,null,null,null,null,{"$f":"IF(BN28=0,0,IF($IA$371=20,BN28+1,BN28))","v":0},0,null,null,null,null,null,null,null,null,{"$f":"IF(BX28=0,0,IF($IA$371=20,BX28+1,BX28))","v":0},0,null,null,null,null,null,null,null,null,{"$f":"IF(CH28=0,0,IF($IA$371=20,CH28+1,CH28))","v":0},0,0,0,null,0,null,0,0,0,0,0,26,0,0,0,0,0,null,0,0,0,0,0,26,0,0,0,0,0,null,0,0,0,0,0,26,0,0,0,0,0,null,0,0,0,0,0,26,0,0,0,0,null,0,0,0,1,0,26,0,0,0,null,null,null,null,null,null,null,null,null,null,null,null,null,null,null,null,null,null,null,null,null,null,null,null,null,null,null,null,null,null,null,null,null,null,null,null,null,null,null,null,null,null,null,null,null,null,null,null,null,null,null,null,null,null,null,null,null,null,null,null,null,null,null,null,null,null,null,null,null,null,null,null,null,null,null,null,null,null,null,null,null,null,null,null,null,null,null,"Aptitudes physiques 04",null,"",null,"",null,""]
[null,null,null,null,null,null,null,null,null,null,null,null,null,null,null,"Aptitudes physiques 05",null,"FOR","FOR",null,{"$f":"HLOOKUP(R29,$IZ$369:$JH$370,2,)+HLOOKUP(S29,$IZ$369:$JH$370,2,)","v":-2},0,-2,null,0,null,null,null,null,null,null,0,null,null,null,null,null,0,null,null,null,null,null,0,0,0,null,null,null,null,null,null,null,null,{"$f":"IF(BD29=0,0,IF($IA$371=20,BD29+1,BD29))","v":0},0,null,null,null,null,null,null,null,null,{"$f":"IF(BN29=0,0,IF($IA$371=20,BN29+1,BN29))","v":0},0,null,null,null,null,null,null,null,null,{"$f":"IF(BX29=0,0,IF($IA$371=20,BX29+1,BX29))","v":0},0,null,null,null,null,null,null,null,null,{"$f":"IF(CH29=0,0,IF($IA$371=20,CH29+1,CH29))","v":0},0,0,0,null,0,null,0,0,0,0,0,27,0,0,0,0,0,null,0,0,0,0,0,27,0,0,0,0,0,null,0,0,0,0,0,27,0,0,0,0,0,null,0,0,0,0,0,27,0,0,0,0,null,0,0,0,1,0,27,0,0,0,null,null,null,null,null,null,null,null,null,null,null,null,null,null,null,null,null,null,null,null,null,null,null,null,null,null,null,null,null,null,null,null,null,null,null,null,null,null,null,null,null,null,null,null,null,null,null,null,null,null,null,null,null,null,null,null,null,null,null,null,null,null,null,null,null,null,null,null,null,null,null,null,null,null,null,null,null,null,null,null,null,null,null,null,null,null,null,"Aptitudes physiques 05",null,"",null,"",null,""]
[null,null,null,"Règle optionnelle : 20 pts / année pro. GT","Non",null,null,null,null,null,null,null,null,null,null,"Respiration FOE",-3,"CON","VOL",null,{"$f":"HLOOKUP(R30,$IZ$369:$JH$370,2,)+HLOOKUP(S30,$IZ$369:$JH$370,2,)","v":-2},-3,-5,null,-3,null,null,null,null,null,null,0,null,null,null,null,null,0,null,null,null,null,null,0,0,0,null,null,null,null,null,null,null,null,{"$f":"IF(BD30=0,0,IF($IA$371=20,BD30+1,BD30))","v":0},0,null,null,null,null,null,null,null,null,{"$f":"IF(BN30=0,0,IF($IA$371=20,BN30+1,BN30))","v":0},0,null,null,null,null,null,null,null,null,{"$f":"IF(BX30=0,0,IF($IA$371=20,BX30+1,BX30))","v":0},0,null,null,null,null,null,null,null,null,{"$f":"IF(CH30=0,0,IF($IA$371=20,CH30+1,CH30))","v":0},0,-3,-3,null,0,null,-3,-3,0,2,0,28,-3,-3,0,0,0,null,-3,-3,0,2,0,28,-3,-3,0,0,0,null,-3,-3,0,2,0,28,-3,-3,0,0,0,null,-3,-3,0,2,0,28,-3,-3,0,0,null,-3,-3,0,1,0,28,-3,-3,0,null,null,null,null,null,null,null,2,2,2,2,2,2,2,2,2,2,2,2,2,2,1,1,2,2,2,2,1,2,1,2,2,2,2,2,2,1,2,2,2,2,2,2,2,2,2,2,2,2,2,2,2,2,2,2,2,2,2,2,2,2,2,2,2,2,2,2,2,2,2,2,2,2,2,2,2,2,2,2,2,2,2,2,2,2,null,null,"Respiration FOE",null,"",null,"",null,""]
[null,null,null,null,null,null,null,null,null,null,null,null,"Combat (contact)",null,null,null,null,null,null,null,null,null,null,null,null,null,null,null,null,null,null,null,null,null,null,null,null,null,null,null,null,null,null,0,0,null,null,null,null,null,null,null,null,null,null,null,null,null,null,null,null,null,null,null,null,null,null,null,null,null,null,null,null,null,null,null,null,null,null,null,null,null,null,null,null,null,null,null,null,null,null,0,null,0,null,0,29,null,null,0,0,null,null,null,null,0,null,0,29,null,null,0,0,null,null,null,null,0,null,0,29,null,null,0,0,null,null,null,null,0,null,0,29,null,null,0,0,null,null,null,0,1,0,29,null,null,0]
[null,null,"Nation d'origine",null," ",null,null,null,null,null,null,null,null,null,null,"Armes lourdes (contact)",null,"FOR","FOR",null,{"$f":"HLOOKUP(R32,$IZ$369:$JH$370,2,)+HLOOKUP(S32,$IZ$369:$JH$370,2,)","v":-2},{"$f":"EP32","v":0},-2,null,0,null,null,null,null,null,null,0,null,null,null,null,null,0,null,null,2,null,null,0,0,0,null,null,null,null,null,null,null,null,{"$f":"IF(BD32=0,0,IF($IA$371=20,BD32+1,BD32))","v":0},0,null,null,null,null,null,null,null,null,{"$f":"IF(BN32=0,0,IF($IA$371=20,BN32+1,BN32))","v":0},0,null,null,null,null,null,null,null,null,{"$f":"IF(BX32=0,0,IF($IA$371=20,BX32+1,BX32))","v":0},0,null,null,null,null,null,null,null,null,{"$f":"IF(CH32=0,0,IF($IA$371=20,CH32+1,CH32))","v":0},0,{"$f":"IF(Q32=\"X\",Z32+AF32+AL32+AT32+BC32+BM32+BW32+CG32-4,IF(Q32=-3,Z32+AF32+AL32+AT32+BC32+BM32+BW32+CG32-3,Z32+AF32+AL32+AT32+BC32+BM32+BW32+CG32))","v":0},0,null,{"$f":"IF($E$286=P32,1,IF($E$287=P32,1,IF($E$288=P32,1,IF($E$289=P32,1,IF($E$290=P32,1,IF($E$291=P32,1,0))))))","v":0},null,0,0,0,{"$f":"IF(CL32=1,1,(HLOOKUP($CR$3,$EY$3:$HX$349,CS32,)))","v":2},0,30,0,0,0,0,{"$f":"IF($E$294=P32,1,IF($E$295=P32,1,IF($E$296=P32,1,IF($E$297=P32,1,IF($E$298=P32,1,IF($E$299=P32,1,0))))))","v":0},null,{"$f":"CT32+CY32","v":0},0,0,{"$f":"IF(CX32=1,1,(HLOOKUP($DD$3,$EY$3:$HX$349,DE32,)))","v":2},0,30,0,0,0,0,{"$f":"IF($E$302=P32,1,IF($E$303=P32,1,IF($E$314=P32,1,IF($E$315=P32,1,IF($E$316=P32,1,IF($E$317=P32,1,0))))))","v":0},null,0,0,0,{"$f":"IF(DJ32=1,1,(HLOOKUP($DP$3,$EY$3:$HX$349,DQ32,)))","v":2},0,30,0,0,0,0,{"$f":"IF($E$320=P32,1,IF($E$321=P32,1,IF($E$322=P32,1,IF($E$323=P32,1,IF($E$324=P32,1,IF($E$325=P32,1,0))))))","v":0},null,0,0,0,{"$f":"IF(DV32=1,1,(HLOOKUP($EB$3,$EY$3:$HX$349,EC32,)))","v":2},0,30,0,0,0,0,null,{"$f":"ED32+EH32","v":0},{"$f":"IF(EI32=-4,\"X\",EI32)","v":0},0,1,0,30,{"$f":"EI32+EM32","v":0},{"$f":"IF(EO32=-4,\"X\",EO32)","v":0},0,null,null,null,null,null,null,null,2,2,2,2,2,2,2,2,2,2,2,2,2,2,2,1,2,2,2,2,1,2,2,2,2,2,2,2,2,1,2,2,2,2,2,1,2,2,2,2,2,2,2,2,2,2,2,2,2,2,2,2,2,2,2,2,2,2,2,2,2,2,2,2,2,2,2,2,2,2,2,2,2,2,2,2,2,2,null,null,"Armes lourdes (contact)",null,"",null,"",null,"",null,{"$f":"CONCATENATE(IG32,IG33,IG34,IG35,IG36,IG37,IG38,IG39,IG40,IG41,IG42,IG43,IG44,IG45,IG46)","v":"Combat armé 0, Combat à mains nues 0, "}]
[null,null,"Langue maternelle",null," ",null,null,null,null,null,null,null,null,null,null,"Armes spéciales (contact) I (…....…)",null,"FOR","COO",null,-2,0,-2,null,0,null,null,null,null,null,null,0,null,null,null,null,null,0,null,null,null,null,null,0,0,0,null,null,null,null,null,null,null,null,0,0,null,null,null,null,null,null,null,null,0,0,null,null,null,null,null,null,null,null,0,0,null,null,null,null,null,null,null,null,0,0,0,0,null,0,null,0,0,0,2,0,31,0,0,0,0,0,null,0,0,0,2,0,31,0,0,0,0,0,null,0,0,0,2,0,31,0,0,0,0,0,null,0,0,0,2,0,31,0,0,0,0,null,0,0,0,1,0,31,0,0,0,null,null,null,null,null,null,null,2,2,2,2,2,2,2,2,2,2,2,2,2,2,2,2,2,2,2,2,2,2,2,2,2,2,2,2,2,1,1,1,1,2,2,2,2,2,2,2,2,2,2,2,2,2,2,2,2,2,2,2,2,2,2,2,2,2,2,2,2,2,2,2,2,2,2,2,2,2,2,2,2,2,2,2,2,2,null,null,"Armes spéciales (contact) I (…....…)",null,"",null,"",null,""]
[null,null,"Langue mat. (Bilingue)",null," ",null,null,null,null,{"$f":"IF(AND($E34<>\" \",$A$34<>1),\"ERREUR\",\" \")","v":" "},null,null,null,null,null,"Armes spéciales (contact) II (…....…)",null,"COO","COO",null,-2,0,-2,null,0,null,null,null,null,null,null,0,null,null,null,null,null,0,null,null,null,null,null,0,0,0,null,null,null,null,null,null,null,null,0,0,null,null,null,null,null,null,null,null,0,0,null,null,null,null,null,null,null,null,0,0,null,null,null,null,null,null,null,null,0,0,0,0,null,0,null,0,0,0,2,0,32,0,0,0,0,0,null,0,0,0,2,0,32,0,0,0,0,0,null,0,0,0,2,0,32,0,0,0,0,0,null,0,0,0,2,0,32,0,0,0,0,null,0,0,0,1,0,32,0,0,0,null,null,null,null,null,null,null,2,2,2,2,2,2,2,2,2,2,2,2,2,2,2,2,2,2,2,2,2,2,2,2,2,2,2,2,2,1,1,1,1,2,2,2,2,2,2,2,2,2,2,2,2,2,2,2,2,2,2,2,2,2,2,2,2,2,2,2,2,2,2,2,2,2,2,2,2,2,2,2,2,2,2,2,2,2,null,null,"Armes spéciales (contact) II (…....…)",null,"",null,"",null,""]
[null,null,null,null,null,null,null,null,null,null,null,null,null,null,null,"Armes spéciales (contact) III (…....…)","X","FOR","COO",null,-2,"X","X",null,-4,null,null,null,null,null,null,0,null,null,null,null,null,0,null,null,null,null,null,0,0,0,null,null,null,null,null,null,null,null,0,0,null,null,null,null,null,null,null,null,0,0,null,null,null,null,null,null,null,null,0,0,null,null,null,null,null,null,null,null,0,0,-4,{"$f":"IF(CI35=-4,\"X\",CI35)","v":"X"},null,0,null,-4,"X",0,2,0,33,-4,"X",0,0,0,null,-4,"X",0,2,0,33,-4,"X",0,0,0,null,-4,"X",0,2,0,33,-4,"X",0,0,0,null,-4,"X",0,2,0,33,-4,"X",0,0,null,-4,"X",0,1,0,33,-4,"X",0,null,null,null,null,null,null,null,2,2,2,2,2,2,2,2,2,2,2,2,2,2,2,2,2,2,2,2,2,2,2,2,2,2,2,2,2,1,1,1,1,2,2,2,2,2,2,2,2,2,2,2,2,2,2,2,2,2,2,2,2,2,2,2,2,2,2,2,2,2,2,2,2,2,2,2,2,2,2,2,2,2,2,2,2,2,null,null,"Armes spéciales (contact) III (…....…)",null,"",null,"",null,""]
[null,null,null,null,null,null,null,null,null,null,null,null,null,null,null,"Armes spéciales (contact) IV (…....…)","X","COO","COO",null,-2,"X","X",null,-4,null,null,null,null,null,null,0,null,null,null,null,null,0,null,null,null,null,null,0,0,0,null,null,null,null,null,null,null,null,0,0,null,null,null,null,null,null,null,null,0,0,null,null,null,null,null,null,null,null,0,0,null,null,null,null,null,null,null,null,0,0,-4,"X",null,0,null,-4,"X",0,2,0,34,-4,"X",0,0,0,null,-4,"X",0,2,0,34,-4,"X",0,0,0,null,-4,"X",0,2,0,34,-4,"X",0,0,0,null,-4,"X",0,2,0,34,-4,"X",0,0,null,-4,"X",0,1,0,34,-4,"X",0,null,null,null,null,null,null,null,2,2,2,2,2,2,2,2,2,2,2,2,2,2,2,2,2,2,2,2,2,2,2,2,2,2,2,2,2,1,1,1,1,2,2,2,2,2,2,2,2,2,2,2,2,2,2,2,2,2,2,2,2,2,2,2,2,2,2,2,2,2,2,2,2,2,2,2,2,2,2,2,2,2,2,2,2,2,null,null,"Armes spéciales (contact) IV (…....…)",null,"",null,"",null,""]
[null,null,"Origines géographiques",null,"Navire nomade",null,null,null,null,null,null,null,null,null,null,"Arts martiaux (Lutte) *",-3,"COO","ADA",null,-2,-3,-5,null,-3,null,null,null,null,null,null,0,null,null,null,null,null,0,null,null,null,null,null,0,0,0,null,null,null,null,null,null,null,null,0,0,null,null,null,null,null,null,null,null,0,0,null,null,null,null,null,null,null,null,0,0,null,null,null,null,null,null,null,null,0,0,-3,-3,null,0,null,-3,-3,0,2,0,35,-3,-3,0,0,0,null,-3,-3,0,2,0,35,-3,-3,0,0,0,null,-3,-3,0,2,0,35,-3,-3,0,0,0,null,-3,-3,0,2,0,35,-3,-3,0,0,null,-3,-3,0,1,0,35,-3,-3,0,null,null,null,null,null,null,null,2,2,1,2,1,2,2,2,2,1,1,2,2,2,1,2,2,1,1,1,2,2,2,2,1,2,2,2,1,1,1,1,1,2,2,1,2,2,2,2,1,1,2,2,2,2,2,2,2,{"$f":"IF(GV$1>2,1,2)","v":2},1,2,2,2,2,2,2,2,2,2,2,2,2,2,2,2,2,2,2,2,2,2,2,2,2,2,2,2,null,null,"Arts martiaux (Lutte)",null,"",null,"",null,""]
[null,null,"Origines sociales",null,"Bas-fonds",null,null,null,null,null,null,null,null,null,null,"Arts martiaux (Tech. défensives) *",-3,"COO","ADA",null,-2,-3,-5,null,-3,null,null,null,null,null,null,0,null,null,null,null,null,0,null,null,null,null,null,0,0,0,null,null,null,null,null,null,null,null,0,0,null,null,null,null,null,null,null,null,0,0,null,null,null,null,null,null,null,null,0,0,null,null,null,null,null,null,null,null,0,0,-3,-3,null,0,null,-3,-3,0,2,0,36,-3,-3,0,0,0,null,-3,-3,0,2,0,36,-3,-3,0,0,0,null,-3,-3,0,2,0,36,-3,-3,0,0,0,null,-3,-3,0,2,0,36,-3,-3,0,0,null,-3,-3,0,1,0,36,-3,-3,0,null,null,null,null,null,null,null,2,2,1,2,1,2,2,2,2,1,2,2,2,2,2,2,2,1,1,1,2,2,2,2,1,2,2,2,1,1,1,1,1,2,2,2,1,2,2,2,1,1,2,2,2,2,2,2,2,{"$f":"IF(GV$1>2,1,2)","v":2},2,2,2,2,2,2,2,2,2,2,2,2,2,2,2,2,2,2,2,2,2,2,2,2,2,2,2,2,null,null,"Arts martiaux (Tech. défensives)",null,"",null,"",null,""]
[null,null,null,"Milieu ouvrier"," ",null,null,null,null,{"$f":"IF(AND($E39<>\" \",$E$38<>\"Milieu ouvrier\"),\"ERREUR\",\" \")","v":" "},null,null,null,null,null,"Arts martiaux (Tech. offensives) *",-3,"COO","ADA",null,-2,-3,-5,null,-3,null,null,null,null,null,null,0,null,null,null,null,null,0,null,null,null,null,null,0,0,0,null,null,null,null,null,null,null,null,0,0,null,null,null,null,null,null,null,null,0,0,null,null,null,null,null,null,null,null,0,0,null,null,null,null,null,null,null,null,0,0,-3,-3,null,0,null,-3,-3,0,2,0,37,-3,-3,0,0,0,null,-3,-3,0,2,0,37,-3,-3,0,0,0,null,-3,-3,0,2,0,37,-3,-3,0,0,0,null,-3,-3,0,2,0,37,-3,-3,0,0,null,-3,-3,0,1,0,37,-3,-3,0,null,null,null,null,null,null,null,2,2,1,2,1,2,2,2,2,1,2,2,2,2,1,2,2,1,1,1,2,2,2,1,2,2,2,2,1,1,1,1,1,2,2,2,1,2,2,2,1,1,2,2,2,2,2,2,2,{"$f":"IF(GV$1>2,1,2)","v":2},2,2,2,2,2,2,2,2,2,2,2,2,2,2,2,2,2,2,2,2,2,2,2,2,2,2,2,2,null,null,"Arts martiaux (Tech. offensives)",null,"",null,"",null,""]
[null,null,null,"Classes supérieures"," ",null,null,null,null,{"$f":"IF(AND($E40<>\" \",$E$38<>\"Classes supérieures\"),\"ERREUR\",\" \")","v":" "},null,null,null,null,null,"Combat armé",null,"FOR","COO",null,-2,2,0,null,0,null,null,null,null,null,null,0,1,null,null,null,null,1,1,null,null,null,null,0,0,1,null,null,null,null,null,null,null,null,0,0,null,null,null,null,null,null,null,null,0,0,null,null,null,null,null,null,null,null,0,0,null,null,null,null,null,null,null,null,0,0,2,2,null,0,null,2,2,1,2,0,38,2,2,0,0,0,null,2,2,1,2,0,38,2,2,{"$f":"IF(DC40=1,(VLOOKUP(DF40,$IQ$371:$IR$395,2,)-(4+$Y40))-(VLOOKUP(CZ40,$IQ$371:$IR$395,2,)-(4+$Y40)),IF(DB40=1,(VLOOKUP(DF40,$IQ$371:$IR$395,2,)-(4+$Y40))-(VLOOKUP(CZ40,$IQ$371:$IR$395,2,)-(4+$Y40)),((VLOOKUP(DF40,$IQ$371:$IR$395,2,)-(4+$Y40))-(VLOOKUP(CZ40,$IQ$371:$IR$395,2,)-(4+$Y40)))*2))","v":0},0,0,null,2,2,1,2,0,38,2,2,0,0,0,null,2,2,1,2,0,38,2,2,0,0,null,2,2,0,1,0,38,2,2,0,null,null,null,null,null,null,null,2,1,1,1,1,1,1,2,2,1,1,1,1,2,1,1,2,1,1,1,1,1,1,1,1,1,1,2,1,1,1,1,1,1,2,1,1,1,2,1,1,1,1,1,2,2,2,2,2,{"$f":"IF(GV$1>2,1,2)","v":2},1,2,2,2,2,2,2,2,2,2,2,2,2,2,2,2,2,2,2,2,2,2,2,2,2,2,2,2,null,null,"Combat armé",null,"Combat armé",null,0,null,"Combat armé 0, "]
[null,null,null,null,null,null,null,null,null,null,null,null,null,null,null,"Combat (contact) 01",null,"FOR","FOR",null,{"$f":"HLOOKUP(R41,$IZ$369:$JH$370,2,)+HLOOKUP(S41,$IZ$369:$JH$370,2,)","v":-2},{"$f":"EP41","v":0},{"$f":"IF(V41=\"X\",\"X\",U41+V41)","v":-2},null,{"$f":"IF(Q41=\"X\",-4,Q41)","v":0},null,null,null,null,null,null,{"$f":"IF($AF$3=$AA$3,AA41,IF($AF$3=$AB$3,AB41,IF($AF$3=$AC$3,AC41,IF($AF$3=$AD$3,AD41,0))))","v":0},null,null,null,null,null,{"$f":"IF($AL$3=$AG$3,AG41,IF($AL$3=$AH$3,AH41,IF($AL$3=$AI$3,AI41,IF($AL$3=$AJ$3,AJ41,0))))","v":0},null,null,null,null,null,0,0,0,null,null,null,null,null,null,null,null,{"$f":"IF(BD41=0,0,IF($IA$371=20,BD41+1,BD41))","v":0},{"$f":"IF(BC$3=AU$3,AU41,IF(BC$3=AV$3,AV41,IF(BC$3=AW$3,AW41,IF(BC$3=AX$3,AX41,IF(BC$3=AY$3,AY41,IF(BC$3=AZ$3,AZ41,IF(BC$3=BA$3,BA41,IF(BC$3=BB$3,BB41,0))))))))","v":0},null,null,null,null,null,null,null,null,{"$f":"IF(BN41=0,0,IF($IA$371=20,BN41+1,BN41))","v":0},{"$f":"IF(BM$3=BE$3,BE41,IF(BM$3=BF$3,BF41,IF(BM$3=BG$3,BG41,IF(BM$3=BH$3,BH41,IF(BM$3=BI$3,BI41,IF(BM$3=BJ$3,BJ41,IF(BM$3=BK$3,BK41,IF(BM$3=BL$3,BL41,0))))))))","v":0},null,null,null,null,null,null,null,null,{"$f":"IF(BX41=0,0,IF($IA$371=20,BX41+1,BX41))","v":0},{"$f":"IF(BW$3=BO$3,BO41,IF(BW$3=BP$3,BP41,IF(BW$3=BQ$3,BQ41,IF(BW$3=BR$3,BR41,IF(BW$3=BS$3,BS41,IF(BW$3=BT$3,BT41,IF(BW$3=BU$3,BU41,IF(BW$3=BV$3,BV41,0))))))))","v":0},null,null,null,null,null,null,null,null,{"$f":"IF(CH41=0,0,IF($IA$371=20,CH41+1,CH41))","v":0},{"$f":"IF(CG$3=BY$3,BY41,IF(CG$3=BZ$3,BZ41,IF(CG$3=CA$3,CA41,IF(CG$3=CB$3,CB41,IF(CG$3=CC$3,CC41,IF(CG$3=CD$3,CD41,IF(CG$3=CE$3,CE41,IF(CG$3=CF$3,CF41,0))))))))","v":0},0,{"$f":"IF(CI41=-4,\"X\",CI41)","v":0},null,0,null,{"$f":"CI41+CM41","v":0},{"$f":"IF(CN41=-4,\"X\",CN41)","v":0},0,0,0,39,{"$f":"CN41+CR41","v":0},{"$f":"IF(CT41=-4,\"X\",CT41)","v":0},0,0,0,null,{"$f":"CT41+CY41","v":0},{"$f":"IF(CZ41=-4,\"X\",CZ41)","v":0},0,0,0,39,{"$f":"CZ41+DD41","v":0},{"$f":"IF(DF41=-4,\"X\",DF41)","v":0},0,0,0,null,{"$f":"DF41+DK41","v":0},{"$f":"IF(DL41=-4,\"X\",DL41)","v":0},0,0,0,39,{"$f":"DL41+DP41","v":0},{"$f":"IF(DR41=-4,\"X\",DR41)","v":0},0,0,0,null,{"$f":"DR41+DW41","v":0},{"$f":"IF(DX41=-4,\"X\",DX41)","v":0},0,0,0,39,{"$f":"DX41+EB41","v":0},{"$f":"IF(ED41=-4,\"X\",ED41)","v":0},0,0,null,{"$f":"ED41+EH41","v":0},{"$f":"IF(EI41=-4,\"X\",EI41)","v":0},0,1,0,39,{"$f":"EI41+EM41","v":0},{"$f":"IF(EO41=-4,\"X\",EO41)","v":0},0,null,null,null,null,null,null,null,null,null,null,null,null,null,null,null,null,null,null,null,null,null,null,null,null,null,null,null,null,null,null,null,null,null,null,null,null,null,null,null,null,null,null,null,null,null,null,null,null,null,null,null,null,null,null,null,null,null,null,null,null,null,null,null,null,null,null,null,null,null,null,null,null,null,null,null,null,null,null,null,null,null,null,null,null,null,null,null,"Combat (contact) 01",null,"",null,"",null,""]
[null,null,null,null,null,null,null,null,null,null,null,null,null,null,null,"Combat (contact) 02",null,"FOR","FOR",null,-2,0,-2,null,0,null,null,null,null,null,null,0,null,null,null,null,null,0,null,null,null,null,null,0,0,0,null,null,null,null,null,null,null,null,0,0,null,null,null,null,null,null,null,null,0,0,null,null,null,null,null,null,null,null,0,0,null,null,null,null,null,null,null,null,0,0,0,0,null,0,null,0,0,0,0,0,40,0,0,0,0,0,null,0,0,0,0,0,40,0,0,0,0,0,null,0,0,0,0,0,40,0,0,0,0,0,null,0,0,0,0,0,40,0,0,0,0,null,0,0,0,1,0,40,0,0,0,null,null,null,null,null,null,null,null,null,null,null,null,null,null,null,null,null,null,null,null,null,null,null,null,null,null,null,null,null,null,null,null,null,null,null,null,null,null,null,null,null,null,null,null,null,null,null,null,null,null,null,null,null,null,null,null,null,null,null,null,null,null,null,null,null,null,null,null,null,null,null,null,null,null,null,null,null,null,null,null,null,null,null,null,null,null,null,"Combat (contact) 02",null,"",null,"",null,""]
[null,null,null,null,null,null,null,null,null,null,null,null,null,null,null,"Combat (contact) 03",null,"FOR","FOR",null,-2,0,-2,null,0,null,null,null,null,null,null,0,null,null,null,null,null,0,null,null,null,null,null,0,0,0,null,null,null,null,null,null,null,null,0,0,null,null,null,null,null,null,null,null,0,0,null,null,null,null,null,null,null,null,0,0,null,null,null,null,null,null,null,null,0,0,0,0,null,0,null,0,0,0,0,0,41,0,0,0,0,0,null,0,0,0,0,0,41,0,0,0,0,0,null,0,0,0,0,0,41,0,0,0,0,0,null,0,0,0,0,0,41,0,0,0,0,null,0,0,0,1,0,41,0,0,0,null,null,null,null,null,null,null,null,null,null,null,null,null,null,null,null,null,null,null,null,null,null,null,null,null,null,null,null,null,null,null,null,null,null,null,null,null,null,null,null,null,null,null,null,null,null,null,null,null,null,null,null,null,null,null,null,null,null,null,null,null,null,null,null,null,null,null,null,null,null,null,null,null,null,null,null,null,null,null,null,null,null,null,null,null,null,null,"Combat (contact) 03",null,"",null,"",null,""]
[null,null,null,null,null,null,null,null,null,null,null,null,null,null,null,"Combat (contact) 04",null,"FOR","FOR",null,-2,0,-2,null,0,null,null,null,null,null,null,0,null,null,null,null,null,0,null,null,null,null,null,0,0,0,null,null,null,null,null,null,null,null,0,0,null,null,null,null,null,null,null,null,0,0,null,null,null,null,null,null,null,null,0,0,null,null,null,null,null,null,null,null,0,0,0,0,null,0,null,0,0,0,0,0,42,0,0,0,0,0,null,0,0,0,0,0,42,0,0,0,0,0,null,0,0,0,0,0,42,0,0,0,0,0,null,0,0,0,0,0,42,0,0,0,0,null,0,0,0,1,0,42,0,0,0,null,null,null,null,null,null,null,null,null,null,null,null,null,null,null,null,null,null,null,null,null,null,null,null,null,null,null,null,null,null,null,null,null,null,null,null,null,null,null,null,null,null,null,null,null,null,null,null,null,null,null,null,null,null,null,null,null,null,null,null,null,null,null,null,null,null,null,null,null,null,null,null,null,null,null,null,null,null,null,null,null,null,null,null,null,null,null,"Combat (contact) 04",null,"",null,"",null,""]
[null,null,null,null,null,null,null,null,null,null,null,null,null,null,null,"Combat (contact) 05",null,"FOR","FOR",null,-2,0,-2,null,0,null,null,null,null,null,null,0,null,null,null,null,null,0,null,null,null,null,null,0,0,0,null,null,null,null,null,null,null,null,0,0,null,null,null,null,null,null,null,null,0,0,null,null,null,null,null,null,null,null,0,0,null,null,null,null,null,null,null,null,0,0,0,0,null,0,null,0,0,0,0,0,43,0,0,0,0,0,null,0,0,0,0,0,43,0,0,0,0,0,null,0,0,0,0,0,43,0,0,0,0,0,null,0,0,0,0,0,43,0,0,0,0,null,0,0,0,1,0,43,0,0,0,null,null,null,null,null,null,null,null,null,null,null,null,null,null,null,null,null,null,null,null,null,null,null,null,null,null,null,null,null,null,null,null,null,null,null,null,null,null,null,null,null,null,null,null,null,null,null,null,null,null,null,null,null,null,null,null,null,null,null,null,null,null,null,null,null,null,null,null,null,null,null,null,null,null,null,null,null,null,null,null,null,null,null,null,null,null,null,"Combat (contact) 05",null,"",null,"",null,""]
[null,null,"Formation de base",null,"Délinquance/Criminalité",null,null,null,null,null,null,null,null,null,null,"Combat à mains nues",null,"FOR","COO",null,{"$f":"HLOOKUP(R46,$IZ$369:$JH$370,2,)+HLOOKUP(S46,$IZ$369:$JH$370,2,)","v":-2},2,0,null,0,null,null,null,null,null,null,0,1,1,null,null,null,1,1,null,null,null,null,0,0,1,null,null,null,null,null,null,null,null,{"$f":"IF(BD46=0,0,IF($IA$371=20,BD46+1,BD46))","v":0},0,null,null,null,null,null,null,null,null,{"$f":"IF(BN46=0,0,IF($IA$371=20,BN46+1,BN46))","v":0},0,null,null,null,null,null,null,null,null,{"$f":"IF(BX46=0,0,IF($IA$371=20,BX46+1,BX46))","v":0},0,null,null,null,null,null,null,null,null,{"$f":"IF(CH46=0,0,IF($IA$371=20,CH46+1,CH46))","v":0},0,2,2,null,0,null,2,2,1,2,0,44,2,2,0,0,0,null,2,2,1,2,0,44,2,2,{"$f":"IF(ROUND(DC46,0)=1,(VLOOKUP(DF46,$IQ$371:$IR$395,2,)-(4+$Y46))-(VLOOKUP(CZ46,$IQ$371:$IR$395,2,)-(4+$Y46)),IF(ROUND(DB46,0)=1,(VLOOKUP(DF46,$IQ$371:$IR$395,2,)-(4+$Y46))-(VLOOKUP(CZ46,$IQ$371:$IR$395,2,)-(4+$Y46)),((VLOOKUP(DF46,$IQ$371:$IR$395,2,)-(4+$Y46))-(VLOOKUP(CZ46,$IQ$371:$IR$395,2,)-(4+$Y46)))*2))","v":0},0,0,null,2,2,1,2,0,44,2,2,0,0,0,null,2,2,1,2,0,44,2,2,0,0,null,2,2,0,1,0,44,2,2,0,null,null,null,null,null,null,null,2,2,1,1,1,1,2,2,2,1,1,2,2,2,1,2,2,1,1,1,1,1,1,1,1,{"$f":"IF(AVANTAGES_PROFESSIONNELS!DO1146>0,1,2)","v":2},1,2,1,1,1,1,1,1,2,1,1,1,1,2,1,1,1,1,2,{"$f":"IF(GR$1>2,1,2)","v":2},2,2,2,{"$f":"IF(GV$1>2,1,2)","v":2},1,2,2,2,2,2,2,2,2,2,2,2,2,2,2,2,2,2,2,2,2,2,2,2,2,2,2,2,null,null,"Combat à mains nues",null,"Combat à mains nues",null,0,null,"Combat à mains nues 0, "]
[null,null,null,"Délinquance/criminalité : Commerce"," ",null,null,null,null,{"$f":"IF(AND($E47<>\" \",$E$46<>\"Délinquance/Criminalité\"),\"ERREUR\",\" \")","v":" "},null,null,"Combat (tir)",null,null,null,null,null,null,null,null,null,null,null,null,null,null,null,null,null,null,null,null,null,null,null,null,null,null,null,null,null,null,0,0,null,null,null,null,null,null,null,null,null,null,null,null,null,null,null,null,null,null,null,null,null,null,null,null,null,null,null,null,null,null,null,null,null,null,null,null,null,null,null,null,null,null,null,null,null,null,0,null,0,null,0,45,null,null,0,0,null,null,null,null,0,null,0,45,null,null,0,0,null,null,null,null,0,null,0,45,null,null,0,0,null,null,null,null,0,null,0,45,null,null,0,0,null,null,null,0,1,0,45,null,null,0]
[null,null,null,"Délinquance/criminalité : Organisation"," ",null,null,null,null,{"$f":"IF(AND($E48<>\" \",$E$46<>\"Délinquance/Criminalité\"),\"ERREUR\",\" \")","v":" "},null,null,null,null,null,"Armes de jet",-3,"COO","PER",null,{"$f":"HLOOKUP(R48,$IZ$369:$JH$370,2,)+HLOOKUP(S48,$IZ$369:$JH$370,2,)","v":-2},{"$f":"EP48","v":-3},{"$f":"IF(V48=\"X\",\"X\",U48+V48)","v":-5},null,{"$f":"IF(Q48=\"X\",-4,Q48)","v":-3},null,null,null,null,null,null,{"$f":"IF($AF$3=$AA$3,AA48,IF($AF$3=$AB$3,AB48,IF($AF$3=$AC$3,AC48,IF($AF$3=$AD$3,AD48,0))))","v":0},null,null,null,null,null,{"$f":"IF($AL$3=$AG$3,AG48,IF($AL$3=$AH$3,AH48,IF($AL$3=$AI$3,AI48,IF($AL$3=$AJ$3,AJ48,0))))","v":0},null,null,null,null,null,0,0,0,null,null,null,null,null,null,null,null,{"$f":"IF(BD48=0,0,IF($IA$371=20,BD48+1,BD48))","v":0},0,null,null,null,null,null,null,null,null,{"$f":"IF(BN48=0,0,IF($IA$371=20,BN48+1,BN48))","v":0},0,null,null,null,null,null,null,null,null,{"$f":"IF(BX48=0,0,IF($IA$371=20,BX48+1,BX48))","v":0},0,null,null,null,null,null,null,null,null,{"$f":"IF(CH48=0,0,IF($IA$371=20,CH48+1,CH48))","v":0},0,{"$f":"IF(Q48=\"X\",Z48+AF48+AL48+AT48+BC48+BM48+BW48+CG48-4,IF(Q48=-3,Z48+AF48+AL48+AT48+BC48+BM48+BW48+CG48-3,Z48+AF48+AL48+AT48+BC48+BM48+BW48+CG48))","v":-3},{"$f":"IF(CI48=-4,\"X\",CI48)","v":-3},null,{"$f":"IF($E$286=P48,1,IF($E$287=P48,1,IF($E$288=P48,1,IF($E$289=P48,1,IF($E$290=P48,1,IF($E$291=P48,1,0))))))","v":0},null,-3,{"$f":"IF(CN48=-4,\"X\",CN48)","v":-3},0,{"$f":"IF(CL48=1,1,(HLOOKUP($CR$3,$EY$3:$HX$349,CS48,)))","v":2},0,46,{"$f":"CN48+CR48","v":-3},{"$f":"IF(CT48=-4,\"X\",CT48)","v":-3},0,0,{"$f":"IF($E$294=P48,1,IF($E$295=P48,1,IF($E$296=P48,1,IF($E$297=P48,1,IF($E$298=P48,1,IF($E$299=P48,1,0))))))","v":0},null,{"$f":"CT48+CY48","v":-3},{"$f":"IF(CZ48=-4,\"X\",CZ48)","v":-3},0,{"$f":"IF(CX48=1,1,(HLOOKUP($DD$3,$EY$3:$HX$349,DE48,)))","v":2},0,46,{"$f":"CZ48+DD48","v":-3},{"$f":"IF(DF48=-4,\"X\",DF48)","v":-3},0,0,{"$f":"IF($E$302=P48,1,IF($E$303=P48,1,IF($E$314=P48,1,IF($E$315=P48,1,IF($E$316=P48,1,IF($E$317=P48,1,0))))))","v":0},null,{"$f":"DF48+DK48","v":-3},{"$f":"IF(DL48=-4,\"X\",DL48)","v":-3},0,{"$f":"IF(DJ48=1,1,(HLOOKUP($DP$3,$EY$3:$HX$349,DQ48,)))","v":2},0,46,{"$f":"DL48+DP48","v":-3},{"$f":"IF(DR48=-4,\"X\",DR48)","v":-3},0,0,{"$f":"IF($E$320=P48,1,IF($E$321=P48,1,IF($E$322=P48,1,IF($E$323=P48,1,IF($E$324=P48,1,IF($E$325=P48,1,0))))))","v":0},null,{"$f":"DR48+DW48","v":-3},{"$f":"IF(DX48=-4,\"X\",DX48)","v":-3},0,{"$f":"IF(DV48=1,1,(HLOOKUP($EB$3,$EY$3:$HX$349,EC48,)))","v":2},0,46,{"$f":"DX48+EB48","v":-3},{"$f":"IF(ED48=-4,\"X\",ED48)","v":-3},0,0,null,{"$f":"ED48+EH48","v":-3},{"$f":"IF(EI48=-4,\"X\",EI48)","v":-3},0,1,0,46,{"$f":"EI48+EM48","v":-3},{"$f":"IF(EO48=-4,\"X\",EO48)","v":-3},0,null,null,null,null,null,null,null,2,2,2,2,2,2,2,2,2,2,{"$f":"IF(AND($E$184=FI$3,VLOOKUP($E$190,$IE$390:$IF$401,2,)=$P48),1,IF(AND($E$204=FI$3,VLOOKUP($E$210,$IE$390:$IF$401,2,)=$P48),1,IF(AND($E$235=FI$3,VLOOKUP($E$241,$IE$390:$IF$401,2,)=$P48),1,IF(AND($E$260=FI$3,VLOOKUP($E$267,$IE$390:$IF$401,2,)=$P48),1,2))))","v":2},2,2,2,2,2,2,2,2,2,2,2,2,2,2,2,2,2,2,2,2,2,2,2,2,{"$f":"IF(AND($E$184=GH$3,VLOOKUP($E$190,$IE$390:$IF$401,2,)=$P48),1,IF(AND($E$204=GH$3,VLOOKUP($E$210,$IE$390:$IF$401,2,)=$P48),1,IF(AND($E$235=GH$3,VLOOKUP($E$241,$IE$390:$IF$401,2,)=$P48),1,IF(AND($E$260=GH$3,VLOOKUP($E$267,$IE$390:$IF$401,2,)=$P48),1,2))))","v":2},2,2,2,2,1,2,2,2,2,{"$f":"IF(GR$1>2,1,2)","v":2},2,2,2,{"$f":"IF(GV$1>2,1,2)","v":2},2,2,2,2,2,2,2,2,2,2,2,2,2,2,2,2,2,2,2,2,2,2,2,2,2,2,2,2,null,null,"Armes de jet",null,"",null,"",null,"",null,{"$f":"CONCATENATE(IG48,IG49,IG50,IG51,IG52,IG53,IG54,IG55,IG56,IG57,IG58,IG59,IG60,IG61,IG62,IG63,IG64)","v":"Armes de poing -1, "}]
[{"$f":"IF(E46=\"Apprentissage technique (Aquaculture)\",1,IF(E46=\"Apprentissage technique (Usine/Atelier)\",1,0))","v":0},null,null,"Aquaculture et Usine/Atelier : Pilotage"," ",null,null,null,null,{"$f":"IF(AND($E49<>\" \",A49<>1),\"ERREUR\",\" \")","v":" "},null,null,null,null,null,"Armes lourdes (tir)",-3,"COO","PER",null,-2,-3,-5,null,-3,null,null,null,null,null,null,0,null,null,null,null,null,0,null,null,null,null,null,0,0,0,null,null,null,null,null,null,null,null,0,0,null,null,null,null,null,null,null,null,0,0,null,null,null,null,null,null,null,null,0,0,null,null,null,null,null,null,null,null,0,0,-3,-3,null,0,null,-3,-3,0,2,0,47,-3,-3,0,0,0,null,-3,-3,0,2,0,47,-3,-3,0,0,0,null,-3,-3,0,2,0,47,-3,-3,0,0,0,null,-3,-3,0,2,0,47,-3,-3,0,0,null,-3,-3,0,1,0,47,-3,-3,0,null,null,null,null,null,null,null,2,2,2,2,2,2,2,2,2,2,{"$f":"IF(AND($E$184=FI$3,VLOOKUP($E$190,$IE$390:$IF$401,2,)=$P49),1,IF(AND($E$204=FI$3,VLOOKUP($E$210,$IE$390:$IF$401,2,)=$P49),1,IF(AND($E$235=FI$3,VLOOKUP($E$241,$IE$390:$IF$401,2,)=$P49),1,IF(AND($E$260=FI$3,VLOOKUP($E$267,$IE$390:$IF$401,2,)=$P49),1,2))))","v":2},2,2,2,1,2,2,1,1,1,2,2,2,2,2,2,2,2,1,1,1,1,1,2,2,{"$f":"IF(AND($E$184=GH$3,VLOOKUP($E$190,$IE$390:$IF$401,2,)=$P49),1,IF(AND($E$204=GH$3,VLOOKUP($E$210,$IE$390:$IF$401,2,)=$P49),1,IF(AND($E$235=GH$3,VLOOKUP($E$241,$IE$390:$IF$401,2,)=$P49),1,IF(AND($E$260=GH$3,VLOOKUP($E$267,$IE$390:$IF$401,2,)=$P49),1,2))))","v":2},2,2,2,2,2,2,2,2,2,2,2,2,2,2,2,2,2,2,2,2,2,2,2,2,2,2,2,2,2,2,2,2,2,2,2,2,2,2,2,2,2,2,null,null,"Armes lourdes (tir)",null,"",null,"",null,""]
[{"$f":"IF(E46=\"Apprentissage technique (Mines)\",1,IF(E46=\"Apprentissage technique (Usine/Atelier)\",1,0))","v":0},null,null,"Mines et Usine/Atelier : Armure"," ",null,null,null,null,{"$f":"IF(AND($E50<>\" \",A50<>1),\"ERREUR\",\" \")","v":" "},null,null,null,null,null,"Armes de poing",null,"COO","PER",null,-2,1,-1,null,0,null,null,null,null,null,null,0,null,null,null,null,null,0,1,null,null,null,null,0,0,1,null,null,null,{"$f":"IF($E$74=\"Armes de poing\",2,)","v":0},null,null,null,null,0,0,null,null,null,{"$f":"IF($E$104=\"Armes de poing\",2,)","v":0},null,null,null,null,0,0,null,null,null,{"$f":"IF($E$139=\"Armes de poing\",2,)","v":0},null,null,null,null,0,0,null,null,null,{"$f":"IF($E$164=\"Armes de poing\",2,)","v":0},null,null,null,null,0,0,1,1,null,0,null,1,1,1,2,0,48,1,1,0,0,0,null,1,1,1,2,0,48,1,1,0,0,0,null,1,1,1,2,0,48,1,1,0,0,0,null,1,1,1,2,0,48,1,1,0,0,null,1,1,0,1,0,48,1,1,0,null,null,null,null,null,null,null,2,2,1,1,1,1,2,1,2,1,{"$f":"IF(AND($E$184=FI$3,VLOOKUP($E$190,$IE$390:$IF$401,2,)=$P50),1,IF(AND($E$204=FI$3,VLOOKUP($E$210,$IE$390:$IF$401,2,)=$P50),1,IF(AND($E$235=FI$3,VLOOKUP($E$241,$IE$390:$IF$401,2,)=$P50),1,IF(AND($E$260=FI$3,VLOOKUP($E$267,$IE$390:$IF$401,2,)=$P50),1,2))))","v":2},2,2,2,1,2,1,1,1,1,2,1,1,1,1,2,1,2,1,1,1,1,1,2,2,{"$f":"IF(AND($E$184=GH$3,VLOOKUP($E$190,$IE$390:$IF$401,2,)=$P50),1,IF(AND($E$204=GH$3,VLOOKUP($E$210,$IE$390:$IF$401,2,)=$P50),1,IF(AND($E$235=GH$3,VLOOKUP($E$241,$IE$390:$IF$401,2,)=$P50),1,IF(AND($E$260=GH$3,VLOOKUP($E$267,$IE$390:$IF$401,2,)=$P50),1,2))))","v":2},1,1,2,2,1,1,1,2,2,2,2,2,2,2,2,2,2,2,2,2,2,2,2,2,2,2,2,2,2,2,2,2,2,2,2,2,2,2,2,2,2,2,null,null,"Armes de poing",null,"Armes de poing",null,-1,null,"Armes de poing -1, "]
[null,null,null,"Usine/Atelier : Mécanique"," ",null,null,null,null,{"$f":"IF(AND($E51<>\" \",$E$46<>\"Apprentissage technique (Usine/Atelier)\"),\"ERREUR\",\" \")","v":" "},null,null,null,null,null,"Armes sous-marines",null,"COO","PER",null,-2,0,-2,null,0,null,null,null,null,null,null,0,null,null,null,null,null,0,null,1,null,null,null,0,0,0,null,null,null,null,null,null,null,null,0,0,null,null,null,null,null,null,null,null,0,0,null,null,null,null,null,null,null,null,0,0,null,null,null,null,null,null,null,null,0,0,0,0,null,0,null,0,0,0,2,0,49,0,0,0,0,0,null,0,0,0,2,0,49,0,0,0,0,0,null,0,0,0,2,0,49,0,0,0,0,0,null,0,0,0,2,0,49,0,0,0,0,null,0,0,0,1,0,49,0,0,0,null,null,null,null,null,null,null,2,2,2,2,1,2,1,2,2,2,1,2,2,2,1,2,2,1,1,1,2,2,1,1,2,2,2,2,2,1,2,2,2,1,2,1,2,2,2,2,2,2,2,2,2,2,2,2,2,2,1,2,2,2,2,2,2,2,2,2,2,2,2,2,2,2,2,2,2,2,2,2,2,2,2,2,2,2,null,null,"Armes sous-marines",null,"",null,"",null,""]
[null,null,null,"Usine/Atelier : Pilotage 2"," ",null,null,null,null,{"$f":"IF(AND($E52<>\" \",$E$46<>\"Apprentissage technique (Usine/Atelier)\"),\"ERREUR\",\" \")","v":" "},null,null,null,null,null,"Armes spéciales (tir) I (…....…)",null,"FOR","COO",null,-2,0,-2,null,0,null,null,null,null,null,null,0,null,null,null,null,null,0,null,null,null,null,null,0,0,0,null,null,null,null,null,null,null,null,0,0,null,null,null,null,null,null,null,null,0,0,null,null,null,null,null,null,null,null,0,0,null,null,null,null,null,null,null,null,0,0,0,0,null,0,null,0,0,0,2,0,50,0,0,0,0,0,null,0,0,0,2,0,50,0,0,0,0,0,null,0,0,0,2,0,50,0,0,0,0,0,null,0,0,0,2,0,50,0,0,0,0,null,0,0,0,1,0,50,0,0,0,null,null,null,null,null,null,null,2,2,2,2,2,2,2,2,2,2,{"$f":"IF(AND($E$184=FI$3,VLOOKUP($E$190,$IE$390:$IF$401,2,)=$P52),1,IF(AND($E$204=FI$3,VLOOKUP($E$210,$IE$390:$IF$401,2,)=$P52),1,IF(AND($E$235=FI$3,VLOOKUP($E$241,$IE$390:$IF$401,2,)=$P52),1,IF(AND($E$260=FI$3,VLOOKUP($E$267,$IE$390:$IF$401,2,)=$P52),1,2))))","v":2},2,2,2,2,2,2,2,2,2,2,2,2,2,2,2,2,2,2,2,2,2,2,2,2,{"$f":"IF(AND($E$184=GH$3,VLOOKUP($E$190,$IE$390:$IF$401,2,)=$P52),1,IF(AND($E$204=GH$3,VLOOKUP($E$210,$IE$390:$IF$401,2,)=$P52),1,IF(AND($E$235=GH$3,VLOOKUP($E$241,$IE$390:$IF$401,2,)=$P52),1,IF(AND($E$260=GH$3,VLOOKUP($E$267,$IE$390:$IF$401,2,)=$P52),1,2))))","v":2},2,2,2,2,2,2,2,2,2,2,2,2,2,2,2,2,2,2,2,2,2,2,2,2,2,2,2,2,2,2,2,2,2,2,2,2,2,2,2,2,2,2,null,null,"Armes spéciales (tir) I (…....…)",null,"",null,"",null,""]
[null,null,null,"Education scolaire : Langue étrangère"," ",null,null,null,null,{"$f":"IF(AND($E53<>\" \",$E$46<>\"Education scolaire\"),\"ERREUR\",\" \")","v":" "},null,null,null,null,null,"Armes spéciales (tir) II (…....…)",null,"COO","COO",null,-2,0,-2,null,0,null,null,null,null,null,null,0,null,null,null,null,null,0,null,null,null,null,null,0,0,0,null,null,null,null,null,null,null,null,0,0,null,null,null,null,null,null,null,null,0,0,null,null,null,null,null,null,null,null,0,0,null,null,null,null,null,null,null,null,0,0,0,0,null,0,null,0,0,0,2,0,51,0,0,0,0,0,null,0,0,0,2,0,51,0,0,0,0,0,null,0,0,0,2,0,51,0,0,0,0,0,null,0,0,0,2,0,51,0,0,0,0,null,0,0,0,1,0,51,0,0,0,null,null,null,null,null,null,null,2,2,2,2,2,2,2,2,2,2,2,2,2,2,2,2,2,2,2,2,2,2,2,2,2,2,2,2,2,2,2,2,2,2,2,2,2,2,2,2,2,2,2,2,2,2,2,2,2,2,2,2,2,2,2,2,2,2,2,2,2,2,2,2,2,2,2,2,2,2,2,2,2,2,2,2,2,2,null,null,"Armes spéciales (tir) II (…....…)",null,"",null,"",null,""]
[null,null,null,"Education scolaire : Nation étrangère"," ",null,null,null,null,{"$f":"IF(AND($E54<>\" \",$E$46<>\"Education scolaire\"),\"ERREUR\",\" \")","v":" "},null,null,null,null,null,"Armes spéciales (tir) III (…....…)","X","FOR","COO",null,-2,"X","X",null,-4,null,null,null,null,null,null,0,null,null,null,null,null,0,null,null,null,null,null,0,0,0,null,null,null,null,null,null,null,null,0,0,null,null,null,null,null,null,null,null,0,0,null,null,null,null,null,null,null,null,0,0,null,null,null,null,null,null,null,null,0,0,-4,"X",null,0,null,-4,"X",0,2,0,52,-4,"X",0,0,0,null,-4,"X",0,2,0,52,-4,"X",0,0,0,null,-4,"X",0,2,0,52,-4,"X",0,0,0,null,-4,"X",0,2,0,52,-4,"X",0,0,null,-4,"X",0,1,0,52,-4,"X",0,null,null,null,null,null,null,null,2,2,2,2,2,2,2,2,2,2,2,2,2,2,2,2,2,2,2,2,2,2,2,2,2,2,2,2,2,2,2,2,2,2,2,2,2,2,2,2,2,2,2,2,2,2,2,2,2,2,2,2,2,2,2,2,2,2,2,2,2,2,2,2,2,2,2,2,2,2,2,2,2,2,2,2,2,2,null,null,"Armes spéciales (tir) III (…....…)",null,"",null,"",null,""]
[null,null,null,"Education scolaire : Sciences"," ",null,null,null,null,{"$f":"IF(AND($E55<>\" \",$E$46<>\"Education scolaire\"),\"ERREUR\",\" \")","v":" "},null,null,null,null,null,"Armes spéciales (tir) IV (…....…)","X","COO","COO",null,-2,"X","X",null,-4,null,null,null,null,null,null,0,null,null,null,null,null,0,null,null,null,null,null,0,0,0,null,null,null,null,null,null,null,null,0,0,null,null,null,null,null,null,null,null,0,0,null,null,null,null,null,null,null,null,0,0,null,null,null,null,null,null,null,null,0,0,-4,"X",null,0,null,-4,"X",0,2,0,53,-4,"X",0,0,0,null,-4,"X",0,2,0,53,-4,"X",0,0,0,null,-4,"X",0,2,0,53,-4,"X",0,0,0,null,-4,"X",0,2,0,53,-4,"X",0,0,null,-4,"X",0,1,0,53,-4,"X",0,null,null,null,null,null,null,null,2,2,2,2,2,2,2,2,2,2,2,2,2,2,2,2,2,2,2,2,2,2,2,2,2,2,2,2,2,2,2,2,2,2,2,2,2,2,2,2,2,2,2,2,2,2,2,2,2,2,2,2,2,2,2,2,2,2,2,2,2,2,2,2,2,2,2,2,2,2,2,2,2,2,2,2,2,2,null,null,"Armes spéciales (tir) IV (…....…)",null,"",null,"",null,""]
[null,null,null,null,null,null,null,null,null,null,null,null,null,null,null,"Armes de trait",-3,"COO","PER",null,-2,-3,-5,null,-3,null,null,null,null,null,null,0,null,null,null,null,null,0,null,null,null,null,null,0,0,0,null,null,null,null,null,null,null,null,0,0,null,null,null,null,null,null,null,null,0,0,null,null,null,null,null,null,null,null,0,0,null,null,null,null,null,null,null,null,0,0,-3,-3,null,0,null,-3,-3,0,2,0,54,-3,-3,0,0,0,null,-3,-3,0,2,0,54,-3,-3,0,0,0,null,-3,-3,0,2,0,54,-3,-3,0,0,0,null,-3,-3,0,2,0,54,-3,-3,0,0,null,-3,-3,0,1,0,54,-3,-3,0,null,null,null,null,null,null,null,2,2,2,2,2,2,2,2,2,2,2,2,2,2,2,2,2,2,2,2,2,2,2,2,2,2,2,2,2,2,2,2,2,2,2,2,2,2,2,2,1,1,2,2,2,2,2,2,2,2,2,2,2,2,2,2,2,2,2,2,2,2,2,2,2,2,2,2,2,2,2,2,2,2,2,2,2,2,null,null,"Armes de trait",null,"",null,"",null,""]
[null,null,null,null,null,null,null,null,null,null,null,null,null,null,null,"Fusils/Armes d'épaule",null,"COO","PER",null,-2,0,-2,null,0,null,null,null,null,null,null,0,null,null,null,null,null,0,null,null,null,null,null,0,0,0,null,null,null,{"$f":"IF($E$74=\"Fusils/Armes d'épaule\",2,)","v":0},null,null,null,null,0,0,null,null,null,{"$f":"IF($E$104=\"Fusils/Armes d'épaule\",2,)","v":0},null,null,null,null,0,0,null,null,null,{"$f":"IF($E$139=\"Fusils/Armes d'épaule\",2,)","v":0},null,null,null,null,0,0,null,null,null,{"$f":"IF($E$164=\"Fusils/Armes d'épaule\",2,)","v":0},null,null,null,null,0,0,0,0,null,0,null,0,0,0,2,0,55,0,0,0,0,0,null,0,0,0,2,0,55,0,0,0,0,0,null,0,0,0,2,0,55,0,0,0,0,0,null,0,0,0,2,0,55,0,0,0,0,null,0,0,0,1,0,55,0,0,0,null,null,null,null,null,null,null,2,2,1,1,1,1,2,2,2,1,2,2,2,2,1,2,2,1,1,1,2,2,2,1,1,2,2,2,1,1,1,1,1,2,2,2,1,2,2,2,1,2,2,2,2,2,2,2,2,2,2,2,2,2,2,2,2,2,2,2,2,2,2,2,2,2,2,2,2,2,2,2,2,2,2,2,2,2,null,null,"Fusils/Armes d'épaule",null,"",null,"",null,""]
[null,null,"Etudes supérieures 1",null,"Pas d'étude sup.",null,null,null,null,{"$f":"IF(E58=\"Pas d'étude sup.\",0,1)","v":0},null,null,null,null,null,"Tir automatique *",null,"FOR","PER",null,-2,0,-2,null,0,null,null,null,null,null,null,0,null,null,null,null,null,0,null,null,null,null,null,0,0,0,null,null,null,null,null,null,null,null,0,0,null,null,null,null,null,null,null,null,0,0,null,null,null,null,null,null,null,null,0,0,null,null,null,null,null,null,null,null,0,0,0,0,null,0,null,0,0,0,2,0,56,0,0,0,0,0,null,0,0,0,2,0,56,0,0,0,0,0,null,0,0,0,2,0,56,0,0,0,0,0,null,0,0,0,2,0,56,0,0,0,0,null,0,0,0,1,0,56,0,0,0,null,null,null,null,null,null,null,2,2,2,2,2,2,2,2,2,2,2,2,2,2,1,2,2,2,2,2,2,2,2,1,2,2,2,2,1,1,1,1,1,2,2,2,1,2,2,2,2,2,2,2,2,2,2,2,2,2,2,2,2,2,2,2,2,2,2,2,2,2,2,2,2,2,2,2,2,2,2,2,2,2,2,2,2,2,null,null,"Tir automatique",null,"",null,"",null,""]
[null,null,null,null,null,null,null,null,null,null,null,null,null,null,null,"Combat (tir) 01",null,"FOR","FOR",null,{"$f":"HLOOKUP(R59,$IZ$369:$JH$370,2,)+HLOOKUP(S59,$IZ$369:$JH$370,2,)","v":-2},{"$f":"EP59","v":0},{"$f":"IF(V59=\"X\",\"X\",U59+V59)","v":-2},null,{"$f":"IF(Q59=\"X\",-4,Q59)","v":0},null,null,null,null,null,null,{"$f":"IF($AF$3=$AA$3,AA59,IF($AF$3=$AB$3,AB59,IF($AF$3=$AC$3,AC59,IF($AF$3=$AD$3,AD59,0))))","v":0},null,null,null,null,null,{"$f":"IF($AL$3=$AG$3,AG59,IF($AL$3=$AH$3,AH59,IF($AL$3=$AI$3,AI59,IF($AL$3=$AJ$3,AJ59,0))))","v":0},null,null,null,null,null,0,0,0,null,null,null,null,null,null,null,null,{"$f":"IF(BD59=0,0,IF($IA$371=20,BD59+1,BD59))","v":0},{"$f":"IF(BC$3=AU$3,AU59,IF(BC$3=AV$3,AV59,IF(BC$3=AW$3,AW59,IF(BC$3=AX$3,AX59,IF(BC$3=AY$3,AY59,IF(BC$3=AZ$3,AZ59,IF(BC$3=BA$3,BA59,IF(BC$3=BB$3,BB59,0))))))))","v":0},null,null,null,null,null,null,null,null,{"$f":"IF(BN59=0,0,IF($IA$371=20,BN59+1,BN59))","v":0},{"$f":"IF(BM$3=BE$3,BE59,IF(BM$3=BF$3,BF59,IF(BM$3=BG$3,BG59,IF(BM$3=BH$3,BH59,IF(BM$3=BI$3,BI59,IF(BM$3=BJ$3,BJ59,IF(BM$3=BK$3,BK59,IF(BM$3=BL$3,BL59,0))))))))","v":0},null,null,null,null,null,null,null,null,{"$f":"IF(BX59=0,0,IF($IA$371=20,BX59+1,BX59))","v":0},{"$f":"IF(BW$3=BO$3,BO59,IF(BW$3=BP$3,BP59,IF(BW$3=BQ$3,BQ59,IF(BW$3=BR$3,BR59,IF(BW$3=BS$3,BS59,IF(BW$3=BT$3,BT59,IF(BW$3=BU$3,BU59,IF(BW$3=BV$3,BV59,0))))))))","v":0},null,null,null,null,null,null,null,null,{"$f":"IF(CH59=0,0,IF($IA$371=20,CH59+1,CH59))","v":0},{"$f":"IF(CG$3=BY$3,BY59,IF(CG$3=BZ$3,BZ59,IF(CG$3=CA$3,CA59,IF(CG$3=CB$3,CB59,IF(CG$3=CC$3,CC59,IF(CG$3=CD$3,CD59,IF(CG$3=CE$3,CE59,IF(CG$3=CF$3,CF59,0))))))))","v":0},0,{"$f":"IF(CI59=-4,\"X\",CI59)","v":0},null,0,null,{"$f":"CI59+CM59","v":0},{"$f":"IF(CN59=-4,\"X\",CN59)","v":0},0,0,0,57,{"$f":"CN59+CR59","v":0},{"$f":"IF(CT59=-4,\"X\",CT59)","v":0},0,0,0,null,{"$f":"CT59+CY59","v":0},{"$f":"IF(CZ59=-4,\"X\",CZ59)","v":0},0,0,0,57,{"$f":"CZ59+DD59","v":0},{"$f":"IF(DF59=-4,\"X\",DF59)","v":0},0,0,0,null,{"$f":"DF59+DK59","v":0},{"$f":"IF(DL59=-4,\"X\",DL59)","v":0},0,0,0,57,{"$f":"DL59+DP59","v":0},{"$f":"IF(DR59=-4,\"X\",DR59)","v":0},0,0,0,null,{"$f":"DR59+DW59","v":0},{"$f":"IF(DX59=-4,\"X\",DX59)","v":0},0,0,0,57,{"$f":"DX59+EB59","v":0},{"$f":"IF(ED59=-4,\"X\",ED59)","v":0},0,0,null,{"$f":"ED59+EH59","v":0},{"$f":"IF(EI59=-4,\"X\",EI59)","v":0},0,1,0,57,{"$f":"EI59+EM59","v":0},{"$f":"IF(EO59=-4,\"X\",EO59)","v":0},0,null,null,null,null,null,null,null,null,null,null,null,null,null,null,null,null,null,null,null,null,null,null,null,null,null,null,null,null,null,null,null,null,null,null,null,null,null,null,null,null,null,null,null,null,null,null,null,null,null,null,null,null,null,null,null,null,null,null,null,null,null,null,null,null,null,null,null,null,null,null,null,null,null,null,null,null,null,null,null,null,null,null,null,null,null,null,null,"Combat (tir) 01",null,"",null,"",null,""]
[null,null,null,null,null,null,null,null,null,null,null,null,null,null,null,"Combat (tir) 02",null,"FOR","FOR",null,-2,0,-2,null,0,null,null,null,null,null,null,0,null,null,null,null,null,0,null,null,null,null,null,0,0,0,null,null,null,null,null,null,null,null,0,0,null,null,null,null,null,null,null,null,0,0,null,null,null,null,null,null,null,null,0,0,null,null,null,null,null,null,null,null,0,0,0,0,null,0,null,0,0,0,0,0,58,0,0,0,0,0,null,0,0,0,0,0,58,0,0,0,0,0,null,0,0,0,0,0,58,0,0,0,0,0,null,0,0,0,0,0,58,0,0,0,0,null,0,0,0,1,0,58,0,0,0,null,null,null,null,null,null,null,null,null,null,null,null,null,null,null,null,null,null,null,null,null,null,null,null,null,null,null,null,null,null,null,null,null,null,null,null,null,null,null,null,null,null,null,null,null,null,null,null,null,null,null,null,null,null,null,null,null,null,null,null,null,null,null,null,null,null,null,null,null,null,null,null,null,null,null,null,null,null,null,null,null,null,null,null,null,null,null,"Combat (tir) 02",null,"",null,"",null,""]
[null,null,null,null,null,null,null,null,null,null,null,null,null,null,null,"Combat (tir) 03",null,"FOR","FOR",null,-2,0,-2,null,0,null,null,null,null,null,null,0,null,null,null,null,null,0,null,null,null,null,null,0,0,0,null,null,null,null,null,null,null,null,0,0,null,null,null,null,null,null,null,null,0,0,null,null,null,null,null,null,null,null,0,0,null,null,null,null,null,null,null,null,0,0,0,0,null,0,null,0,0,0,0,0,59,0,0,0,0,0,null,0,0,0,0,0,59,0,0,0,0,0,null,0,0,0,0,0,59,0,0,0,0,0,null,0,0,0,0,0,59,0,0,0,0,null,0,0,0,1,0,59,0,0,0,null,null,null,null,null,null,null,null,null,null,null,null,null,null,null,null,null,null,null,null,null,null,null,null,null,null,null,null,null,null,null,null,null,null,null,null,null,null,null,null,null,null,null,null,null,null,null,null,null,null,null,null,null,null,null,null,null,null,null,null,null,null,null,null,null,null,null,null,null,null,null,null,null,null,null,null,null,null,null,null,null,null,null,null,null,null,null,"Combat (tir) 03",null,"",null,"",null,""]
[null,null,null,null,null,null,null,null,null,null,null,null,null,null,null,"Combat (tir) 04",null,"FOR","FOR",null,-2,0,-2,null,0,null,null,null,null,null,null,0,null,null,null,null,null,0,null,null,null,null,null,0,0,0,null,null,null,null,null,null,null,null,0,0,null,null,null,null,null,null,null,null,0,0,null,null,null,null,null,null,null,null,0,0,null,null,null,null,null,null,null,null,0,0,0,0,null,0,null,0,0,0,0,0,60,0,0,0,0,0,null,0,0,0,0,0,60,0,0,0,0,0,null,0,0,0,0,0,60,0,0,0,0,0,null,0,0,0,0,0,60,0,0,0,0,null,0,0,0,1,0,60,0,0,0,null,null,null,null,null,null,null,null,null,null,null,null,null,null,null,null,null,null,null,null,null,null,null,null,null,null,null,null,null,null,null,null,null,null,null,null,null,null,null,null,null,null,null,null,null,null,null,null,null,null,null,null,null,null,null,null,null,null,null,null,null,null,null,null,null,null,null,null,null,null,null,null,null,null,null,null,null,null,null,null,null,null,null,null,null,null,null,"Combat (tir) 04",null,"",null,"",null,""]
[null,null,null,null,null,null,null,null,null,null,null,null,null,null,null,"Combat (tir) 05",null,"FOR","FOR",null,-2,0,-2,null,0,null,null,null,null,null,null,0,null,null,null,null,null,0,null,null,null,null,null,0,0,0,null,null,null,null,null,null,null,null,0,0,null,null,null,null,null,null,null,null,0,0,null,null,null,null,null,null,null,null,0,0,null,null,null,null,null,null,null,null,0,0,0,0,null,0,null,0,0,0,0,0,61,0,0,0,0,0,null,0,0,0,0,0,61,0,0,0,0,0,null,0,0,0,0,0,61,0,0,0,0,0,null,0,0,0,0,0,61,0,0,0,0,null,0,0,0,1,0,61,0,0,0,null,null,null,null,null,null,null,null,null,null,null,null,null,null,null,null,null,null,null,null,null,null,null,null,null,null,null,null,null,null,null,null,null,null,null,null,null,null,null,null,null,null,null,null,null,null,null,null,null,null,null,null,null,null,null,null,null,null,null,null,null,null,null,null,null,null,null,null,null,null,null,null,null,null,null,null,null,null,null,null,null,null,null,null,null,null,null,"Combat (tir) 05",null,"",null,"",null,""]
[null,null,null,"Commerce/Gestion : Commerce légal"," ",null,null,null,null,{"$f":"IF(AND($E64<>\" \",$E$58<>\"Commerce/gestion\"),\"ERREUR\",\" \")","v":" "},null,null,null,null,null,"Tir de précision *",-3,"PER","VOL",null,{"$f":"HLOOKUP(R64,$IZ$369:$JH$370,2,)+HLOOKUP(S64,$IZ$369:$JH$370,2,)","v":-2},-3,-5,null,-3,null,null,null,null,null,null,0,null,null,null,null,null,0,null,null,null,null,null,0,0,0,null,null,null,null,null,null,null,null,{"$f":"IF(BD64=0,0,IF($IA$371=20,BD64+1,BD64))","v":0},0,null,null,null,null,null,null,null,null,{"$f":"IF(BN64=0,0,IF($IA$371=20,BN64+1,BN64))","v":0},0,null,null,null,null,null,null,null,null,{"$f":"IF(BX64=0,0,IF($IA$371=20,BX64+1,BX64))","v":0},0,null,null,null,null,null,null,null,null,{"$f":"IF(CH64=0,0,IF($IA$371=20,CH64+1,CH64))","v":0},0,-3,-3,null,0,null,-3,-3,0,2,0,62,-3,-3,0,0,0,null,-3,-3,0,2,0,62,-3,-3,0,0,0,null,-3,-3,0,2,0,62,-3,-3,0,0,0,null,-3,-3,0,2,0,62,-3,-3,0,0,null,-3,-3,0,1,0,62,-3,-3,0,null,null,null,null,null,null,null,2,2,1,2,2,2,2,2,2,2,{"$f":"IF(AND($E$184=FI$3,VLOOKUP($E$190,$IE$390:$IF$401,2,)=$P64),1,IF(AND($E$204=FI$3,VLOOKUP($E$210,$IE$390:$IF$401,2,)=$P64),1,IF(AND($E$235=FI$3,VLOOKUP($E$241,$IE$390:$IF$401,2,)=$P64),1,IF(AND($E$260=FI$3,VLOOKUP($E$267,$IE$390:$IF$401,2,)=$P64),1,2))))","v":2},2,2,2,2,2,2,2,2,2,2,2,2,2,2,2,2,2,2,2,2,1,1,2,2,{"$f":"IF(AND($E$184=GH$3,VLOOKUP($E$190,$IE$390:$IF$401,2,)=$P64),1,IF(AND($E$204=GH$3,VLOOKUP($E$210,$IE$390:$IF$401,2,)=$P64),1,IF(AND($E$235=GH$3,VLOOKUP($E$241,$IE$390:$IF$401,2,)=$P64),1,IF(AND($E$260=GH$3,VLOOKUP($E$267,$IE$390:$IF$401,2,)=$P64),1,2))))","v":2},2,2,2,2,2,2,2,2,2,2,2,2,2,2,2,2,2,2,2,2,2,2,2,2,2,2,2,2,2,2,2,2,2,2,2,2,2,2,2,2,2,2,null,null,"Tir de précision",null,"",null,"",null,""]
[null,null,null,"Commerce/Gestion : Langue au choix"," ",null,null,null,null,{"$f":"IF(AND($E65<>\" \",$E$58<>\"Commerce/gestion\"),\"ERREUR\",\" \")","v":" "},null,null,"Communication/Relations sociales",null,null,null,null,null,null,null,null,null,null,null,null,null,null,null,null,null,null,null,null,null,null,null,null,null,null,null,null,null,null,0,0,0,0,0,0,0,0,0,0,0,0,0,0,0,0,0,0,0,0,0,null,null,null,null,null,null,null,null,null,null,null,null,null,null,null,null,null,null,null,null,null,null,null,null,null,null,null,0,null,0,null,0,63,null,null,0,0,null,null,null,null,0,null,0,63,null,null,0,0,null,null,null,null,0,null,0,63,null,null,0,0,null,null,null,null,0,null,0,63,null,null,0,0,null,null,null,0,1,0,63,null,null,0]
[null,null,null,"Commerce/Gestion : Nation étrangère"," ",null,null,null,null,{"$f":"IF(AND($E66<>\" \",$E$58<>\"Commerce/gestion\"),\"ERREUR\",\" \")","v":" "},null,null,null,null,null,"Analyse empathique",-3,"INT","PER",null,{"$f":"HLOOKUP(R66,$IZ$369:$JH$370,2,)+HLOOKUP(S66,$IZ$369:$JH$370,2,)","v":-2},{"$f":"EP66","v":-3},{"$f":"IF(V66=\"X\",\"X\",U66+V66)","v":-5},null,{"$f":"IF(Q66=\"X\",-4,Q66)","v":-3},null,null,null,null,null,null,{"$f":"IF($AF$3=$AA$3,AA66,IF($AF$3=$AB$3,AB66,IF($AF$3=$AC$3,AC66,IF($AF$3=$AD$3,AD66,0))))","v":0},null,null,null,null,null,{"$f":"IF($AL$3=$AG$3,AG66,IF($AL$3=$AH$3,AH66,IF($AL$3=$AI$3,AI66,IF($AL$3=$AJ$3,AJ66,0))))","v":0},null,null,null,null,null,0,0,0,null,null,null,null,null,1,null,null,{"$f":"IF(BD66=0,0,IF($IA$371=20,BD66+1,BD66))","v":0},0,null,null,null,null,null,1,null,null,{"$f":"IF(BN66=0,0,IF($IA$371=20,BN66+1,BN66))","v":0},0,null,null,null,null,null,1,null,null,{"$f":"IF(BX66=0,0,IF($IA$371=20,BX66+1,BX66))","v":0},0,null,null,null,null,null,1,null,null,{"$f":"IF(CH66=0,0,IF($IA$371=20,CH66+1,CH66))","v":0},0,{"$f":"IF(Q66=\"X\",Z66+AF66+AL66+AT66+BC66+BM66+BW66+CG66-4,IF(Q66=-3,Z66+AF66+AL66+AT66+BC66+BM66+BW66+CG66-3,Z66+AF66+AL66+AT66+BC66+BM66+BW66+CG66))","v":-3},{"$f":"IF(CI66=-4,\"X\",CI66)","v":-3},null,{"$f":"IF($E$286=P66,1,IF($E$287=P66,1,IF($E$288=P66,1,IF($E$289=P66,1,IF($E$290=P66,1,IF($E$291=P66,1,0))))))","v":0},null,-3,{"$f":"IF(CN66=-4,\"X\",CN66)","v":-3},0,{"$f":"IF(CL66=1,1,(HLOOKUP($CR$3,$EY$3:$HX$349,CS66,)))","v":2},0,64,{"$f":"CN66+CR66","v":-3},{"$f":"IF(CT66=-4,\"X\",CT66)","v":-3},0,0,{"$f":"IF($E$294=P66,1,IF($E$295=P66,1,IF($E$296=P66,1,IF($E$297=P66,1,IF($E$298=P66,1,IF($E$299=P66,1,0))))))","v":0},null,{"$f":"CT66+CY66","v":-3},{"$f":"IF(CZ66=-4,\"X\",CZ66)","v":-3},0,{"$f":"IF(CX66=1,1,(HLOOKUP($DD$3,$EY$3:$HX$349,DE66,)))","v":2},0,64,{"$f":"CZ66+DD66","v":-3},{"$f":"IF(DF66=-4,\"X\",DF66)","v":-3},0,0,{"$f":"IF($E$302=P66,1,IF($E$303=P66,1,IF($E$314=P66,1,IF($E$315=P66,1,IF($E$316=P66,1,IF($E$317=P66,1,0))))))","v":0},null,{"$f":"DF66+DK66","v":-3},{"$f":"IF(DL66=-4,\"X\",DL66)","v":-3},0,{"$f":"IF(DJ66=1,1,(HLOOKUP($DP$3,$EY$3:$HX$349,DQ66,)))","v":2},0,64,{"$f":"DL66+DP66","v":-3},{"$f":"IF(DR66=-4,\"X\",DR66)","v":-3},0,0,{"$f":"IF($E$320=P66,1,IF($E$321=P66,1,IF($E$322=P66,1,IF($E$323=P66,1,IF($E$324=P66,1,IF($E$325=P66,1,0))))))","v":0},null,{"$f":"DR66+DW66","v":-3},{"$f":"IF(DX66=-4,\"X\",DX66)","v":-3},0,{"$f":"IF(DV66=1,1,(HLOOKUP($EB$3,$EY$3:$HX$349,EC66,)))","v":2},0,64,{"$f":"DX66+EB66","v":-3},{"$f":"IF(ED66=-4,\"X\",ED66)","v":-3},0,0,null,{"$f":"ED66+EH66","v":-3},{"$f":"IF(EI66=-4,\"X\",EI66)","v":-3},0,1,0,64,{"$f":"EI66+EM66","v":-3},{"$f":"IF(EO66=-4,\"X\",EO66)","v":-3},0,null,null,null,null,null,null,null,2,2,2,1,1,2,1,1,2,1,1,1,1,1,2,2,2,2,2,2,2,2,2,2,1,1,1,2,2,2,2,2,2,2,2,2,2,2,2,1,2,2,2,2,1,1,1,1,1,1,1,2,2,2,2,2,2,2,2,2,2,2,2,2,2,2,2,2,2,2,2,2,2,2,2,2,2,2,null,null,"Analyse empathique",null,"",null,"",null,"",null,{"$f":"CONCATENATE(IG66,IG67,IG68,IG69,IG70,IG71,IG72,IG73,IG74,IG75,IG76,IG77,IG78,IG79,IG80,IG81,IG82)","v":"Intimidation 0, "}]
[null,null,null,"Commerce/Gestion : Sciences"," ",null,null,null,null,{"$f":"IF(AND($E67<>\" \",$E$58<>\"Commerce/gestion\"),\"ERREUR\",\" \")","v":" "},null,null,null,null,null,"Commandement",null,"VOL","PRE",null,-2,0,-2,null,0,null,null,null,null,null,null,0,null,null,null,null,null,0,null,null,null,null,null,0,0,0,null,null,null,3,1,null,null,null,0,0,null,null,null,3,1,null,null,null,0,0,null,null,null,3,1,null,null,null,0,0,null,null,null,3,1,null,null,null,0,0,0,0,null,0,null,0,0,0,2,0,65,0,0,0,0,0,null,0,0,0,2,0,65,0,0,0,0,0,null,0,0,0,2,0,65,0,0,0,0,0,null,0,0,0,2,0,65,0,0,0,0,null,0,0,0,1,0,65,0,0,0,null,null,null,null,null,null,null,2,2,2,2,2,2,2,2,2,2,2,2,2,2,2,2,1,1,1,1,2,2,2,2,1,1,2,2,1,2,2,2,2,2,2,2,1,2,2,2,2,2,2,2,2,2,2,2,2,2,2,2,2,2,2,2,2,2,2,2,2,2,2,2,2,2,2,2,2,2,2,2,2,2,2,2,2,2,null,null,"Commandement",null,"",null,"",null,""]
[null,null,null,"Droit : Langue au choix"," ",null,null,null,null,{"$f":"IF(AND($E68<>\" \",$E$58<>\"Droit\"),\"ERREUR\",\" \")","v":" "},null,null,null,null,null,"Eloquence/Persuasion +",null,"INT","PRE",null,-2,0,-2,null,0,null,null,null,null,null,null,0,null,null,null,null,null,0,null,null,null,null,null,0,0,0,null,1,null,null,null,null,null,null,0,0,null,1,null,null,null,null,null,null,0,0,null,1,null,null,null,null,null,null,0,0,null,1,null,null,null,null,null,null,0,0,0,0,null,0,null,0,0,0,2,0,66,0,0,0,0,0,null,0,0,0,2,0,66,0,0,0,0,0,null,0,0,0,2,0,66,0,0,0,0,0,null,0,0,0,2,0,66,0,0,0,0,null,0,0,0,1,0,66,0,0,0,null,null,null,null,null,null,null,2,1,2,1,1,1,2,1,1,1,2,1,1,2,2,2,2,2,2,2,2,2,2,2,2,1,1,1,2,2,2,2,2,2,2,2,1,2,2,1,2,1,1,1,1,1,1,1,1,1,2,2,2,2,2,2,2,2,2,2,2,2,2,2,2,2,2,2,2,2,2,2,2,2,2,2,2,2,null,null,"Eloquence/Persuasion",null,"",null,"",null,""]
[null,null,null,"Droit : Nation étrangère"," ",null,null,null,null,{"$f":"IF(AND($E69<>\" \",$E$58<>\"Droit\"),\"ERREUR\",\" \")","v":" "},null,null,"Règle perso.",null,null,"Enseignement +",null,"INT","PER",null,-2,0,-2,null,0,null,null,null,null,null,null,0,null,null,null,null,null,0,null,null,null,null,null,0,0,0,null,null,null,null,null,null,null,null,0,0,null,null,null,null,null,null,null,null,0,0,null,null,null,null,null,null,null,null,0,0,null,null,null,null,null,null,null,null,0,0,0,0,null,0,null,0,0,0,2,0,67,0,0,0,0,0,null,0,0,0,2,0,67,0,0,0,0,0,null,0,0,0,2,0,67,0,0,0,0,0,null,0,0,0,2,0,67,0,0,0,0,null,0,0,0,1,0,67,0,0,0,null,null,null,null,null,null,null,2,1,2,2,2,2,2,1,1,2,2,2,1,2,2,2,2,2,2,2,2,2,2,2,2,1,2,1,2,2,2,2,2,2,2,2,2,2,2,2,2,2,2,2,2,2,2,2,2,2,2,2,2,2,2,2,2,2,2,2,2,2,2,2,2,2,2,2,2,2,2,2,2,2,2,2,2,2,null,null,"Enseignement",null,"",null,"",null,""]
[null,null,null,"Ecole d'ingénieurs : Génie technique"," ",null,null,null,null,{"$f":"IF(AND($E70<>\" \",$E$58<>\"Ecole d'ingénieurs\"),\"ERREUR\",\" \")","v":" "},null,null,null,null,null,"Entregent/Séduction",null,"PRE","PRE",null,-2,0,-2,null,0,null,null,null,null,null,null,0,null,null,null,null,null,0,null,null,null,null,null,0,0,0,null,null,null,null,null,null,null,null,0,0,null,null,null,null,null,null,null,null,0,0,null,null,null,null,null,null,null,null,0,0,null,null,null,null,null,null,null,null,0,0,0,0,null,0,null,0,0,0,2,0,68,0,0,0,0,0,null,0,0,0,2,0,68,0,0,0,0,0,null,0,0,0,2,0,68,0,0,0,0,0,null,0,0,0,2,0,68,0,0,0,0,null,0,0,0,1,0,68,0,0,0,null,null,null,null,null,null,null,2,1,2,1,2,2,2,1,2,1,2,1,1,2,2,2,2,2,2,2,2,2,2,2,2,2,1,2,2,2,2,2,2,2,2,2,2,2,2,2,2,1,2,1,2,2,{"$f":"IF(GS$1>2,1,2)","v":2},2,2,2,2,2,2,2,2,2,2,2,2,2,2,2,2,2,2,2,2,2,2,2,2,2,2,2,2,2,2,2,null,null,"Entregent/Séduction",null,"",null,"",null,""]
[null,null,null,"Ecole d'ingénieurs : Langue au choix"," ",null,null,null,null,{"$f":"IF(AND($E71<>\" \",$E$58<>\"Ecole d'ingénieurs\"),\"ERREUR\",\" \")","v":" "},null,null,null,null,null,"Expression artistique (Chant)",-3,"INT","PRE",null,-2,-3,-5,null,-3,null,null,null,null,null,null,0,null,null,null,null,null,0,null,null,null,null,null,0,0,0,null,null,null,null,null,null,null,null,0,0,null,null,null,null,null,null,null,null,0,0,null,null,null,null,null,null,null,null,0,0,null,null,null,null,null,null,null,null,0,0,-3,-3,null,0,null,-3,-3,0,2,0,69,-3,-3,0,0,0,null,-3,-3,0,2,0,69,-3,-3,0,0,0,null,-3,-3,0,2,0,69,-3,-3,0,0,0,null,-3,-3,0,2,0,69,-3,-3,0,0,null,-3,-3,0,1,0,69,-3,-3,0,null,null,null,null,null,null,null,2,2,2,2,2,2,2,2,2,2,2,2,1,2,2,2,2,2,2,2,2,2,2,2,2,2,1,2,2,2,2,2,2,2,2,2,2,2,2,2,2,1,2,1,2,2,2,2,2,2,2,2,2,2,2,2,2,2,2,2,2,2,2,2,2,2,2,2,2,2,2,2,2,2,2,2,2,2,null,null,"Expression artistique (Chant)",null,"",null,"",null,""]
[null,null,null,"Ecole d'ingénieurs : Mécanique"," ",null,null,null,null,{"$f":"IF(AND($E72<>\" \",$E$58<>\"Ecole d'ingénieurs\"),\"ERREUR\",\" \")","v":" "},null,null,null,null,null,"Expression artistique (Comédie/Conte)",-3,"ADA","PRE",null,-2,-3,-5,null,-3,null,null,null,null,null,null,0,null,null,null,null,null,0,null,null,null,null,null,0,0,0,null,null,null,null,null,null,null,null,0,0,null,null,null,null,null,null,null,null,0,0,null,null,null,null,null,null,null,null,0,0,null,null,null,null,null,null,null,null,0,0,-3,-3,null,0,null,-3,-3,0,2,0,70,-3,-3,0,0,0,null,-3,-3,0,2,0,70,-3,-3,0,0,0,null,-3,-3,0,2,0,70,-3,-3,0,0,0,null,-3,-3,0,2,0,70,-3,-3,0,0,null,-3,-3,0,1,0,70,-3,-3,0,null,null,null,null,null,null,null,2,2,2,2,2,2,2,2,2,2,2,2,1,2,2,2,2,2,2,2,2,2,2,2,2,2,1,2,2,2,2,2,2,2,2,2,2,2,2,2,2,1,2,1,2,2,2,2,2,2,2,2,2,2,2,2,2,2,2,2,2,2,2,2,2,2,2,2,2,2,2,2,2,2,2,2,2,2,null,null,"Expression artistique (Comédie/Conte)",null,"",null,"",null,""]
[null,null,null,"Ecole d'ingénieurs : Nation étrangère"," ",null,null,null,null,{"$f":"IF(AND($E73<>\" \",$E$58<>\"Ecole d'ingénieurs\"),\"ERREUR\",\" \")","v":" "},null,null,null,null,null,"Expression artistique (Danse)",-3,"COO","PRE",null,-2,-3,-5,null,-3,null,null,null,null,null,null,0,null,null,null,null,null,0,null,null,null,null,null,0,0,0,null,null,null,null,null,null,null,null,0,0,null,null,null,null,null,null,null,null,0,0,null,null,null,null,null,null,null,null,0,0,null,null,null,null,null,null,null,null,0,0,-3,-3,null,0,null,-3,-3,0,2,0,71,-3,-3,0,0,0,null,-3,-3,0,2,0,71,-3,-3,0,0,0,null,-3,-3,0,2,0,71,-3,-3,0,0,0,null,-3,-3,0,2,0,71,-3,-3,0,0,null,{"$f":"ED73+EH73","v":-3},-3,0,1,0,71,-3,-3,0,null,null,null,null,null,null,null,2,2,2,2,2,2,2,2,2,2,2,2,1,2,2,2,2,2,2,2,2,2,2,2,2,2,1,2,2,2,2,2,2,2,2,2,2,2,2,2,2,1,2,1,2,2,2,2,2,2,2,2,2,2,2,2,2,2,2,2,2,2,2,2,2,2,2,2,2,2,2,2,2,2,2,2,2,2,null,null,"Expression artistique (Danse)",null,"",null,"",null,""]
[null,null,null,"Ecole militaire : Combat (Tir)"," ",null,null,null,null,{"$f":"IF(AND($E74<>\" \",$E$58<>\"Ecole militaire\"),\"ERREUR\",\" \")","v":" "},null,null,null,null,null,"Expression artistique (Instr. De musique)","X","COO","PER",null,-2,"X","X",null,-4,null,null,null,null,null,null,0,null,null,null,null,null,0,null,null,null,null,null,0,0,0,null,null,null,null,null,null,null,null,0,0,null,null,null,null,null,null,null,null,0,0,null,null,null,null,null,null,null,null,0,0,null,null,null,null,null,null,null,null,0,0,-4,"X",null,0,null,-4,"X",0,2,0,72,-4,"X",0,0,0,null,-4,"X",0,2,0,72,-4,"X",0,0,0,null,-4,"X",0,2,0,72,-4,"X",0,0,0,null,-4,"X",0,2,0,72,-4,"X",0,0,null,-4,"X",0,1,0,72,-4,"X",0,null,null,null,null,null,null,null,2,2,2,2,2,2,2,2,2,2,2,2,1,2,2,2,2,2,2,2,2,2,2,2,2,2,1,2,2,2,2,2,2,2,2,2,2,2,2,2,2,1,2,1,2,2,2,2,2,2,2,2,2,2,2,2,2,2,2,2,2,2,2,2,2,2,2,2,2,2,2,2,2,2,2,2,2,2,null,null,"Expression artistique (Instr. De musique)",null,"",null,"",null,""]
[null,null,null,"Ecole militaire : Langue pays allié ou hostile"," ",null,null,null,null,{"$f":"IF(AND($E75<>\" \",$E$58<>\"Ecole militaire\"),\"ERREUR\",\" \")","v":" "},null,null,null,null,null,"Expression artistique I (……….)",-3," "," ",null,0,-3,-3,null,-3,null,null,null,null,null,null,0,null,null,null,null,null,0,null,null,null,null,null,0,0,0,null,null,null,null,null,null,null,null,0,0,null,null,null,null,null,null,null,null,0,0,null,null,null,null,null,null,null,null,0,0,null,null,null,null,null,null,null,null,0,0,-3,-3,null,0,null,-3,-3,0,2,0,73,-3,-3,0,0,0,null,-3,-3,0,2,0,73,-3,-3,0,0,0,null,-3,-3,0,2,0,73,-3,-3,0,0,0,null,-3,-3,0,2,0,73,-3,-3,0,0,null,-3,-3,0,1,0,73,-3,-3,0,null,null,null,null,null,null,null,2,2,2,2,2,2,2,2,2,2,2,2,1,2,2,2,2,2,2,2,2,2,2,2,2,2,1,2,2,2,2,2,2,2,2,2,2,2,2,2,2,1,2,1,2,2,2,2,2,2,2,2,2,2,2,2,2,2,2,2,2,2,2,2,2,2,2,2,2,2,2,2,2,2,2,2,2,2,null,null,"Expression artistique I (……….)",null,"",null,"",null,""]
[null,null,null,"Ecole militaire : Nation étrangère"," ",null,null,null,null,{"$f":"IF(AND($E76<>\" \",$E$58<>\"Ecole militaire\"),\"ERREUR\",\" \")","v":" "},null,null,null,null,null,"Expression artistique II (……….)","X"," "," ",null,0,"X","X",null,-4,null,null,null,null,null,null,0,null,null,null,null,null,0,null,null,null,null,null,0,0,0,null,null,null,null,null,null,null,null,0,0,null,null,null,null,null,null,null,null,0,0,null,null,null,null,null,null,null,null,0,0,null,null,null,null,null,null,null,null,0,0,-4,"X",null,0,null,-4,"X",0,2,0,74,-4,"X",0,0,0,null,-4,"X",0,2,0,74,-4,"X",0,0,0,null,-4,"X",0,2,0,74,-4,"X",0,0,0,null,-4,"X",0,2,0,74,-4,"X",0,0,null,-4,"X",0,1,0,74,-4,"X",0,null,null,null,null,null,null,null,2,2,2,2,2,2,2,2,2,2,2,2,1,2,2,2,2,2,2,2,2,2,2,2,2,2,1,2,2,2,2,2,2,2,2,2,2,2,2,2,2,1,2,1,2,2,2,2,2,2,2,2,2,2,2,2,2,2,2,2,2,2,2,2,2,2,2,2,2,2,2,2,2,2,2,2,2,2,null,null,"Expression artistique II (……….)",null,"",null,"",null,""]
[null,null,null,null,null,null,null,null,null,null,null,null,null,null,null,"Communication/Relations sociales 01",null,"FOR","FOR",null,{"$f":"HLOOKUP(R77,$IZ$369:$JH$370,2,)+HLOOKUP(S77,$IZ$369:$JH$370,2,)","v":-2},{"$f":"EP77","v":0},{"$f":"IF(V77=\"X\",\"X\",U77+V77)","v":-2},null,{"$f":"IF(Q77=\"X\",-4,Q77)","v":0},null,null,null,null,null,null,{"$f":"IF($AF$3=$AA$3,AA77,IF($AF$3=$AB$3,AB77,IF($AF$3=$AC$3,AC77,IF($AF$3=$AD$3,AD77,0))))","v":0},null,null,null,null,null,{"$f":"IF($AL$3=$AG$3,AG77,IF($AL$3=$AH$3,AH77,IF($AL$3=$AI$3,AI77,IF($AL$3=$AJ$3,AJ77,0))))","v":0},null,null,null,null,null,0,0,0,null,null,null,null,null,null,null,null,{"$f":"IF(BD77=0,0,IF($IA$371=20,BD77+1,BD77))","v":0},{"$f":"IF(BC$3=AU$3,AU77,IF(BC$3=AV$3,AV77,IF(BC$3=AW$3,AW77,IF(BC$3=AX$3,AX77,IF(BC$3=AY$3,AY77,IF(BC$3=AZ$3,AZ77,IF(BC$3=BA$3,BA77,IF(BC$3=BB$3,BB77,0))))))))","v":0},null,null,null,null,null,null,null,null,{"$f":"IF(BN77=0,0,IF($IA$371=20,BN77+1,BN77))","v":0},{"$f":"IF(BM$3=BE$3,BE77,IF(BM$3=BF$3,BF77,IF(BM$3=BG$3,BG77,IF(BM$3=BH$3,BH77,IF(BM$3=BI$3,BI77,IF(BM$3=BJ$3,BJ77,IF(BM$3=BK$3,BK77,IF(BM$3=BL$3,BL77,0))))))))","v":0},null,null,null,null,null,null,null,null,{"$f":"IF(BX77=0,0,IF($IA$371=20,BX77+1,BX77))","v":0},{"$f":"IF(BW$3=BO$3,BO77,IF(BW$3=BP$3,BP77,IF(BW$3=BQ$3,BQ77,IF(BW$3=BR$3,BR77,IF(BW$3=BS$3,BS77,IF(BW$3=BT$3,BT77,IF(BW$3=BU$3,BU77,IF(BW$3=BV$3,BV77,0))))))))","v":0},null,null,null,null,null,null,null,null,{"$f":"IF(CH77=0,0,IF($IA$371=20,CH77+1,CH77))","v":0},{"$f":"IF(CG$3=BY$3,BY77,IF(CG$3=BZ$3,BZ77,IF(CG$3=CA$3,CA77,IF(CG$3=CB$3,CB77,IF(CG$3=CC$3,CC77,IF(CG$3=CD$3,CD77,IF(CG$3=CE$3,CE77,IF(CG$3=CF$3,CF77,0))))))))","v":0},0,{"$f":"IF(CI77=-4,\"X\",CI77)","v":0},null,0,null,{"$f":"CI77+CM77","v":0},{"$f":"IF(CN77=-4,\"X\",CN77)","v":0},0,0,0,75,{"$f":"CN77+CR77","v":0},{"$f":"IF(CT77=-4,\"X\",CT77)","v":0},0,0,0,null,{"$f":"CT77+CY77","v":0},{"$f":"IF(CZ77=-4,\"X\",CZ77)","v":0},0,0,0,75,{"$f":"CZ77+DD77","v":0},{"$f":"IF(DF77=-4,\"X\",DF77)","v":0},0,0,0,null,{"$f":"DF77+DK77","v":0},{"$f":"IF(DL77=-4,\"X\",DL77)","v":0},0,0,0,75,{"$f":"DL77+DP77","v":0},{"$f":"IF(DR77=-4,\"X\",DR77)","v":0},0,0,0,null,{"$f":"DR77+DW77","v":0},{"$f":"IF(DX77=-4,\"X\",DX77)","v":0},0,0,0,75,{"$f":"DX77+EB77","v":0},{"$f":"IF(ED77=-4,\"X\",ED77)","v":0},0,0,null,{"$f":"ED77+EH77","v":0},{"$f":"IF(EI77=-4,\"X\",EI77)","v":0},0,1,0,75,{"$f":"EI77+EM77","v":0},{"$f":"IF(EO77=-4,\"X\",EO77)","v":0},0,null,null,null,null,null,null,null,null,null,null,null,null,null,null,null,null,null,null,null,null,null,null,null,null,null,null,null,null,null,null,null,null,null,null,null,null,null,null,null,null,null,null,null,null,null,null,null,null,null,null,null,null,null,null,null,null,null,null,null,null,null,null,null,null,null,null,null,null,null,null,null,null,null,null,null,null,null,null,null,null,null,null,null,null,null,null,null,"Communication/Relations sociales 01",null,"",null,"",null,""]
[null,null,null,null,null,null,null,null,null,null,null,null,null,null,null,"Communication/Relations sociales 02",null,"FOR","FOR",null,-2,0,-2,null,0,null,null,null,null,null,null,0,null,null,null,null,null,0,null,null,null,null,null,0,0,0,null,null,null,null,null,null,null,null,0,0,null,null,null,null,null,null,null,null,0,0,null,null,null,null,null,null,null,null,0,0,null,null,null,null,null,null,null,null,0,0,0,0,null,0,null,0,0,0,0,0,76,0,0,0,0,0,null,0,0,0,0,0,76,0,0,0,0,0,null,0,0,0,0,0,76,0,0,0,0,0,null,0,0,0,0,0,76,0,0,0,0,null,0,0,0,1,0,76,0,0,0,null,null,null,null,null,null,null,null,null,null,null,null,null,null,null,null,null,null,null,null,null,null,null,null,null,null,null,null,null,null,null,null,null,null,null,null,null,null,null,null,null,null,null,null,null,null,null,null,null,null,null,null,null,null,null,null,null,null,null,null,null,null,null,null,null,null,null,null,null,null,null,null,null,null,null,null,null,null,null,null,null,null,null,null,null,null,null,"Communication/Relations sociales 02",null,"",null,"",null,""]
[null,null,null,null,null,null,null,null,null,null,null,null,null,null,null,"Communication/Relations sociales 03",null,"FOR","FOR",null,-2,0,-2,null,0,null,null,null,null,null,null,0,null,null,null,null,null,0,null,null,null,null,null,0,0,0,null,null,null,null,null,null,null,null,0,0,null,null,null,null,null,null,null,null,0,0,null,null,null,null,null,null,null,null,0,0,null,null,null,null,null,null,null,null,0,0,0,0,null,0,null,0,0,0,0,0,77,0,0,0,0,0,null,0,0,0,0,0,77,0,0,0,0,0,null,0,0,0,0,0,77,0,0,0,0,0,null,0,0,0,0,0,77,0,0,0,0,null,0,0,0,1,0,77,0,0,0,null,null,null,null,null,null,null,null,null,null,null,null,null,null,null,null,null,null,null,null,null,null,null,null,null,null,null,null,null,null,null,null,null,null,null,null,null,null,null,null,null,null,null,null,null,null,null,null,null,null,null,null,null,null,null,null,null,null,null,null,null,null,null,null,null,null,null,null,null,null,null,null,null,null,null,null,null,null,null,null,null,null,null,null,null,null,null,"Communication/Relations sociales 03",null,"",null,"",null,""]
[null,null,null,null,null,null,null,null,null,null,null,null,null,null,null,"Communication/Relations sociales 04",null,"FOR","FOR",null,-2,0,-2,null,0,null,null,null,null,null,null,0,null,null,null,null,null,0,null,null,null,null,null,0,0,0,null,null,null,null,null,null,null,null,0,0,null,null,null,null,null,null,null,null,0,0,null,null,null,null,null,null,null,null,0,0,null,null,null,null,null,null,null,null,0,0,0,0,null,0,null,0,0,0,0,0,78,0,0,0,0,0,null,0,0,0,0,0,78,0,0,0,0,0,null,0,0,0,0,0,78,0,0,0,0,0,null,0,0,0,0,0,78,0,0,0,0,null,0,0,0,1,0,78,0,0,0,null,null,null,null,null,null,null,null,null,null,null,null,null,null,null,null,null,null,null,null,null,null,null,null,null,null,null,null,null,null,null,null,null,null,null,null,null,null,null,null,null,null,null,null,null,null,null,null,null,null,null,null,null,null,null,null,null,null,null,null,null,null,null,null,null,null,null,null,null,null,null,null,null,null,null,null,null,null,null,null,null,null,null,null,null,null,null,"Communication/Relations sociales 04",null,"",null,"",null,""]
[null,null,null,null,null,null,null,null,null,null,null,null,null,null,null,"Communication/Relations sociales 05",null,"FOR","FOR",null,-2,0,-2,null,0,null,null,null,null,null,null,0,null,null,null,null,null,0,null,null,null,null,null,0,0,0,null,null,null,null,null,null,null,null,0,0,null,null,null,null,null,null,null,null,0,0,null,null,null,null,null,null,null,null,0,0,null,null,null,null,null,null,null,null,0,0,0,0,null,0,null,0,0,0,0,0,79,0,0,0,0,0,null,0,0,0,0,0,79,0,0,0,0,0,null,0,0,0,0,0,79,0,0,0,0,0,null,0,0,0,0,0,79,0,0,0,0,null,0,0,0,1,0,79,0,0,0,null,null,null,null,null,null,null,null,null,null,null,null,null,null,null,null,null,null,null,null,null,null,null,null,null,null,null,null,null,null,null,null,null,null,null,null,null,null,null,null,null,null,null,null,null,null,null,null,null,null,null,null,null,null,null,null,null,null,null,null,null,null,null,null,null,null,null,null,null,null,null,null,null,null,null,null,null,null,null,null,null,null,null,null,null,null,null,"Communication/Relations sociales 05",null,"",null,"",null,""]
[null,null,null,"Ecole militaire : Tactique"," ",null,null,null,null,{"$f":"IF(AND($E82<>\" \",$E$58<>\"Ecole militaire\"),\"ERREUR\",\" \")","v":" "},null,null,null,null,null,"Intimidation",null,"VOL","PRE",null,{"$f":"HLOOKUP(R82,$IZ$369:$JH$370,2,)+HLOOKUP(S82,$IZ$369:$JH$370,2,)","v":-2},2,0,null,0,null,null,null,null,null,null,0,1,null,null,null,null,1,1,null,null,null,null,0,0,1,null,null,null,null,null,null,null,null,{"$f":"IF(BD82=0,0,IF($IA$371=20,BD82+1,BD82))","v":0},0,null,null,null,null,null,null,null,null,{"$f":"IF(BN82=0,0,IF($IA$371=20,BN82+1,BN82))","v":0},0,null,null,null,null,null,null,null,null,{"$f":"IF(BX82=0,0,IF($IA$371=20,BX82+1,BX82))","v":0},0,null,null,null,null,null,null,null,null,{"$f":"IF(CH82=0,0,IF($IA$371=20,CH82+1,CH82))","v":0},0,2,2,null,0,null,2,2,1,2,0,80,2,2,0,0,0,null,2,2,1,2,0,80,2,2,0,0,0,null,2,2,1,2,0,80,2,2,0,0,0,null,2,2,1,2,0,80,2,2,0,0,null,2,2,0,1,0,80,2,2,0,null,null,null,null,null,null,null,2,2,2,1,1,1,2,2,2,1,2,2,2,2,1,2,2,1,1,1,2,2,2,1,1,2,2,2,1,2,2,2,2,2,2,1,1,1,2,2,2,2,2,2,2,2,2,2,2,2,2,2,2,2,2,2,2,2,2,2,2,2,2,2,2,2,2,2,2,2,2,2,2,2,2,2,2,2,null,null,"Intimidation",null,"Intimidation",null,0,null,"Intimidation 0, "]
[null,null,null,"Ecole navale : Nation étrangère"," ",null,null,null,null,{"$f":"IF(AND($E83<>\" \",$E$58<>\"Ecole navale\"),\"ERREUR\",\" \")","v":" "},null,null,"Connaissances",null,null,null,null,null,null,null,null,null,null,null,null,null,null,null,null,null,null,null,null,null,null,null,null,null,null,null,null,null,null,0,0,0,0,0,0,0,0,0,0,0,0,0,0,0,0,0,0,0,0,0,null,null,null,null,null,null,null,null,null,null,null,null,null,null,null,null,null,null,null,null,null,null,null,null,null,null,null,0,null,{"$f":"IF(AND(($Z83+$AF83+$AL83+$AT83+$BC83+$BM83+$BW83+$CG83)>0,CT83>4),2,IF(AND(($Z83+$AF83+$AL83+$AT83+$BC83+$BM83+$BW83+$CG83)>0,CN83<5),1,0))","v":0},null,0,81,null,null,{"$f":"IF(ROUND(CQ83,0)=1,(VLOOKUP(CT83,$IQ$371:$IR$395,2,)-(4+$Y83))-(VLOOKUP(CN83,$IQ$371:$IR$395,2,)-(4+$Y83)),IF(ROUND(CP83,0)=1,(VLOOKUP(CT83,$IQ$371:$IR$395,2,)-(4+$Y83))-(VLOOKUP(CN83,$IQ$371:$IR$395,2,)-(4+$Y83)),((VLOOKUP(CT83,$IQ$371:$IR$395,2,)-(4+$Y83))-(VLOOKUP(CN83,$IQ$371:$IR$395,2,)-(4+$Y83)))*2))","v":0},{"$f":"IF(CQ83=1,0,IF(CP83=2,IF(AND(($Z83+$AF83+$AL83+$AT83+$BC83+$BM83+$BW83+$CG83)>0,CN83<5),5-CN83,0),0))","v":0},null,null,null,null,{"$f":"IF(AND(($Z83+$AF83+$AL83+$AT83+$BC83+$BM83+$BW83+$CG83)>0,DF83>4),2,IF(AND(($Z83+$AF83+$AL83+$AT83+$BC83+$BM83+$BW83+$CG83)>0,CZ83<5),1,0))","v":0},null,0,81,null,null,0,{"$f":"IF(DC83=1,0,IF(DB83=2,IF(AND(($Z83+$AF83+$AL83+$AT83+$BC83+$BM83+$BW83+$CG83)>0,CZ83<5),5-CZ83,0),0))","v":0},null,null,null,null,{"$f":"IF(AND(($Z83+$AF83+$AL83+$AT83+$BC83+$BM83+$BW83+$CG83)>0,DR83>4),2,IF(AND(($Z83+$AF83+$AL83+$AT83+$BC83+$BM83+$BW83+$CG83)>0,DL83<5),1,0))","v":0},null,0,81,null,null,{"$f":"IF(ROUND(DO83,0)=1,(VLOOKUP(DR83,$IQ$371:$IR$395,2,)-(4+$Y83))-(VLOOKUP(DL83,$IQ$371:$IR$395,2,)-(4+$Y83)),IF(ROUND(DN83,0)=1,(VLOOKUP(DR83,$IQ$371:$IR$395,2,)-(4+$Y83))-(VLOOKUP(DL83,$IQ$371:$IR$395,2,)-(4+$Y83)),((VLOOKUP(DR83,$IQ$371:$IR$395,2,)-(4+$Y83))-(VLOOKUP(DL83,$IQ$371:$IR$395,2,)-(4+$Y83)))*2))","v":0},{"$f":"IF(DO83=1,0,IF(DN83=2,IF(AND(($Z83+$AF83+$AL83+$AT83+$BC83+$BM83+$BW83+$CG83)>0,DL83<5),5-DL83,0),0))","v":0},null,null,null,null,{"$f":"IF(AND(($Z83+$AF83+$AL83+$AT83+$BC83+$BM83+$BW83+$CG83)>0,ED83>4),2,IF(AND(($Z83+$AF83+$AL83+$AT83+$BC83+$BM83+$BW83+$CG83)>0,DX83<5),1,0))","v":0},null,0,81,null,null,{"$f":"IF(ROUND(EA83,0)=1,(VLOOKUP(ED83,$IQ$371:$IR$395,2,)-(4+$Y83))-(VLOOKUP(DX83,$IQ$371:$IR$395,2,)-(4+$Y83)),IF(ROUND(DZ83,0)=1,(VLOOKUP(ED83,$IQ$371:$IR$395,2,)-(4+$Y83))-(VLOOKUP(DX83,$IQ$371:$IR$395,2,)-(4+$Y83)),((VLOOKUP(ED83,$IQ$371:$IR$395,2,)-(4+$Y83))-(VLOOKUP(DX83,$IQ$371:$IR$395,2,)-(4+$Y83)))*2))","v":0},{"$f":"IF(EA83=1,0,IF(DZ83=2,IF(AND(($Z83+$AF83+$AL83+$AT83+$BC83+$BM83+$BW83+$CG83)>0,DX83<5),5-DX83,0),0))","v":0},null,null,null,0,1,0,81,null,null,{"$f":"IF(ROUND(EL83,0)=1,(VLOOKUP(EO83,$IQ$371:$IR$395,2,)-(4+$Y83))-(VLOOKUP(EI83,$IQ$371:$IR$395,2,)-(4+$Y83)),IF(ROUND(EK83,0)=1,(VLOOKUP(EO83,$IQ$371:$IR$395,2,)-(4+$Y83))-(VLOOKUP(EI83,$IQ$371:$IR$395,2,)-(4+$Y83)),((VLOOKUP(EO83,$IQ$371:$IR$395,2,)-(4+$Y83))-(VLOOKUP(EI83,$IQ$371:$IR$395,2,)-(4+$Y83)))*2))","v":0}]
[null,null,null,"Sciences/Sciences humaines : Langue au choix"," ",null,null,null,null,{"$f":"IF(AND($E84<>\" \",$E$58<>\"Sciences/Sciences humaines\"),\"ERREUR\",\" \")","v":" "},null,null,null,null,null,"Bureaucratie +",null,"INT","VOL",null,{"$f":"HLOOKUP(R84,$IZ$369:$JH$370,2,)+HLOOKUP(S84,$IZ$369:$JH$370,2,)","v":-2},{"$f":"EP84","v":0},{"$f":"IF(V84=\"X\",\"X\",U84+V84)","v":-2},null,{"$f":"IF(Q84=\"X\",-4,Q84)","v":0},null,null,null,1,2,null,{"$f":"IF($AF$3=$AA$3,AA84,IF($AF$3=$AB$3,AB84,IF($AF$3=$AC$3,AC84,IF($AF$3=$AD$3,AD84,0))))","v":0},null,null,1,{"$f":"IF($E$40=\"Bureaucratie\",2,)","v":0},null,{"$f":"IF($AL$3=$AG$3,AG84,IF($AL$3=$AH$3,AH84,IF($AL$3=$AI$3,AI84,IF($AL$3=$AJ$3,AJ84,0))))","v":0},null,null,null,1,null,0,0,{"$f":"IF($AT$3=$AM$3,AM84,IF($AT$3=$AN$3,AN84,IF($AT$3=$AO$3,AO84,IF($AT$3=$AP$3,AP84,IF($AT$3=$AQ$3,AQ84,IF($AT$3=$AR$3,AR84,IF($AS$1=1,AS84,0)))))))","v":0},3,3,null,null,null,1,null,1,{"$f":"IF(BD84=0,0,IF($IA$371=20,BD84+2,BD84))","v":0},0,3,3,null,null,null,1,null,1,{"$f":"IF(BN84=0,0,IF($IA$371=20,BN84+2,BN84))","v":0},0,3,3,null,null,null,1,null,1,{"$f":"IF(BX84=0,0,IF($IA$371=20,BX84+2,BX84))","v":0},0,3,3,null,null,null,1,null,1,{"$f":"IF(CH84=0,0,IF($IA$371=20,CH84+2,CH84))","v":0},0,{"$f":"IF(Q84=\"X\",Z84+AF84+AL84+AT84+BC84+BM84+BW84+CG84-4,IF(Q84=-3,Z84+AF84+AL84+AT84+BC84+BM84+BW84+CG84-3,Z84+AF84+AL84+AT84+BC84+BM84+BW84+CG84))","v":0},{"$f":"IF(CI84=-4,\"X\",CI84)","v":0},null,{"$f":"IF($E$286=P84,1,IF($E$287=P84,1,IF($E$288=P84,1,IF($E$289=P84,1,IF($E$290=P84,1,IF($E$291=P84,1,0))))))","v":0},null,0,{"$f":"IF(CN84=-4,\"X\",CN84)","v":0},0,{"$f":"IF(CL84=1,1,(HLOOKUP($CR$3,$EY$3:$HX$349,CS84,)))","v":2},0,82,{"$f":"CN84+CR84","v":0},{"$f":"IF(CT84=-4,\"X\",CT84)","v":0},0,0,{"$f":"IF($E$294=P84,1,IF($E$295=P84,1,IF($E$296=P84,1,IF($E$297=P84,1,IF($E$298=P84,1,IF($E$299=P84,1,0))))))","v":0},null,{"$f":"CT84+CY84","v":0},{"$f":"IF(CZ84=-4,\"X\",CZ84)","v":0},0,{"$f":"IF(CX84=1,1,(HLOOKUP($DD$3,$EY$3:$HX$349,DE84,)))","v":2},0,82,{"$f":"CZ84+DD84","v":0},{"$f":"IF(DF84=-4,\"X\",DF84)","v":0},0,0,{"$f":"IF($E$302=P84,1,IF($E$303=P84,1,IF($E$314=P84,1,IF($E$315=P84,1,IF($E$316=P84,1,IF($E$317=P84,1,0))))))","v":0},null,{"$f":"DF84+DK84","v":0},{"$f":"IF(DL84=-4,\"X\",DL84)","v":0},0,{"$f":"IF(DJ84=1,1,(HLOOKUP($DP$3,$EY$3:$HX$349,DQ84,)))","v":2},0,82,{"$f":"DL84+DP84","v":0},{"$f":"IF(DR84=-4,\"X\",DR84)","v":0},0,0,{"$f":"IF($E$320=P84,1,IF($E$321=P84,1,IF($E$322=P84,1,IF($E$323=P84,1,IF($E$324=P84,1,IF($E$325=P84,1,0))))))","v":0},null,{"$f":"DR84+DW84","v":0},{"$f":"IF(DX84=-4,\"X\",DX84)","v":0},0,{"$f":"IF(DV84=1,1,(HLOOKUP($EB$3,$EY$3:$HX$349,EC84,)))","v":2},0,82,{"$f":"DX84+EB84","v":0},{"$f":"IF(ED84=-4,\"X\",ED84)","v":0},0,0,null,{"$f":"ED84+EH84","v":0},{"$f":"IF(EI84=-4,\"X\",EI84)","v":0},0,1,0,82,{"$f":"EI84+EM84","v":0},{"$f":"IF(EO84=-4,\"X\",EO84)","v":0},0,null,null,null,null,null,null,null,2,2,2,2,1,1,1,1,2,1,2,1,2,2,2,2,1,1,1,1,2,2,2,2,1,2,2,2,2,2,2,2,2,2,2,2,2,2,2,2,2,2,2,2,2,2,2,{"$f":"IF(GT$1>2,1,2)","v":2},2,2,2,2,2,2,2,2,2,2,2,2,2,2,2,2,2,2,2,2,2,2,2,2,2,2,2,2,2,2,null,null,"Bureaucratie",null,{"$f":"IF(EO84-Y84=0,\"\",IA84)","v":""},null,{"$f":"IF(EO84-Y84=0,\"\",W84)","v":""},null,{"$f":"IF(IC84=\"\",\"\",CONCATENATE(IC84,\" \",IE84,\", \"))","v":""},{"$f":"CONCATENATE(IG84,IG85,IG86,IG87,IG88,IG89,IG90,IG91,IG92,IG93,IG94,IG95,IG96,IG97,IG98,IG99,IG100)","v":""},{"$f":"CONCATENATE(IH84,IH101,IH118,IH135,IH152)","v":""}]
[null,null,null,"Sciences/Sciences humaines : Nation étrangère"," ",null,null,null,null,{"$f":"IF(AND($E85<>\" \",$E$58<>\"Sciences/Sciences humaines\"),\"ERREUR\",\" \")","v":" "},null,null,null,null,null,"Cartographie +","X","INT","INT",null,-2,{"$f":"EP85","v":"X"},"X",null,-4,null,null,null,null,null,null,0,null,null,null,null,null,0,null,null,null,null,null,0,0,0,null,null,null,null,2,null,null,null,{"$f":"IF(BD85=0,0,IF($IA$371=20,BD85+1,BD85))","v":0},0,null,null,null,null,2,null,null,null,{"$f":"IF(BN85=0,0,IF($IA$371=20,BN85+1,BN85))","v":0},0,null,null,null,null,2,null,null,null,{"$f":"IF(BX85=0,0,IF($IA$371=20,BX85+1,BX85))","v":0},0,null,null,null,null,2,null,null,null,{"$f":"IF(CH85=0,0,IF($IA$371=20,CH85+1,CH85))","v":0},0,-4,"X",null,0,null,-4,"X",0,2,0,83,-4,"X",0,0,0,null,{"$f":"CT85+CY85","v":-4},"X",0,2,0,83,-4,"X",0,0,0,null,-4,"X",0,2,0,83,-4,"X",0,0,0,null,-4,"X",0,2,0,83,-4,"X",0,0,null,{"$f":"ED85+EH85","v":-4},{"$f":"IF(EI85=-4,\"X\",EI85)","v":"X"},0,1,0,83,{"$f":"EI85+EM85","v":-4},{"$f":"IF(EO85=-4,\"X\",EO85)","v":"X"},0,null,null,null,null,null,null,null,2,2,2,2,2,2,2,2,1,2,2,2,1,2,2,2,1,2,2,2,2,1,1,2,2,2,2,2,2,1,1,1,1,2,2,2,2,2,2,1,1,1,1,1,2,2,2,2,2,2,2,2,2,2,2,2,2,2,2,2,2,2,2,2,2,2,2,2,2,2,2,2,2,2,2,2,2,2,null,null,"Cartographie",null,"",null,"",null,""]
[null,null,null,"Sciences/Sciences humaines : Sciences"," ",null,null,null,null,{"$f":"IF(AND($E86<>\" \",$E$58<>\"Sciences/Sciences humaines\"),\"ERREUR\",\" \")","v":" "},null,null,null,null,null,"Commerce/Trafic (Armes) +","X","INT","PRE",null,-2,{"$f":"EP86","v":"X"},"X",null,-4,null,null,null,null,null,null,0,null,null,null,null,null,0,{"$f":"IF($E$47=\"Armes\",1,)","v":0},null,null,null,null,0,0,0,null,null,null,null,null,null,null,null,0,0,null,null,null,null,null,null,null,null,0,0,null,null,null,null,null,null,null,null,0,0,null,null,null,null,null,null,null,null,0,0,-4,"X",null,0,null,-4,"X",0,2,0,84,-4,"X",0,0,0,null,{"$f":"CT86+CY86","v":-4},"X",0,2,0,84,-4,"X",0,0,0,null,-4,"X",0,2,0,84,-4,"X",0,0,0,null,-4,"X",0,2,0,84,-4,"X",0,0,null,{"$f":"ED86+EH86","v":-4},{"$f":"IF(EI86=-4,\"X\",EI86)","v":"X"},0,1,0,84,{"$f":"EI86+EM86","v":-4},{"$f":"IF(EO86=-4,\"X\",EO86)","v":"X"},0,null,null,null,null,null,null,null,2,2,2,2,2,1,2,2,2,2,2,1,2,2,2,2,2,2,2,2,2,2,2,2,2,2,2,2,2,2,2,2,2,2,2,2,2,1,2,2,2,1,1,1,2,2,2,2,2,2,2,2,2,2,2,2,2,2,2,2,2,2,2,2,2,2,2,2,2,2,2,2,2,2,2,2,2,2,null,null,"Commerce/Trafic (Armes)",null,"",null,"",null,""]
[null,null,null,"Sciences/Sciences humaines : Sciences 2"," ",null,null,null,null,{"$f":"IF(AND($E87<>\" \",$E$58<>\"Sciences/Sciences humaines\"),\"ERREUR\",\" \")","v":" "},null,null,null,null,null,"Commerce/Trafic (Artisanat) +",-3,"INT","PRE",null,-2,-3,-5,null,-3,null,null,null,null,null,null,0,null,null,null,null,null,0,null,null,null,null,null,0,0,0,{"$f":"IF(VLOOKUP($E$64,$IE$459:$IF$467,2,)=$P87,2,0)","v":0},null,null,null,null,null,null,null,0,0,{"$f":"IF(VLOOKUP($E$94,$IE$459:$IF$467,2,)=$P87,2,0)","v":0},null,null,null,null,null,null,null,0,0,{"$f":"IF(VLOOKUP($E$129,$IE$459:$IF$467,2,)=$P87,2,0)","v":0},null,null,null,null,null,null,null,0,0,{"$f":"IF(VLOOKUP($E$154,$IE$459:$IF$467,2,)=$P87,2,0)","v":0},null,null,null,null,null,null,null,0,0,-3,-3,null,0,null,-3,-3,0,2,0,85,-3,-3,0,0,0,null,-3,-3,0,2,0,85,-3,-3,0,0,0,null,-3,-3,0,2,0,85,-3,-3,0,0,0,null,-3,-3,0,2,0,85,-3,-3,0,0,null,-3,-3,0,1,0,85,-3,-3,0,null,null,null,null,null,null,null,2,1,2,2,2,2,2,2,2,2,2,1,1,2,2,2,2,2,2,2,2,2,2,2,2,2,2,2,2,2,2,2,2,2,2,2,2,2,2,2,2,1,1,1,2,2,2,2,2,2,2,2,2,2,2,2,2,2,2,2,2,2,2,2,2,2,2,2,2,2,2,2,2,2,2,2,2,2,null,null,"Commerce/Trafic (Artisanat)",null,"",null,"",null,""]
[null,null,null,"Sciences politiques : Langue au choix"," ",null,null,null,null,{"$f":"IF(AND($E88<>\" \",$E$58<>\"Sciences politiques\"),\"ERREUR\",\" \")","v":" "},null,null,null,null,null,"Commerce/Trafic (Denrées alimentaires) +",-3,"INT","PRE",null,-2,-3,-5,null,-3,null,null,null,null,null,null,0,null,null,null,null,null,0,null,null,null,null,null,0,0,0,{"$f":"IF(VLOOKUP($E$64,$IE$459:$IF$467,2,)=$P88,2,0)","v":0},null,null,null,null,null,null,null,0,0,{"$f":"IF(VLOOKUP($E$94,$IE$459:$IF$467,2,)=$P88,2,0)","v":0},null,null,null,null,null,null,null,0,0,{"$f":"IF(VLOOKUP($E$129,$IE$459:$IF$467,2,)=$P88,2,0)","v":0},null,null,null,null,null,null,null,0,0,{"$f":"IF(VLOOKUP($E$154,$IE$459:$IF$467,2,)=$P88,2,0)","v":0},null,null,null,null,null,null,null,0,0,-3,-3,null,0,null,-3,-3,0,2,0,86,-3,-3,0,0,0,null,-3,-3,0,2,0,86,-3,-3,0,0,0,null,-3,-3,0,2,0,86,-3,-3,0,0,0,null,-3,-3,0,2,0,86,-3,-3,0,0,null,-3,-3,0,1,0,86,-3,-3,0,null,null,null,null,null,null,null,2,2,2,2,2,2,2,2,2,2,2,1,1,2,2,2,2,2,2,2,2,2,2,2,2,2,2,2,2,2,2,2,2,2,2,2,2,2,2,2,2,1,1,1,2,2,2,2,2,2,2,2,2,2,2,2,2,2,2,2,2,2,2,2,2,2,2,2,2,2,2,2,2,2,2,2,2,2,null,null,"Commerce/Trafic (Denrées alimentaires)",null,"",null,"",null,""]
[null,null,null,"Sciences politiques : Nation étrangère"," ",null,null,null,null,{"$f":"IF(AND($E89<>\" \",$E$58<>\"Sciences politiques\"),\"ERREUR\",\" \")","v":" "},null,null,null,null,null,"Commerce/Trafic (Drogues) +","X","INT","PRE",null,-2,"X","X",null,-4,null,null,null,null,null,null,0,null,null,null,null,null,0,{"$f":"IF($E$47=\"Drogues\",1,)","v":0},null,null,null,null,0,0,0,null,null,null,null,null,null,null,null,0,0,null,null,null,null,null,null,null,null,0,0,null,null,null,null,null,null,null,null,0,0,null,null,null,null,null,null,null,null,0,0,-4,"X",null,0,null,-4,"X",0,2,0,87,-4,"X",0,0,0,null,-4,"X",0,2,0,87,-4,"X",0,0,0,null,-4,"X",0,2,0,87,-4,"X",0,0,0,null,-4,"X",0,2,0,87,-4,"X",0,0,null,-4,"X",0,1,0,87,-4,"X",0,null,null,null,null,null,null,null,2,2,2,2,2,1,2,2,2,2,2,1,2,2,2,2,2,2,2,2,2,2,2,2,2,2,2,2,2,2,2,2,2,2,2,2,2,1,2,2,2,1,1,1,2,2,2,2,2,2,2,2,2,2,2,2,2,2,2,2,2,2,2,2,2,2,2,2,2,2,2,2,2,2,2,2,2,2,null,null,"Commerce/Trafic (Drogues)",null,"",null,"",null,""]
[null,null,null,"Sciences politiques : Nation étrangère 2"," ",null,null,null,null,{"$f":"IF(AND($E90<>\" \",$E$58<>\"Sciences politiques\"),\"ERREUR\",\" \")","v":" "},null,null,null,null,null,"Commerce/Trafic (Informations) +",-3,"INT","PRE",null,-2,-3,-5,null,-3,null,null,null,null,null,null,0,null,null,null,null,null,0,null,null,null,null,null,0,0,0,null,null,null,null,null,null,null,null,0,0,null,null,null,null,null,null,null,null,0,0,null,null,null,null,null,null,null,null,0,0,null,null,null,null,null,null,null,null,0,0,-3,-3,null,0,null,-3,-3,0,2,0,88,-3,-3,0,0,0,null,-3,-3,0,2,0,88,-3,-3,0,0,0,null,-3,-3,0,2,0,88,-3,-3,0,0,0,null,-3,-3,0,2,0,88,-3,-3,0,0,null,-3,-3,0,1,0,88,-3,-3,0,null,null,null,null,null,null,null,2,2,2,2,2,2,2,2,2,2,2,1,1,2,2,2,2,2,2,2,2,2,2,2,2,2,2,2,2,2,2,2,2,2,2,2,2,1,2,2,2,1,1,1,2,2,2,2,2,2,2,2,2,2,2,2,2,2,2,2,2,2,2,2,2,2,2,2,2,2,2,2,2,2,2,2,2,2,null,null,"Commerce/Trafic (Informations)",null,"",null,"",null,""]
[null,null,null,"Sciences politiques : Sciences"," ",null,null,null,null,{"$f":"IF(AND($E91<>\" \",$E$58<>\"Sciences politiques\"),\"ERREUR\",\" \")","v":" "},null,null,null,null,null,"Commerce/Trafic (Matériel médical) +",-3,"INT","PRE",null,-2,-3,-5,null,-3,null,null,null,null,null,null,0,null,null,null,null,null,0,null,null,null,null,null,0,0,0,{"$f":"IF(VLOOKUP($E$64,$IE$459:$IF$467,2,)=$P91,2,0)","v":0},null,null,null,null,null,null,null,0,0,{"$f":"IF(VLOOKUP($E$94,$IE$459:$IF$467,2,)=$P91,2,0)","v":0},null,null,null,null,null,null,null,0,0,{"$f":"IF(VLOOKUP($E$129,$IE$459:$IF$467,2,)=$P91,2,0)","v":0},null,null,null,null,null,null,null,0,0,{"$f":"IF(VLOOKUP($E$154,$IE$459:$IF$467,2,)=$P91,2,0)","v":0},null,null,null,null,null,null,null,0,0,-3,-3,null,0,null,-3,-3,0,2,0,89,-3,-3,0,0,0,null,-3,-3,0,2,0,89,-3,-3,0,0,0,null,-3,-3,0,2,0,89,-3,-3,0,0,0,null,-3,-3,0,2,0,89,-3,-3,0,0,null,-3,-3,0,1,0,89,-3,-3,0,null,null,null,null,null,null,null,2,2,2,2,2,2,2,2,2,2,2,1,1,2,2,2,2,2,2,2,2,2,2,2,2,2,2,2,2,2,2,2,2,2,2,2,2,2,2,2,2,1,1,1,2,2,2,2,2,2,2,2,2,2,2,2,2,2,2,2,2,2,2,2,2,2,2,2,2,2,2,2,2,2,2,2,2,2,null,null,"Commerce/Trafic (Matériel médical)",null,"",null,"",null,""]
[null,null,null,null,null,null,null,null,null,null,null,null,null,null,null,"Commerce/Trafic (Matières premières) +",-3,"INT","PRE",null,-2,-3,-5,null,-3,null,null,null,null,null,null,0,null,null,null,null,null,0,null,null,null,null,null,0,0,0,0,null,null,null,null,null,null,null,0,0,0,null,null,null,null,null,null,null,0,0,0,null,null,null,null,null,null,null,0,0,0,null,null,null,null,null,null,null,0,0,-3,-3,null,0,null,-3,-3,0,2,0,90,-3,-3,0,0,0,null,-3,-3,0,2,0,90,-3,-3,0,0,0,null,-3,-3,0,2,0,90,-3,-3,0,0,0,null,-3,-3,0,2,0,90,-3,-3,0,0,null,-3,-3,0,1,0,90,-3,-3,0,null,null,null,null,null,null,null,2,2,2,2,2,2,2,2,2,2,2,1,1,2,2,2,2,2,2,2,2,2,2,2,2,2,2,2,2,2,2,2,2,2,2,2,2,2,2,2,2,1,1,1,2,2,2,2,2,2,2,2,2,2,2,2,2,2,2,2,2,2,2,2,2,2,2,2,2,2,2,2,2,2,2,2,2,2,null,null,"Commerce/Trafic (Matières premières)",null,"",null,"",null,""]
[null,null,"Etudes supérieures 2",null,"Pas d'étude sup.",null,null,null,null,{"$f":"IF(E93=\"Pas d'étude sup.\",0,1)","v":0},null,null,null,null,null,"Commerce/Trafic (Oeuvres d'art) +","X","INT","PRE",null,-2,"X","X",null,-4,null,null,null,null,null,null,0,null,null,null,null,null,0,null,null,null,null,null,0,0,0,0,null,null,null,null,null,null,null,0,0,0,null,null,null,null,null,null,null,0,0,0,null,null,null,null,null,null,null,0,0,0,null,null,null,null,null,null,null,0,0,-4,"X",null,0,null,-4,"X",0,2,0,91,-4,"X",0,0,0,null,-4,"X",0,2,0,91,-4,"X",0,0,0,null,-4,"X",0,2,0,91,-4,"X",0,0,0,null,-4,"X",0,2,0,91,-4,"X",0,0,null,-4,"X",0,1,0,91,-4,"X",0,null,null,null,null,null,null,null,2,1,2,2,2,1,2,2,2,2,2,1,2,2,2,2,2,2,2,2,2,2,2,2,2,2,2,2,2,2,2,2,2,2,2,2,2,1,2,2,2,1,2,1,2,2,2,2,2,2,2,2,2,2,2,2,2,2,2,2,2,2,2,2,2,2,2,2,2,2,2,2,2,2,2,2,2,2,null,null,"Commerce/Trafic (Oeuvres d'art)",null,"",null,"",null,""]
[null,null,null,"Commerce/Gestion : Commerce légal"," ",null,null,null,null,{"$f":"IF(AND($E94<>\" \",$E$93<>\"Commerce/gestion\"),\"ERREUR\",\" \")","v":" "},null,null,null,null,null,"Commerce/Trafic (véhicules) +",-3,"INT","PRE",null,-2,-3,-5,null,-3,null,null,null,null,null,null,0,null,null,null,null,null,0,null,null,null,null,null,0,0,0,0,null,null,null,null,null,null,null,0,0,0,null,null,null,null,null,null,null,0,0,0,null,null,null,null,null,null,null,0,0,0,null,null,null,null,null,null,null,0,0,-3,-3,null,0,null,-3,-3,0,2,0,92,-3,-3,0,0,0,null,-3,-3,0,2,0,92,-3,-3,0,0,0,null,-3,-3,0,2,0,92,-3,-3,0,0,0,null,-3,-3,0,2,0,92,-3,-3,0,0,null,-3,-3,0,1,0,92,-3,-3,0,null,null,null,null,null,null,null,2,2,2,2,2,2,2,2,2,2,2,1,1,2,2,2,2,2,2,2,2,2,2,2,2,2,2,2,2,2,2,2,2,2,2,2,2,2,2,2,2,1,1,2,2,2,2,2,2,2,2,2,2,2,2,2,2,2,2,2,2,2,2,2,2,2,2,2,2,2,2,2,2,2,2,2,2,2,null,null,"Commerce/Trafic (véhicules)",null,"",null,"",null,""]
[null,null,null,"Commerce/Gestion : Langue au choix"," ",null,null,null,null,{"$f":"IF(AND($E95<>\" \",$E$93<>\"Commerce/gestion\"),\"ERREUR\",\" \")","v":" "},null,null,null,null,null,"Commerce/Trafic I (……….) +",-3,"INT","PRE",null,-2,-3,-5,null,-3,null,null,null,null,null,null,0,null,null,null,null,null,0,null,null,null,null,null,0,0,0,0,null,null,null,null,null,null,null,0,0,0,null,null,null,null,null,null,null,0,0,0,null,null,null,null,null,null,null,0,0,0,null,null,null,null,null,null,null,0,0,-3,-3,null,0,null,-3,-3,0,2,0,93,-3,-3,0,0,0,null,-3,-3,0,2,0,93,-3,-3,0,0,0,null,-3,-3,0,2,0,93,-3,-3,0,0,0,null,-3,-3,0,2,0,93,-3,-3,0,0,null,-3,-3,0,1,0,93,-3,-3,0,null,null,null,null,null,null,null,2,2,2,2,2,2,2,2,2,2,2,1,1,2,2,2,2,2,2,2,2,2,2,2,2,2,2,2,2,2,2,2,2,2,2,2,2,2,2,2,2,1,1,1,2,2,2,2,2,2,2,2,2,2,2,2,2,2,2,2,2,2,2,2,2,2,2,2,2,2,2,2,2,2,2,2,2,2,null,null,"Commerce/Trafic I (……….)",null,"",null,"",null,""]
[null,null,null,"Commerce/Gestion : Nation étrangère"," ",null,null,null,null,{"$f":"IF(AND($E96<>\" \",$E$93<>\"Commerce/gestion\"),\"ERREUR\",\" \")","v":" "},null,null,null,null,null,"Commerce/Trafic II (……….) +","X","INT","PRE",null,-2,"X","X",null,-4,null,null,null,null,null,null,0,null,null,null,null,null,0,null,null,null,null,null,0,0,0,0,null,null,null,null,null,null,null,0,0,0,null,null,null,null,null,null,null,0,0,0,null,null,null,null,null,null,null,0,0,0,null,null,null,null,null,null,null,0,0,-4,"X",null,0,null,-4,"X",0,2,0,94,-4,"X",0,0,0,null,-4,"X",0,2,0,94,-4,"X",0,0,0,null,-4,"X",0,2,0,94,-4,"X",0,0,0,null,-4,"X",0,2,0,94,-4,"X",0,0,null,-4,"X",0,1,0,94,-4,"X",0,null,null,null,null,null,null,null,2,2,2,2,2,1,2,2,2,2,2,1,2,2,2,2,2,2,2,2,2,2,2,2,2,2,2,2,2,2,2,2,2,2,2,2,2,1,2,2,2,1,1,1,2,2,2,2,2,2,2,2,2,2,2,2,2,2,2,2,2,2,2,2,2,2,2,2,2,2,2,2,2,2,2,2,2,2,null,null,"Commerce/Trafic II (……….)",null,"",null,"",null,""]
[null,null,null,"Commerce/Gestion : Sciences"," ",null,null,null,null,{"$f":"IF(AND($E97<>\" \",$E$93<>\"Commerce/gestion\"),\"ERREUR\",\" \")","v":" "},null,null,null,null,null,"Connaissance d'une nation (Amazonia) * PN",null,"INT","PRE",null,-2,0,-2,null,0,{"$f":"IF($E$27=\"Oui\",IF(VLOOKUP($E$32,$IE$403:$IF$413,2,)=$P97,5,0),0)","v":0},null,null,{"$f":"IF(VLOOKUP($E$32,$IE$403:$IF$413,2,)=$P97,2,0)","v":0},{"$f":"IF(VLOOKUP($E$32,$IE$403:$IF$413,2,)=$P97,3,0)","v":0},null,0,null,null,{"$f":"IF(VLOOKUP($E$32,$IE$403:$IF$413,2,)=$P97,2,0)","v":0},{"$f":"IF($E$40=\"Connaissance de la nation d'origine\",IF(VLOOKUP($E$32,$IE$403:$IF$413,2,)=$P97,2,0),0)","v":0},null,0,null,null,null,null,{"$f":"IF(VLOOKUP($E$54,$IE$403:$IF$413,2,)=$P97,2,0)","v":0},0,0,0,{"$f":"IF(VLOOKUP($E$66,$IE$403:$IF$413,2,)=$P97,1,0)","v":0},{"$f":"IF(VLOOKUP($E$69,$IE$403:$IF$413,2,)=$P97,2,0)","v":0},{"$f":"IF(VLOOKUP($E$73,$IE$403:$IF$413,2,)=$P97,1,0)","v":0},{"$f":"IF(VLOOKUP($E$76,$IE$403:$IF$413,2,)=$P97,2,0)","v":0},{"$f":"IF(VLOOKUP($E$83,$IE$403:$IF$413,2,)=$P97,2,0)","v":0},null,{"$f":"IF(VLOOKUP($E$85,$IE$403:$IF$413,2,)=$P97,1,0)","v":0},{"$f":"IF($P97=VLOOKUP($E$89,$IE$403:$IF$413,2,),3,IF($P97=VLOOKUP($E$90,$IE$403:$IF$413,2,),2,0))","v":0},0,0,{"$f":"IF(VLOOKUP($E$96,$IE$403:$IF$413,2,)=$P97,1,0)","v":0},{"$f":"IF(VLOOKUP($E$99,$IE$403:$IF$413,2,)=$P97,2,0)","v":0},{"$f":"IF(VLOOKUP($E$103,$IE$403:$IF$413,2,)=$P97,1,0)","v":0},{"$f":"IF(VLOOKUP($E$106,$IE$403:$IF$413,2,)=$P97,2,0)","v":0},{"$f":"IF(VLOOKUP($E$108,$IE$403:$IF$413,2,)=$P97,2,0)","v":0},null,{"$f":"IF(VLOOKUP($E$110,$IE$403:$IF$413,2,)=$P97,1,0)","v":0},{"$f":"IF($P97=VLOOKUP($E$114,$IE$403:$IF$413,2,),3,IF($P97=VLOOKUP($E$115,$IE$403:$IF$413,2,),2,0))","v":0},0,0,{"$f":"IF(VLOOKUP($E$131,$IE$403:$IF$413,2,)=$P97,1,0)","v":0},{"$f":"IF(VLOOKUP($E$134,$IE$403:$IF$413,2,)=$P97,2,0)","v":0},{"$f":"IF(VLOOKUP($E$138,$IE$403:$IF$413,2,)=$P97,1,0)","v":0},{"$f":"IF(VLOOKUP($E$141,$IE$403:$IF$413,2,)=$P97,2,0)","v":0},{"$f":"IF(VLOOKUP($E$143,$IE$403:$IF$413,2,)=$P97,2,0)","v":0},null,{"$f":"IF(VLOOKUP($E$145,$IE$403:$IF$413,2,)=$P97,1,0)","v":0},{"$f":"IF($P97=VLOOKUP($E$149,$IE$403:$IF$413,2,),3,IF($P97=VLOOKUP($E$150,$IE$403:$IF$413,2,),2,0))","v":0},0,0,{"$f":"IF(VLOOKUP($E$156,$IE$403:$IF$413,2,)=$P97,1,0)","v":0},{"$f":"IF(VLOOKUP($E$159,$IE$403:$IF$413,2,)=$P97,2,0)","v":0},{"$f":"IF(VLOOKUP($E$163,$IE$403:$IF$413,2,)=$P97,1,0)","v":0},{"$f":"IF(VLOOKUP($E$166,$IE$403:$IF$413,2,)=$P97,2,0)","v":0},{"$f":"IF(VLOOKUP($E$173,$IE$403:$IF$413,2,)=$P97,2,0)","v":0},null,{"$f":"IF(VLOOKUP($E$175,$IE$403:$IF$413,2,)=$P97,1,0)","v":0},{"$f":"IF($P97=VLOOKUP($E$179,$IE$403:$IF$413,2,),3,IF($P97=VLOOKUP($E$115,$IE$403:$IF$413,2,),2,0))","v":0},0,0,0,0,null,0,0,0,0,0,2,0,95,0,0,0,0,0,0,0,0,0,2,0,95,0,0,0,0,0,0,0,0,0,2,0,95,0,0,0,0,0,0,0,0,0,2,0,95,0,0,0,0,null,0,0,0,1,0,95,0,0,0,null,null,null,null,null,null,null,{"$f":"EY457","v":2},{"$f":"EZ457","v":2},2,2,2,2,2,2,2,2,2,2,2,2,2,2,2,2,2,2,2,2,2,2,2,2,2,2,2,2,2,2,2,2,2,2,2,{"$f":"GJ457","v":2},2,{"$f":"GL457","v":2},2,2,2,2,2,2,2,2,2,2,2,2,2,2,2,2,2,2,2,2,2,2,2,2,2,2,2,2,2,2,2,2,2,2,2,2,2,2,null,null,"Connaissance d'une nation (Amazonia)",null,"",null,"",null,""]
[null,null,null,"Droit : Langue au choix"," ",null,null,null,null,{"$f":"IF(AND($E98<>\" \",$E$93<>\"Droit\"),\"ERREUR\",\" \")","v":" "},null,null,null,null,null,"Connaissance d'une nation (Alliance Polaire) * PN",null,"INT","PRE",null,-2,0,-2,null,0,0,null,null,0,0,null,0,null,null,0,0,null,0,null,null,null,null,0,0,0,0,0,0,0,0,0,null,0,0,0,0,0,0,0,0,0,null,0,0,0,0,0,0,0,0,0,null,0,0,0,0,0,0,0,0,0,null,0,0,0,0,0,0,null,0,0,0,0,0,2,0,96,0,0,0,0,0,0,0,0,0,2,0,96,0,0,0,0,0,0,0,0,0,2,0,96,0,0,0,0,0,0,0,0,0,2,0,96,0,0,0,0,null,0,0,0,1,0,96,0,0,0,null,null,null,null,null,null,null,{"$f":"EY458","v":2},2,2,2,2,2,2,2,2,2,2,2,2,2,2,2,2,2,2,2,2,2,2,2,2,2,2,2,2,2,2,2,2,2,2,2,2,{"$f":"GJ458","v":2},2,{"$f":"GL458","v":2},2,2,2,2,2,2,2,2,2,2,2,2,2,2,2,2,2,2,2,2,2,2,2,2,2,2,2,2,2,2,2,2,2,2,2,2,2,2,null,null,"Connaissance d'une nation (Alliance Polaire)",null,"",null,"",null,""]
[null,null,null,"Droit : Nation étrangère"," ",null,null,null,null,{"$f":"IF(AND($E99<>\" \",$E$93<>\"Droit\"),\"ERREUR\",\" \")","v":" "},null,null,null,null,null,"Connaissance d'une nation (Equinoxe) * PN",null,"INT","PRE",null,-2,0,-2,null,0,0,null,null,0,0,null,0,null,null,0,0,null,0,null,null,null,null,0,0,0,0,0,0,0,0,0,null,0,0,0,0,0,0,0,0,0,null,0,0,0,0,0,0,0,0,0,null,0,0,0,0,0,0,0,0,0,null,0,0,0,0,0,0,null,0,0,0,0,0,2,0,97,{"$f":"CN99+CR99","v":0},{"$f":"IF(CT99=-4,\"X\",CT99)","v":0},0,0,0,0,0,0,0,2,0,97,0,0,0,0,0,0,0,0,0,2,0,97,0,0,0,0,0,0,0,0,0,2,0,97,0,0,0,0,null,0,0,0,1,0,97,0,0,0,null,null,null,null,null,null,null,{"$f":"EY459","v":2},2,2,2,2,2,2,2,2,2,2,1,2,2,2,2,2,2,2,2,2,2,2,2,2,1,2,2,2,2,2,2,2,2,2,2,1,{"$f":"GJ459","v":2},2,{"$f":"GL459","v":2},2,2,2,2,2,2,2,2,2,2,2,2,2,2,2,2,2,2,2,2,2,2,2,2,2,2,2,2,2,2,2,2,2,2,2,2,2,2,null,null,"Connaissance d'une nation (Equinoxe)",null,"",null,"",null,""]
[null,null,null,"Ecole d'ingénieurs : Génie technique"," ",null,null,null,null,{"$f":"IF(AND($E100<>\" \",$E$93<>\"Ecole d'ingénieurs\"),\"ERREUR\",\" \")","v":" "},null,null,null,null,null,"Connaissance d'une nation (Hégémonie) * PN",null,"INT","PRE",null,-2,0,-2,null,0,0,null,null,0,0,null,0,null,null,0,0,null,0,null,null,null,null,0,0,0,0,0,0,0,0,0,null,0,0,0,0,0,0,0,0,0,null,0,0,0,0,0,0,0,0,0,null,0,0,0,0,0,0,0,0,0,null,0,0,0,0,0,0,null,0,0,0,0,0,2,0,98,0,0,0,0,0,0,0,0,0,2,0,98,0,0,0,0,0,0,0,0,0,2,0,98,0,0,0,0,0,0,0,0,0,2,0,98,0,0,0,0,null,0,0,0,1,0,98,0,0,0,null,null,null,null,null,null,null,{"$f":"EY460","v":2},2,2,2,2,2,2,2,2,2,2,2,2,2,2,2,2,2,2,2,2,2,2,2,2,2,2,2,2,2,2,2,2,2,2,1,2,{"$f":"GJ460","v":2},2,{"$f":"GL460","v":2},2,2,2,2,2,2,2,2,2,2,2,2,2,2,2,2,2,2,2,2,2,2,2,2,2,2,2,2,2,2,2,2,2,2,2,2,2,2,null,null,"Connaissance d'une nation (Hégémonie)",null,"",null,"",null,""]
[null,null,null,"Ecole d'ingénieurs : Langue au choix"," ",null,null,null,null,{"$f":"IF(AND($E101<>\" \",$E$93<>\"Ecole d'ingénieurs\"),\"ERREUR\",\" \")","v":" "},null,null,null,null,null,"Connaissance d'une nation (Ligue Rouge) * PN",null,"INT","PRE",null,-2,0,-2,null,0,0,null,null,0,0,null,0,null,null,0,0,null,0,null,null,null,null,0,0,0,0,0,0,0,0,0,null,0,0,0,0,0,0,0,0,0,null,0,0,0,0,0,0,0,0,0,null,0,0,0,0,0,0,0,0,0,null,0,0,0,0,0,0,null,0,0,0,0,0,2,0,99,0,0,0,0,0,0,0,0,0,2,0,99,0,0,0,0,0,0,0,0,0,2,0,99,0,0,0,0,0,0,0,0,0,2,0,99,0,0,0,0,null,0,0,0,1,0,99,0,0,0,null,null,null,null,null,null,null,{"$f":"EY461","v":2},2,2,2,2,2,2,2,2,2,2,2,2,2,2,2,2,2,2,2,2,2,2,2,2,2,2,2,2,2,2,2,2,2,2,2,2,{"$f":"GJ461","v":2},2,{"$f":"GL461","v":2},2,2,2,2,2,2,2,2,2,2,2,2,2,2,2,2,2,2,2,2,2,2,2,2,2,2,2,2,2,2,2,2,2,2,2,2,2,2,null,null,"Connaissance d'une nation (Ligue Rouge)",null,"",null,"",null,"",{"$f":"CONCATENATE(IG101,IG102,IG103,IG104,IG105,IG106,IG107,IG108,IG109,IG110,IG111,IG112,IG113,IG114,IG115,IG116,IG117)","v":""}]
[null,null,null,"Ecole d'ingénieurs : Mécanique"," ",null,null,null,null,{"$f":"IF(AND($E102<>\" \",$E$93<>\"Ecole d'ingénieurs\"),\"ERREUR\",\" \")","v":" "},null,null,null,null,null,"Connaissance d'une nation (Nations Pirates) * PN",null,"INT","PRE",null,-2,0,-2,null,0,0,null,null,0,0,null,0,null,null,0,0,null,0,null,null,null,null,0,0,0,0,0,0,0,0,0,null,0,0,0,0,0,0,0,0,0,null,0,0,0,0,0,0,0,0,0,null,0,0,0,0,0,0,0,0,0,null,0,0,0,0,0,0,null,0,0,0,0,0,2,0,100,0,0,0,0,0,0,0,0,0,2,0,100,0,0,0,0,0,0,0,0,0,2,0,100,0,0,0,0,0,0,0,0,0,2,0,100,0,0,0,0,null,0,0,0,1,0,100,0,0,0,null,null,null,null,null,null,null,{"$f":"EY462","v":2},2,2,2,2,2,2,2,2,2,2,2,2,2,2,2,2,2,2,2,2,2,2,1,2,2,2,2,2,2,2,2,2,2,2,2,2,{"$f":"GJ462","v":2},2,{"$f":"GL462","v":2},2,2,2,2,2,2,2,2,2,2,2,2,2,2,2,2,2,2,2,2,2,2,2,2,2,2,2,2,2,2,2,2,2,2,2,2,2,2,null,null,"Connaissance d'une nation (Nations Pirates)",null,"",null,"",null,""]
[null,null,null,"Ecole d'ingénieurs : Nation étrangère"," ",null,null,null,null,{"$f":"IF(AND($E103<>\" \",$E$93<>\"Ecole d'ingénieurs\"),\"ERREUR\",\" \")","v":" "},null,null,null,null,null,"Con. d'une nation (République du Corail) * PN",null,"INT","PRE",null,-2,0,-2,null,0,0,null,null,0,0,null,0,null,null,0,0,null,0,null,null,null,null,0,0,0,0,0,0,0,0,0,null,0,0,0,0,0,0,0,0,0,null,0,0,0,0,0,0,0,0,0,null,0,0,0,0,0,0,0,0,0,null,0,0,0,0,0,0,null,0,0,0,0,0,2,0,101,0,0,0,0,0,0,0,0,0,2,0,101,0,0,0,0,0,0,0,0,0,2,0,101,0,0,0,0,0,0,0,0,0,2,0,101,0,0,0,0,null,0,0,0,1,0,101,0,0,0,null,null,null,null,null,null,null,{"$f":"EY463","v":2},2,2,2,2,2,2,2,2,2,2,2,2,2,2,2,2,2,2,2,2,2,2,2,2,2,2,2,2,2,2,2,2,2,2,2,2,{"$f":"GJ463","v":2},2,{"$f":"GL463","v":2},2,2,2,2,2,2,2,2,2,2,2,2,2,2,2,2,2,2,2,2,2,2,2,2,2,2,2,2,2,2,2,2,2,2,2,2,2,2,null,null,"Con. d'une nation (République du Corail)",null,"",null,"",null,""]
[null,null,null,"Ecole militaire : Combat (Tir)"," ",null,null,null,null,{"$f":"IF(AND($E104<>\" \",$E$93<>\"Ecole militaire\"),\"ERREUR\",\" \")","v":" "},null,null,null,null,null,"Con. d'une nation (Union Méditerranéenne) * PN",null,"INT","PRE",null,-2,0,-2,null,0,0,null,null,0,0,null,0,null,null,0,0,null,0,null,null,null,null,0,0,0,0,0,0,0,0,0,null,0,0,0,{"$f":"IF(BC$3=AU$3,AU104,IF(BC$3=AV$3,AV104,IF(BC$3=AW$3,AW104,IF(BC$3=AX$3,AX104,IF(BC$3=AY$3,AY104,IF(BC$3=AZ$3,AZ104,IF(BC$3=BA$3,BA104,IF(BC$3=BB$3,BB104,0))))))))","v":0},0,0,0,0,0,null,0,0,0,{"$f":"IF(BM$3=BE$3,BE104,IF(BM$3=BF$3,BF104,IF(BM$3=BG$3,BG104,IF(BM$3=BH$3,BH104,IF(BM$3=BI$3,BI104,IF(BM$3=BJ$3,BJ104,IF(BM$3=BK$3,BK104,IF(BM$3=BL$3,BL104,0))))))))","v":0},0,0,0,0,0,null,0,0,0,{"$f":"IF(BW$3=BO$3,BO104,IF(BW$3=BP$3,BP104,IF(BW$3=BQ$3,BQ104,IF(BW$3=BR$3,BR104,IF(BW$3=BS$3,BS104,IF(BW$3=BT$3,BT104,IF(BW$3=BU$3,BU104,IF(BW$3=BV$3,BV104,0))))))))","v":0},0,0,0,0,0,null,0,0,0,{"$f":"IF(CG$3=BY$3,BY104,IF(CG$3=BZ$3,BZ104,IF(CG$3=CA$3,CA104,IF(CG$3=CB$3,CB104,IF(CG$3=CC$3,CC104,IF(CG$3=CD$3,CD104,IF(CG$3=CE$3,CE104,IF(CG$3=CF$3,CF104,0))))))))","v":0},0,0,null,0,0,{"$f":"CI104+CM104","v":0},0,0,2,0,102,0,0,0,0,0,0,0,0,0,2,0,102,0,0,0,0,0,0,0,0,0,2,0,102,0,0,0,0,0,0,0,0,0,2,0,102,0,0,0,0,null,0,0,0,1,0,102,0,0,0,null,null,null,null,null,null,null,{"$f":"EY464","v":2},2,2,2,2,2,2,2,2,2,2,2,2,2,2,2,2,2,2,2,2,2,2,2,2,2,2,2,2,2,2,2,2,2,2,2,2,{"$f":"GJ464","v":2},2,{"$f":"GL464","v":2},2,2,2,2,2,2,2,2,2,2,2,2,2,2,2,2,2,2,2,2,2,2,2,2,2,2,2,2,2,2,2,2,2,2,2,2,2,2,null,null,"Con. d'une nation (Union Méditerranéenne)",null,"",null,"",null,""]
[null,null,null,"Ecole militaire : Langue pays allié ou hostile"," ",null,null,null,null,{"$f":"IF(AND($E105<>\" \",$E$93<>\"Ecole militaire\"),\"ERREUR\",\" \")","v":" "},null,"U ",null,null,null,"Connaissance nation/communauté I (……….) * PN",null,"INT","PRE",null,-2,0,-2,null,0,0,null,null,0,0,null,0,null,null,0,0,null,0,null,null,null,null,0,0,0,0,0,0,0,0,0,null,0,0,0,0,0,0,0,0,0,null,0,0,0,0,0,0,0,0,0,null,0,0,0,0,0,0,0,0,0,null,0,0,0,0,0,0,null,0,0,0,0,0,2,0,103,0,0,0,0,0,0,0,0,0,2,0,103,0,0,0,0,0,0,0,0,0,2,0,103,0,0,0,0,0,0,0,0,0,2,0,103,0,0,0,0,null,0,0,0,1,0,103,0,0,0,null,null,null,null,null,null,null,{"$f":"EY465","v":2},2,2,2,2,2,2,2,2,2,2,2,2,2,2,2,2,2,2,2,2,2,2,2,2,2,2,2,2,2,2,2,2,2,2,2,2,{"$f":"GJ465","v":2},2,1,1,1,1,1,{"$f":"GQ465","v":2},2,2,2,2,2,2,2,2,2,2,2,2,2,2,2,2,2,2,2,2,2,2,2,2,2,2,2,2,2,2,2,2,2,null,null,"Connaissance nation/communauté I (……….)",null,"",null,"",null,""]
[null,null,null,"Ecole militaire : Nation étrangère"," ",null,null,null,null,{"$f":"IF(AND($E106<>\" \",$E$93<>\"Ecole militaire\"),\"ERREUR\",\" \")","v":" "},null,"U ",null,null,null,"Connaissance nation/communauté II (……….) * PN",null,"INT","PRE",null,-2,0,-2,null,0,0,null,null,0,0,null,0,null,null,0,0,null,0,null,null,null,null,0,0,0,0,0,0,0,0,0,null,0,0,0,0,0,0,0,0,0,null,0,0,0,0,0,0,0,0,0,null,0,0,0,0,0,0,0,0,0,null,0,0,0,0,0,0,null,0,0,0,0,0,2,0,104,0,0,0,0,0,0,0,0,0,2,0,104,0,0,0,0,0,0,0,0,0,2,0,104,0,0,0,0,0,0,0,0,0,2,0,104,0,0,0,0,null,0,0,0,1,0,104,0,0,0,null,null,null,null,null,null,null,{"$f":"EY466","v":2},2,2,2,2,2,2,2,2,2,2,2,2,2,2,2,2,2,2,2,2,2,2,2,2,2,2,2,2,2,2,2,2,2,2,2,2,{"$f":"GJ466","v":2},2,1,1,1,1,1,{"$f":"GQ466","v":2},2,2,2,2,2,2,2,2,2,2,2,2,2,2,2,2,2,2,2,2,2,2,2,2,2,2,2,2,2,2,2,2,2,null,null,"Connaissance nation/communauté II (……….)",null,"",null,"",null,""]
[null,null,null,"Ecole militaire : Tactique"," ",null,null,null,null,{"$f":"IF(AND($E107<>\" \",$E$93<>\"Ecole militaire\"),\"ERREUR\",\" \")","v":" "},null,null,null,null,null,"Connaissance d'une organisation (Armée) * PN",null,"INT","PRE",null,-2,0,-2,null,0,null,null,null,null,null,null,0,null,null,null,null,null,0,null,null,null,null,null,0,0,0,null,null,null,null,null,null,null,null,0,0,null,null,null,null,null,null,null,null,0,0,null,null,null,null,null,null,null,null,0,0,null,null,null,null,null,null,null,null,0,0,0,0,null,0,0,0,0,0,2,0,105,0,0,0,0,0,0,0,0,0,2,0,105,0,0,0,0,0,0,0,0,0,2,0,105,0,0,0,0,0,0,0,0,0,2,0,105,0,0,0,0,null,0,0,0,1,0,105,0,0,0,null,null,null,null,null,null,null,2,2,2,2,2,2,2,2,2,{"$f":"IF(AND($E$184=FH$3,VLOOKUP($E$195,$IE$488:$IF$510,2,)=$P107),1,IF(AND($E$204=FH$3,VLOOKUP($E$215,$IE$488:$IF$510,2,)=$P107),1,IF(AND($E$235=FH$3,VLOOKUP($E$251,$IE$488:$IF$510,2,)=$P107),1,IF(AND($E$260=FH$3,VLOOKUP($E$272,$IE$488:$IF$510,2,)=$P107),1,2))))","v":2},2,2,{"$f":"IF(AND($E$184=FK$3,VLOOKUP($E$195,$IE$488:$IF$510,2,)=$P107),1,IF(AND($E$204=FK$3,VLOOKUP($E$215,$IE$488:$IF$510,2,)=$P107),1,IF(AND($E$235=FK$3,VLOOKUP($E$251,$IE$488:$IF$510,2,)=$P107),1,IF(AND($E$260=FK$3,VLOOKUP($E$272,$IE$488:$IF$510,2,)=$P107),1,2))))","v":2},2,2,2,{"$f":"IF(AND($E$184=FO$3,VLOOKUP($E$195,$IE$488:$IF$510,2,)=$P107),1,IF(AND($E$204=FO$3,VLOOKUP($E$215,$IE$488:$IF$510,2,)=$P107),1,IF(AND($E$235=FO$3,VLOOKUP($E$251,$IE$488:$IF$510,2,)=$P107),1,IF(AND($E$260=FO$3,VLOOKUP($E$272,$IE$488:$IF$510,2,)=$P107),1,2))))","v":2},1,1,1,2,2,2,2,2,2,2,{"$f":"IF(AND($E$184=FZ$3,VLOOKUP($E$195,$IE$488:$IF$510,2,)=$P107),1,IF(AND($E$204=FZ$3,VLOOKUP($E$215,$IE$488:$IF$510,2,)=$P107),1,IF(AND($E$235=FZ$3,VLOOKUP($E$251,$IE$488:$IF$510,2,)=$P107),1,IF(AND($E$260=FZ$3,VLOOKUP($E$272,$IE$488:$IF$510,2,)=$P107),1,2))))","v":2},2,1,1,1,1,2,2,1,2,2,2,2,2,2,2,2,2,2,2,{"$f":"IF(AND($E$184=GT$3,VLOOKUP($E$195,$IE$488:$IF$510,2,)=$P107),1,IF(AND($E$204=GT$3,VLOOKUP($E$215,$IE$488:$IF$510,2,)=$P107),1,IF(AND($E$235=GT$3,VLOOKUP($E$251,$IE$488:$IF$510,2,)=$P107),1,IF(AND($E$260=GT$3,VLOOKUP($E$272,$IE$488:$IF$510,2,)=$P107),1,2))))","v":2},2,2,2,2,2,2,2,2,2,2,2,2,2,2,2,2,2,2,2,2,2,2,2,2,2,2,2,2,2,2,null,null,"Connaissance d'une organisation (Armée)",null,"",null,"",null,""]
[null,null,null,"Ecole navale : Nation étrangère"," ",null,null,null,null,{"$f":"IF(AND($E108<>\" \",$E$93<>\"Ecole navale\"),\"ERREUR\",\" \")","v":" "},null,null,null,null,null,"Con. d'une organisation (Contrebandiers) * PN",null,"INT","PRE",null,-2,0,-2,null,0,null,null,null,null,null,null,0,null,null,null,null,null,0,{"$f":"IF($E$48=\"Contrebandiers\",2,)","v":0},null,null,null,null,0,0,0,null,null,null,null,null,null,null,null,0,0,null,null,null,null,null,null,null,null,0,0,null,null,null,null,null,null,null,null,0,0,null,null,null,null,null,null,null,null,0,0,0,0,null,0,0,0,0,0,2,0,106,0,0,0,0,0,0,0,0,0,2,0,106,0,0,0,0,0,0,0,0,0,2,0,106,0,0,0,0,0,0,0,0,0,2,0,106,0,0,0,0,null,0,0,0,1,0,106,0,0,0,null,null,null,null,null,null,null,2,2,1,1,1,1,2,2,2,2,2,1,2,2,2,2,2,{"$f":"IF(AND($E$184=FP$3,VLOOKUP($E$195,$IE$488:$IF$510,2,)=$P108),1,IF(AND($E$204=FP$3,VLOOKUP($E$215,$IE$488:$IF$510,2,)=$P108),1,IF(AND($E$235=FP$3,VLOOKUP($E$251,$IE$488:$IF$510,2,)=$P108),1,IF(AND($E$260=FP$3,VLOOKUP($E$272,$IE$488:$IF$510,2,)=$P108),1,2))))","v":2},2,2,2,2,2,2,2,2,2,2,2,2,2,2,2,2,2,2,2,1,2,2,2,2,2,2,2,2,2,2,2,2,2,2,2,2,2,2,2,2,2,2,2,2,2,2,2,2,2,2,2,2,2,2,2,2,2,2,2,2,null,null,"Con. d'une organisation (Contrebandiers)",null,"",null,"",null,""]
[null,null,null,"Sciences/Sciences humaines : Langue au choix"," ",null,null,null,null,{"$f":"IF(AND($E109<>\" \",$E$93<>\"Sciences/Sciences humaines\"),\"ERREUR\",\" \")","v":" "},null,null,null,null,null,"Con. d'une organisation (Crime organisé) * PN",null,"INT","PRE",null,-2,0,-2,null,0,null,null,null,null,null,null,0,null,null,null,null,null,0,{"$f":"IF($E$48=\"Crime organisé\",2,)","v":0},null,null,null,null,0,0,0,null,null,null,null,null,null,null,null,0,0,null,null,null,null,null,null,null,null,0,0,null,null,null,null,null,null,null,null,0,0,null,null,null,null,null,null,null,null,0,0,0,0,null,0,0,0,0,0,2,0,107,0,0,0,0,0,0,0,0,0,2,0,107,0,0,0,0,0,0,0,0,0,2,0,107,0,0,0,0,0,0,0,0,0,2,0,107,0,0,0,0,null,0,0,0,1,0,107,0,0,0,null,null,null,null,null,null,null,2,2,1,1,1,1,2,2,2,2,2,2,2,2,2,2,2,2,2,2,2,2,2,2,1,2,2,2,2,2,2,2,2,2,2,2,2,1,2,2,2,2,2,2,2,2,2,2,2,2,2,2,2,2,2,2,2,2,2,2,2,2,2,2,2,2,2,2,2,2,2,2,2,2,2,2,2,2,null,null,"Con. d'une organisation (Crime organisé)",null,"",null,"",null,""]
[null,null,null,"Sciences/Sciences humaines : Nation étrangère"," ",null,null,null,null,{"$f":"IF(AND($E110<>\" \",$E$93<>\"Sciences/Sciences humaines\"),\"ERREUR\",\" \")","v":" "},null,null,null,null,null,"Con. d'une organisation (Culte du Trident) * PN",null,"INT","PRE",null,-2,0,-2,null,0,null,null,null,null,null,null,0,null,null,null,null,null,0,null,null,null,null,null,0,0,0,null,null,null,null,null,null,null,null,0,0,null,null,null,null,null,null,null,null,0,0,null,null,null,null,null,null,null,null,0,0,null,null,null,null,null,null,null,null,0,0,0,0,null,0,0,0,0,0,2,0,108,0,0,0,0,0,0,0,0,0,2,0,108,0,0,{"$f":"IF(ROUND(DC110,0)=1,(VLOOKUP(DF110,$IQ$371:$IR$395,2,)-(4+$Y110))-(VLOOKUP(CZ110,$IQ$371:$IR$395,2,)-(4+$Y110)),IF(ROUND(DB110,0)=1,(VLOOKUP(DF110,$IQ$371:$IR$395,2,)-(4+$Y110))-(VLOOKUP(CZ110,$IQ$371:$IR$395,2,)-(4+$Y110)),((VLOOKUP(DF110,$IQ$371:$IR$395,2,)-(4+$Y110))-(VLOOKUP(CZ110,$IQ$371:$IR$395,2,)-(4+$Y110)))*2))","v":0},0,0,0,0,0,0,2,0,108,0,0,0,0,0,0,0,0,0,2,0,108,0,0,0,0,null,0,0,0,1,0,108,0,0,0,null,null,null,null,null,null,null,2,2,2,2,2,2,2,2,2,2,1,2,2,2,2,2,2,2,2,2,2,2,2,2,2,1,2,2,2,2,2,2,2,2,2,2,1,2,2,2,2,2,2,2,2,2,2,2,2,2,2,2,2,2,2,2,2,2,2,2,2,2,2,2,2,2,2,2,2,2,2,2,2,2,2,2,2,2,null,null,"Con. d'une organisation (Culte du Trident)",null,"",null,"",null,""]
[null,null,null,"Sciences/Sciences humaines : Sciences"," ",null,null,null,null,{"$f":"IF(AND($E111<>\" \",$E$93<>\"Sciences/Sciences humaines\"),\"ERREUR\",\" \")","v":" "},null,null,null,null,null,"Con. d'une organisation (Mercenaires) * PN",null,"INT","PRE",null,-2,0,-2,null,0,null,null,null,null,null,null,0,null,null,null,null,null,0,null,null,null,null,null,0,0,0,null,null,null,null,null,null,null,null,0,0,null,null,null,null,null,null,null,null,0,0,null,null,null,null,null,null,null,null,0,0,null,null,null,null,null,null,null,null,0,0,0,0,null,0,0,0,0,0,2,0,109,0,0,0,0,0,0,0,0,0,2,0,109,0,0,0,0,0,0,0,0,0,2,0,109,0,0,0,0,0,0,0,0,0,2,0,109,0,0,0,0,null,0,0,0,1,0,109,0,0,0,null,null,null,null,null,null,null,2,2,1,1,2,2,2,2,2,2,2,2,2,2,1,2,2,2,2,2,2,2,2,2,2,2,2,2,2,2,2,2,2,2,2,2,2,2,2,2,2,2,2,2,2,2,2,2,2,2,2,2,2,2,2,2,2,2,2,2,2,2,2,2,2,2,2,2,2,2,2,2,2,2,2,2,2,2,null,null,"Con. d'une organisation (Mercenaires)",null,"",null,"",null,""]
[null,null,null,"Sciences/Sciences humaines : Sciences 2"," ",null,null,null,null,{"$f":"IF(AND($E112<>\" \",$E$93<>\"Sciences/Sciences humaines\"),\"ERREUR\",\" \")","v":" "},null,null,null,null,null,"Con. Orga. (Milieu politique nation origine) * PN",null,"INT","PRE",null,-2,0,-2,null,0,null,null,null,null,null,null,0,null,null,null,null,null,0,null,null,null,null,null,0,0,0,null,null,null,null,null,null,null,null,0,0,null,null,null,null,null,null,null,null,0,0,null,null,null,null,null,null,null,null,0,0,null,null,null,null,null,null,null,null,0,0,0,0,null,0,0,0,0,0,2,0,110,0,0,0,0,0,0,0,0,0,2,0,110,0,0,0,0,0,0,0,0,0,2,0,110,0,0,0,0,0,0,0,0,0,2,0,110,0,0,0,0,null,0,0,0,1,0,110,0,0,0,null,null,null,null,null,null,null,2,2,2,2,2,2,2,1,2,2,2,2,2,2,2,2,2,2,2,2,2,2,2,2,2,2,2,2,2,2,2,2,2,2,2,2,2,2,2,2,2,2,2,2,2,2,2,2,2,2,2,2,2,2,2,2,2,2,2,2,2,2,2,2,2,2,2,2,2,2,2,2,2,2,2,2,2,2,null,null,"Con. Orga. (Milieu politique nation origine)",null,"",null,"",null,""]
[null,null,null,"Sciences politiques : Langue au choix"," ",null,null,null,null,{"$f":"IF(AND($E113<>\" \",$E$93<>\"Sciences politiques\"),\"ERREUR\",\" \")","v":" "},null,null,null,null,null,"Connaissance d'une organisation (Pirates) * PN",null,"INT","PRE",null,-2,0,-2,null,0,null,null,null,null,null,null,0,null,null,null,null,null,0,{"$f":"IF($E$48=\"Pirates\",2,)","v":0},null,null,null,null,0,0,0,null,null,null,null,null,null,null,null,0,0,null,null,null,null,null,null,null,null,0,0,null,null,null,null,null,null,null,null,0,0,null,null,null,null,null,null,null,null,0,0,0,0,null,0,0,0,0,0,2,0,111,0,0,0,0,0,0,0,0,0,2,0,111,0,0,0,0,0,0,0,0,0,2,0,111,0,0,0,0,0,0,0,0,0,2,0,111,0,0,0,0,null,0,0,0,1,0,111,0,0,0,null,null,null,null,null,null,null,2,2,1,1,1,1,2,2,2,2,2,2,2,2,2,2,2,2,2,2,2,2,2,2,2,2,2,2,2,2,2,2,2,2,2,2,2,2,2,2,2,2,2,2,2,2,2,2,2,2,2,2,2,2,2,2,2,2,2,2,2,2,2,2,2,2,2,2,2,2,2,2,2,2,2,2,2,2,null,null,"Connaissance d'une organisation (Pirates)",null,"",null,"",null,""]
[null,null,null,"Sciences politiques : Nation étrangère"," ",null,null,null,null,{"$f":"IF(AND($E114<>\" \",$E$93<>\"Sciences politiques\"),\"ERREUR\",\" \")","v":" "},null,null,null,null,null,"Connaissance d'une organisation (Police) * PN",null,"INT","PRE",null,-2,0,-2,null,0,null,null,null,null,null,null,0,null,null,null,null,null,0,null,null,null,null,null,0,0,0,null,null,null,null,null,null,null,null,0,0,null,null,null,null,null,null,null,null,0,0,null,null,null,null,null,null,null,null,0,0,null,null,null,null,null,null,null,null,0,0,0,0,null,0,0,0,0,0,2,0,112,0,0,0,0,0,0,0,0,0,2,0,112,0,0,0,0,0,0,0,0,0,2,0,112,0,0,0,0,0,0,0,0,0,2,0,112,0,0,0,0,null,0,0,0,1,0,112,0,0,0,null,null,null,null,null,null,null,2,2,2,2,1,2,2,2,2,2,2,2,2,2,2,2,2,2,2,2,2,2,2,2,1,2,2,2,2,2,2,2,2,2,2,2,2,2,2,2,2,2,2,2,2,2,2,2,2,2,2,2,2,2,2,2,2,2,2,2,2,2,2,2,2,2,2,2,2,2,2,2,2,2,2,2,2,2,null,null,"Connaissance d'une organisation (Police)",null,"",null,"",null,""]
[null,null,null,"Sciences politiques : Nation étrangère 2"," ",null,null,null,null,{"$f":"IF(AND($E115<>\" \",$E$93<>\"Sciences politiques\"),\"ERREUR\",\" \")","v":" "},null,null,null,null,null,"Con. organisation (Ports commerciaux) * PN",null,"INT","PRE",null,-2,0,-2,null,0,null,null,null,null,null,null,0,null,null,null,null,null,0,null,null,null,null,null,0,0,0,null,null,null,null,null,null,null,null,0,0,null,null,null,null,null,null,null,null,0,0,null,null,null,null,null,null,null,null,0,0,null,null,null,null,null,null,null,null,0,0,0,0,null,0,0,0,0,0,2,0,113,0,0,0,0,0,0,0,0,0,2,0,113,0,0,0,0,0,0,0,0,0,2,0,113,0,0,0,0,0,0,0,0,0,2,0,113,0,0,0,0,null,0,0,0,1,0,113,0,0,0,null,null,null,null,null,null,null,2,2,2,2,2,2,2,2,2,2,2,2,2,2,2,2,2,2,2,2,1,2,2,2,2,2,2,2,2,2,2,2,2,1,2,2,2,2,2,2,2,2,2,2,2,2,2,2,2,2,2,2,2,2,2,2,2,2,2,2,2,2,2,2,2,2,2,2,2,2,2,2,2,2,2,2,2,2,null,null,"Con. organisation (Ports commerciaux)",null,"",null,"",null,""]
[null,null,null,"Sciences politiques : Sciences"," ",null,null,null,null,{"$f":"IF(AND($E116<>\" \",$E$93<>\"Sciences politiques\"),\"ERREUR\",\" \")","v":" "},null,null,null,null,null,"Connaissance d'une organisation (Veilleurs) * PN",null,"INT","PRE",null,-2,0,{"$f":"IF(V116=\"X\",\"X\",U116+V116)","v":-2},null,{"$f":"IF(Q116=\"X\",-4,Q116)","v":0},null,null,null,null,null,null,{"$f":"IF($AF$3=$AA$3,AA116,IF($AF$3=$AB$3,AB116,IF($AF$3=$AC$3,AC116,IF($AF$3=$AD$3,AD116,0))))","v":0},null,null,null,null,null,{"$f":"IF($AL$3=$AG$3,AG116,IF($AL$3=$AH$3,AH116,IF($AL$3=$AI$3,AI116,IF($AL$3=$AJ$3,AJ116,0))))","v":0},null,null,null,null,null,0,0,0,null,null,null,null,null,null,null,null,0,0,null,null,null,null,null,null,null,null,0,0,null,null,null,null,null,null,null,null,0,0,null,null,null,null,null,null,null,null,0,0,{"$f":"IF(Q116=\"X\",Z116+AF116+AL116+AT116+BC116+BM116+BW116+CG116-4,IF(Q116=-3,Z116+AF116+AL116+AT116+BC116+BM116+BW116+CG116-3,Z116+AF116+AL116+AT116+BC116+BM116+BW116+CG116))","v":0},{"$f":"IF(CI116=-4,\"X\",CI116)","v":0},null,{"$f":"IF($E$286=P116,1,IF($E$287=P116,1,IF($E$288=P116,1,IF($E$289=P116,1,IF($E$290=P116,1,IF($E$291=P116,1,0))))))","v":0},0,0,{"$f":"IF(CN116=-4,\"X\",CN116)","v":0},0,{"$f":"IF(CL116=1,1,(HLOOKUP($CR$3,$EY$3:$HX$349,CS116,)))","v":2},0,114,{"$f":"CN116+CR116","v":0},{"$f":"IF(CT116=-4,\"X\",CT116)","v":0},0,0,{"$f":"IF($E$294=P116,1,IF($E$295=P116,1,IF($E$296=P116,1,IF($E$297=P116,1,IF($E$298=P116,1,IF($E$299=P116,1,0))))))","v":0},0,0,{"$f":"IF(CZ116=-4,\"X\",CZ116)","v":0},0,{"$f":"IF(CX116=1,1,(HLOOKUP($DD$3,$EY$3:$HX$349,DE116,)))","v":2},0,114,{"$f":"CZ116+DD116","v":0},{"$f":"IF(DF116=-4,\"X\",DF116)","v":0},0,0,{"$f":"IF($E$302=P116,1,IF($E$303=P116,1,IF($E$314=P116,1,IF($E$315=P116,1,IF($E$316=P116,1,IF($E$317=P116,1,0))))))","v":0},0,{"$f":"DF116+DK116","v":0},{"$f":"IF(DL116=-4,\"X\",DL116)","v":0},0,{"$f":"IF(DJ116=1,1,(HLOOKUP($DP$3,$EY$3:$HX$349,DQ116,)))","v":2},0,114,{"$f":"DL116+DP116","v":0},{"$f":"IF(DR116=-4,\"X\",DR116)","v":0},0,0,{"$f":"IF($E$320=P116,1,IF($E$321=P116,1,IF($E$322=P116,1,IF($E$323=P116,1,IF($E$324=P116,1,IF($E$325=P116,1,0))))))","v":0},0,{"$f":"DR116+DW116","v":0},{"$f":"IF(DX116=-4,\"X\",DX116)","v":0},0,{"$f":"IF(DV116=1,1,(HLOOKUP($EB$3,$EY$3:$HX$349,EC116,)))","v":2},0,114,{"$f":"DX116+EB116","v":0},{"$f":"IF(ED116=-4,\"X\",ED116)","v":0},0,0,null,0,0,0,1,0,114,0,0,0,null,null,null,null,null,null,null,2,2,2,2,2,2,2,2,2,2,1,2,2,2,2,2,2,2,2,2,2,2,2,2,2,2,2,2,2,2,2,2,2,2,2,2,1,2,2,2,2,2,2,2,2,2,2,2,2,2,2,2,2,2,2,2,2,2,2,2,2,2,2,2,2,2,2,2,2,2,2,2,2,2,2,2,2,2,null,null,"Connaissance d'une organisation (Veilleurs)",null,"",null,"",null,""]
[null,null,null,null,null,null,null,null,null,null,null,null,null,null,null,"Connaissance d'une organisation I (……….) * PN",null,"INT","PRE",null,-2,0,-2,null,0,null,null,null,null,null,null,0,null,null,null,null,null,0,null,null,null,null,null,0,0,0,null,null,null,null,null,null,null,null,0,0,null,null,null,null,null,null,null,null,0,0,null,null,null,null,null,null,null,null,0,0,null,null,null,null,null,null,null,null,0,0,0,0,null,0,0,0,0,0,2,0,115,0,0,0,0,0,0,0,0,0,2,0,115,0,0,0,0,0,0,0,0,0,2,0,115,0,0,0,0,0,0,0,0,0,2,0,115,0,0,0,0,null,0,0,0,1,0,115,0,0,0,null,null,null,null,null,null,null,2,2,2,2,2,2,2,2,2,2,2,2,2,2,2,2,2,2,2,2,2,2,2,2,2,2,2,2,2,2,2,2,2,2,2,2,2,2,2,2,2,2,2,2,1,1,1,1,1,1,2,2,2,2,2,2,2,2,2,2,2,2,2,2,2,2,2,2,2,2,2,2,2,2,2,2,2,2,null,null,"Connaissance d'une organisation I (……….)",null,"",null,"",null,""]
[null,null,"Etudes supérieures 3",null,"Pas d'étude sup.",null,null,null,null,{"$f":"IF(E118=\"Pas d'étude sup.\",0,1)","v":0},null,null,null,null,null,"Connaissance d'une organisation II (……….) * PN",null,"INT","PRE",null,-2,{"$f":"EP118","v":0},-2,null,0,null,null,null,null,null,null,0,null,null,null,null,null,0,null,null,null,null,null,0,0,0,null,null,null,null,null,null,null,null,0,0,null,null,null,null,null,null,null,null,0,0,null,null,null,null,null,null,null,null,0,0,null,null,null,null,null,null,null,null,0,0,0,0,null,0,0,0,0,0,2,0,116,0,0,0,0,0,0,{"$f":"CT118+CY118","v":0},0,0,2,0,116,0,0,0,0,0,0,0,0,0,2,0,116,0,0,0,0,0,0,0,0,0,2,0,116,0,0,0,0,null,{"$f":"ED118+EH118","v":0},{"$f":"IF(EI118=-4,\"X\",EI118)","v":0},0,1,0,116,{"$f":"EI118+EM118","v":0},{"$f":"IF(EO118=-4,\"X\",EO118)","v":0},0,null,null,null,null,null,null,null,2,2,2,2,2,2,2,2,2,2,2,2,2,2,2,2,2,2,2,2,2,2,2,2,2,2,2,2,2,2,2,2,2,2,2,2,2,2,2,2,2,2,2,2,2,2,2,2,2,2,2,2,2,2,2,2,2,2,2,2,2,2,2,2,2,2,2,2,2,2,2,2,2,2,2,2,2,2,null,null,"Connaissance d'une organisation II (……….)",null,"",null,"",null,"",{"$f":"CONCATENATE(IG118,IG119,IG120,IG121,IG122,IG123,IG124,IG125,IG126,IG127,IG128,IG129,IG130,IG131,IG132,IG133,IG134)","v":""}]
[null,null,null,null,null,null,null,null,null,null,null,null,null,null,null,"Connaissances 01",null,"FOR","FOR",null,{"$f":"HLOOKUP(R119,$IZ$369:$JH$370,2,)+HLOOKUP(S119,$IZ$369:$JH$370,2,)","v":-2},{"$f":"EP119","v":0},{"$f":"IF(V119=\"X\",\"X\",U119+V119)","v":-2},null,{"$f":"IF(Q119=\"X\",-4,Q119)","v":0},null,null,null,null,null,null,{"$f":"IF($AF$3=$AA$3,AA119,IF($AF$3=$AB$3,AB119,IF($AF$3=$AC$3,AC119,IF($AF$3=$AD$3,AD119,0))))","v":0},null,null,null,null,null,{"$f":"IF($AL$3=$AG$3,AG119,IF($AL$3=$AH$3,AH119,IF($AL$3=$AI$3,AI119,IF($AL$3=$AJ$3,AJ119,0))))","v":0},null,null,null,null,null,0,0,0,null,null,null,null,null,null,null,null,{"$f":"IF(BD119=0,0,IF($IA$371=20,BD119+1,BD119))","v":0},{"$f":"IF(BC$3=AU$3,AU119,IF(BC$3=AV$3,AV119,IF(BC$3=AW$3,AW119,IF(BC$3=AX$3,AX119,IF(BC$3=AY$3,AY119,IF(BC$3=AZ$3,AZ119,IF(BC$3=BA$3,BA119,IF(BC$3=BB$3,BB119,0))))))))","v":0},null,null,null,null,null,null,null,null,{"$f":"IF(BN119=0,0,IF($IA$371=20,BN119+1,BN119))","v":0},{"$f":"IF(BM$3=BE$3,BE119,IF(BM$3=BF$3,BF119,IF(BM$3=BG$3,BG119,IF(BM$3=BH$3,BH119,IF(BM$3=BI$3,BI119,IF(BM$3=BJ$3,BJ119,IF(BM$3=BK$3,BK119,IF(BM$3=BL$3,BL119,0))))))))","v":0},null,null,null,null,null,null,null,null,{"$f":"IF(BX119=0,0,IF($IA$371=20,BX119+1,BX119))","v":0},{"$f":"IF(BW$3=BO$3,BO119,IF(BW$3=BP$3,BP119,IF(BW$3=BQ$3,BQ119,IF(BW$3=BR$3,BR119,IF(BW$3=BS$3,BS119,IF(BW$3=BT$3,BT119,IF(BW$3=BU$3,BU119,IF(BW$3=BV$3,BV119,0))))))))","v":0},null,null,null,null,null,null,null,null,{"$f":"IF(CH119=0,0,IF($IA$371=20,CH119+1,CH119))","v":0},{"$f":"IF(CG$3=BY$3,BY119,IF(CG$3=BZ$3,BZ119,IF(CG$3=CA$3,CA119,IF(CG$3=CB$3,CB119,IF(CG$3=CC$3,CC119,IF(CG$3=CD$3,CD119,IF(CG$3=CE$3,CE119,IF(CG$3=CF$3,CF119,0))))))))","v":0},0,{"$f":"IF(CI119=-4,\"X\",CI119)","v":0},null,0,0,{"$f":"CI119+CM119","v":0},{"$f":"IF(CN119=-4,\"X\",CN119)","v":0},0,0,0,117,{"$f":"CN119+CR119","v":0},{"$f":"IF(CT119=-4,\"X\",CT119)","v":0},0,0,0,0,{"$f":"CT119+CY119","v":0},{"$f":"IF(CZ119=-4,\"X\",CZ119)","v":0},0,0,0,117,{"$f":"CZ119+DD119","v":0},{"$f":"IF(DF119=-4,\"X\",DF119)","v":0},0,0,0,0,{"$f":"DF119+DK119","v":0},{"$f":"IF(DL119=-4,\"X\",DL119)","v":0},0,0,0,117,{"$f":"DL119+DP119","v":0},{"$f":"IF(DR119=-4,\"X\",DR119)","v":0},0,0,0,0,{"$f":"DR119+DW119","v":0},{"$f":"IF(DX119=-4,\"X\",DX119)","v":0},0,0,0,117,{"$f":"DX119+EB119","v":0},{"$f":"IF(ED119=-4,\"X\",ED119)","v":0},0,0,null,{"$f":"ED119+EH119","v":0},{"$f":"IF(EI119=-4,\"X\",EI119)","v":0},0,1,0,117,{"$f":"EI119+EM119","v":0},{"$f":"IF(EO119=-4,\"X\",EO119)","v":0},0,null,null,null,null,null,null,null,null,null,null,null,null,null,null,null,null,null,null,null,null,null,null,null,null,null,null,null,null,null,null,null,null,null,null,null,null,null,null,null,null,null,null,null,null,null,null,null,null,null,null,null,null,null,null,null,null,null,null,null,null,null,null,null,null,null,null,null,null,null,null,null,null,null,null,null,null,null,null,null,null,null,null,null,null,null,null,null,"Connaissances 01",null,"",null,"",null,""]
[null,null,null,null,null,null,null,null,null,null,null,null,null,null,null,"Connaissances 02",null,"FOR","FOR",null,-2,0,-2,null,0,null,null,null,null,null,null,0,null,null,null,null,null,0,null,null,null,null,null,0,0,0,null,null,null,null,null,null,null,null,0,0,null,null,null,null,null,null,null,null,0,0,null,null,null,null,null,null,null,null,0,0,null,null,null,null,null,null,null,null,0,0,0,0,null,0,0,0,0,0,0,0,118,0,0,0,0,0,0,0,0,0,0,0,118,0,0,0,0,0,0,0,0,0,0,0,118,0,0,0,0,0,0,0,0,0,0,0,118,0,0,0,0,null,0,0,0,1,0,118,0,0,0,null,null,null,null,null,null,null,null,null,null,null,null,null,null,null,null,null,null,null,null,null,null,null,null,null,null,null,null,null,null,null,null,null,null,null,null,null,null,null,null,null,null,null,null,null,null,null,null,null,null,null,null,null,null,null,null,null,null,null,null,null,null,null,null,null,null,null,null,null,null,null,null,null,null,null,null,null,null,null,null,null,null,null,null,null,null,null,"Connaissances 02",null,"",null,"",null,""]
[null,null,null,null,null,null,null,null,null,null,null,null,null,null,null,"Connaissances 03",null,"FOR","FOR",null,-2,0,-2,null,0,null,null,null,null,null,null,0,null,null,null,null,null,0,null,null,null,null,null,0,0,0,null,null,null,null,null,null,null,null,0,0,null,null,null,null,null,null,null,null,0,0,null,null,null,null,null,null,null,null,0,0,null,null,null,null,null,null,null,null,0,0,0,0,null,0,0,0,0,0,0,0,119,0,0,0,0,0,0,0,0,0,0,0,119,0,0,0,0,0,0,0,0,0,0,0,119,0,0,0,0,0,0,0,0,0,0,0,119,0,0,0,0,null,0,0,0,1,0,119,0,0,0,null,null,null,null,null,null,null,null,null,null,null,null,null,null,null,null,null,null,null,null,null,null,null,null,null,null,null,null,null,null,null,null,null,null,null,null,null,null,null,null,null,null,null,null,null,null,null,null,null,null,null,null,null,null,null,null,null,null,null,null,null,null,null,null,null,null,null,null,null,null,null,null,null,null,null,null,null,null,null,null,null,null,null,null,null,null,null,"Connaissances 03",null,"",null,"",null,""]
[null,null,null,null,null,null,null,null,null,null,null,null,null,null,null,"Connaissances 04",null,"FOR","FOR",null,-2,0,-2,null,0,null,null,null,null,null,null,0,null,null,null,null,null,0,null,null,null,null,null,0,0,0,null,null,null,null,null,null,null,null,0,0,null,null,null,null,null,null,null,null,0,0,null,null,null,null,null,null,null,null,0,0,null,null,null,null,null,null,null,null,0,0,0,0,null,0,0,0,0,0,0,0,120,0,0,0,0,0,0,0,0,0,0,0,120,0,0,0,0,0,0,0,0,0,0,0,120,0,0,0,0,0,0,0,0,0,0,0,120,0,0,0,0,null,0,0,0,1,0,120,0,0,0,null,null,null,null,null,null,null,null,null,null,null,null,null,null,null,null,null,null,null,null,null,null,null,null,null,null,null,null,null,null,null,null,null,null,null,null,null,null,null,null,null,null,null,null,null,null,null,null,null,null,null,null,null,null,null,null,null,null,null,null,null,null,null,null,null,null,null,null,null,null,null,null,null,null,null,null,null,null,null,null,null,null,null,null,null,null,null,"Connaissances 04",null,"",null,"",null,""]
[null,null,null,null,null,null,null,null,null,null,null,null,null,null,null,"Connaissances 05",null,"FOR","FOR",null,-2,0,-2,null,0,null,null,null,null,null,null,0,null,null,null,null,null,0,null,null,null,null,null,0,0,0,null,null,null,null,null,null,null,null,0,0,null,null,null,null,null,null,null,null,0,0,null,null,null,null,null,null,null,null,0,0,null,null,null,null,null,null,null,null,0,0,0,0,null,0,0,0,0,0,0,0,121,0,0,0,0,0,0,0,0,0,0,0,121,0,0,0,0,0,0,0,0,0,0,0,121,0,0,0,0,0,0,0,0,0,0,0,121,0,0,0,0,null,0,0,0,1,0,121,0,0,0,null,null,null,null,null,null,null,null,null,null,null,null,null,null,null,null,null,null,null,null,null,null,null,null,null,null,null,null,null,null,null,null,null,null,null,null,null,null,null,null,null,null,null,null,null,null,null,null,null,null,null,null,null,null,null,null,null,null,null,null,null,null,null,null,null,null,null,null,null,null,null,null,null,null,null,null,null,null,null,null,null,null,null,null,null,null,null,"Connaissances 05",null,"",null,"",null,""]
[null,null,null,null,null,null,null,null,null,null,null,null,null,null,null,"Connaissances 06",null,"FOR","FOR",null,{"$f":"HLOOKUP(R124,$IZ$369:$JH$370,2,)+HLOOKUP(S124,$IZ$369:$JH$370,2,)","v":-2},{"$f":"EP124","v":0},{"$f":"IF(V124=\"X\",\"X\",U124+V124)","v":-2},null,{"$f":"IF(Q124=\"X\",-4,Q124)","v":0},null,null,null,null,null,null,{"$f":"IF($AF$3=$AA$3,AA124,IF($AF$3=$AB$3,AB124,IF($AF$3=$AC$3,AC124,IF($AF$3=$AD$3,AD124,0))))","v":0},null,null,null,null,null,{"$f":"IF($AL$3=$AG$3,AG124,IF($AL$3=$AH$3,AH124,IF($AL$3=$AI$3,AI124,IF($AL$3=$AJ$3,AJ124,0))))","v":0},null,null,null,null,null,0,0,0,null,null,null,null,null,null,null,null,0,{"$f":"IF(BC$3=AU$3,AU124,IF(BC$3=AV$3,AV124,IF(BC$3=AW$3,AW124,IF(BC$3=AX$3,AX124,IF(BC$3=AY$3,AY124,IF(BC$3=AZ$3,AZ124,IF(BC$3=BA$3,BA124,IF(BC$3=BB$3,BB124,0))))))))","v":0},null,null,null,null,null,null,null,null,0,{"$f":"IF(BM$3=BE$3,BE124,IF(BM$3=BF$3,BF124,IF(BM$3=BG$3,BG124,IF(BM$3=BH$3,BH124,IF(BM$3=BI$3,BI124,IF(BM$3=BJ$3,BJ124,IF(BM$3=BK$3,BK124,IF(BM$3=BL$3,BL124,0))))))))","v":0},null,null,null,null,null,null,null,null,0,{"$f":"IF(BW$3=BO$3,BO124,IF(BW$3=BP$3,BP124,IF(BW$3=BQ$3,BQ124,IF(BW$3=BR$3,BR124,IF(BW$3=BS$3,BS124,IF(BW$3=BT$3,BT124,IF(BW$3=BU$3,BU124,IF(BW$3=BV$3,BV124,0))))))))","v":0},null,null,null,null,null,null,null,null,0,{"$f":"IF(CG$3=BY$3,BY124,IF(CG$3=BZ$3,BZ124,IF(CG$3=CA$3,CA124,IF(CG$3=CB$3,CB124,IF(CG$3=CC$3,CC124,IF(CG$3=CD$3,CD124,IF(CG$3=CE$3,CE124,IF(CG$3=CF$3,CF124,0))))))))","v":0},0,{"$f":"IF(CI124=-4,\"X\",CI124)","v":0},null,0,0,{"$f":"CI124+CM124","v":0},{"$f":"IF(CN124=-4,\"X\",CN124)","v":0},0,0,0,122,{"$f":"CN124+CR124","v":0},{"$f":"IF(CT124=-4,\"X\",CT124)","v":0},0,0,0,0,{"$f":"CT124+CY124","v":0},{"$f":"IF(CZ124=-4,\"X\",CZ124)","v":0},0,0,0,122,{"$f":"CZ124+DD124","v":0},{"$f":"IF(DF124=-4,\"X\",DF124)","v":0},0,0,0,0,{"$f":"DF124+DK124","v":0},{"$f":"IF(DL124=-4,\"X\",DL124)","v":0},0,0,0,122,{"$f":"DL124+DP124","v":0},{"$f":"IF(DR124=-4,\"X\",DR124)","v":0},0,0,0,0,{"$f":"DR124+DW124","v":0},{"$f":"IF(DX124=-4,\"X\",DX124)","v":0},0,0,0,122,{"$f":"DX124+EB124","v":0},{"$f":"IF(ED124=-4,\"X\",ED124)","v":0},0,0,null,{"$f":"ED124+EH124","v":0},{"$f":"IF(EI124=-4,\"X\",EI124)","v":0},0,1,0,122,{"$f":"EI124+EM124","v":0},{"$f":"IF(EO124=-4,\"X\",EO124)","v":0},0,null,null,null,null,null,null,null,null,null,null,null,null,null,null,null,null,null,null,null,null,null,null,null,null,null,null,null,null,null,null,null,null,null,null,null,null,null,null,null,null,null,null,null,null,null,null,null,null,null,null,null,null,null,null,null,null,null,null,null,null,null,null,null,null,null,null,null,null,null,null,null,null,null,null,null,null,null,null,null,null,null,null,null,null,null,null,null,"Connaissances 06",null,"",null,"",null,""]
[null,null,null,null,null,null,null,null,null,null,null,null,null,null,null,"Connaissances 07",null,"FOR","FOR",null,-2,0,-2,null,0,null,null,null,null,null,null,0,null,null,null,null,null,0,null,null,null,null,null,0,0,0,null,null,null,null,null,null,null,null,0,0,null,null,null,null,null,null,null,null,0,0,null,null,null,null,null,null,null,null,0,0,null,null,null,null,null,null,null,null,0,0,0,0,null,0,0,0,0,0,0,0,123,0,0,0,0,0,0,0,0,0,0,0,123,0,0,0,0,0,0,0,0,0,0,0,123,0,0,0,0,0,0,0,0,0,0,0,123,0,0,0,0,null,0,0,0,1,0,123,0,0,0,null,null,null,null,null,null,null,null,null,null,null,null,null,null,null,null,null,null,null,null,null,null,null,null,null,null,null,null,null,null,null,null,null,null,null,null,null,null,null,null,null,null,null,null,null,null,null,null,null,null,null,null,null,null,null,null,null,null,null,null,null,null,null,null,null,null,null,null,null,null,null,null,null,null,null,null,null,null,null,null,null,null,null,null,null,null,null,"Connaissances 07",null,"",null,"",null,""]
[null,null,null,null,null,null,null,null,null,null,null,null,null,null,null,"Connaissances 09",null,"FOR","FOR",null,-2,0,-2,null,0,null,null,null,null,null,null,0,null,null,null,null,null,0,null,null,null,null,null,0,0,0,null,null,null,null,null,null,null,null,0,0,null,null,null,null,null,null,null,null,0,0,null,null,null,null,null,null,null,null,0,0,null,null,null,null,null,null,null,null,0,0,0,0,null,0,0,0,0,0,0,0,125,0,0,0,0,0,0,0,0,0,0,0,125,0,0,0,0,0,0,0,0,0,0,0,125,0,0,0,0,0,0,0,0,0,0,0,125,0,0,0,0,null,0,0,0,1,0,125,0,0,0,null,null,null,null,null,null,null,null,null,null,null,null,null,null,null,null,null,null,null,null,null,null,null,null,null,null,null,null,null,null,null,null,null,null,null,null,null,null,null,null,null,null,null,null,null,null,null,null,null,null,null,null,null,null,null,null,null,null,null,null,null,null,null,null,null,null,null,null,null,null,null,null,null,null,null,null,null,null,null,null,null,null,null,null,null,null,null,"Connaissances 09",null,"",null,"",null,""]
[null,null,null,"Commerce/Gestion : Nation étrangère"," ",null,null,null,null,{"$f":"IF(AND($E131<>\" \",$E$118<>\"Commerce/gestion\"),\"ERREUR\",\" \")","v":" "},null,null,null,null,null,"Jeu",null,"INT","VOL",null,-2,0,-2,null,0,null,null,null,null,null,null,0,null,null,null,null,null,0,null,null,null,null,null,0,0,0,null,null,null,null,null,null,null,null,{"$f":"IF(BD131=0,0,IF($IA$371=20,BD131+1,BD131))","v":0},0,null,null,null,null,null,null,null,null,{"$f":"IF(BN131=0,0,IF($IA$371=20,BN131+1,BN131))","v":0},0,null,null,null,null,null,null,null,null,{"$f":"IF(BX131=0,0,IF($IA$371=20,BX131+1,BX131))","v":0},0,null,null,null,null,null,null,null,null,{"$f":"IF(CH131=0,0,IF($IA$371=20,CH131+1,CH131))","v":0},0,0,0,null,0,null,0,0,0,2,0,129,0,0,0,0,0,null,0,0,0,2,0,129,0,0,0,0,0,null,0,0,0,2,0,129,0,0,0,0,0,null,0,0,0,2,0,129,0,0,0,0,null,0,0,0,1,0,129,0,0,0,null,null,null,null,null,null,null,2,2,2,1,2,2,2,2,2,2,2,2,2,2,2,2,2,2,2,2,2,2,2,1,2,2,2,2,2,2,2,2,2,1,2,2,2,1,2,2,2,1,1,1,2,2,2,2,2,2,2,2,2,2,2,2,2,2,2,2,2,2,2,2,2,2,2,2,2,2,2,2,2,2,2,2,2,2,null,null,"Jeu",null,"",null,"",null,""]
[null,null,null,"Ecole d'ingénieurs : Langue au choix"," ",null,null,null,null,{"$f":"IF(AND($E136<>\" \",$E$118<>\"Ecole d'ingénieurs\"),\"ERREUR\",\" \")","v":" "},null,null,null,null,null,"Sci./Con. Spéc. (Astrophysique/Astronomie) +","X","INT","INT",null,-2,"X","X",null,-4,null,null,null,null,null,null,0,null,null,null,null,null,0,null,null,null,null,null,0,0,0,null,null,null,null,null,null,0,null,0,0,null,null,null,null,null,null,0,null,0,0,null,null,null,null,null,null,0,null,0,0,null,null,null,null,null,null,0,null,0,0,-4,"X",null,0,null,-4,"X",0,2,0,134,-4,"X",0,0,0,null,-4,"X",0,2,0,134,-4,"X",0,0,0,null,-4,"X",0,2,0,134,-4,"X",0,0,0,null,-4,"X",0,2,0,134,-4,"X",0,0,null,-4,"X",0,1,0,134,-4,"X",0,null,null,null,null,null,null,null,2,{"$f":"EZ513","v":2},2,2,2,2,2,2,2,2,2,{"$f":"FJ513","v":2},2,2,2,2,2,2,2,2,2,2,2,2,2,2,2,1,2,2,2,2,2,2,1,2,2,2,2,1,2,2,1,2,2,2,2,2,2,2,2,2,2,2,2,2,2,2,2,2,2,2,2,2,2,2,2,2,2,2,2,2,2,2,2,2,2,2,null,null,"Sci./Con. Spéc. (Astrophysique/Astronomie)",null,"",null,"",null,""]
[null,null,null,"Ecole militaire : Langue pays allié ou hostile"," ",null,null,null,null,{"$f":"IF(AND($E140<>\" \",$E$118<>\"Ecole militaire\"),\"ERREUR\",\" \")","v":" "},null,null,null,null,null,"Sci./Con. Spéc. (Connaissance des poisons) +","X","INT","INT",null,-2,"X","X",null,-4,null,null,null,null,null,null,0,null,null,null,null,null,0,null,null,null,null,null,0,0,0,null,null,null,null,null,null,0,null,0,0,null,null,null,null,null,null,0,null,0,0,null,null,null,null,null,null,0,null,0,0,null,null,null,null,null,null,0,null,0,0,-4,"X",null,0,null,-4,"X",0,2,0,138,-4,"X",0,0,0,null,-4,"X",0,2,0,138,-4,"X",0,0,0,null,-4,"X",0,2,0,138,-4,"X",0,0,0,null,-4,"X",0,2,0,138,-4,"X",0,0,null,-4,"X",0,1,0,138,-4,"X",0,null,null,null,null,null,null,null,2,2,1,2,2,2,2,2,2,2,2,2,2,1,2,2,2,2,2,2,2,2,2,2,2,2,2,2,2,2,2,2,2,2,2,2,2,1,2,1,2,2,2,1,2,2,2,2,2,2,2,2,2,2,2,2,2,2,2,2,2,2,2,2,2,2,2,2,2,2,2,2,2,2,2,2,2,2,null,null,"Sci./Con. Spéc. (Connaissance des poisons)",null,"",null,"",null,""]
[null,null,null,"Sciences/Sciences humaines : Sciences"," ",null,null,null,null,{"$f":"IF(AND($E146<>\" \",$E$118<>\"Sciences/Sciences humaines\"),\"ERREUR\",\" \")","v":" "},null,null,null,null,null,"Sci./Con. Spéc. (Géographie) +","X","INT","INT",null,-2,{"$f":"EP146","v":"X"},"X",null,-4,null,null,null,null,null,null,0,null,null,null,null,null,0,null,null,null,null,{"$f":"IF($E$55=\"Géographie\",2,)","v":0},0,0,0,null,null,null,null,null,null,0,1,0,0,null,null,null,null,null,null,0,1,0,0,null,null,null,null,null,null,0,1,0,0,null,null,null,null,null,null,0,1,0,0,-4,"X",null,0,null,-4,"X",0,2,0,144,-4,"X",0,0,0,null,{"$f":"CT146+CY146","v":-4},"X",0,2,0,144,-4,"X",0,0,0,null,-4,"X",0,2,0,144,-4,"X",0,0,0,null,-4,"X",0,2,0,144,-4,"X",0,0,null,{"$f":"ED146+EH146","v":-4},{"$f":"IF(EI146=-4,\"X\",EI146)","v":"X"},0,1,0,144,{"$f":"EI146+EM146","v":-4},{"$f":"IF(EO146=-4,\"X\",EO146)","v":"X"},0,null,null,null,null,null,null,null,2,2,2,2,2,2,2,2,1,2,2,2,2,2,2,2,2,2,2,2,2,2,2,2,2,2,2,2,2,2,2,2,2,2,2,2,2,2,2,1,2,2,2,2,2,2,2,2,2,2,2,2,2,2,2,2,2,2,2,2,2,2,2,2,2,2,2,2,2,2,2,2,2,2,2,2,2,2,null,null,"Sci./Con. Spéc. (Géographie)",null,"",null,"",null,""]
[null,null,null,"Sciences politiques : Sciences"," ",null,null,null,null,{"$f":"IF(AND($E151<>\" \",$E$118<>\"Sciences politiques\"),\"ERREUR\",\" \")","v":" "},null,null,null,null,null,"Sci./Con. Spéc. (Psychologie) +","X","INT","INT",null,-2,"X","X",null,-4,null,null,null,null,null,null,0,null,null,null,null,null,0,null,null,null,null,null,0,0,0,null,null,null,null,null,null,0,null,0,0,null,null,null,null,null,null,0,null,0,0,null,null,null,null,null,null,0,null,0,0,null,null,null,null,null,null,0,null,0,0,-4,"X",null,0,null,-4,"X",0,2,0,149,-4,"X",0,0,0,null,-4,"X",0,2,0,149,-4,"X",0,0,0,null,-4,"X",0,2,0,149,-4,"X",0,0,0,null,-4,"X",0,2,0,149,-4,"X",0,0,null,-4,"X",0,1,0,149,-4,"X",0,null,null,null,null,null,null,null,2,2,2,2,2,2,2,2,2,2,2,2,2,1,2,2,2,2,2,2,2,2,2,2,2,1,1,2,2,2,2,2,2,2,2,2,2,2,2,1,2,2,2,2,2,{"$f":"IF(GR$1>2,1,2)","v":2},{"$f":"IF(GS$1>2,1,2)","v":2},2,2,2,2,2,2,2,2,2,2,2,2,2,2,2,2,2,2,2,2,2,2,2,2,2,2,2,2,2,2,2,null,null,"Sci./Con. Spéc. (Psychologie)",null,"",null,"",null,""]
[null,null,null,"Commerce/Gestion : Sciences"," ",null,null,null,null,{"$f":"IF(AND($E157<>\" \",$E$153<>\"Commerce/gestion\"),\"ERREUR\",\" \")","v":" "},null,null,null,null,null,"Tactique (combat naval)",-3,"INT","ADA",null,-2,-3,-5,null,-3,null,null,null,null,null,null,0,null,null,null,null,null,0,null,null,null,null,null,0,0,0,null,null,null,{"$f":"IF($E$82=\"Combat naval\",2,)","v":0},null,null,null,null,{"$f":"IF(BD157=0,0,IF($IA$371=20,BD157+2,BD157))","v":0},0,null,null,null,{"$f":"IF($E$107=\"Combat naval\",2,)","v":0},null,null,null,null,{"$f":"IF(BN157=0,0,IF($IA$371=20,BN157+2,BN157))","v":0},0,null,null,null,{"$f":"IF($E$142=\"Combat naval\",2,)","v":0},null,null,null,null,{"$f":"IF(BX157=0,0,IF($IA$371=20,BX157+2,BX157))","v":0},0,null,null,null,{"$f":"IF($E$172=\"Combat naval\",2,)","v":0},null,null,null,null,{"$f":"IF(CH157=0,0,IF($IA$371=20,CH157+2,CH157))","v":0},0,-3,-3,null,0,null,-3,-3,0,2,0,155,-3,-3,0,0,0,null,-3,-3,0,2,0,155,-3,-3,0,0,0,null,-3,-3,0,2,0,155,-3,-3,0,0,0,null,-3,-3,0,2,0,155,-3,-3,0,0,null,-3,-3,0,1,0,155,-3,-3,0,null,null,null,null,null,null,null,2,2,2,2,2,2,2,2,2,2,2,2,2,2,2,2,1,2,2,2,2,2,1,2,2,2,2,2,2,2,2,2,2,2,2,2,2,2,2,2,2,2,2,2,2,2,2,2,2,2,2,2,2,2,2,2,2,2,2,2,2,2,2,2,2,2,2,2,2,2,2,2,2,2,2,2,2,2,null,null,"Tactique (combat naval)",null,"",null,"",null,""]
[null,null,null,"Ecole d'ingénieurs : Langue au choix"," ",null,null,null,null,{"$f":"IF(AND($E161<>\" \",$E$153<>\"Ecole d'ingénieurs\"),\"ERREUR\",\" \")","v":" "},null,null,"Furtivité/Subterfuge",null,null,null,null,null,null,null,null,null,null,null,null,null,null,null,null,null,null,null,null,null,null,null,null,null,null,null,null,null,null,0,0,null,null,null,null,null,null,null,null,null,null,null,null,null,null,null,null,null,null,null,null,null,null,null,null,null,null,null,null,null,null,null,null,null,null,null,null,null,null,null,null,null,null,null,null,null,null,0,null,0,null,0,159,null,null,0,0,null,null,null,null,0,null,0,159,null,null,0,0,null,null,null,null,0,null,0,159,null,null,0,0,null,null,null,null,0,null,0,159,null,null,0,0,null,null,null,0,1,0,159,null,null,0]
[null,null,null,null,null,null,null,null,null,null,null,null,null,null,null,"Furtivité/Subterfuge 01",null,"FOR","FOR",null,{"$f":"HLOOKUP(R167,$IZ$369:$JH$370,2,)+HLOOKUP(S167,$IZ$369:$JH$370,2,)","v":-2},{"$f":"EP167","v":0},{"$f":"IF(V167=\"X\",\"X\",U167+V167)","v":-2},null,{"$f":"IF(Q167=\"X\",-4,Q167)","v":0},null,null,null,null,null,null,{"$f":"IF($AF$3=$AA$3,AA167,IF($AF$3=$AB$3,AB167,IF($AF$3=$AC$3,AC167,IF($AF$3=$AD$3,AD167,0))))","v":0},null,null,null,null,null,{"$f":"IF($AL$3=$AG$3,AG167,IF($AL$3=$AH$3,AH167,IF($AL$3=$AI$3,AI167,IF($AL$3=$AJ$3,AJ167,0))))","v":0},null,null,null,null,null,0,0,0,null,null,null,null,null,null,null,null,{"$f":"IF(BD167=0,0,IF($IA$371=20,BD167+1,BD167))","v":0},{"$f":"IF(BC$3=AU$3,AU167,IF(BC$3=AV$3,AV167,IF(BC$3=AW$3,AW167,IF(BC$3=AX$3,AX167,IF(BC$3=AY$3,AY167,IF(BC$3=AZ$3,AZ167,IF(BC$3=BA$3,BA167,IF(BC$3=BB$3,BB167,0))))))))","v":0},null,null,null,null,null,null,null,null,{"$f":"IF(BN167=0,0,IF($IA$371=20,BN167+1,BN167))","v":0},{"$f":"IF(BM$3=BE$3,BE167,IF(BM$3=BF$3,BF167,IF(BM$3=BG$3,BG167,IF(BM$3=BH$3,BH167,IF(BM$3=BI$3,BI167,IF(BM$3=BJ$3,BJ167,IF(BM$3=BK$3,BK167,IF(BM$3=BL$3,BL167,0))))))))","v":0},null,null,null,null,null,null,null,null,{"$f":"IF(BX167=0,0,IF($IA$371=20,BX167+1,BX167))","v":0},{"$f":"IF(BW$3=BO$3,BO167,IF(BW$3=BP$3,BP167,IF(BW$3=BQ$3,BQ167,IF(BW$3=BR$3,BR167,IF(BW$3=BS$3,BS167,IF(BW$3=BT$3,BT167,IF(BW$3=BU$3,BU167,IF(BW$3=BV$3,BV167,0))))))))","v":0},null,null,null,null,null,null,null,null,{"$f":"IF(CH167=0,0,IF($IA$371=20,CH167+1,CH167))","v":0},{"$f":"IF(CG$3=BY$3,BY167,IF(CG$3=BZ$3,BZ167,IF(CG$3=CA$3,CA167,IF(CG$3=CB$3,CB167,IF(CG$3=CC$3,CC167,IF(CG$3=CD$3,CD167,IF(CG$3=CE$3,CE167,IF(CG$3=CF$3,CF167,0))))))))","v":0},0,{"$f":"IF(CI167=-4,\"X\",CI167)","v":0},null,0,null,{"$f":"CI167+CM167","v":0},{"$f":"IF(CN167=-4,\"X\",CN167)","v":0},0,0,0,165,{"$f":"CN167+CR167","v":0},{"$f":"IF(CT167=-4,\"X\",CT167)","v":0},0,0,0,null,{"$f":"CT167+CY167","v":0},{"$f":"IF(CZ167=-4,\"X\",CZ167)","v":0},0,0,0,165,{"$f":"CZ167+DD167","v":0},{"$f":"IF(DF167=-4,\"X\",DF167)","v":0},0,0,0,null,{"$f":"DF167+DK167","v":0},{"$f":"IF(DL167=-4,\"X\",DL167)","v":0},0,0,0,165,{"$f":"DL167+DP167","v":0},{"$f":"IF(DR167=-4,\"X\",DR167)","v":0},0,0,0,null,{"$f":"DR167+DW167","v":0},{"$f":"IF(DX167=-4,\"X\",DX167)","v":0},0,0,0,165,{"$f":"DX167+EB167","v":0},{"$f":"IF(ED167=-4,\"X\",ED167)","v":0},0,0,null,{"$f":"ED167+EH167","v":0},{"$f":"IF(EI167=-4,\"X\",EI167)","v":0},0,1,0,165,{"$f":"EI167+EM167","v":0},{"$f":"IF(EO167=-4,\"X\",EO167)","v":0},0,null,null,null,null,null,null,null,null,null,null,null,null,null,null,null,null,null,null,null,null,null,null,null,null,null,null,null,null,null,null,null,null,null,null,null,null,null,null,null,null,null,null,null,null,null,null,null,null,null,null,null,null,null,null,null,null,null,null,null,null,null,null,null,null,null,null,null,null,null,null,null,null,null,null,null,null,null,null,null,null,null,null,null,null,null,null,null,"Furtivité/Subterfuge 01",null,"",null,"",null,""]
[null,null,null,null,null,null,null,null,null,null,null,null,null,null,null,"Furtivité/Subterfuge 04",null,"FOR","FOR",null,-2,0,-2,null,0,null,null,null,null,null,null,0,null,null,null,null,null,0,null,null,null,null,null,0,0,0,null,null,null,null,null,null,null,null,0,0,null,null,null,null,null,null,null,null,0,0,null,null,null,null,null,null,null,null,0,0,null,null,null,null,null,null,null,null,0,0,0,0,null,0,null,0,0,0,0,0,168,0,0,0,0,0,null,0,0,0,0,0,168,0,0,0,0,0,null,0,0,0,0,0,168,0,0,0,0,0,null,0,0,0,0,0,168,0,0,0,0,null,0,0,0,1,0,168,0,0,0,null,null,null,null,null,null,null,null,null,null,null,null,null,null,null,null,null,null,null,null,null,null,null,null,null,null,null,null,null,null,null,null,null,null,null,null,null,null,null,null,null,null,null,null,null,null,null,null,null,null,null,null,null,null,null,null,null,null,null,null,null,null,null,null,null,null,null,null,null,null,null,null,null,null,null,null,null,null,null,null,null,null,null,null,null,null,null,"Furtivité/Subterfuge 04",null,"",null,"",null,""]
[null,null,null,"Sciences/Sciences humaines : Sciences"," ",null,null,null,null,{"$f":"IF(AND($E176<>\" \",$E$153<>\"Sciences/Sciences humaines\"),\"ERREUR\",\" \")","v":" "},null,null,"Nova",null,null,"Langue étrangère (Gashklar) * PN","X","INT","PRE",null,-2,"X",{"$f":"IF(Z176=10,10+$W$130,IF(V176=\"X\",\"X\",U176+V176))","v":"X"},null,-4,0,null,null,null,null,null,0,null,null,null,null,null,0,null,null,null,null,0,0,0,0,0,0,0,0,null,null,0,0,0,0,0,0,0,0,null,null,0,0,0,0,0,0,0,0,null,null,0,0,0,0,0,0,0,0,null,null,0,0,0,0,-4,"X",null,0,0,-4,"X",0,2,0,174,-4,"X",0,0,0,0,-4,"X",0,2,0,174,-4,"X",0,0,0,0,-4,"X",0,2,0,174,-4,"X",0,0,0,0,-4,"X",0,2,0,174,-4,"X",0,0,null,-4,"X",0,1,0,174,-4,"X",0,null,null,null,null,null,null,null,{"$f":"EY686","v":2},2,2,2,2,2,2,2,1,2,2,2,2,2,2,2,2,2,2,2,2,2,2,2,2,2,2,2,2,2,2,2,2,2,2,2,2,2,2,1,2,2,2,2,{"$f":"GQ686","v":2},2,2,2,2,2,2,2,2,2,2,2,2,2,2,2,2,2,2,2,2,2,2,2,2,2,2,2,2,2,2,2,2,2,null,null,"Langue étrangère (Gashklar)",null,"",null,"",null,""]
[null,null,null,"Sciences/Sciences humaines : Sciences 2"," ",null,null,null,null,{"$f":"IF(AND($E177<>\" \",$E$153<>\"Sciences/Sciences humaines\"),\"ERREUR\",\" \")","v":" "},null,null,"République du Corail",null,null,"Langue étrangère (Isitac) * PN","X","INT","PRE",null,-2,"X",{"$f":"IF(Z177=10,10+$W$130,IF(V177=\"X\",\"X\",U177+V177))","v":"X"},null,-4,0,null,null,null,null,null,0,null,null,null,null,null,0,null,null,null,null,0,0,0,0,0,0,0,0,null,null,0,0,0,0,0,0,0,0,null,null,0,0,0,0,0,0,0,0,null,null,0,0,0,0,0,0,0,0,null,null,0,0,0,0,-4,"X",null,0,0,-4,"X",0,2,0,175,-4,"X",0,0,0,0,-4,"X",0,2,0,175,-4,"X",0,0,0,0,-4,"X",0,2,0,175,-4,"X",0,0,0,0,-4,"X",0,2,0,175,-4,"X",0,0,null,-4,"X",0,1,0,175,-4,"X",0,null,null,null,null,null,null,null,{"$f":"EY687","v":2},2,2,2,2,2,2,2,1,2,2,2,2,2,2,2,2,2,2,2,2,2,2,2,2,2,2,2,2,2,2,2,2,2,2,2,2,2,2,1,2,2,2,2,{"$f":"GQ687","v":1},1,1,1,1,1,2,2,2,2,2,2,2,2,2,2,2,2,2,2,2,2,2,2,2,2,2,2,2,2,2,2,2,2,null,null,"Langue étrangère (Isitac)",null,"",null,"",null,""]
[null,null,null,null,null,null,null,null,null,null,"Officiers",null,"Ligue Rouge",null,null,"Langue étrangère (Olakar) * PN","X","INT","PRE",null,-2,"X","X",null,-4,0,null,null,null,null,null,0,null,null,null,null,null,0,null,null,null,null,0,0,0,0,0,0,0,0,null,null,0,0,0,{"$f":"IF(BC$3=AU$3,AU183,IF(BC$3=AV$3,AV183,IF(BC$3=AW$3,AW183,IF(BC$3=AX$3,AX183,IF(BC$3=AY$3,AY183,IF(BC$3=AZ$3,AZ183,IF(BC$3=BA$3,BA183,IF(BC$3=BB$3,BB183,0))))))))","v":0},0,0,0,0,null,null,0,0,0,{"$f":"IF(BM$3=BE$3,BE183,IF(BM$3=BF$3,BF183,IF(BM$3=BG$3,BG183,IF(BM$3=BH$3,BH183,IF(BM$3=BI$3,BI183,IF(BM$3=BJ$3,BJ183,IF(BM$3=BK$3,BK183,IF(BM$3=BL$3,BL183,0))))))))","v":0},0,0,0,0,null,null,0,0,0,{"$f":"IF(BW$3=BO$3,BO183,IF(BW$3=BP$3,BP183,IF(BW$3=BQ$3,BQ183,IF(BW$3=BR$3,BR183,IF(BW$3=BS$3,BS183,IF(BW$3=BT$3,BT183,IF(BW$3=BU$3,BU183,IF(BW$3=BV$3,BV183,0))))))))","v":0},0,0,0,0,null,null,0,0,0,{"$f":"IF(CG$3=BY$3,BY183,IF(CG$3=BZ$3,BZ183,IF(CG$3=CA$3,CA183,IF(CG$3=CB$3,CB183,IF(CG$3=CC$3,CC183,IF(CG$3=CD$3,CD183,IF(CG$3=CE$3,CE183,IF(CG$3=CF$3,CF183,0))))))))","v":0},-4,"X",null,0,0,{"$f":"CI183+CM183","v":-4},"X",0,2,0,181,-4,"X",0,0,0,0,-4,"X",0,2,0,181,-4,"X",0,0,0,0,-4,"X",0,2,0,181,-4,"X",0,0,0,0,-4,"X",0,2,0,181,-4,"X",0,0,null,-4,"X",0,1,0,181,-4,"X",0,null,null,null,null,null,null,null,{"$f":"EY693","v":2},2,2,2,2,2,2,2,1,2,2,2,2,2,2,2,2,2,2,2,2,2,2,2,2,2,2,2,2,2,2,2,2,2,2,2,2,2,2,1,2,2,2,2,{"$f":"GQ693","v":2},2,2,2,2,2,2,2,2,2,2,2,2,2,2,2,2,2,2,2,2,2,2,2,2,2,2,2,2,2,2,2,2,2,null,null,"Langue étrangère (Olakar)",null,"",null,"",null,""]
[null,null,"PC Exp. Profession 1",null,0,null,null,null,null,{"$f":"IF(E186>E185,\"ERREUR\",\"\")","v":""},null,null,"Alliance Polaire",null,null,"Langue étrangère (Rénaréan) * PN","X","INT","PRE",null,-2,"X","X",null,-4,0,null,null,null,null,null,0,null,null,null,null,null,0,null,null,null,null,0,0,0,0,0,0,0,0,null,null,0,0,0,0,0,0,0,0,null,null,0,0,0,0,0,0,0,0,null,null,0,0,0,0,0,0,0,0,null,null,0,0,0,0,-4,"X",null,0,0,-4,"X",0,2,0,184,-4,"X",0,0,0,0,-4,"X",0,2,0,184,-4,"X",0,0,0,0,-4,"X",0,2,0,184,-4,"X",0,0,0,0,-4,"X",0,2,0,184,-4,"X",0,0,null,-4,"X",0,1,0,184,-4,"X",0,null,null,null,null,null,null,null,{"$f":"EY696","v":2},2,2,2,2,2,2,2,1,2,2,2,2,2,2,2,2,2,2,2,2,2,2,2,2,2,2,2,2,2,2,2,2,2,2,2,2,2,2,1,2,2,2,2,{"$f":"GQ696","v":2},2,2,2,2,2,2,2,2,2,2,2,2,2,2,2,2,2,2,2,2,2,2,2,2,2,2,2,2,2,2,2,2,2,null,null,"Langue étrangère (Rénaréan)",null,"",null,"",null,""]
[0,null,null,"Connaissance nation au choix 2"," ",null,null,null,null," ",null,null,"Azuran noble",null,null,"Langue ancienne (Azuréen) *","X","INT","INT",null,-2,"X","X",null,-4,null,null,null,null,null,null,0,null,null,null,null,null,0,null,null,null,null,null,0,0,0,0,0,0,null,null,null,0,0,0,0,0,0,0,null,null,null,0,0,0,0,0,0,0,null,null,null,0,0,0,0,0,0,0,null,null,null,0,0,0,0,-4,"X",null,0,0,-4,"X",0,2,0,190,-4,"X",0,0,0,0,-4,"X",0,2,0,190,-4,"X",0,0,0,0,-4,"X",0,2,0,190,-4,"X",0,0,0,0,-4,"X",0,2,0,190,-4,"X",0,0,null,-4,"X",0,1,0,190,-4,"X",0,null,null,null,null,null,null,null,2,2,2,2,2,2,2,2,1,2,2,2,2,2,2,2,2,2,2,2,2,2,2,2,2,2,2,2,2,2,2,2,2,2,2,2,2,2,2,1,2,2,2,2,2,2,2,2,2,2,2,2,2,2,2,2,2,2,2,2,2,2,2,2,2,2,2,2,2,2,2,2,2,2,2,2,2,2,null,null,"Langue ancienne (Azuréen)",null,"",null,"",null,""]
[0,null,null,"Langue au choix"," ",null,null,null,null," ",null,null,null,null,null,"Langage des signes II (……….)","X","COO","PER",null,-2,"X","X",null,-4,null,null,null,null,null,null,0,null,null,null,null,null,0,null,null,null,null,null,0,0,0,0,0,0,null,null,null,0,0,0,0,0,0,0,null,null,null,0,0,0,0,0,0,0,null,null,null,0,0,0,0,0,0,0,null,null,null,0,0,0,0,-4,"X",null,0,0,-4,"X",0,2,0,194,-4,"X",0,0,0,0,-4,"X",0,2,0,194,-4,"X",0,0,0,0,-4,"X",0,2,0,194,-4,"X",0,0,0,0,-4,"X",0,2,0,194,-4,"X",0,0,null,-4,"X",0,1,0,194,-4,"X",0,null,null,null,null,null,null,null,2,2,2,2,2,2,2,2,1,2,2,2,2,2,2,2,2,2,2,2,2,2,2,2,2,2,2,2,2,2,2,2,2,2,2,2,2,2,2,1,2,2,2,2,2,2,2,2,2,2,2,2,2,2,2,2,2,2,2,2,2,2,2,2,2,2,2,2,2,2,2,2,2,2,2,2,2,2,null,null,"Langage des signes II (……….)",null,"",null,"",null,""]
[0,null,null,"Science liée aux produits fabriqués/vendus 3"," ",null,null,null,null," ",null,null,"Prêtres Trident",null,null,"Langage spécifique (Inésis) * PN","X","INT","INT",null,-2,"X","X",null,-4,null,null,null,null,null,null,0,null,null,null,null,null,0,null,null,null,null,null,0,0,0,0,0,0,null,null,null,0,0,0,0,0,0,0,null,null,null,0,0,0,0,0,0,0,null,null,null,0,0,0,0,0,0,0,null,null,null,0,0,0,0,-4,"X",null,0,0,-4,"X",0,2,0,200,-4,"X",0,0,0,0,-4,"X",0,2,0,200,-4,"X",0,0,0,0,-4,"X",0,2,0,200,-4,"X",0,0,0,0,-4,"X",0,2,0,200,-4,"X",0,0,null,-4,"X",0,1,0,200,-4,"X",0,null,null,null,null,null,null,null,2,2,2,2,2,2,2,2,1,2,1,2,2,2,2,2,2,2,2,2,2,2,2,2,2,1,2,2,2,2,2,2,2,2,2,2,2,2,2,1,2,2,2,2,2,2,2,2,2,2,2,2,2,2,2,2,2,2,2,2,2,2,2,2,2,2,2,2,2,2,2,2,2,2,2,2,2,2,null,null,"Langage spécifique (Inésis)",null,"",null,"",null,""]
[null,null,"Pts Comp. disponibles",null,{"$f":"(E206*IA371)+AVANTAGES_PROFESSIONNELS!CF1090-MJ_EXPERIENCE!E36","v":0},null,null,null,null,"*",null,null,"Ingénieurs",null,null,"Langage spécifique (Néolan) * PN","X","INT","INT",null,-2,"X","X",null,-4,null,null,null,null,null,null,0,null,null,null,null,null,0,null,null,null,null,null,0,0,0,0,0,0,null,null,null,0,0,0,0,0,0,0,null,null,null,0,0,0,0,0,0,0,null,null,null,0,0,0,0,0,0,0,null,null,null,0,0,0,0,-4,"X",null,0,0,-4,"X",0,2,0,205,-4,"X",0,0,0,0,-4,"X",0,2,0,205,-4,"X",0,0,0,0,-4,"X",0,2,0,205,-4,"X",0,0,0,0,-4,"X",0,2,0,205,-4,"X",0,0,null,-4,"X",0,1,0,205,-4,"X",0,null,null,null,null,null,null,null,2,2,2,2,2,2,2,2,1,2,2,2,2,2,2,2,2,2,2,2,2,2,2,2,2,2,2,1,2,2,2,2,2,2,1,2,2,2,2,1,2,2,1,2,2,2,2,2,2,2,2,2,2,2,2,2,2,2,2,2,2,2,2,2,2,2,2,2,2,2,2,2,2,2,2,2,2,2,null,null,"Langage spécifique (Néolan)",null,"",null,"",null,""]
[0,null,null,"Connaissance nation au choix 3"," ",null,null,null,null," ",null,"U ","Montagnes/Canyons",null,null,"Langage de la surface (Kern) * PN","X","INT","PRE",null,-2,"X","X",null,-4,0,null,null,null,null,null,0,null,null,null,null,null,0,null,null,null,null,0,0,0,0,0,0,0,0,null,null,0,0,0,0,0,0,0,0,null,null,0,0,0,0,0,0,0,0,null,null,0,0,0,0,0,0,0,0,null,null,0,0,0,0,-4,"X",null,0,0,-4,"X",0,2,0,211,-4,"X",0,0,0,0,-4,"X",0,2,0,211,-4,"X",0,0,0,0,-4,"X",0,2,0,211,-4,"X",0,0,0,0,-4,"X",0,2,0,211,-4,"X",0,0,null,-4,"X",0,1,0,211,-4,"X",0,null,null,null,null,null,null,null,{"$f":"EY723","v":2},2,2,2,2,2,2,2,1,2,2,2,2,2,2,2,2,2,2,2,2,2,2,2,2,2,2,2,2,2,2,2,2,2,2,2,2,2,2,1,2,2,2,2,{"$f":"GQ723","v":2},2,2,2,2,2,2,2,2,2,2,2,2,2,2,2,2,2,2,2,2,2,2,2,2,2,2,2,2,2,2,2,2,2,null,null,"Langage de la surface (Kern)",null,"",null,"",null,""]
[0,null,null,"Langue communauté d'accueil (si besoin)"," ",null,null,null,null,{"$f":"IF(AND(A217=0,E217<>\" \"),\"ERREUR\",\" \")","v":" "},null,"U ","Côtes/Erudits",null,null,"Langage surface (Terra Azuran) * PN","X","INT","PRE",null,-2,"X","X",null,-4,0,null,null,null,null,null,0,null,null,null,null,null,0,null,null,null,null,0,0,0,0,0,0,0,0,null,null,0,0,0,0,0,0,0,0,null,null,0,0,0,0,0,0,0,0,null,null,0,0,0,0,0,0,0,0,null,null,0,0,0,0,-4,"X",null,0,0,-4,"X",0,2,0,215,-4,"X",0,0,0,0,-4,"X",0,2,0,215,-4,"X",0,0,0,0,-4,"X",0,2,0,215,-4,"X",0,0,0,0,-4,"X",0,2,0,215,-4,"X",0,0,null,-4,"X",0,1,0,215,-4,"X",0,null,null,null,null,null,null,null,{"$f":"EY727","v":2},2,2,2,2,2,2,2,1,2,2,2,2,2,2,2,2,2,2,2,2,2,2,2,2,2,2,2,2,2,2,2,2,2,2,2,2,2,2,1,2,2,2,2,{"$f":"GQ727","v":2},2,2,2,2,2,2,2,2,2,2,2,2,2,2,2,2,2,2,2,2,2,2,2,2,2,2,2,2,2,2,2,2,2,null,null,"Langage surface (Terra Azuran)",null,"",null,"",null,""]
[null,null,null,null,null,null,null,null,null,null,null,null,null,null,null,"Lanques/Langages 12",null,"FOR","FOR",null,-2,0,-2,null,0,null,null,null,null,null,null,0,null,null,null,null,null,0,null,null,null,null,null,0,0,0,null,null,null,null,null,null,null,null,0,0,null,null,null,null,null,null,null,null,0,0,null,null,null,null,null,null,null,null,0,0,null,null,null,null,null,null,null,null,0,0,0,0,null,0,0,0,0,0,2,0,220,0,0,0,0,0,0,0,0,0,2,0,220,0,0,0,0,0,0,0,0,0,2,0,220,0,0,0,0,0,0,0,0,0,2,0,220,0,0,0,0,null,0,0,0,1,0,220,0,0,0,null,null,null,null,null,null,null,{"$f":"EY732","v":2},2,2,2,2,2,2,2,1,2,2,2,2,2,2,2,2,2,2,2,2,2,2,2,2,2,2,2,2,2,2,2,2,2,2,2,2,2,2,1,2,2,2,2,{"$f":"GQ732","v":2},2,2,2,2,2,2,2,2,2,2,2,2,2,2,2,2,2,2,2,2,2,2,2,2,2,2,2,2,2,2,2,2,2,null,null,"Lanques/Langages 12",null,"",null,"",null,""]
[null,null,null,null,null,null,null,null,null,null,null,null,null,null,null,"Lanques/Langages 16",null,"FOR","FOR",null,-2,0,-2,null,0,null,null,null,null,null,null,0,null,null,null,null,null,0,null,null,null,null,null,0,0,0,null,null,null,null,null,null,null,null,0,0,null,null,null,null,null,null,null,null,0,0,null,null,null,null,null,null,null,null,0,0,null,null,null,null,null,null,null,null,0,0,0,0,null,0,0,0,0,0,2,0,224,0,0,0,0,0,0,0,0,0,2,0,224,0,0,0,0,0,0,0,0,0,2,0,224,0,0,0,0,0,0,0,0,0,2,0,224,0,0,0,0,null,0,0,0,1,0,224,0,0,0,null,null,null,null,null,null,null,{"$f":"EY736","v":2},2,2,2,2,2,2,2,1,2,2,2,2,2,2,2,2,2,2,2,2,2,2,2,2,2,2,2,2,2,2,2,2,2,2,2,2,2,2,1,2,2,2,2,{"$f":"GQ736","v":2},2,2,2,2,2,2,2,2,2,2,2,2,2,2,2,2,2,2,2,2,2,2,2,2,2,2,2,2,2,2,2,2,2,null,null,"Lanques/Langages 16",null,"",null,"",null,""]
[{"$f":"IF(HLOOKUP($E$204,$EY$356:$HX$381,$HY380,)=1,1,0)","v":0},null,null,"Science liée aux produits fabriqués/vendus 2"," ",null,null,null,null,{"$f":"IF(AND(A232=0,E232<>\" \"),\"ERREUR\",\" \")","v":" "},null,null,null,null,null,"Manœuvre d'armures (Atmosphériques) *","X","COO","ADA",null,{"$f":"HLOOKUP(R232,$IZ$369:$JH$370,2,)+HLOOKUP(S232,$IZ$369:$JH$370,2,)","v":-2},{"$f":"EP232","v":"X"},{"$f":"IF(V232=\"X\",\"X\",U232+V232)","v":"X"},null,{"$f":"IF(Q232=\"X\",-4,Q232)","v":-4},null,null,null,null,null,null,{"$f":"IF($AF$3=$AA$3,AA232,IF($AF$3=$AB$3,AB232,IF($AF$3=$AC$3,AC232,IF($AF$3=$AD$3,AD232,0))))","v":0},null,null,null,null,null,{"$f":"IF($AL$3=$AG$3,AG232,IF($AL$3=$AH$3,AH232,IF($AL$3=$AI$3,AI232,IF($AL$3=$AJ$3,AJ232,0))))","v":0},null,null,null,null,null,0,0,0,null,null,null,null,null,null,null,null,{"$f":"IF(BD232=0,0,IF($IA$371=20,BD232+1,BD232))","v":0},0,null,null,null,null,null,null,null,null,{"$f":"IF(BN232=0,0,IF($IA$371=20,BN232+1,BN232))","v":0},0,null,null,null,null,null,null,null,null,{"$f":"IF(BX232=0,0,IF($IA$371=20,BX232+1,BX232))","v":0},0,null,null,null,null,null,null,null,null,{"$f":"IF(CH232=0,0,IF($IA$371=20,CH232+1,CH232))","v":0},0,{"$f":"IF(Q232=\"X\",Z232+AF232+AL232+AT232+BC232+BM232+BW232+CG232-4,IF(Q232=-3,Z232+AF232+AL232+AT232+BC232+BM232+BW232+CG232-3,Z232+AF232+AL232+AT232+BC232+BM232+BW232+CG232))","v":-4},{"$f":"IF(CI232=-4,\"X\",CI232)","v":"X"},null,{"$f":"IF($E$286=P232,1,IF($E$287=P232,1,IF($E$288=P232,1,IF($E$289=P232,1,IF($E$290=P232,1,IF($E$291=P232,1,0))))))","v":0},null,-4,{"$f":"IF(CN232=-4,\"X\",CN232)","v":"X"},0,{"$f":"IF(CL232=1,1,(HLOOKUP($CR$3,$EY$3:$HX$349,CS232,)))","v":2},0,230,{"$f":"CN232+CR232","v":-4},{"$f":"IF(CT232=-4,\"X\",CT232)","v":"X"},0,0,{"$f":"IF($E$294=P232,1,IF($E$295=P232,1,IF($E$296=P232,1,IF($E$297=P232,1,IF($E$298=P232,1,IF($E$299=P232,1,0))))))","v":0},null,{"$f":"CT232+CY232","v":-4},{"$f":"IF(CZ232=-4,\"X\",CZ232)","v":"X"},0,{"$f":"IF(CX232=1,1,(HLOOKUP($DD$3,$EY$3:$HX$349,DE232,)))","v":2},0,230,{"$f":"CZ232+DD232","v":-4},{"$f":"IF(DF232=-4,\"X\",DF232)","v":"X"},0,0,{"$f":"IF($E$302=P232,1,IF($E$303=P232,1,IF($E$314=P232,1,IF($E$315=P232,1,IF($E$316=P232,1,IF($E$317=P232,1,0))))))","v":0},null,{"$f":"DF232+DK232","v":-4},{"$f":"IF(DL232=-4,\"X\",DL232)","v":"X"},0,{"$f":"IF(DJ232=1,1,(HLOOKUP($DP$3,$EY$3:$HX$349,DQ232,)))","v":2},0,230,{"$f":"DL232+DP232","v":-4},{"$f":"IF(DR232=-4,\"X\",DR232)","v":"X"},0,0,{"$f":"IF($E$320=P232,1,IF($E$321=P232,1,IF($E$322=P232,1,IF($E$323=P232,1,IF($E$324=P232,1,IF($E$325=P232,1,0))))))","v":0},null,{"$f":"DR232+DW232","v":-4},{"$f":"IF(DX232=-4,\"X\",DX232)","v":"X"},0,{"$f":"IF(DV232=1,1,(HLOOKUP($EB$3,$EY$3:$HX$349,EC232,)))","v":2},0,230,{"$f":"DX232+EB232","v":-4},{"$f":"IF(ED232=-4,\"X\",ED232)","v":"X"},0,0,null,{"$f":"ED232+EH232","v":-4},{"$f":"IF(EI232=-4,\"X\",EI232)","v":"X"},0,1,0,230,{"$f":"EI232+EM232","v":-4},{"$f":"IF(EO232=-4,\"X\",EO232)","v":"X"},0,null,null,null,null,null,null,null,2,2,2,2,2,2,2,2,2,2,2,2,2,2,2,2,2,2,2,2,2,1,2,2,2,2,2,2,2,2,2,1,2,2,2,2,2,2,2,2,2,2,1,2,2,2,2,2,2,2,2,2,2,2,2,2,2,2,2,2,2,2,2,2,2,2,2,2,2,2,2,2,2,2,2,2,2,2,null,null,"Manœuvre d'armures (Atmosphériques)",null,"",null,"",null,"",null,{"$f":"CONCATENATE(IG232,IG233,IG234,IG235,IG236,IG237,IG238,IG239,IG240,IG241,IG242,IG243,IG244,IG245,IG246,IG247,IG248,IG249,IG250)","v":"Manœuvre d'armures (Sous-marines) -1, Pilotage (Navires légers) -5, Pilotage (Scooters sous-marins) 0, "}]
[null,null,"PC Exp. Profession 3",null,0,null,null,null,null,{"$f":"IF(E237>E236,\"ERREUR\",\"\")","v":""},null,null,null,null,null,"Pilotage (Chasseurs atmosphériques) +","X","INT","ADA",null,-2,"X","X",null,-4,null,null,null,null,null,null,0,null,null,null,null,null,0,null,null,null,null,null,0,0,0,null,null,null,null,null,null,null,null,0,0,null,null,null,null,null,null,null,null,0,0,null,null,null,null,null,null,null,null,0,0,null,null,null,null,null,null,null,null,0,0,-4,"X",null,0,null,-4,"X",0,2,0,235,-4,"X",0,0,0,null,-4,"X",0,2,0,235,-4,"X",0,0,0,null,-4,"X",0,2,0,235,-4,"X",0,0,0,null,-4,"X",0,2,0,235,-4,"X",0,0,null,-4,"X",0,1,0,235,-4,"X",0,null,null,null,null,null,null,null,2,2,2,2,2,2,2,2,2,2,2,2,2,2,2,2,2,2,2,2,2,1,2,2,2,2,2,2,2,2,2,2,2,2,2,2,2,2,2,2,2,2,1,2,2,2,2,2,2,2,2,2,2,2,2,2,2,2,2,2,2,2,2,2,2,2,2,2,2,2,2,2,2,2,2,2,2,2,null,null,"Pilotage (Chasseurs atmosphériques)",null,"",null,"",null,""]
[null,null,"Pts Comp. restants",null,{"$f":"DP353","v":0},null,null,null,null,{"$f":"IF(E239<0,\"ERREUR\",\"\")","v":""},null,null,null,null,null,"Pilotage (Navires lourds) +","X","INT","INT",null,-2,"X","X",null,-4,null,null,null,null,null,null,0,null,null,null,null,null,0,null,null,null,null,null,0,0,0,null,null,null,null,1,null,null,null,0,0,null,null,null,null,1,null,null,null,0,0,null,null,null,null,1,null,null,null,0,0,null,null,null,null,1,null,null,null,0,0,-4,"X",null,0,null,-4,"X",0,2,0,237,-4,"X",0,0,0,null,-4,"X",0,2,0,237,-4,"X",0,0,0,null,-4,"X",0,2,0,237,-4,"X",0,0,0,null,-4,"X",0,2,0,237,-4,"X",0,0,null,-4,"X",0,1,0,237,-4,"X",0,null,null,null,null,null,null,null,2,2,2,2,2,2,2,2,2,2,2,2,2,2,2,2,1,2,2,2,2,2,2,2,2,2,2,2,2,2,2,2,2,1,2,2,2,2,2,2,2,2,2,2,2,2,2,2,2,2,2,2,2,2,2,2,2,2,2,2,2,2,2,2,2,2,2,2,2,2,2,2,2,2,2,2,2,2,null,null,"Pilotage (Navires lourds)",null,"",null,"",null,""]
[{"$f":"IF(HLOOKUP($E$235,$EY$356:$HX$381,$HY370,)=1,1,0)","v":0},null,null,"Connaissance nation au choix"," ",null,null,null,null,{"$f":"IF(AND(A242=0,E242<>\" \"),\"ERREUR\",\" \")","v":" "},null,null,null,null,null,"Pilotage (Véhicules de sol)",null,"PER","ADA",null,-2,0,-2,null,0,null,null,null,null,null,null,0,null,null,null,null,null,0,null,{"$f":"IF($E$49=\"Véhicules de sol\",1,)","v":0},null,{"$f":"IF($E$49=\"Véhicules de sol\",1,IF($E$52=\"Véhicules de sol\",1,))","v":0},null,0,0,0,null,null,null,null,null,null,null,null,0,0,null,null,null,null,null,null,null,null,0,0,null,null,null,null,null,null,null,null,0,0,null,null,null,null,null,null,null,null,0,0,0,0,null,0,null,0,0,0,2,0,240,0,0,0,0,0,null,0,0,0,2,0,240,0,0,0,0,0,null,0,0,0,2,0,240,0,0,0,0,0,null,0,0,0,2,0,240,0,0,0,0,null,0,0,0,1,0,240,0,0,0,null,null,null,null,null,null,null,2,2,2,2,2,2,1,2,2,2,2,2,2,2,2,1,1,2,1,2,2,2,1,2,2,2,2,2,2,1,1,1,2,2,2,2,2,2,2,2,2,2,1,2,2,2,2,2,2,2,2,2,2,2,2,2,2,2,2,2,2,2,2,2,2,2,2,2,2,2,2,2,2,2,2,2,2,2,null,null,"Pilotage (Véhicules de sol)",null,"",null,"",null,""]
[null,null,null,null,null,null,null,null,null,null,null,null,null,null,null,"Pilotage 03",null,"FOR","FOR",null,-2,0,-2,null,0,null,null,null,null,null,null,0,null,null,null,null,null,0,null,null,null,null,null,0,0,0,null,null,null,null,null,null,null,null,0,0,null,null,null,null,null,null,null,null,0,0,null,null,null,null,null,null,null,null,0,0,null,null,null,null,null,null,null,null,0,0,0,0,null,0,null,0,0,0,0,0,245,0,0,0,0,0,null,0,0,0,0,0,245,0,0,0,0,0,null,0,0,0,0,0,245,0,0,0,0,0,null,0,0,0,0,0,245,0,0,0,0,null,0,0,0,1,0,245,0,0,0,null,null,null,null,null,null,null,null,null,null,null,null,null,null,null,null,null,null,null,null,null,null,null,null,null,null,null,null,null,null,null,null,null,null,null,null,null,null,null,null,null,null,null,null,null,null,null,null,null,null,null,null,null,null,null,null,null,null,null,null,null,null,null,null,null,null,null,null,null,null,null,null,null,null,null,null,null,null,null,null,null,null,null,null,null,null,null,"Pilotage 03",null,"",null,"",null,""]
[0,null,null,"Langue au choix"," ",null,null,null,null,{"$f":"IF(AND(A252=0,E252<>\" \"),\"ERREUR\",\" \")","v":" "},null,"U ",null,null,null,"Appel-Répulsion I (par espèce)",null,"INT","PER",null,{"$f":"HLOOKUP(R252,$IZ$369:$JH$370,2,)+HLOOKUP(S252,$IZ$369:$JH$370,2,)","v":-2},{"$f":"EP252","v":0},{"$f":"IF(V252=\"X\",\"X\",U252+V252)","v":-2},null,{"$f":"IF(Q252=\"X\",-4,Q252)","v":0},null,null,null,null,null,null,{"$f":"IF($AF$3=$AA$3,AA252,IF($AF$3=$AB$3,AB252,IF($AF$3=$AC$3,AC252,IF($AF$3=$AD$3,AD252,0))))","v":0},null,null,null,null,null,{"$f":"IF($AL$3=$AG$3,AG252,IF($AL$3=$AH$3,AH252,IF($AL$3=$AI$3,AI252,IF($AL$3=$AJ$3,AJ252,0))))","v":0},null,null,null,null,null,0,0,0,null,null,null,null,null,null,null,null,{"$f":"IF(BD252=0,0,IF($IA$371=20,BD252+1,BD252))","v":0},{"$f":"IF(BC$3=AU$3,AU252,IF(BC$3=AV$3,AV252,IF(BC$3=AW$3,AW252,IF(BC$3=AX$3,AX252,IF(BC$3=AY$3,AY252,IF(BC$3=AZ$3,AZ252,IF(BC$3=BA$3,BA252,IF(BC$3=BB$3,BB252,0))))))))","v":0},null,null,null,null,null,null,null,null,{"$f":"IF(BN252=0,0,IF($IA$371=20,BN252+1,BN252))","v":0},{"$f":"IF(BM$3=BE$3,BE252,IF(BM$3=BF$3,BF252,IF(BM$3=BG$3,BG252,IF(BM$3=BH$3,BH252,IF(BM$3=BI$3,BI252,IF(BM$3=BJ$3,BJ252,IF(BM$3=BK$3,BK252,IF(BM$3=BL$3,BL252,0))))))))","v":0},null,null,null,null,null,null,null,null,{"$f":"IF(BX252=0,0,IF($IA$371=20,BX252+1,BX252))","v":0},{"$f":"IF(BW$3=BO$3,BO252,IF(BW$3=BP$3,BP252,IF(BW$3=BQ$3,BQ252,IF(BW$3=BR$3,BR252,IF(BW$3=BS$3,BS252,IF(BW$3=BT$3,BT252,IF(BW$3=BU$3,BU252,IF(BW$3=BV$3,BV252,0))))))))","v":0},null,null,null,null,null,null,null,null,{"$f":"IF(CH252=0,0,IF($IA$371=20,CH252+1,CH252))","v":0},{"$f":"IF(CG$3=BY$3,BY252,IF(CG$3=BZ$3,BZ252,IF(CG$3=CA$3,CA252,IF(CG$3=CB$3,CB252,IF(CG$3=CC$3,CC252,IF(CG$3=CD$3,CD252,IF(CG$3=CE$3,CE252,IF(CG$3=CF$3,CF252,0))))))))","v":0},{"$f":"IF(Q252=\"X\",Z252+AF252+AL252+AT252+BC252+BM252+BW252+CG252-4,IF(Q252=-3,Z252+AF252+AL252+AT252+BC252+BM252+BW252+CG252-3,Z252+AF252+AL252+AT252+BC252+BM252+BW252+CG252))","v":0},{"$f":"IF(CI252=-4,\"X\",CI252)","v":0},null,{"$f":"IF($E$286=P252,1,IF($E$287=P252,1,IF($E$288=P252,1,IF($E$289=P252,1,IF($E$290=P252,1,IF($E$291=P252,1,0))))))","v":0},null,{"$f":"CI252+CM252","v":0},{"$f":"IF(CN252=-4,\"X\",CN252)","v":0},0,{"$f":"IF(CL252=1,1,(HLOOKUP($CR$3,$EY$3:$HX$349,CS252,)))","v":2},0,250,{"$f":"CN252+CR252","v":0},{"$f":"IF(CT252=-4,\"X\",CT252)","v":0},0,0,{"$f":"IF($E$294=P252,1,IF($E$295=P252,1,IF($E$296=P252,1,IF($E$297=P252,1,IF($E$298=P252,1,IF($E$299=P252,1,0))))))","v":0},null,{"$f":"CT252+CY252","v":0},{"$f":"IF(CZ252=-4,\"X\",CZ252)","v":0},0,{"$f":"IF(CX252=1,1,(HLOOKUP($DD$3,$EY$3:$HX$349,DE252,)))","v":2},0,250,{"$f":"CZ252+DD252","v":0},{"$f":"IF(DF252=-4,\"X\",DF252)","v":0},0,0,{"$f":"IF($E$302=P252,1,IF($E$303=P252,1,IF($E$314=P252,1,IF($E$315=P252,1,IF($E$316=P252,1,IF($E$317=P252,1,0))))))","v":0},null,{"$f":"DF252+DK252","v":0},{"$f":"IF(DL252=-4,\"X\",DL252)","v":0},0,{"$f":"IF(DJ252=1,1,(HLOOKUP($DP$3,$EY$3:$HX$349,DQ252,)))","v":2},0,250,{"$f":"DL252+DP252","v":0},{"$f":"IF(DR252=-4,\"X\",DR252)","v":0},0,0,{"$f":"IF($E$320=P252,1,IF($E$321=P252,1,IF($E$322=P252,1,IF($E$323=P252,1,IF($E$324=P252,1,IF($E$325=P252,1,0))))))","v":0},null,{"$f":"DR252+DW252","v":0},{"$f":"IF(DX252=-4,\"X\",DX252)","v":0},0,{"$f":"IF(DV252=1,1,(HLOOKUP($EB$3,$EY$3:$HX$349,EC252,)))","v":2},0,250,{"$f":"DX252+EB252","v":0},{"$f":"IF(ED252=-4,\"X\",ED252)","v":0},0,0,null,{"$f":"ED252+EH252","v":0},{"$f":"IF(EI252=-4,\"X\",EI252)","v":0},0,1,0,250,{"$f":"EI252+EM252","v":0},{"$f":"IF(EO252=-4,\"X\",EO252)","v":0},0,null,null,null,null,null,null,null,2,2,2,2,2,2,2,2,2,2,2,2,2,2,2,2,2,2,2,2,2,2,2,2,2,2,2,2,2,2,2,2,2,2,2,2,2,2,2,2,1,2,2,2,2,2,2,2,2,2,2,2,2,2,2,2,2,2,2,2,2,2,2,2,2,2,2,2,2,2,2,2,2,2,2,2,2,2,null,null,"Appel-Répulsion I (par espèce)",null,"",null,"",null,"",null,{"$f":"CONCATENATE(IG252,IG253,IG254,IG255,IG256,IG257,IG258,IG259,IG260,IG261,IG262,IG263,IG264,IG265)","v":"Connaissance d'un milieu naturel (Océans) -4, "}]
[0,null,null,"Science liée aux produits fabriqués/vendus 2"," ",null,null,null,null," ",null,null,null,null,null,"Connaissance d'un milieu naturel (Océans) *",-3,"INT","ADA",null,-2,-2,-4,null,-3,null,1,null,null,null,null,{"$f":"IF($AF$3=$AA$3,AA257,IF($AF$3=$AB$3,AB257,IF($AF$3=$AC$3,AC257,IF($AF$3=$AD$3,AD257,0))))","v":1},null,null,null,null,null,{"$f":"IF($AL$3=$AG$3,AG257,IF($AL$3=$AH$3,AH257,IF($AL$3=$AI$3,AI257,IF($AL$3=$AJ$3,AJ257,0))))","v":0},null,1,null,null,null,0,0,0,null,null,null,null,1,null,null,null,{"$f":"IF(BD257=0,0,IF($IA$371=20,BD257+1,BD257))","v":0},0,null,null,null,null,1,null,null,null,{"$f":"IF(BN257=0,0,IF($IA$371=20,BN257+1,BN257))","v":0},0,null,null,null,null,1,null,null,null,{"$f":"IF(BX257=0,0,IF($IA$371=20,BX257+1,BX257))","v":0},0,null,null,null,null,1,null,null,null,0,0,-2,{"$f":"IF(CI257=-4,\"X\",CI257)","v":-2},null,0,null,-2,-2,1,2,0,255,-2,-2,0,0,0,null,-2,-2,1,2,0,255,-2,-2,0,0,0,null,-2,-2,1,2,0,255,-2,-2,0,0,0,null,-2,-2,1,2,0,255,-2,-2,0,0,null,-2,-2,0,1,0,255,-2,-2,0,null,null,null,null,null,null,null,2,2,2,2,2,2,1,2,2,2,1,2,2,2,2,1,1,1,1,1,2,2,1,1,2,2,2,2,2,1,2,2,2,1,2,1,2,2,2,2,2,2,2,2,2,2,2,2,2,2,1,2,2,2,2,2,2,2,2,2,2,2,2,2,2,2,2,2,2,2,2,2,2,2,2,2,2,2,null,null,"Connaissance d'un milieu naturel (Océans)",null,"Connaissance d'un milieu naturel (Océans)",null,-4,null,"Connaissance d'un milieu naturel (Océans) -4, "]
[null,null,"Pts Comp. disponibles",null,{"$f":"(E262*IA371)+AVANTAGES_PROFESSIONNELS!CF1144-MJ_EXPERIENCE!E38","v":0},null,null,null,null,"*",null,"U ",null,null,null,"Sensation du Flux",null,"INT","PER",null,{"$f":"HLOOKUP(R263,$IZ$369:$JH$370,2,)+HLOOKUP(S263,$IZ$369:$JH$370,2,)","v":-2},{"$f":"EP263","v":0},{"$f":"IF(V263=\"X\",\"X\",U263+V263)","v":-2},null,{"$f":"IF(Q263=\"X\",-4,Q263)","v":0},null,null,null,null,null,null,{"$f":"IF($AF$3=$AA$3,AA263,IF($AF$3=$AB$3,AB263,IF($AF$3=$AC$3,AC263,IF($AF$3=$AD$3,AD263,0))))","v":0},null,null,null,null,null,{"$f":"IF($AL$3=$AG$3,AG263,IF($AL$3=$AH$3,AH263,IF($AL$3=$AI$3,AI263,IF($AL$3=$AJ$3,AJ263,0))))","v":0},null,null,null,null,null,0,0,0,null,null,null,null,null,null,null,null,{"$f":"IF(BD263=0,0,IF($IA$371=20,BD263+1,BD263))","v":0},{"$f":"IF(BC$3=AU$3,AU263,IF(BC$3=AV$3,AV263,IF(BC$3=AW$3,AW263,IF(BC$3=AX$3,AX263,IF(BC$3=AY$3,AY263,IF(BC$3=AZ$3,AZ263,IF(BC$3=BA$3,BA263,IF(BC$3=BB$3,BB263,0))))))))","v":0},null,null,null,null,null,null,null,null,{"$f":"IF(BN263=0,0,IF($IA$371=20,BN263+1,BN263))","v":0},{"$f":"IF(BM$3=BE$3,BE263,IF(BM$3=BF$3,BF263,IF(BM$3=BG$3,BG263,IF(BM$3=BH$3,BH263,IF(BM$3=BI$3,BI263,IF(BM$3=BJ$3,BJ263,IF(BM$3=BK$3,BK263,IF(BM$3=BL$3,BL263,0))))))))","v":0},null,null,null,null,null,null,null,null,{"$f":"IF(BX263=0,0,IF($IA$371=20,BX263+1,BX263))","v":0},{"$f":"IF(BW$3=BO$3,BO263,IF(BW$3=BP$3,BP263,IF(BW$3=BQ$3,BQ263,IF(BW$3=BR$3,BR263,IF(BW$3=BS$3,BS263,IF(BW$3=BT$3,BT263,IF(BW$3=BU$3,BU263,IF(BW$3=BV$3,BV263,0))))))))","v":0},null,null,null,null,null,null,null,null,{"$f":"IF(CH263=0,0,IF($IA$371=20,CH263+1,CH263))","v":0},{"$f":"IF(CG$3=BY$3,BY263,IF(CG$3=BZ$3,BZ263,IF(CG$3=CA$3,CA263,IF(CG$3=CB$3,CB263,IF(CG$3=CC$3,CC263,IF(CG$3=CD$3,CD263,IF(CG$3=CE$3,CE263,IF(CG$3=CF$3,CF263,0))))))))","v":0},0,{"$f":"IF(CI263=-4,\"X\",CI263)","v":0},null,0,null,{"$f":"CI263+CM263","v":0},{"$f":"IF(CN263=-4,\"X\",CN263)","v":0},0,2,0,261,{"$f":"CN263+CR263","v":0},{"$f":"IF(CT263=-4,\"X\",CT263)","v":0},0,0,0,null,{"$f":"CT263+CY263","v":0},{"$f":"IF(CZ263=-4,\"X\",CZ263)","v":0},0,2,0,261,{"$f":"CZ263+DD263","v":0},{"$f":"IF(DF263=-4,\"X\",DF263)","v":0},0,0,0,null,{"$f":"DF263+DK263","v":0},{"$f":"IF(DL263=-4,\"X\",DL263)","v":0},0,2,0,261,{"$f":"DL263+DP263","v":0},{"$f":"IF(DR263=-4,\"X\",DR263)","v":0},0,0,0,null,{"$f":"DR263+DW263","v":0},{"$f":"IF(DX263=-4,\"X\",DX263)","v":0},0,2,0,261,{"$f":"DX263+EB263","v":0},{"$f":"IF(ED263=-4,\"X\",ED263)","v":0},0,0,null,{"$f":"ED263+EH263","v":0},{"$f":"IF(EI263=-4,\"X\",EI263)","v":0},0,1,0,261,{"$f":"EI263+EM263","v":0},{"$f":"IF(EO263=-4,\"X\",EO263)","v":0},0,null,null,null,null,null,null,null,2,2,2,2,2,2,2,2,2,2,2,2,2,2,2,2,2,2,2,2,2,2,2,2,2,2,2,2,2,2,2,2,2,2,2,2,2,2,1,1,1,1,2,2,1,1,1,1,1,1,2,2,2,2,2,2,2,2,2,2,2,2,2,2,2,2,2,2,2,2,2,2,2,2,2,2,2,2,null,null,"Sensation du Flux",null,"",null,"",null,""]
[0,null,null,"Connaissance nation au choix 2"," ",null,null,null,null,{"$f":"IF(AND(A269=0,E269<>\" \"),\"ERREUR\",\" \")","v":" "},null,null,null,null,null,"Armurerie","X","INT","COO",null,-2,"X","X",null,-4,null,null,null,null,null,null,0,null,null,null,null,null,0,null,null,null,null,null,0,0,0,null,null,null,null,null,null,null,null,0,0,null,null,null,null,null,null,null,null,0,0,null,null,null,null,null,null,null,null,0,0,null,null,null,null,null,null,null,null,0,0,-4,"X",null,0,null,-4,"X",0,2,0,267,-4,"X",0,0,0,null,-4,"X",0,2,0,267,-4,"X",0,0,0,null,-4,"X",0,2,0,267,-4,"X",0,0,0,null,-4,"X",0,2,0,267,-4,"X",0,0,null,-4,"X",0,1,0,267,-4,"X",0,null,null,null,null,null,null,null,2,2,2,2,2,2,2,2,2,2,2,2,2,2,2,2,2,2,2,2,2,2,2,2,2,2,2,2,2,2,2,2,2,2,1,2,2,2,2,2,2,2,2,2,2,2,2,2,2,2,2,2,2,2,2,2,2,2,2,2,2,2,2,2,2,2,2,2,2,2,2,2,2,2,2,2,2,2,null,null,"Armurerie",null,"",null,"",null,""]
[0,null,null,"Conn. nation/organisation au choix"," ",null,null,null,null," ",null,null,null,null,null,"Art/Artisanat I (……….)","X","INT","PER",null,-2,"X","X",null,-4,null,null,null,null,null,null,0,null,null,null,null,null,0,null,null,null,null,null,0,0,0,null,null,null,null,null,null,null,null,0,0,null,null,null,null,null,null,null,null,0,0,null,null,null,null,null,null,null,null,0,0,null,null,null,null,null,null,null,null,0,0,-4,"X",null,0,null,-4,"X",0,2,0,270,-4,"X",0,0,0,null,-4,"X",0,2,0,270,-4,"X",0,0,0,null,-4,"X",0,2,0,270,-4,"X",0,0,0,null,-4,"X",0,2,0,270,-4,"X",0,0,null,-4,"X",0,1,0,270,-4,"X",0,null,null,null,null,null,null,null,2,1,2,2,2,2,2,2,2,2,2,2,1,2,2,2,2,2,2,2,2,2,2,2,2,2,2,2,2,2,2,2,2,2,2,2,2,2,2,2,2,2,2,1,1,1,1,1,1,1,2,2,2,2,2,2,2,2,2,2,2,2,2,2,2,2,2,2,2,2,2,2,2,2,2,2,2,2,null,null,"Art/Artisanat I (……….)",null,"",null,"",null,""]
[0,null,null,"Science liée aux produits fabriqués/vendus 2"," ",null,null,null,null," ",null,null,null,null,null,"Electronique +","X","INT","INT",null,-2,"X","X",null,-4,null,null,1,1,null,null,0,null,null,null,null,null,0,null,null,null,1,null,0,0,0,null,null,2,null,null,null,null,null,0,0,null,null,2,null,null,null,null,null,0,0,null,null,2,null,null,null,null,null,0,0,null,null,2,null,null,null,null,null,0,0,-4,"X",null,0,null,-4,"X",0,2,0,276,-4,"X",0,0,0,null,-4,"X",0,2,0,276,-4,"X",0,0,0,null,-4,"X",0,2,0,276,-4,"X",0,0,0,null,-4,"X",0,2,0,276,-4,"X",0,0,null,-4,"X",0,1,0,276,-4,"X",0,null,null,null,null,null,null,null,2,2,2,2,2,2,2,2,2,2,2,2,2,2,2,2,2,2,2,2,2,1,1,2,2,2,2,1,2,2,2,2,2,2,1,2,2,2,2,2,2,2,1,2,2,2,2,2,2,2,2,2,2,2,2,2,2,2,2,2,2,2,2,2,2,2,2,2,2,2,2,2,2,2,2,2,2,2,null,null,"Electronique",null,"",null,"",null,""]
[null,null,null,null,null,null,null,null,null,null,null,null,null,null,null,"Génie technique (Architecture/Génie civil) +","X","INT","INT",null,-2,"X","X",null,-4,null,null,null,null,null,null,0,null,null,null,null,null,0,null,null,null,null,null,0,0,0,null,null,{"$f":"IF(VLOOKUP($E$70,$IE$477:$IF$487,2,)=$P282,3,0)","v":0},null,null,null,null,null,0,0,null,null,{"$f":"IF(VLOOKUP($E$100,$IE$477:$IF$487,2,)=$P282,3,0)","v":0},null,null,null,null,null,0,0,null,null,{"$f":"IF(VLOOKUP($E$135,$IE$477:$IF$487,2,)=$P282,3,0)","v":0},null,null,null,null,null,0,0,null,null,{"$f":"IF(VLOOKUP($E$160,$IE$477:$IF$487,2,)=$P282,3,0)","v":0},null,null,null,null,null,0,0,-4,"X",null,0,null,-4,"X",0,2,0,280,-4,"X",0,0,0,null,-4,"X",0,2,0,280,-4,"X",0,0,0,null,-4,"X",0,2,0,280,-4,"X",0,0,0,null,-4,"X",0,2,0,280,-4,"X",0,0,null,-4,"X",0,1,0,280,-4,"X",0,null,null,null,null,null,null,null,2,2,2,2,2,2,2,2,2,2,2,2,2,2,2,2,2,2,2,2,2,2,2,2,2,2,2,1,2,2,2,2,2,2,2,2,2,2,2,2,2,2,1,2,2,2,2,2,2,2,2,2,2,2,2,2,2,2,2,2,2,2,2,2,2,2,2,2,2,2,2,2,2,2,2,2,2,2,null,null,"Génie technique (Architecture/Génie civil)",null,"",null,"",null,""]
[null,null,null,{"$f":"IF(AVANTAGES_PROFESSIONNELS!$CE$1063>1,\"Nouvelle compétence pro.\",\"\")","v":""},null,null,null,null,null,"",null,null,null,null,null,"Génie technique (Logiciels) +","X","INT","INT",null,-2,"X","X",null,-4,null,null,null,null,null,null,0,null,null,null,null,null,0,null,null,null,null,null,0,0,0,null,null,0,null,null,null,null,null,0,0,null,null,0,null,null,null,null,null,0,0,null,null,0,null,null,null,null,null,0,0,null,null,0,null,null,null,null,null,0,0,-4,"X",null,0,null,-4,"X",0,2,0,285,-4,"X",0,0,0,null,-4,"X",0,2,0,285,-4,"X",0,0,0,null,-4,"X",0,2,0,285,-4,"X",0,0,0,null,-4,"X",0,2,0,285,-4,"X",0,0,null,-4,"X",0,1,0,285,-4,"X",0,null,null,null,null,null,null,null,2,2,2,2,2,2,2,2,2,2,2,2,2,2,2,2,2,2,2,2,2,2,2,2,2,2,2,1,2,2,2,2,2,2,2,2,2,2,2,2,2,2,1,2,2,2,2,2,2,2,2,2,2,2,2,2,2,2,2,2,2,2,2,2,2,2,2,2,2,2,2,2,2,2,2,2,2,2,null,null,"Génie technique (Logiciels)",null,"",null,"",null,""]
[null,null,"Profession 2",null,"Avantage professionnel aléatoire : Formation",null,null,null,null,null,null,null,null,null,null,"Mécanique (Exo-armures) +",null,"INT","COO",null,-2,0,-2,null,0,null,null,null,null,null,null,0,null,null,null,null,null,0,null,null,null,{"$f":"IF(VLOOKUP($E$51,$IE$431:$IF$458,2,)=$P293,2,0)","v":0},null,0,0,0,null,null,{"$f":"IF(VLOOKUP($E$72,$IE$468:$IF$476,2,)=$P293,2,0)","v":0},null,null,null,null,null,0,0,null,null,{"$f":"IF(VLOOKUP($E$102,$IE$468:$IF$476,2,)=$P293,2,0)","v":0},null,null,null,null,null,0,0,null,null,{"$f":"IF(VLOOKUP($E$137,$IE$468:$IF$476,2,)=$P293,2,0)","v":0},null,null,null,null,null,0,0,null,null,{"$f":"IF(VLOOKUP($E$162,$IE$468:$IF$476,2,)=$P293,2,0)","v":0},null,null,null,null,null,0,0,0,0,null,0,null,0,0,0,2,0,291,0,0,0,0,0,null,0,0,0,2,0,291,0,0,0,0,0,null,0,0,0,2,0,291,0,0,0,0,0,null,0,0,0,2,0,291,0,0,0,0,null,0,0,0,1,0,291,0,0,0,null,null,null,null,null,null,null,2,2,2,2,2,2,2,2,2,2,2,2,2,2,2,2,2,2,2,2,2,2,2,2,2,2,2,2,2,2,2,2,2,2,1,2,2,2,2,2,2,2,1,2,2,2,2,2,2,2,2,2,2,2,2,2,2,2,2,2,2,2,2,2,2,2,2,2,2,2,2,2,2,2,2,2,2,2,null,null,"Mécanique (Exo-armures)",null,"",null,"",null,""]
[null,null,null,{"$f":"IF(AVANTAGES_PROFESSIONNELS!$CE$1090>1,\"Nouvelle compétence pro.\",\"\")","v":""},null,null,null,null,null,"",null,null,null,null,null,"Mécanique (Générateurs/Systèmes de survie) +",null,"INT","COO",null,-2,0,-2,null,0,null,null,null,null,null,null,0,null,{"$f":"IF($E$39=\"Mécanique (Générateurs/Systèmes de survie)\",2,)","v":0},null,null,null,0,null,null,null,2,null,0,0,0,null,null,0,null,null,null,null,null,0,0,null,null,0,null,null,null,null,null,0,0,null,null,0,null,null,null,null,null,0,0,null,null,0,null,null,null,null,null,0,0,0,0,null,0,null,0,0,0,2,0,293,0,0,0,0,0,null,0,0,0,2,0,293,0,0,0,0,0,null,0,0,0,2,0,293,0,0,0,0,0,null,0,0,0,2,0,293,0,0,0,0,null,0,0,0,1,0,293,0,0,0,null,null,null,null,null,null,null,2,2,2,2,2,2,2,2,2,2,2,2,2,2,2,2,2,2,2,2,1,2,2,2,2,2,2,2,2,2,2,2,2,2,1,2,2,2,2,2,2,2,1,2,2,2,2,2,2,2,2,2,2,2,2,2,2,2,2,2,2,2,2,2,2,2,2,2,2,2,2,2,2,2,2,2,2,2,null,null,"Mécanique (Générateurs/Systèmes de survie)",null,"",null,"",null,""]
[null,null,null,{"$f":"IF(AVANTAGES_PROFESSIONNELS!$CE$1090>4,\"Nouvelle compétence pro.\",\"\")","v":""},null,null,null,null,null,"",null,null,null,null,null,"Mécanique (Véhicules souterrains) +",null,"INT","COO",null,-2,0,-2,null,0,null,null,null,null,null,null,0,null,null,null,null,null,0,null,null,1,{"$f":"IF(VLOOKUP($E$51,$IE$431:$IF$458,2,)=$P298,2,0)","v":0},null,0,0,0,null,null,0,null,null,null,null,null,0,0,null,null,0,null,null,null,null,null,0,0,null,null,0,null,null,null,null,null,0,0,null,null,0,null,null,null,null,null,0,0,0,0,null,0,null,0,0,0,2,0,296,0,0,0,0,0,null,0,0,0,2,0,296,0,0,0,0,0,null,0,0,0,2,0,296,0,0,0,0,0,null,0,0,0,2,0,296,0,0,0,0,null,0,0,0,1,0,296,0,0,0,null,null,null,null,null,null,null,2,2,2,2,2,2,2,2,2,2,2,2,2,2,2,1,2,2,2,2,2,2,2,2,2,2,2,2,2,2,2,2,2,2,1,2,2,2,2,2,2,2,1,2,2,2,2,2,2,2,2,2,2,2,2,2,2,2,2,2,2,2,2,2,2,2,2,2,2,2,2,2,2,2,2,2,2,2,null,null,"Mécanique (Véhicules souterrains)",null,"",null,"",null,""]
[null,null,null,{"$f":"IF(AVANTAGES_PROFESSIONNELS!$CE$1117>1,\"Nouvelle compétence pro.\",\"\")","v":""},null,null,null,null,null,{"$f":"IF(AND(D303=\"\",E303<>\"\"),\"ERREUR\",\"\")","v":""},null,null,null,null,null,"Premiers soins",-3,"INT","ADA",null,-2,-3,-5,null,-3,null,null,null,null,null,null,0,null,null,null,null,null,0,null,null,null,null,null,0,0,0,null,null,null,null,null,3,null,null,0,0,null,null,null,null,null,3,null,null,0,0,null,null,null,null,null,3,null,null,0,0,null,null,null,null,null,3,null,null,0,0,-3,-3,null,0,null,-3,-3,0,2,0,301,-3,-3,0,0,0,null,-3,-3,0,2,0,301,-3,-3,0,0,0,null,-3,-3,0,2,0,301,-3,-3,0,0,0,null,-3,-3,0,2,0,301,-3,-3,0,0,null,-3,-3,0,1,0,301,-3,-3,0,null,null,null,null,null,null,null,2,2,2,2,1,2,1,2,2,2,2,2,1,1,1,2,2,2,2,2,2,2,2,2,1,1,1,2,1,1,1,1,1,2,2,2,1,2,2,1,1,1,2,1,2,2,2,2,{"$f":"IF(GU$1>2,1,2)","v":2},2,2,2,2,2,2,2,2,2,2,2,2,2,2,2,2,2,2,2,2,2,2,2,2,2,2,2,2,2,null,null,"Premiers soins",null,"",null,"",null,""]
[null,null,null,null,null,null,null,null,null,null,null,null,null,null,null,"Techniques 05",null,"FOR","FOR",null,-2,0,-2,null,0,null,null,null,null,null,null,0,null,null,null,null,null,0,null,null,null,null,null,0,0,0,null,null,null,null,null,null,null,null,0,0,null,null,null,null,null,null,null,null,0,0,null,null,null,null,null,null,null,null,0,0,null,null,null,null,null,null,null,null,0,0,0,0,null,0,null,0,0,0,0,0,306,0,0,0,0,0,null,0,0,0,0,0,306,0,0,0,0,0,null,0,0,0,0,0,306,0,0,0,0,0,null,0,0,0,0,0,306,0,0,0,0,null,0,0,0,1,0,306,0,0,0,null,null,null,null,null,null,null,null,null,null,null,null,null,null,null,null,null,null,null,null,null,null,null,null,null,null,null,null,null,null,null,null,null,null,null,null,null,null,null,null,null,null,null,null,null,null,null,null,null,null,null,null,null,null,null,null,null,null,null,null,null,null,null,null,null,null,null,null,null,null,null,null,null,null,null,null,null,null,null,null,null,null,null,null,null,null,null,"Techniques 05",null,"",null,"",null,""]
[null,null,null,null,null,null,null,null,null,null,null,null,null,null,null,"Techniques 10",null,"FOR","FOR",null,-2,0,-2,null,0,null,null,null,null,null,null,0,null,null,null,null,null,0,null,null,null,null,null,0,0,0,null,null,null,null,null,null,null,null,0,0,null,null,null,null,null,null,null,null,0,0,null,null,null,null,null,null,null,null,0,0,null,null,null,null,null,null,null,null,0,0,0,0,null,0,null,0,0,0,0,0,311,0,0,0,0,0,null,0,0,0,0,0,311,0,0,0,0,0,null,0,0,0,0,0,311,0,0,0,0,0,null,0,0,0,0,0,311,0,0,0,0,null,0,0,0,1,0,311,0,0,0,null,null,null,null,null,null,null,null,null,null,null,null,null,null,null,null,null,null,null,null,null,null,null,null,null,null,null,null,null,null,null,null,null,null,null,null,null,null,null,null,null,null,null,null,null,null,null,null,null,null,null,null,null,null,null,null,null,null,null,null,null,null,null,null,null,null,null,null,null,null,null,null,null,null,null,null,null,null,null,null,null,null,null,null,null,null,null,"Techniques 10",null,"",null,"",null,""]
[null,null,null,null,null,null,null,null,null,null,null,null,null,null,null,"Agilitié caudale +",null,"COO","COO",null,-2,0,"X",null,0,null,null,null,null,null,null,0,null,null,null,null,null,0,null,null,null,null,null,0,0,0,null,null,null,null,null,null,null,null,0,0,null,null,null,null,null,null,null,null,0,0,null,null,null,null,null,null,null,null,0,0,null,null,null,null,null,null,null,null,0,0,0,0,null,0,null,0,0,0,0,0,316,0,0,0,0,0,null,0,0,0,0,0,316,0,0,0,0,0,null,0,0,0,0,0,316,0,0,0,0,0,null,0,0,0,0,0,316,0,0,0,0,null,0,0,0,1,0,316,0,0,0,null,null,null,null,null,null,null,{"$f":"IF(CAPACITES_SPECIALES!$AL$168>0,1,0)","v":0},{"$f":"IF(CAPACITES_SPECIALES!$AL$168>0,1,0)","v":0},{"$f":"IF(CAPACITES_SPECIALES!$AL$168>0,1,0)","v":0},{"$f":"IF(CAPACITES_SPECIALES!$AL$168>0,1,0)","v":0},{"$f":"IF(CAPACITES_SPECIALES!$AL$168>0,1,0)","v":0},{"$f":"IF(CAPACITES_SPECIALES!$AL$168>0,1,0)","v":0},{"$f":"IF(CAPACITES_SPECIALES!$AL$168>0,1,0)","v":0},{"$f":"IF(CAPACITES_SPECIALES!$AL$168>0,1,0)","v":0},{"$f":"IF(CAPACITES_SPECIALES!$AL$168>0,1,0)","v":0},{"$f":"IF(CAPACITES_SPECIALES!$AL$168>0,1,0)","v":0},{"$f":"IF(CAPACITES_SPECIALES!$AL$168>0,1,0)","v":0},{"$f":"IF(CAPACITES_SPECIALES!$AL$168>0,1,0)","v":0},{"$f":"IF(CAPACITES_SPECIALES!$AL$168>0,1,0)","v":0},{"$f":"IF(CAPACITES_SPECIALES!$AL$168>0,1,0)","v":0},{"$f":"IF(CAPACITES_SPECIALES!$AL$168>0,1,0)","v":0},{"$f":"IF(CAPACITES_SPECIALES!$AL$168>0,1,0)","v":0},{"$f":"IF(CAPACITES_SPECIALES!$AL$168>0,1,0)","v":0},{"$f":"IF(CAPACITES_SPECIALES!$AL$168>0,1,0)","v":0},{"$f":"IF(CAPACITES_SPECIALES!$AL$168>0,1,0)","v":0},{"$f":"IF(CAPACITES_SPECIALES!$AL$168>0,1,0)","v":0},{"$f":"IF(CAPACITES_SPECIALES!$AL$168>0,1,0)","v":0},{"$f":"IF(CAPACITES_SPECIALES!$AL$168>0,1,0)","v":0},{"$f":"IF(CAPACITES_SPECIALES!$AL$168>0,1,0)","v":0},{"$f":"IF(CAPACITES_SPECIALES!$AL$168>0,1,0)","v":0},{"$f":"IF(CAPACITES_SPECIALES!$AL$168>0,1,0)","v":0},{"$f":"IF(CAPACITES_SPECIALES!$AL$168>0,1,0)","v":0},{"$f":"IF(CAPACITES_SPECIALES!$AL$168>0,1,0)","v":0},{"$f":"IF(CAPACITES_SPECIALES!$AL$168>0,1,0)","v":0},{"$f":"IF(CAPACITES_SPECIALES!$AL$168>0,1,0)","v":0},{"$f":"IF(CAPACITES_SPECIALES!$AL$168>0,1,0)","v":0},{"$f":"IF(CAPACITES_SPECIALES!$AL$168>0,1,0)","v":0},{"$f":"IF(CAPACITES_SPECIALES!$AL$168>0,1,0)","v":0},{"$f":"IF(CAPACITES_SPECIALES!$AL$168>0,1,0)","v":0},{"$f":"IF(CAPACITES_SPECIALES!$AL$168>0,1,0)","v":0},{"$f":"IF(CAPACITES_SPECIALES!$AL$168>0,1,0)","v":0},{"$f":"IF(CAPACITES_SPECIALES!$AL$168>0,1,0)","v":0},{"$f":"IF(CAPACITES_SPECIALES!$AL$168>0,1,0)","v":0},{"$f":"IF(CAPACITES_SPECIALES!$AL$168>0,1,0)","v":0},{"$f":"IF(CAPACITES_SPECIALES!$AL$168>0,1,0)","v":0},{"$f":"IF(CAPACITES_SPECIALES!$AL$168>0,1,0)","v":0},{"$f":"IF(CAPACITES_SPECIALES!$AL$168>0,1,0)","v":0},{"$f":"IF(CAPACITES_SPECIALES!$AL$168>0,1,0)","v":0},{"$f":"IF(CAPACITES_SPECIALES!$AL$168>0,1,0)","v":0},{"$f":"IF(CAPACITES_SPECIALES!$AL$168>0,1,0)","v":0},{"$f":"IF(CAPACITES_SPECIALES!$AL$168>0,1,0)","v":0},{"$f":"IF(CAPACITES_SPECIALES!$AL$168>0,1,0)","v":0},{"$f":"IF(CAPACITES_SPECIALES!$AL$168>0,1,0)","v":0},{"$f":"IF(CAPACITES_SPECIALES!$AL$168>0,1,0)","v":0},{"$f":"IF(CAPACITES_SPECIALES!$AL$168>0,1,0)","v":0},{"$f":"IF(CAPACITES_SPECIALES!$AL$168>0,1,0)","v":0},{"$f":"IF(CAPACITES_SPECIALES!$AL$168>0,1,0)","v":0},{"$f":"IF(CAPACITES_SPECIALES!$AL$168>0,1,0)","v":0},{"$f":"IF(CAPACITES_SPECIALES!$AL$168>0,1,0)","v":0},{"$f":"IF(CAPACITES_SPECIALES!$AL$168>0,1,0)","v":0},{"$f":"IF(CAPACITES_SPECIALES!$AL$168>0,1,0)","v":0},{"$f":"IF(CAPACITES_SPECIALES!$AL$168>0,1,0)","v":0},{"$f":"IF(CAPACITES_SPECIALES!$AL$168>0,1,0)","v":0},{"$f":"IF(CAPACITES_SPECIALES!$AL$168>0,1,0)","v":0},{"$f":"IF(CAPACITES_SPECIALES!$AL$168>0,1,0)","v":0},{"$f":"IF(CAPACITES_SPECIALES!$AL$168>0,1,0)","v":0},{"$f":"IF(CAPACITES_SPECIALES!$AL$168>0,1,0)","v":0},{"$f":"IF(CAPACITES_SPECIALES!$AL$168>0,1,0)","v":0},{"$f":"IF(CAPACITES_SPECIALES!$AL$168>0,1,0)","v":0},{"$f":"IF(CAPACITES_SPECIALES!$AL$168>0,1,0)","v":0},{"$f":"IF(CAPACITES_SPECIALES!$AL$168>0,1,0)","v":0},{"$f":"IF(CAPACITES_SPECIALES!$AL$168>0,1,0)","v":0},{"$f":"IF(CAPACITES_SPECIALES!$AL$168>0,1,0)","v":0},{"$f":"IF(CAPACITES_SPECIALES!$AL$168>0,1,0)","v":0},{"$f":"IF(CAPACITES_SPECIALES!$AL$168>0,1,0)","v":0},{"$f":"IF(CAPACITES_SPECIALES!$AL$168>0,1,0)","v":0},{"$f":"IF(CAPACITES_SPECIALES!$AL$168>0,1,0)","v":0},{"$f":"IF(CAPACITES_SPECIALES!$AL$168>0,1,0)","v":0},{"$f":"IF(CAPACITES_SPECIALES!$AL$168>0,1,0)","v":0},{"$f":"IF(CAPACITES_SPECIALES!$AL$168>0,1,0)","v":0},{"$f":"IF(CAPACITES_SPECIALES!$AL$168>0,1,0)","v":0},{"$f":"IF(CAPACITES_SPECIALES!$AL$168>0,1,0)","v":0},{"$f":"IF(CAPACITES_SPECIALES!$AL$168>0,1,0)","v":0},{"$f":"IF(CAPACITES_SPECIALES!$AL$168>0,1,0)","v":0},null,null,"Agilitié caudale",null,"",null,"",null,""]
[null,null,null,{"$f":"IF(AVANTAGES_PROFESSIONNELS!$CE$1144>5,\"Nouvelle compétence pro.\",\"\")","v":""},null,null,null,null,null,"",null,{"$f":"IF(AND(V325>0,ATTRIBUTS!D12=\"Humain\"),\"ERREUR\",\"\")","v":""},null,null,null,"Hybride +",null,"CON","COO",null,-2,-3,{"$f":"IF(AND(Z325=-3,CAPACITES_SPECIALES!AF168=0),\"X\",IF(V325=\"X\",\"X\",U325+V325))","v":"X"},null,0,{"$f":"ATTRIBUTS!AU9","v":-3},null,null,null,null,null,{"$f":"IF($AF$3=$AA$3,AA325,IF($AF$3=$AB$3,AB325,IF($AF$3=$AC$3,AC325,IF($AF$3=$AD$3,AD325,0))))","v":0},null,null,null,null,null,0,null,null,null,null,null,0,0,0,null,null,null,null,null,null,null,null,0,0,null,null,null,null,null,null,null,null,0,0,null,null,null,null,null,null,null,null,0,0,null,null,null,null,null,null,null,null,0,0,-3,-3,null,0,null,-3,-3,0,0,0,323,-3,-3,0,0,0,null,-3,-3,0,0,0,323,-3,-3,0,0,0,null,-3,-3,0,0,0,323,-3,-3,0,0,0,null,-3,-3,0,0,0,323,-3,-3,0,0,null,-3,-3,0,1,0,323,-3,-3,0,null,null,null,null,null,null,null,{"$f":"IF(CAPACITES_SPECIALES!$AF$168>0,2,IF(ATTRIBUTS!$AU$2=0,0,IF(ATTRIBUTS!$D$12=ATTRIBUTS!$AF$13,1,2)))","v":0},{"$f":"IF(CAPACITES_SPECIALES!$AF$168>0,2,IF(ATTRIBUTS!$AU$2=0,0,IF(ATTRIBUTS!$D$12=ATTRIBUTS!$AF$13,1,2)))","v":0},{"$f":"IF(CAPACITES_SPECIALES!$AF$168>0,2,IF(ATTRIBUTS!$AU$2=0,0,IF(ATTRIBUTS!$D$12=ATTRIBUTS!$AF$13,1,2)))","v":0},{"$f":"IF(CAPACITES_SPECIALES!$AF$168>0,2,IF(ATTRIBUTS!$AU$2=0,0,IF(ATTRIBUTS!$D$12=ATTRIBUTS!$AF$13,1,2)))","v":0},{"$f":"IF(CAPACITES_SPECIALES!$AF$168>0,2,IF(ATTRIBUTS!$AU$2=0,0,IF(ATTRIBUTS!$D$12=ATTRIBUTS!$AF$13,1,2)))","v":0},{"$f":"IF(CAPACITES_SPECIALES!$AF$168>0,2,IF(ATTRIBUTS!$AU$2=0,0,IF(ATTRIBUTS!$D$12=ATTRIBUTS!$AF$13,1,2)))","v":0},{"$f":"IF(CAPACITES_SPECIALES!$AF$168>0,2,IF(ATTRIBUTS!$AU$2=0,0,IF(ATTRIBUTS!$D$12=ATTRIBUTS!$AF$13,1,2)))","v":0},{"$f":"IF(CAPACITES_SPECIALES!$AF$168>0,2,IF(ATTRIBUTS!$AU$2=0,0,IF(ATTRIBUTS!$D$12=ATTRIBUTS!$AF$13,1,2)))","v":0},{"$f":"IF(CAPACITES_SPECIALES!$AF$168>0,2,IF(ATTRIBUTS!$AU$2=0,0,IF(ATTRIBUTS!$D$12=ATTRIBUTS!$AF$13,1,2)))","v":0},{"$f":"IF(CAPACITES_SPECIALES!$AF$168>0,2,IF(ATTRIBUTS!$AU$2=0,0,IF(ATTRIBUTS!$D$12=ATTRIBUTS!$AF$13,1,2)))","v":0},1,{"$f":"IF(CAPACITES_SPECIALES!$AF$168>0,2,IF(ATTRIBUTS!$AU$2=0,0,IF(ATTRIBUTS!$D$12=ATTRIBUTS!$AF$13,1,2)))","v":0},{"$f":"IF(CAPACITES_SPECIALES!$AF$168>0,2,IF(ATTRIBUTS!$AU$2=0,0,IF(ATTRIBUTS!$D$12=ATTRIBUTS!$AF$13,1,2)))","v":0},{"$f":"IF(CAPACITES_SPECIALES!$AF$168>0,2,IF(ATTRIBUTS!$AU$2=0,0,IF(ATTRIBUTS!$D$12=ATTRIBUTS!$AF$13,1,2)))","v":0},{"$f":"IF(CAPACITES_SPECIALES!$AF$168>0,2,IF(ATTRIBUTS!$AU$2=0,0,IF(ATTRIBUTS!$D$12=ATTRIBUTS!$AF$13,1,2)))","v":0},{"$f":"IF(CAPACITES_SPECIALES!$AF$168>0,2,IF(ATTRIBUTS!$AU$2=0,0,IF(ATTRIBUTS!$D$12=ATTRIBUTS!$AF$13,1,2)))","v":0},{"$f":"IF(CAPACITES_SPECIALES!$AF$168>0,2,IF(ATTRIBUTS!$AU$2=0,0,IF(ATTRIBUTS!$D$12=ATTRIBUTS!$AF$13,1,2)))","v":0},{"$f":"IF(CAPACITES_SPECIALES!$AF$168>0,2,IF(ATTRIBUTS!$AU$2=0,0,IF(ATTRIBUTS!$D$12=ATTRIBUTS!$AF$13,1,2)))","v":0},{"$f":"IF(CAPACITES_SPECIALES!$AF$168>0,2,IF(ATTRIBUTS!$AU$2=0,0,IF(ATTRIBUTS!$D$12=ATTRIBUTS!$AF$13,1,2)))","v":0},{"$f":"IF(CAPACITES_SPECIALES!$AF$168>0,2,IF(ATTRIBUTS!$AU$2=0,0,IF(ATTRIBUTS!$D$12=ATTRIBUTS!$AF$13,1,2)))","v":0},{"$f":"IF(CAPACITES_SPECIALES!$AF$168>0,2,IF(ATTRIBUTS!$AU$2=0,0,IF(ATTRIBUTS!$D$12=ATTRIBUTS!$AF$13,1,2)))","v":0},{"$f":"IF(CAPACITES_SPECIALES!$AF$168>0,2,IF(ATTRIBUTS!$AU$2=0,0,IF(ATTRIBUTS!$D$12=ATTRIBUTS!$AF$13,1,2)))","v":0},{"$f":"IF(CAPACITES_SPECIALES!$AF$168>0,2,IF(ATTRIBUTS!$AU$2=0,0,IF(ATTRIBUTS!$D$12=ATTRIBUTS!$AF$13,1,2)))","v":0},{"$f":"IF(CAPACITES_SPECIALES!$AF$168>0,2,IF(ATTRIBUTS!$AU$2=0,0,IF(ATTRIBUTS!$D$12=ATTRIBUTS!$AF$13,1,2)))","v":0},{"$f":"IF(CAPACITES_SPECIALES!$AF$168>0,2,IF(ATTRIBUTS!$AU$2=0,0,IF(ATTRIBUTS!$D$12=ATTRIBUTS!$AF$13,1,2)))","v":0},{"$f":"IF(CAPACITES_SPECIALES!$AF$168>0,2,IF(ATTRIBUTS!$AU$2=0,0,IF(ATTRIBUTS!$D$12=ATTRIBUTS!$AF$13,1,2)))","v":0},{"$f":"IF(CAPACITES_SPECIALES!$AF$168>0,2,IF(ATTRIBUTS!$AU$2=0,0,IF(ATTRIBUTS!$D$12=ATTRIBUTS!$AF$13,1,2)))","v":0},{"$f":"IF(CAPACITES_SPECIALES!$AF$168>0,2,IF(ATTRIBUTS!$AU$2=0,0,IF(ATTRIBUTS!$D$12=ATTRIBUTS!$AF$13,1,2)))","v":0},{"$f":"IF(CAPACITES_SPECIALES!$AF$168>0,2,IF(ATTRIBUTS!$AU$2=0,0,IF(ATTRIBUTS!$D$12=ATTRIBUTS!$AF$13,1,2)))","v":0},{"$f":"IF(CAPACITES_SPECIALES!$AF$168>0,2,IF(ATTRIBUTS!$AU$2=0,0,IF(ATTRIBUTS!$D$12=ATTRIBUTS!$AF$13,1,2)))","v":0},{"$f":"IF(CAPACITES_SPECIALES!$AF$168>0,2,IF(ATTRIBUTS!$AU$2=0,0,IF(ATTRIBUTS!$D$12=ATTRIBUTS!$AF$13,1,2)))","v":0},{"$f":"IF(CAPACITES_SPECIALES!$AF$168>0,2,IF(ATTRIBUTS!$AU$2=0,0,IF(ATTRIBUTS!$D$12=ATTRIBUTS!$AF$13,1,2)))","v":0},{"$f":"IF(CAPACITES_SPECIALES!$AF$168>0,2,IF(ATTRIBUTS!$AU$2=0,0,IF(ATTRIBUTS!$D$12=ATTRIBUTS!$AF$13,1,2)))","v":0},{"$f":"IF(CAPACITES_SPECIALES!$AF$168>0,2,IF(ATTRIBUTS!$AU$2=0,0,IF(ATTRIBUTS!$D$12=ATTRIBUTS!$AF$13,1,2)))","v":0},{"$f":"IF(CAPACITES_SPECIALES!$AF$168>0,2,IF(ATTRIBUTS!$AU$2=0,0,IF(ATTRIBUTS!$D$12=ATTRIBUTS!$AF$13,1,2)))","v":0},1,{"$f":"IF(CAPACITES_SPECIALES!$AF$168>0,2,IF(ATTRIBUTS!$AU$2=0,0,IF(ATTRIBUTS!$D$12=ATTRIBUTS!$AF$13,1,2)))","v":0},{"$f":"IF(CAPACITES_SPECIALES!$AF$168>0,2,IF(ATTRIBUTS!$AU$2=0,0,IF(ATTRIBUTS!$D$12=ATTRIBUTS!$AF$13,1,2)))","v":0},{"$f":"IF(CAPACITES_SPECIALES!$AF$168>0,2,IF(ATTRIBUTS!$AU$2=0,0,IF(ATTRIBUTS!$D$12=ATTRIBUTS!$AF$13,1,2)))","v":0},{"$f":"IF(CAPACITES_SPECIALES!$AF$168>0,2,IF(ATTRIBUTS!$AU$2=0,0,IF(ATTRIBUTS!$D$12=ATTRIBUTS!$AF$13,1,2)))","v":0},{"$f":"IF(CAPACITES_SPECIALES!$AF$168>0,2,IF(ATTRIBUTS!$AU$2=0,0,IF(ATTRIBUTS!$D$12=ATTRIBUTS!$AF$13,1,2)))","v":0},{"$f":"IF(CAPACITES_SPECIALES!$AF$168>0,2,IF(ATTRIBUTS!$AU$2=0,0,IF(ATTRIBUTS!$D$12=ATTRIBUTS!$AF$13,1,2)))","v":0},{"$f":"IF(CAPACITES_SPECIALES!$AF$168>0,2,IF(ATTRIBUTS!$AU$2=0,0,IF(ATTRIBUTS!$D$12=ATTRIBUTS!$AF$13,1,2)))","v":0},{"$f":"IF(CAPACITES_SPECIALES!$AF$168>0,2,IF(ATTRIBUTS!$AU$2=0,0,IF(ATTRIBUTS!$D$12=ATTRIBUTS!$AF$13,1,2)))","v":0},{"$f":"IF(CAPACITES_SPECIALES!$AF$168>0,2,IF(ATTRIBUTS!$AU$2=0,0,IF(ATTRIBUTS!$D$12=ATTRIBUTS!$AF$13,1,2)))","v":0},{"$f":"IF(CAPACITES_SPECIALES!$AF$168>0,2,IF(ATTRIBUTS!$AU$2=0,0,IF(ATTRIBUTS!$D$12=ATTRIBUTS!$AF$13,1,2)))","v":0},{"$f":"IF(CAPACITES_SPECIALES!$AF$168>0,2,IF(ATTRIBUTS!$AU$2=0,0,IF(ATTRIBUTS!$D$12=ATTRIBUTS!$AF$13,1,2)))","v":0},{"$f":"IF(CAPACITES_SPECIALES!$AF$168>0,2,IF(ATTRIBUTS!$AU$2=0,0,IF(ATTRIBUTS!$D$12=ATTRIBUTS!$AF$13,1,2)))","v":0},{"$f":"IF(CAPACITES_SPECIALES!$AF$168>0,2,IF(ATTRIBUTS!$AU$2=0,0,IF(ATTRIBUTS!$D$12=ATTRIBUTS!$AF$13,1,2)))","v":0},{"$f":"IF(CAPACITES_SPECIALES!$AF$168>0,2,IF(ATTRIBUTS!$AU$2=0,0,IF(ATTRIBUTS!$D$12=ATTRIBUTS!$AF$13,1,2)))","v":0},1,{"$f":"IF(CAPACITES_SPECIALES!$AF$168>0,2,IF(ATTRIBUTS!$AU$2=0,0,IF(ATTRIBUTS!$D$12=ATTRIBUTS!$AF$13,1,2)))","v":0},{"$f":"IF(CAPACITES_SPECIALES!$AF$168>0,2,IF(ATTRIBUTS!$AU$2=0,0,IF(ATTRIBUTS!$D$12=ATTRIBUTS!$AF$13,1,2)))","v":0},{"$f":"IF(CAPACITES_SPECIALES!$AF$168>0,2,IF(ATTRIBUTS!$AU$2=0,0,IF(ATTRIBUTS!$D$12=ATTRIBUTS!$AF$13,1,2)))","v":0},{"$f":"IF(CAPACITES_SPECIALES!$AF$168>0,2,IF(ATTRIBUTS!$AU$2=0,0,IF(ATTRIBUTS!$D$12=ATTRIBUTS!$AF$13,1,2)))","v":0},{"$f":"IF(CAPACITES_SPECIALES!$AF$168>0,2,IF(ATTRIBUTS!$AU$2=0,0,IF(ATTRIBUTS!$D$12=ATTRIBUTS!$AF$13,1,2)))","v":0},{"$f":"IF(CAPACITES_SPECIALES!$AF$168>0,2,IF(ATTRIBUTS!$AU$2=0,0,IF(ATTRIBUTS!$D$12=ATTRIBUTS!$AF$13,1,2)))","v":0},{"$f":"IF(CAPACITES_SPECIALES!$AF$168>0,2,IF(ATTRIBUTS!$AU$2=0,0,IF(ATTRIBUTS!$D$12=ATTRIBUTS!$AF$13,1,2)))","v":0},{"$f":"IF(CAPACITES_SPECIALES!$AF$168>0,2,IF(ATTRIBUTS!$AU$2=0,0,IF(ATTRIBUTS!$D$12=ATTRIBUTS!$AF$13,1,2)))","v":0},{"$f":"IF(CAPACITES_SPECIALES!$AF$168>0,2,IF(ATTRIBUTS!$AU$2=0,0,IF(ATTRIBUTS!$D$12=ATTRIBUTS!$AF$13,1,2)))","v":0},{"$f":"IF(CAPACITES_SPECIALES!$AF$168>0,2,IF(ATTRIBUTS!$AU$2=0,0,IF(ATTRIBUTS!$D$12=ATTRIBUTS!$AF$13,1,2)))","v":0},{"$f":"IF(CAPACITES_SPECIALES!$AF$168>0,2,IF(ATTRIBUTS!$AU$2=0,0,IF(ATTRIBUTS!$D$12=ATTRIBUTS!$AF$13,1,2)))","v":0},{"$f":"IF(CAPACITES_SPECIALES!$AF$168>0,2,IF(ATTRIBUTS!$AU$2=0,0,IF(ATTRIBUTS!$D$12=ATTRIBUTS!$AF$13,1,2)))","v":0},{"$f":"IF(CAPACITES_SPECIALES!$AF$168>0,2,IF(ATTRIBUTS!$AU$2=0,0,IF(ATTRIBUTS!$D$12=ATTRIBUTS!$AF$13,1,2)))","v":0},{"$f":"IF(CAPACITES_SPECIALES!$AF$168>0,2,IF(ATTRIBUTS!$AU$2=0,0,IF(ATTRIBUTS!$D$12=ATTRIBUTS!$AF$13,1,2)))","v":0},{"$f":"IF(CAPACITES_SPECIALES!$AF$168>0,2,IF(ATTRIBUTS!$AU$2=0,0,IF(ATTRIBUTS!$D$12=ATTRIBUTS!$AF$13,1,2)))","v":0},{"$f":"IF(CAPACITES_SPECIALES!$AF$168>0,2,IF(ATTRIBUTS!$AU$2=0,0,IF(ATTRIBUTS!$D$12=ATTRIBUTS!$AF$13,1,2)))","v":0},{"$f":"IF(CAPACITES_SPECIALES!$AF$168>0,2,IF(ATTRIBUTS!$AU$2=0,0,IF(ATTRIBUTS!$D$12=ATTRIBUTS!$AF$13,1,2)))","v":0},{"$f":"IF(CAPACITES_SPECIALES!$AF$168>0,2,IF(ATTRIBUTS!$AU$2=0,0,IF(ATTRIBUTS!$D$12=ATTRIBUTS!$AF$13,1,2)))","v":0},{"$f":"IF(CAPACITES_SPECIALES!$AF$168>0,2,IF(ATTRIBUTS!$AU$2=0,0,IF(ATTRIBUTS!$D$12=ATTRIBUTS!$AF$13,1,2)))","v":0},{"$f":"IF(CAPACITES_SPECIALES!$AF$168>0,2,IF(ATTRIBUTS!$AU$2=0,0,IF(ATTRIBUTS!$D$12=ATTRIBUTS!$AF$13,1,2)))","v":0},{"$f":"IF(CAPACITES_SPECIALES!$AF$168>0,2,IF(ATTRIBUTS!$AU$2=0,0,IF(ATTRIBUTS!$D$12=ATTRIBUTS!$AF$13,1,2)))","v":0},{"$f":"IF(CAPACITES_SPECIALES!$AF$168>0,2,IF(ATTRIBUTS!$AU$2=0,0,IF(ATTRIBUTS!$D$12=ATTRIBUTS!$AF$13,1,2)))","v":0},{"$f":"IF(CAPACITES_SPECIALES!$AF$168>0,2,IF(ATTRIBUTS!$AU$2=0,0,IF(ATTRIBUTS!$D$12=ATTRIBUTS!$AF$13,1,2)))","v":0},{"$f":"IF(CAPACITES_SPECIALES!$AF$168>0,2,IF(ATTRIBUTS!$AU$2=0,0,IF(ATTRIBUTS!$D$12=ATTRIBUTS!$AF$13,1,2)))","v":0},{"$f":"IF(CAPACITES_SPECIALES!$AF$168>0,2,IF(ATTRIBUTS!$AU$2=0,0,IF(ATTRIBUTS!$D$12=ATTRIBUTS!$AF$13,1,2)))","v":0},{"$f":"IF(CAPACITES_SPECIALES!$AF$168>0,2,IF(ATTRIBUTS!$AU$2=0,0,IF(ATTRIBUTS!$D$12=ATTRIBUTS!$AF$13,1,2)))","v":0},{"$f":"IF(CAPACITES_SPECIALES!$AF$168>0,2,IF(ATTRIBUTS!$AU$2=0,0,IF(ATTRIBUTS!$D$12=ATTRIBUTS!$AF$13,1,2)))","v":0},null,null,"Hybride",null,{"$f":"IF(W325=\"X\",\"\",IF(EO325-Y325=0,\"\",IA325))","v":""},null,{"$f":"IF(W325=\"X\",\"\",IF(EO325-Y325=0,\"\",W325))","v":""},null,""]
[null,null,"Prêtre du Trident",null,"Nouveaux pouvoirs",null,null,null,null,null,null,null,null,null,null,"Maîtrise de l'Echo Polaris +","X","INT","VOL",null,-2,"X","X",null,-4,null,null,null,null,null,null,0,null,null,null,null,null,0,null,null,null,null,null,0,0,0,null,null,null,null,null,null,null,null,0,0,null,null,null,null,null,null,null,null,0,0,null,null,null,null,null,null,null,null,0,0,null,null,null,null,null,null,null,null,0,0,-4,"X",null,0,null,-4,"X",0,0,0,326,-4,"X",0,0,0,null,-4,"X",0,0,0,326,-4,"X",0,0,0,null,-4,"X",0,0,0,326,-4,"X",0,0,0,null,-4,"X",0,0,0,326,-4,"X",0,0,null,-4,"X",0,1,0,326,-4,"X",0,null,null,null,null,null,null,null,{"$f":"IF(CAPACITES_SPECIALES!$D$32=\" \",0,2)","v":0},{"$f":"IF(CAPACITES_SPECIALES!$D$32=\" \",0,2)","v":0},{"$f":"IF(CAPACITES_SPECIALES!$D$32=\" \",0,2)","v":0},{"$f":"IF(CAPACITES_SPECIALES!$D$32=\" \",0,2)","v":0},{"$f":"IF(CAPACITES_SPECIALES!$D$32=\" \",0,2)","v":0},{"$f":"IF(CAPACITES_SPECIALES!$D$32=\" \",0,2)","v":0},{"$f":"IF(CAPACITES_SPECIALES!$D$32=\" \",0,2)","v":0},{"$f":"IF(CAPACITES_SPECIALES!$D$32=\" \",0,2)","v":0},{"$f":"IF(CAPACITES_SPECIALES!$D$32=\" \",0,2)","v":0},{"$f":"IF(CAPACITES_SPECIALES!$D$32=\" \",0,2)","v":0},{"$f":"IF(CAPACITES_SPECIALES!$D$32=\" \",0,2)","v":0},{"$f":"IF(CAPACITES_SPECIALES!$D$32=\" \",0,2)","v":0},{"$f":"IF(CAPACITES_SPECIALES!$D$32=\" \",0,2)","v":0},{"$f":"IF(CAPACITES_SPECIALES!$D$32=\" \",0,2)","v":0},{"$f":"IF(CAPACITES_SPECIALES!$D$32=\" \",0,2)","v":0},{"$f":"IF(CAPACITES_SPECIALES!$D$32=\" \",0,2)","v":0},{"$f":"IF(CAPACITES_SPECIALES!$D$32=\" \",0,2)","v":0},{"$f":"IF(CAPACITES_SPECIALES!$D$32=\" \",0,2)","v":0},{"$f":"IF(CAPACITES_SPECIALES!$D$32=\" \",0,2)","v":0},{"$f":"IF(CAPACITES_SPECIALES!$D$32=\" \",0,2)","v":0},{"$f":"IF(CAPACITES_SPECIALES!$D$32=\" \",0,2)","v":0},{"$f":"IF(CAPACITES_SPECIALES!$D$32=\" \",0,2)","v":0},{"$f":"IF(CAPACITES_SPECIALES!$D$32=\" \",0,2)","v":0},{"$f":"IF(CAPACITES_SPECIALES!$D$32=\" \",0,2)","v":0},{"$f":"IF(CAPACITES_SPECIALES!$D$32=\" \",0,2)","v":0},{"$f":"IF(CAPACITES_SPECIALES!$D$32=\" \",0,2)","v":0},{"$f":"IF(CAPACITES_SPECIALES!$D$32=\" \",0,2)","v":0},{"$f":"IF(CAPACITES_SPECIALES!$D$32=\" \",0,2)","v":0},{"$f":"IF(CAPACITES_SPECIALES!$D$32=\" \",0,2)","v":0},{"$f":"IF(CAPACITES_SPECIALES!$D$32=\" \",0,2)","v":0},{"$f":"IF(CAPACITES_SPECIALES!$D$32=\" \",0,2)","v":0},{"$f":"IF(CAPACITES_SPECIALES!$D$32=\" \",0,2)","v":0},{"$f":"IF(CAPACITES_SPECIALES!$D$32=\" \",0,2)","v":0},{"$f":"IF(CAPACITES_SPECIALES!$D$32=\" \",0,2)","v":0},{"$f":"IF(CAPACITES_SPECIALES!$D$32=\" \",0,2)","v":0},{"$f":"IF(CAPACITES_SPECIALES!$D$32=\" \",0,2)","v":0},{"$f":"IF(CAPACITES_SPECIALES!$D$32=\" \",0,2)","v":0},{"$f":"IF(CAPACITES_SPECIALES!$D$32=\" \",0,2)","v":0},{"$f":"IF(CAPACITES_SPECIALES!$D$32=\" \",0,2)","v":0},{"$f":"IF(CAPACITES_SPECIALES!$D$32=\" \",0,2)","v":0},{"$f":"IF(CAPACITES_SPECIALES!$D$32=\" \",0,2)","v":0},{"$f":"IF(CAPACITES_SPECIALES!$D$32=\" \",0,2)","v":0},{"$f":"IF(CAPACITES_SPECIALES!$D$32=\" \",0,2)","v":0},{"$f":"IF(CAPACITES_SPECIALES!$D$32=\" \",0,2)","v":0},{"$f":"IF(CAPACITES_SPECIALES!$D$32=\" \",0,2)","v":0},{"$f":"IF(CAPACITES_SPECIALES!$D$32=\" \",0,2)","v":0},{"$f":"IF(CAPACITES_SPECIALES!$D$32=\" \",0,2)","v":0},{"$f":"IF(CAPACITES_SPECIALES!$D$32=\" \",0,2)","v":0},{"$f":"IF(CAPACITES_SPECIALES!$D$32=\" \",0,2)","v":0},{"$f":"IF(CAPACITES_SPECIALES!$D$32=\" \",0,2)","v":0},{"$f":"IF(CAPACITES_SPECIALES!$D$32=\" \",0,2)","v":0},{"$f":"IF(CAPACITES_SPECIALES!$D$32=\" \",0,2)","v":0},{"$f":"IF(CAPACITES_SPECIALES!$D$32=\" \",0,2)","v":0},{"$f":"IF(CAPACITES_SPECIALES!$D$32=\" \",0,2)","v":0},{"$f":"IF(CAPACITES_SPECIALES!$D$32=\" \",0,2)","v":0},{"$f":"IF(CAPACITES_SPECIALES!$D$32=\" \",0,2)","v":0},{"$f":"IF(CAPACITES_SPECIALES!$D$32=\" \",0,2)","v":0},{"$f":"IF(CAPACITES_SPECIALES!$D$32=\" \",0,2)","v":0},{"$f":"IF(CAPACITES_SPECIALES!$D$32=\" \",0,2)","v":0},{"$f":"IF(CAPACITES_SPECIALES!$D$32=\" \",0,2)","v":0},{"$f":"IF(CAPACITES_SPECIALES!$D$32=\" \",0,2)","v":0},{"$f":"IF(CAPACITES_SPECIALES!$D$32=\" \",0,2)","v":0},{"$f":"IF(CAPACITES_SPECIALES!$D$32=\" \",0,2)","v":0},{"$f":"IF(CAPACITES_SPECIALES!$D$32=\" \",0,2)","v":0},{"$f":"IF(CAPACITES_SPECIALES!$D$32=\" \",0,2)","v":0},{"$f":"IF(CAPACITES_SPECIALES!$D$32=\" \",0,2)","v":0},{"$f":"IF(CAPACITES_SPECIALES!$D$32=\" \",0,2)","v":0},{"$f":"IF(CAPACITES_SPECIALES!$D$32=\" \",0,2)","v":0},{"$f":"IF(CAPACITES_SPECIALES!$D$32=\" \",0,2)","v":0},{"$f":"IF(CAPACITES_SPECIALES!$D$32=\" \",0,2)","v":0},{"$f":"IF(CAPACITES_SPECIALES!$D$32=\" \",0,2)","v":0},{"$f":"IF(CAPACITES_SPECIALES!$D$32=\" \",0,2)","v":0},{"$f":"IF(CAPACITES_SPECIALES!$D$32=\" \",0,2)","v":0},{"$f":"IF(CAPACITES_SPECIALES!$D$32=\" \",0,2)","v":0},{"$f":"IF(CAPACITES_SPECIALES!$D$32=\" \",0,2)","v":0},{"$f":"IF(CAPACITES_SPECIALES!$D$32=\" \",0,2)","v":0},{"$f":"IF(CAPACITES_SPECIALES!$D$32=\" \",0,2)","v":0},{"$f":"IF(CAPACITES_SPECIALES!$D$32=\" \",0,2)","v":0},null,null,"Maîtrise de l'Echo Polaris",null,"",null,"",null,""]
[null,null,null,null,null,null,null,null,null,null,null,"U",null,null,null,"Mimétisme +","X","ADA","INT",null,-2,{"$f":"EP333","v":"X"},{"$f":"IF(V333=CJ333,\"X\",U333+V333)","v":"X"},null,-4,null,null,null,null,null,null,{"$f":"IF($AF$3=$AA$3,AA333,IF($AF$3=$AB$3,AB333,IF($AF$3=$AC$3,AC333,IF($AF$3=$AD$3,AD333,0))))","v":0},null,null,null,null,null,{"$f":"IF($AL$3=$AG$3,AG333,IF($AL$3=$AH$3,AH333,IF($AL$3=$AI$3,AI333,IF($AL$3=$AJ$3,AJ333,0))))","v":0},null,null,null,null,null,0,0,{"$f":"IF($AT$3=$AM$3,AM333,IF($AT$3=$AN$3,AN333,IF($AT$3=$AO$3,AO333,IF($AT$3=$AP$3,AP333,IF($AT$3=$AQ$3,AQ333,IF($AT$3=$AR$3,AR333,IF($AS$1=1,AS333,0)))))))","v":0},null,null,null,null,null,null,null,null,{"$f":"IF(BD333=0,0,IF($IA$371=20,BD333+1,BD333))","v":0},{"$f":"IF(BC$3=AU$3,AU333,IF(BC$3=AV$3,AV333,IF(BC$3=AW$3,AW333,IF(BC$3=AX$3,AX333,IF(BC$3=AY$3,AY333,IF(BC$3=AZ$3,AZ333,IF(BC$3=BA$3,BA333,IF(BC$3=BB$3,BB333,0))))))))","v":0},null,null,null,null,null,null,null,null,{"$f":"IF(BN333=0,0,IF($IA$371=20,BN333+1,BN333))","v":0},{"$f":"IF(BM$3=BE$3,BE333,IF(BM$3=BF$3,BF333,IF(BM$3=BG$3,BG333,IF(BM$3=BH$3,BH333,IF(BM$3=BI$3,BI333,IF(BM$3=BJ$3,BJ333,IF(BM$3=BK$3,BK333,IF(BM$3=BL$3,BL333,0))))))))","v":0},null,null,null,null,null,null,null,null,{"$f":"IF(BX333=0,0,IF($IA$371=20,BX333+1,BX333))","v":0},{"$f":"IF(BW$3=BO$3,BO333,IF(BW$3=BP$3,BP333,IF(BW$3=BQ$3,BQ333,IF(BW$3=BR$3,BR333,IF(BW$3=BS$3,BS333,IF(BW$3=BT$3,BT333,IF(BW$3=BU$3,BU333,IF(BW$3=BV$3,BV333,0))))))))","v":0},null,null,null,null,null,null,null,null,{"$f":"IF(CH333=0,0,IF($IA$371=20,CH333+1,CH333))","v":0},{"$f":"IF(CG$3=BY$3,BY333,IF(CG$3=BZ$3,BZ333,IF(CG$3=CA$3,CA333,IF(CG$3=CB$3,CB333,IF(CG$3=CC$3,CC333,IF(CG$3=CD$3,CD333,IF(CG$3=CE$3,CE333,IF(CG$3=CF$3,CF333,0))))))))","v":0},{"$f":"IF(Q333=\"X\",Z333+AF333+AL333+AT333+BC333+BM333+BW333+CG333-4,IF(Q333=-3,Z333+AF333+AL333+AT333+BC333+BM333+BW333+CG333-3,Z333+AF333+AL333+AT333+BC333+BM333+BW333+CG333))","v":-4},{"$f":"IF(CI333=-4,\"X\",CI333)","v":"X"},null,0,null,{"$f":"CI333+CM333","v":-4},{"$f":"IF(CN333=-4,\"X\",CN333)","v":"X"},{"$f":"IF(AND(($Z333+$AF333+$AL333+$AT333+$BC333+$BM333+$BW333+$CG333)>0,CT333>4),2,IF(AND(($Z333+$AF333+$AL333+$AT333+$BC333+$BM333+$BW333+$CG333)>0,CN333<5),1,0))","v":0},0,0,331,{"$f":"CN333+CR333","v":-4},{"$f":"IF(CT333=-4,\"X\",CT333)","v":"X"},0,{"$f":"IF(CQ333=1,0,IF(CP333=2,IF(AND(($Z333+$AF333+$AL333+$AT333+$BC333+$BM333+$BW333+$CG333)>0,CN333<5),5-CN333,0),0))","v":0},{"$f":"IF($E$294=P333,1,IF($E$295=P333,1,IF($E$296=P333,1,IF($E$297=P333,1,IF($E$298=P333,1,IF($E$299=P333,1,0))))))","v":0},null,{"$f":"CT333+CY333","v":-4},{"$f":"IF(CZ333=-4,\"X\",CZ333)","v":"X"},{"$f":"IF(AND(($Z333+$AF333+$AL333+$AT333+$BC333+$BM333+$BW333+$CG333)>0,DF333>4),2,IF(AND(($Z333+$AF333+$AL333+$AT333+$BC333+$BM333+$BW333+$CG333)>0,CZ333<5),1,0))","v":0},0,0,331,{"$f":"CZ333+DD333","v":-4},{"$f":"IF(DF333=-4,\"X\",DF333)","v":"X"},0,{"$f":"IF(DC333=1,0,IF(DB333=2,IF(AND(($Z333+$AF333+$AL333+$AT333+$BC333+$BM333+$BW333+$CG333)>0,CZ333<5),5-CZ333,0),0))","v":0},{"$f":"IF($E$302=P333,1,IF($E$303=P333,1,IF($E$314=P333,1,IF($E$315=P333,1,IF($E$316=P333,1,IF($E$317=P333,1,0))))))","v":0},null,{"$f":"DF333+DK333","v":-4},{"$f":"IF(DL333=-4,\"X\",DL333)","v":"X"},{"$f":"IF(AND(($Z333+$AF333+$AL333+$AT333+$BC333+$BM333+$BW333+$CG333)>0,DR333>4),2,IF(AND(($Z333+$AF333+$AL333+$AT333+$BC333+$BM333+$BW333+$CG333)>0,DL333<5),1,0))","v":0},0,0,331,{"$f":"DL333+DP333","v":-4},{"$f":"IF(DR333=-4,\"X\",DR333)","v":"X"},0,{"$f":"IF(DO333=1,0,IF(DN333=2,IF(AND(($Z333+$AF333+$AL333+$AT333+$BC333+$BM333+$BW333+$CG333)>0,DL333<5),5-DL333,0),0))","v":0},{"$f":"IF($E$320=P333,1,IF($E$321=P333,1,IF($E$322=P333,1,IF($E$323=P333,1,IF($E$324=P333,1,IF($E$325=P333,1,0))))))","v":0},null,{"$f":"DR333+DW333","v":-4},{"$f":"IF(DX333=-4,\"X\",DX333)","v":"X"},{"$f":"IF(AND(($Z333+$AF333+$AL333+$AT333+$BC333+$BM333+$BW333+$CG333)>0,ED333>4),2,IF(AND(($Z333+$AF333+$AL333+$AT333+$BC333+$BM333+$BW333+$CG333)>0,DX333<5),1,0))","v":0},0,0,331,{"$f":"DX333+EB333","v":-4},{"$f":"IF(ED333=-4,\"X\",ED333)","v":"X"},0,{"$f":"IF(EA333=1,0,IF(DZ333=2,IF(AND(($Z333+$AF333+$AL333+$AT333+$BC333+$BM333+$BW333+$CG333)>0,DX333<5),5-DX333,0),0))","v":0},null,{"$f":"ED333+EH333","v":-4},{"$f":"IF(EI333=-4,\"X\",EI333)","v":"X"},{"$f":"IF(AND(($Z333+$AF333+$AL333+$AR333+$AT333+$BC333+$BM333+$BW333+$CG333)>0,EI333<5),1,0)","v":0},1,0,331,{"$f":"EI333+EM333","v":-4},{"$f":"IF(EO333=-4,\"X\",EO333)","v":"X"},null,null,null,null,null,null,null,null,{"$f":"IF(CAPACITES_SPECIALES!$AP$168>0,1,0)","v":0},{"$f":"IF(CAPACITES_SPECIALES!$AP$168>0,1,0)","v":0},{"$f":"IF(CAPACITES_SPECIALES!$AP$168>0,1,0)","v":0},{"$f":"IF(CAPACITES_SPECIALES!$AP$168>0,1,0)","v":0},{"$f":"IF(CAPACITES_SPECIALES!$AP$168>0,1,0)","v":0},{"$f":"IF(CAPACITES_SPECIALES!$AP$168>0,1,0)","v":0},{"$f":"IF(CAPACITES_SPECIALES!$AP$168>0,1,0)","v":0},{"$f":"IF(CAPACITES_SPECIALES!$AP$168>0,1,0)","v":0},{"$f":"IF(CAPACITES_SPECIALES!$AP$168>0,1,0)","v":0},{"$f":"IF(CAPACITES_SPECIALES!$AP$168>0,1,0)","v":0},{"$f":"IF(CAPACITES_SPECIALES!$AP$168>0,1,0)","v":0},{"$f":"IF(CAPACITES_SPECIALES!$AP$168>0,1,0)","v":0},{"$f":"IF(CAPACITES_SPECIALES!$AP$168>0,1,0)","v":0},{"$f":"IF(CAPACITES_SPECIALES!$AP$168>0,1,0)","v":0},{"$f":"IF(CAPACITES_SPECIALES!$AP$168>0,1,0)","v":0},{"$f":"IF(CAPACITES_SPECIALES!$AP$168>0,1,0)","v":0},{"$f":"IF(CAPACITES_SPECIALES!$AP$168>0,1,0)","v":0},{"$f":"IF(CAPACITES_SPECIALES!$AP$168>0,1,0)","v":0},{"$f":"IF(CAPACITES_SPECIALES!$AP$168>0,1,0)","v":0},{"$f":"IF(CAPACITES_SPECIALES!$AP$168>0,1,0)","v":0},{"$f":"IF(CAPACITES_SPECIALES!$AP$168>0,1,0)","v":0},{"$f":"IF(CAPACITES_SPECIALES!$AP$168>0,1,0)","v":0},{"$f":"IF(CAPACITES_SPECIALES!$AP$168>0,1,0)","v":0},{"$f":"IF(CAPACITES_SPECIALES!$AP$168>0,1,0)","v":0},{"$f":"IF(CAPACITES_SPECIALES!$AP$168>0,1,0)","v":0},{"$f":"IF(CAPACITES_SPECIALES!$AP$168>0,1,0)","v":0},{"$f":"IF(CAPACITES_SPECIALES!$AP$168>0,1,0)","v":0},{"$f":"IF(CAPACITES_SPECIALES!$AP$168>0,1,0)","v":0},{"$f":"IF(CAPACITES_SPECIALES!$AP$168>0,1,0)","v":0},{"$f":"IF(CAPACITES_SPECIALES!$AP$168>0,1,0)","v":0},{"$f":"IF(CAPACITES_SPECIALES!$AP$168>0,1,0)","v":0},{"$f":"IF(CAPACITES_SPECIALES!$AP$168>0,1,0)","v":0},{"$f":"IF(CAPACITES_SPECIALES!$AP$168>0,1,0)","v":0},{"$f":"IF(CAPACITES_SPECIALES!$AP$168>0,1,0)","v":0},{"$f":"IF(CAPACITES_SPECIALES!$AP$168>0,1,0)","v":0},{"$f":"IF(CAPACITES_SPECIALES!$AP$168>0,1,0)","v":0},{"$f":"IF(CAPACITES_SPECIALES!$AP$168>0,1,0)","v":0},{"$f":"IF(CAPACITES_SPECIALES!$AP$168>0,1,0)","v":0},{"$f":"IF(CAPACITES_SPECIALES!$AP$168>0,1,0)","v":0},{"$f":"IF(CAPACITES_SPECIALES!$AP$168>0,1,0)","v":0},{"$f":"IF(CAPACITES_SPECIALES!$AP$168>0,1,0)","v":0},{"$f":"IF(CAPACITES_SPECIALES!$AP$168>0,1,0)","v":0},{"$f":"IF(CAPACITES_SPECIALES!$AP$168>0,1,0)","v":0},{"$f":"IF(CAPACITES_SPECIALES!$AP$168>0,1,0)","v":0},{"$f":"IF(CAPACITES_SPECIALES!$AP$168>0,1,0)","v":0},{"$f":"IF(CAPACITES_SPECIALES!$AP$168>0,1,0)","v":0},{"$f":"IF(CAPACITES_SPECIALES!$AP$168>0,1,0)","v":0},{"$f":"IF(CAPACITES_SPECIALES!$AP$168>0,1,0)","v":0},{"$f":"IF(CAPACITES_SPECIALES!$AP$168>0,1,0)","v":0},{"$f":"IF(CAPACITES_SPECIALES!$AP$168>0,1,0)","v":0},{"$f":"IF(CAPACITES_SPECIALES!$AP$168>0,1,0)","v":0},{"$f":"IF(CAPACITES_SPECIALES!$AP$168>0,1,0)","v":0},{"$f":"IF(CAPACITES_SPECIALES!$AP$168>0,1,0)","v":0},{"$f":"IF(CAPACITES_SPECIALES!$AP$168>0,1,0)","v":0},{"$f":"IF(CAPACITES_SPECIALES!$AP$168>0,1,0)","v":0},{"$f":"IF(CAPACITES_SPECIALES!$AP$168>0,1,0)","v":0},{"$f":"IF(CAPACITES_SPECIALES!$AP$168>0,1,0)","v":0},{"$f":"IF(CAPACITES_SPECIALES!$AP$168>0,1,0)","v":0},{"$f":"IF(CAPACITES_SPECIALES!$AP$168>0,1,0)","v":0},{"$f":"IF(CAPACITES_SPECIALES!$AP$168>0,1,0)","v":0},{"$f":"IF(CAPACITES_SPECIALES!$AP$168>0,1,0)","v":0},{"$f":"IF(CAPACITES_SPECIALES!$AP$168>0,1,0)","v":0},{"$f":"IF(CAPACITES_SPECIALES!$AP$168>0,1,0)","v":0},{"$f":"IF(CAPACITES_SPECIALES!$AP$168>0,1,0)","v":0},{"$f":"IF(CAPACITES_SPECIALES!$AP$168>0,1,0)","v":0},{"$f":"IF(CAPACITES_SPECIALES!$AP$168>0,1,0)","v":0},{"$f":"IF(CAPACITES_SPECIALES!$AP$168>0,1,0)","v":0},{"$f":"IF(CAPACITES_SPECIALES!$AP$168>0,1,0)","v":0},{"$f":"IF(CAPACITES_SPECIALES!$AP$168>0,1,0)","v":0},{"$f":"IF(CAPACITES_SPECIALES!$AP$168>0,1,0)","v":0},{"$f":"IF(CAPACITES_SPECIALES!$AP$168>0,1,0)","v":0},{"$f":"IF(CAPACITES_SPECIALES!$AP$168>0,1,0)","v":0},{"$f":"IF(CAPACITES_SPECIALES!$AP$168>0,1,0)","v":0},{"$f":"IF(CAPACITES_SPECIALES!$AP$168>0,1,0)","v":0},{"$f":"IF(CAPACITES_SPECIALES!$AP$168>0,1,0)","v":0},{"$f":"IF(CAPACITES_SPECIALES!$AP$168>0,1,0)","v":0},{"$f":"IF(CAPACITES_SPECIALES!$AP$168>0,1,0)","v":0},{"$f":"IF(CAPACITES_SPECIALES!$AP$168>0,1,0)","v":0},null,null,"Mimétisme",null,"",null,"",null,""]
[null,null,null,null,"Note : la connaissance de l'Ordre Blanc correspond à Connaissance d'une Organisation I (……….). Indiquer \"Ordre Blanc\" avant édition de la feuille de personnage.",null,null,null,null,null,null,null,null,null,null,{"$f":"IF(E329<>\" \",CONCATENATE(\"Pouvoir Polaris (\",E329,\") +\"),\"Pouvoir Polaris V (……….) +\")","v":"Pouvoir Polaris V (……….) +"},"X","INT","VOL",null,-2,"X","X",null,-4,null,null,null,null,null,null,0,null,null,null,null,null,0,null,null,null,null,null,0,0,0,null,null,null,null,null,null,null,null,0,0,null,null,null,null,null,null,null,null,0,0,null,null,null,null,null,null,null,null,0,0,null,null,null,null,null,null,null,null,0,0,-4,"X",null,0,null,-4,"X",0,0,0,336,-4,"X",0,0,0,null,-4,"X",0,0,0,336,-4,"X",0,0,0,null,-4,"X",0,0,0,336,-4,"X",0,0,0,null,-4,"X",0,0,0,336,-4,"X",0,0,null,-4,"X",0,1,0,336,-4,"X",0,null,null,null,null,null,null,null,0,0,0,0,0,0,0,0,0,0,0,0,0,0,0,0,0,0,0,0,0,0,0,0,0,{"$f":"IF(AND($CR$3=$FX$3,$CR$16>4),1,IF(AND($DD$3=$FX$3,$DD$16>4),1,IF(AND($DP$3=$FX$3,$DP$16>4),1,IF(AND($EB$3=$FX$3,$EB$16>4),1,0))))","v":0},0,0,0,0,0,0,0,0,0,0,0,0,0,0,0,0,0,0,0,0,0,0,0,0,0,0,0,0,0,0,0,0,0,0,0,0,0,0,0,0,0,0,0,0,0,0,0,0,0,0,0,0,null,null,"Pouvoir Polaris V (……….)",null,"",null,"",null,""]
[null,null,"Travailleur hybride indépendant",null,null,"Règle perso.",null,null,null,null,null,null,null,null,null,"Sonar +",null,"PER","PER",null,-2,{"$f":"EP343","v":0},"X",null,0,null,null,null,null,null,null,{"$f":"IF($AF$3=$AA$3,AA343,IF($AF$3=$AB$3,AB343,IF($AF$3=$AC$3,AC343,IF($AF$3=$AD$3,AD343,0))))","v":0},null,null,null,null,null,{"$f":"IF($AL$3=$AG$3,AG343,IF($AL$3=$AH$3,AH343,IF($AL$3=$AI$3,AI343,IF($AL$3=$AJ$3,AJ343,0))))","v":0},null,null,null,null,null,0,0,0,null,null,null,null,null,null,null,null,{"$f":"IF(BD343=0,0,IF($IA$371=20,BD343+1,BD343))","v":0},{"$f":"IF(BC$3=AU$3,AU343,IF(BC$3=AV$3,AV343,IF(BC$3=AW$3,AW343,IF(BC$3=AX$3,AX343,IF(BC$3=AY$3,AY343,IF(BC$3=AZ$3,AZ343,IF(BC$3=BA$3,BA343,IF(BC$3=BB$3,BB343,0))))))))","v":0},null,null,null,null,null,null,null,null,{"$f":"IF(BN343=0,0,IF($IA$371=20,BN343+1,BN343))","v":0},{"$f":"IF(BM$3=BE$3,BE343,IF(BM$3=BF$3,BF343,IF(BM$3=BG$3,BG343,IF(BM$3=BH$3,BH343,IF(BM$3=BI$3,BI343,IF(BM$3=BJ$3,BJ343,IF(BM$3=BK$3,BK343,IF(BM$3=BL$3,BL343,0))))))))","v":0},null,null,null,null,null,null,null,null,{"$f":"IF(BX343=0,0,IF($IA$371=20,BX343+1,BX343))","v":0},{"$f":"IF(BW$3=BO$3,BO343,IF(BW$3=BP$3,BP343,IF(BW$3=BQ$3,BQ343,IF(BW$3=BR$3,BR343,IF(BW$3=BS$3,BS343,IF(BW$3=BT$3,BT343,IF(BW$3=BU$3,BU343,IF(BW$3=BV$3,BV343,0))))))))","v":0},null,null,null,null,null,null,null,null,{"$f":"IF(CH343=0,0,IF($IA$371=20,CH343+1,CH343))","v":0},{"$f":"IF(CG$3=BY$3,BY343,IF(CG$3=BZ$3,BZ343,IF(CG$3=CA$3,CA343,IF(CG$3=CB$3,CB343,IF(CG$3=CC$3,CC343,IF(CG$3=CD$3,CD343,IF(CG$3=CE$3,CE343,IF(CG$3=CF$3,CF343,0))))))))","v":0},0,{"$f":"IF(CI343=-4,\"X\",CI343)","v":0},null,0,null,{"$f":"CI343+CM343","v":0},{"$f":"IF(CN343=-4,\"X\",CN343)","v":0},0,0,0,341,{"$f":"CN343+CR343","v":0},{"$f":"IF(CT343=-4,\"X\",CT343)","v":0},0,0,0,null,{"$f":"CT343+CY343","v":0},{"$f":"IF(CZ343=-4,\"X\",CZ343)","v":0},0,0,0,341,{"$f":"CZ343+DD343","v":0},{"$f":"IF(DF343=-4,\"X\",DF343)","v":0},0,0,0,null,{"$f":"DF343+DK343","v":0},{"$f":"IF(DL343=-4,\"X\",DL343)","v":0},0,0,0,341,{"$f":"DL343+DP343","v":0},{"$f":"IF(DR343=-4,\"X\",DR343)","v":0},0,0,0,null,{"$f":"DR343+DW343","v":0},{"$f":"IF(DX343=-4,\"X\",DX343)","v":0},0,0,0,341,{"$f":"DX343+EB343","v":0},{"$f":"IF(ED343=-4,\"X\",ED343)","v":0},0,0,null,{"$f":"ED343+EH343","v":0},{"$f":"IF(EI343=-4,\"X\",EI343)","v":0},0,1,0,341,{"$f":"EI343+EM343","v":0},{"$f":"IF(EO343=-4,\"X\",EO343)","v":0},0,null,null,null,null,null,null,null,{"$f":"IF(CAPACITES_SPECIALES!$AN$168>0,1,0)","v":0},{"$f":"IF(CAPACITES_SPECIALES!$AN$168>0,1,0)","v":0},{"$f":"IF(CAPACITES_SPECIALES!$AN$168>0,1,0)","v":0},{"$f":"IF(CAPACITES_SPECIALES!$AN$168>0,1,0)","v":0},{"$f":"IF(CAPACITES_SPECIALES!$AN$168>0,1,0)","v":0},{"$f":"IF(CAPACITES_SPECIALES!$AN$168>0,1,0)","v":0},{"$f":"IF(CAPACITES_SPECIALES!$AN$168>0,1,0)","v":0},{"$f":"IF(CAPACITES_SPECIALES!$AN$168>0,1,0)","v":0},{"$f":"IF(CAPACITES_SPECIALES!$AN$168>0,1,0)","v":0},{"$f":"IF(CAPACITES_SPECIALES!$AN$168>0,1,0)","v":0},{"$f":"IF(CAPACITES_SPECIALES!$AN$168>0,1,0)","v":0},{"$f":"IF(CAPACITES_SPECIALES!$AN$168>0,1,0)","v":0},{"$f":"IF(CAPACITES_SPECIALES!$AN$168>0,1,0)","v":0},{"$f":"IF(CAPACITES_SPECIALES!$AN$168>0,1,0)","v":0},{"$f":"IF(CAPACITES_SPECIALES!$AN$168>0,1,0)","v":0},{"$f":"IF(CAPACITES_SPECIALES!$AN$168>0,1,0)","v":0},{"$f":"IF(CAPACITES_SPECIALES!$AN$168>0,1,0)","v":0},{"$f":"IF(CAPACITES_SPECIALES!$AN$168>0,1,0)","v":0},{"$f":"IF(CAPACITES_SPECIALES!$AN$168>0,1,0)","v":0},{"$f":"IF(CAPACITES_SPECIALES!$AN$168>0,1,0)","v":0},{"$f":"IF(CAPACITES_SPECIALES!$AN$168>0,1,0)","v":0},{"$f":"IF(CAPACITES_SPECIALES!$AN$168>0,1,0)","v":0},{"$f":"IF(CAPACITES_SPECIALES!$AN$168>0,1,0)","v":0},{"$f":"IF(CAPACITES_SPECIALES!$AN$168>0,1,0)","v":0},{"$f":"IF(CAPACITES_SPECIALES!$AN$168>0,1,0)","v":0},{"$f":"IF(CAPACITES_SPECIALES!$AN$168>0,1,0)","v":0},{"$f":"IF(CAPACITES_SPECIALES!$AN$168>0,1,0)","v":0},{"$f":"IF(CAPACITES_SPECIALES!$AN$168>0,1,0)","v":0},{"$f":"IF(CAPACITES_SPECIALES!$AN$168>0,1,0)","v":0},{"$f":"IF(CAPACITES_SPECIALES!$AN$168>0,1,0)","v":0},{"$f":"IF(CAPACITES_SPECIALES!$AN$168>0,1,0)","v":0},{"$f":"IF(CAPACITES_SPECIALES!$AN$168>0,1,0)","v":0},{"$f":"IF(CAPACITES_SPECIALES!$AN$168>0,1,0)","v":0},{"$f":"IF(CAPACITES_SPECIALES!$AN$168>0,1,0)","v":0},{"$f":"IF(CAPACITES_SPECIALES!$AN$168>0,1,0)","v":0},{"$f":"IF(CAPACITES_SPECIALES!$AN$168>0,1,0)","v":0},{"$f":"IF(CAPACITES_SPECIALES!$AN$168>0,1,0)","v":0},{"$f":"IF(CAPACITES_SPECIALES!$AN$168>0,1,0)","v":0},{"$f":"IF(CAPACITES_SPECIALES!$AN$168>0,1,0)","v":0},{"$f":"IF(CAPACITES_SPECIALES!$AN$168>0,1,0)","v":0},{"$f":"IF(CAPACITES_SPECIALES!$AN$168>0,1,0)","v":0},{"$f":"IF(CAPACITES_SPECIALES!$AN$168>0,1,0)","v":0},{"$f":"IF(CAPACITES_SPECIALES!$AN$168>0,1,0)","v":0},{"$f":"IF(CAPACITES_SPECIALES!$AN$168>0,1,0)","v":0},{"$f":"IF(CAPACITES_SPECIALES!$AN$168>0,1,0)","v":0},{"$f":"IF(CAPACITES_SPECIALES!$AN$168>0,1,0)","v":0},{"$f":"IF(CAPACITES_SPECIALES!$AN$168>0,1,0)","v":0},{"$f":"IF(CAPACITES_SPECIALES!$AN$168>0,1,0)","v":0},{"$f":"IF(CAPACITES_SPECIALES!$AN$168>0,1,0)","v":0},{"$f":"IF(CAPACITES_SPECIALES!$AN$168>0,1,0)","v":0},{"$f":"IF(CAPACITES_SPECIALES!$AN$168>0,1,0)","v":0},{"$f":"IF(CAPACITES_SPECIALES!$AN$168>0,1,0)","v":0},{"$f":"IF(CAPACITES_SPECIALES!$AN$168>0,1,0)","v":0},{"$f":"IF(CAPACITES_SPECIALES!$AN$168>0,1,0)","v":0},{"$f":"IF(CAPACITES_SPECIALES!$AN$168>0,1,0)","v":0},{"$f":"IF(CAPACITES_SPECIALES!$AN$168>0,1,0)","v":0},{"$f":"IF(CAPACITES_SPECIALES!$AN$168>0,1,0)","v":0},{"$f":"IF(CAPACITES_SPECIALES!$AN$168>0,1,0)","v":0},{"$f":"IF(CAPACITES_SPECIALES!$AN$168>0,1,0)","v":0},{"$f":"IF(CAPACITES_SPECIALES!$AN$168>0,1,0)","v":0},{"$f":"IF(CAPACITES_SPECIALES!$AN$168>0,1,0)","v":0},{"$f":"IF(CAPACITES_SPECIALES!$AN$168>0,1,0)","v":0},{"$f":"IF(CAPACITES_SPECIALES!$AN$168>0,1,0)","v":0},{"$f":"IF(CAPACITES_SPECIALES!$AN$168>0,1,0)","v":0},{"$f":"IF(CAPACITES_SPECIALES!$AN$168>0,1,0)","v":0},{"$f":"IF(CAPACITES_SPECIALES!$AN$168>0,1,0)","v":0},{"$f":"IF(CAPACITES_SPECIALES!$AN$168>0,1,0)","v":0},{"$f":"IF(CAPACITES_SPECIALES!$AN$168>0,1,0)","v":0},{"$f":"IF(CAPACITES_SPECIALES!$AN$168>0,1,0)","v":0},{"$f":"IF(CAPACITES_SPECIALES!$AN$168>0,1,0)","v":0},{"$f":"IF(CAPACITES_SPECIALES!$AN$168>0,1,0)","v":0},{"$f":"IF(CAPACITES_SPECIALES!$AN$168>0,1,0)","v":0},{"$f":"IF(CAPACITES_SPECIALES!$AN$168>0,1,0)","v":0},{"$f":"IF(CAPACITES_SPECIALES!$AN$168>0,1,0)","v":0},{"$f":"IF(CAPACITES_SPECIALES!$AN$168>0,1,0)","v":0},{"$f":"IF(CAPACITES_SPECIALES!$AN$168>0,1,0)","v":0},{"$f":"IF(CAPACITES_SPECIALES!$AN$168>0,1,0)","v":0},{"$f":"IF(CAPACITES_SPECIALES!$AN$168>0,1,0)","v":0},null,null,"Sonar",null,"",null,"",null,""]
[null,null,null,null,null,null,null,null,null,null,null,null,null,null,null,"Compétences spéciales 09",null,"FOR","FOR",null,-2,0,"X",null,0,null,null,null,null,null,null,0,null,null,null,null,null,0,null,null,null,null,null,0,0,0,null,null,null,null,null,null,null,null,0,0,null,null,null,null,null,null,null,null,0,0,null,null,null,null,null,null,null,null,0,0,null,null,null,null,null,null,null,null,0,0,0,0,null,0,null,0,0,0,0,0,346,0,0,0,0,0,null,0,0,0,0,0,346,0,0,0,0,0,null,0,0,0,0,0,346,0,0,0,0,0,null,0,0,0,0,0,346,0,0,0,0,null,0,0,0,1,0,346,0,0,0,null,null,null,null,null,null,null,null,null,null,null,null,null,null,null,null,null,null,null,null,null,null,null,null,null,null,null,null,null,null,null,null,null,null,null,null,null,null,null,null,null,null,null,null,null,null,null,null,null,null,null,null,null,null,null,null,null,null,null,null,null,null,null,null,null,null,null,null,null,null,null,null,null,null,null,null,null,null,null,null,null,null,null,null,null,null,null,"Compétences spéciales 09",null,"",null,"",null,""]
[null,null,null,"Travail en République du Corail ?","Non",null,{"$f":"IF(E351=\"Oui\",1,0)","v":0},null,null,null,null,null,null,null,null,null,null,null,"Actuel",null,null,null,null,null,null,null,{"$f":"SUM(AA17:AA350)","v":7},7,5,4,null,7,5,3,3,3,null,5,7,9,8,5,5,null,null,{"$f":"SUM(AT17:AT350)","v":7},{"$f":"SUM(AU17:AU350)","v":7},11,8,7,13,15,6,7,0,null,7,11,8,7,13,15,6,7,0,null,7,11,8,7,13,15,6,7,0,null,7,11,8,7,13,15,6,7,0,null,null,null,null,null,null,null,null,null,null,{"$f":"CV351-CW351","v":0},null,null,null,{"$f":"SUM(CV19:CV350)","v":0},{"$f":"SUM(CW19:CW350)","v":0},null,null,null,null,null,null,{"$f":"DH351-DI351","v":0},null,null,null,{"$f":"SUM(DH19:DH350)","v":0},{"$f":"SUM(DI19:DI350)","v":0},null,null,null,null,null,null,{"$f":"DT351-DU351","v":0},null,null,null,{"$f":"SUM(DT19:DT350)","v":0},{"$f":"SUM(DU19:DU350)","v":0},null,null,null,null,null,null,{"$f":"EF351-EG351","v":0},null,null,null,{"$f":"SUM(EF19:EF350)","v":0},{"$f":"SUM(EG19:EG350)","v":0},null,null,null,null,null,{"$f":"EQ351","v":0},null,null,null,{"$f":"SUM(EQ19:EQ350)","v":0}]
[null,null,null,null,null,null,null,null,null,null,null,null,null,null,null,null,null,null,null,null,null,null,null,null,null,null,null,null,null,null,null,null,null,null,null,null,null,null,null,null,null,null,null,null,null,null,null,null,null,null,null,null,null,null,null,null,null,null,null,null,null,null,null,null,null,null,null,null,null,null,null,null,null,null,null,null,null,null,null,null,null,null,null,null,null,null,null,null,null,null,null,null,null,null,null,null,null,null,null,null,null,null,null,null,null,null,null,null,null,null,null,null,null,null,null,null,null,null,null,null,null,null,null,null,null,null,null,null,null,null,null,null,null,null,null,null,null,null,null,null,null,null,null,null,null,null,null,null,null,null,null,null,null,null,null,null,null,null,null,null,null,null,null,null,null,null,null,null,null,null,null,null,null,null,null,null,null,null,null,null,null,null,null,null,null,null,null,null,null,null,null,null,null,null,null,null,null,null,null,null,null,null,null,null,null,null,null,null,null,null,null,null,null,null,null,null,null,null,null,null,null,null,null,null,null,null,null,null,null,null,null,null,3]
[null,null,null,null,null,null,null,null,null,null,null,null,null,null,null,null,null,null,null,null,null,null,null,null,null,null,null,null,null,null,null,null,null,null,null,null,null,null,null,null,null,null,null,null,null,null,null,null,null,null,null,null,null,null,null,null,null,null,null,null,null,null,null,null,null,null,null,null,null,null,null,null,null,null,null,null,null,null,null,null,null,null,null,null,null,null,null,null,null,null,null,null,null,null,null,null,null,null,null,null,null,null,null,null,null,null,null,null,null,null,null,null,null,null,null,null,null,null,null,null,null,null,null,null,null,null,null,null,null,null,null,null,null,null,null,null,null,null,null,null,null,null,null,null,null,null,null,null,null,null,null,null,null,null,null,null,null,null,null,null,null,null,null,null,null,null,null,null,null,null,null,null,null,null,null,null,null,null,null,null,null,null,null,null,null,null,null,null,null,null,null,null,null,null,null,null,null,null,null,null,null,null,null,null,null,null,null,null,null,null,null,null,null,null,null,null,null,null,null,null,null,null,null,null,null,null,null,null,null,null,null,null,4]
[null,null,null,null,null,null,null,null,null,null,null,null,null,null,null,null,null,null,null,null,null,null,null,null,null,null,null,null,null,null,null,null,null,null,null,null,null,null,null,null,null,null,null,null,null,null,null,null,null,null,null,null,null,null,null,null,null,null,null,null,null,null,null,null,null,null,null,null,null,null,null,null,null,null,null,null,null,null,null,null,null,null,null,null,null,null,null,null,null,null,null,null,null,null,null,null,null,null,null,null,null,null,null,null,null,null,null,null,null,null,null,null,null,null,null,null,null,null,null,null,null,null,null,null,null,null,null,null,null,null,null,null,null,null,null,null,null,null,null,null,null,null,null,null,null,null,null,null,null,null,null,null,null,null,null,null,null,null,null,null,null,null,null,null,null,null,null,null,null,null,null,null,null,null,null,null,null,null,null,null,null,null,null,null,null,null,null,null,null,null,null,null,null,null,null,null,null,null,null,null,null,null,null,null,null,null,null,null,null,null,null,null,null,null,null,null,null,null,null,null,null,null,null,null,null,null,null,null,null,null,null,null,9]
[null,null,null,null,null,null,null,null,null,null,null,null,null,null,null,null,null,null,null,null,null,null,null,null,null,null,null,null,null,null,null,null,null,null,null,null,null,null,null,null,null,null,null,null,null,null,null,null,null,null,null,null,null,null,null,null,null,null,null,null,null,null,null,null,null,null,null,null,null,null,null,null,null,null,null,null,null,null,null,null,null,null,null,null,null,null,null,null,null,null,null,null,null,null,null,null,null,null,null,null,null,null,null,null,null,null,null,null,null,null,null,null,null,null,null,null,null,null,null,null,null,null,null,null,null,null,null,null,null,null,null,null,null,null,null,"Débloque le choix avec liste déroulante",null,null,null,null,null,null,null,null,null,null,null,null,null,null,null,null,null,null,null,null,null,null,null,null,null,null,null,null,null,null,null,null,null,null,null,null,null,null,null,null,null,null,null,null,null,null,null,null,null,null,null,null,null,null,null,null,null,null,null,null,null,null,null,null,null,null,null,null,null,null,null,null,null,null,null,null,null,null,null,null,null,null,null,null,null,null,null,null,null,null,null,null,null,null,null,null,13]
[null,null,null,null,null,null,null,null,null,null,null,null,null,null,null,null,null,null,null,null,null,null,null,null,null,null,null,null,null,null,null,null,null,null,null,null,null,null,null,null,null,null,null,null,null,null,null,null,null,null,null,null,null,null,null,null,null,null,null,null,null,null,null,null,null,null,null,null,null,null,null,null,null,null,null,null,null,null,null,null,null,null,null,null,null,null,null,null,null,null,null,null,null,null,null,null,null,null,null,null,null,null,null,null,null,null,null,null,null,null,null,null,null,null,null,null,null,null,null,null,null,null,null,null,null,null,null,null,null,null,null,null,null,null,null,null,null,null,null,null,null,null,null,null,null,null,null,null,null,null,null,null,null,"Connaissance nation/organisation au choix",0,0,0,0,0,0,0,0,0,1,0,0,1,0,0,0,1,1,1,1,0,0,0,0,0,0,0,1,0,0,0,0,0,0,0,0,0,0,0,0,0,0,0,0,0,0,0,{"$f":"IF(GT$1>2,1,0)","v":0},0,0,0,0,0,0,0,0,0,0,0,0,0,0,0,0,0,0,0,0,0,0,0,0,0,0,0,0,0,0,19,null,null,null,2,"Surface","Surface",null,null,"Education scolaire",null,null,null,"Droit","Combat souterrain",null,null,"COO",-1,3,0,3,3,{"$f":"IV373+1","v":3},null,"Contrebandier",null,1,3,null,null,"Attaque psychique"]
[null,null,null,null,null,null,null,null,null,null,null,null,null,null,null,null,null,null,null,null,null,null,null,null,null,null,null,null,null,null,null,null,null,null,null,null,null,null,null,null,null,null,null,null,null,null,null,null,null,null,null,null,null,null,null,null,null,null,null,null,null,null,null,null,null,null,null,null,null,null,null,null,null,null,null,null,null,null,null,null,null,null,null,null,null,null,null,null,null,null,null,null,null,null,null,null,null,null,null,null,null,null,null,null,null,null,null,null,null,null,null,null,null,null,null,null,null,null,null,null,null,null,null,null,null,null,null,null,null,null,null,null,null,null,null,null,null,null,null,null,null,null,null,null,null,null,null,null,null,null,null,null,null,"Science liée aux produits fabriqués/vendus 3",0,1,0,0,0,0,0,0,0,0,0,1,0,0,0,0,0,0,0,0,0,0,0,0,0,0,0,0,0,0,0,0,0,0,0,0,0,0,0,0,0,0,0,0,0,0,0,0,0,0,0,0,0,0,0,0,0,0,0,0,0,0,0,0,0,0,0,0,0,0,0,0,0,0,0,0,0,0,26,null,null,null,9,null,null,null,null," ",null,null,null,null,null,null,null,null,6,{"$f":"IR380+2","v":11},7,{"$f":"IT380+2","v":12},10,{"$f":"IV380+2","v":15},null,"Marchand itinérant/Conteur",null,8,10,null,null,"Brouillage"]
[null,null,null,null,null,null,null,null,null,null,null,null,null,null,null,null,null,null,null,null,null,null,null,null,null,null,null,null,null,null,null,null,null,null,null,null,null,null,null,null,null,null,null,null,null,null,null,null,null,null,null,null,null,null,null,null,null,null,null,null,null,null,null,null,null,null,null,null,null,null,null,null,null,null,null,null,null,null,null,null,null,null,null,null,null,null,null,null,null,null,null,null,null,null,null,null,null,null,null,null,null,null,null,null,null,null,null,null,null,null,null,null,null,null,null,null,null,null,null,null,null,null,null,null,null,null,null,null,null,null,null,null,null,null,null,null,null,null,null,null,null,null,null,null,null,null,null,null,null,null,null,null,null,null,{"$f":"EY356","v":"Sans profession"},{"$f":"EZ356","v":"Artisan/Artiste"},"Assassin","Barman","Chasseur de primes","Contrebandier","Cultivateur/Eleveur","Diplomate","Erudit/Archéologue","Espion","Hybride du Trident (Membre du GSI)","Marchand","Marchand itinérant/Conteur","Médecin/Chirurgien","Mercenaire","Mineur","Officier naval/Navigateur","Officier militaire","Officier militaire (Spé. Op. Surface)","Officier militaire (Spé. Op. Souterrains)","Ouvrier/Docker","Pilote de chasse (Chasseur atmosphérique)","Pilote de chasse (Chasseur sous-marin)","Pirate","Policier/Enquêteur","Prêtre du Trident","Prostituée","Scientifique/Ingénieur","Soldat/Milicien","Soldat d'élite (Commandos marin)","Soldat d'élite (Commandos souterrains)","Soldat d'élite (Commandos de surface)","Soldat d'élite (Forces spéciales)","Sous-marinier","Technicien/Mécanicien","Techno-Hybride",{"$f":"GI356","v":"Veilleur"},"Voleur/Criminel","Voie des altérés","Voie de la connaissance et du spirituel","Voie de la chasse et du combat","Voie de l'errance et du commerce","Voie de la technologie","Voie de la nature et de l'artisanat","Prêtre/Prêtresse du Corail","Empathe adjoint aux patrouilles de sécurité","Empathe courtisane","Empathe administratif","Empathe médecin","Empathe combattante","Travailleur hybride indépendant",{"$f":"GX356","v":"Profession 14"},"Profession 15","Profession 16","Profession 17","Profession 18","Profession 19","Profession 20","Profession 21","Profession 22","Profession 23","Profession 24","Profession 25","Profession 26","Profession 27",{"$f":"HL356","v":"Profession 28"},"Profession 29","Profession 30","Profession 31","Profession 32","Profession 33","Profession 34","Profession 35","Profession 36","Profession 37","Profession 38","Profession 39","Profession 40",1,null,null,null,12,null,null,null,null,"Pirates",null,null,null,null,null,null,null,10,9,{"$f":"IR383+2","v":17},10,{"$f":"IT383+2","v":18},13,{"$f":"IV383+7","v":30},null,"Mineur",null,11,13,null,null,"Champ de force"]
[null,null,null,null,null,null,null,null,null,null,null,null,null,null,null,null,null,null,null,null,null,null,null,null,null,null,null,null,null,null,null,null,null,null,null,null,null,null,null,null,null,null,null,null,null,null,null,null,null,null,null,null,null,null,null,null,null,null,null,null,null,null,null,null,null,null,null,null,null,null,null,null,null,null,null,null,null,null,null,null,null,null,null,null,null,null,null,null,null,null,null,null,null,null,null,null,null,null,null,null,null,null,null,null,null,null,null,null,null,null,null,null,null,null,null,null,null,null,null,null,null,null,null,null,null,null,null,null,null,null,null,null,null,null,null,null,null,null,null,null,null,null,null,null,null,null,null,null,null,null,null,null,null,null,null,null,null,null,null,null,null,null,null,null,null,null,null,null,null,null,null,null,null,null,null,null,null,null,null,null,null,null,null,null,null,null,null,null,null,null,null,null,null,null,null,null,null,null,null,null,null,null,null,null,null,null,null,null,null,null,null,null,null,null,null,null,null,null,null,null,null,null,null,null,null,null,null,null,null,null,null,null,6,null,null,null,17,null,null,null,null,null,null,null,null,null,null,null,null,null,14,{"$f":"IR388+9","v":43},15,{"$f":"IT388+11","v":53},18,{"$f":"IV388+17","v":95},null,"Ouvrier/Docker",null,16,13,null,null,"Contrôle mental"]
[null,null,null,null,null,null,null,null,null,null,null,null,null,null,null,null,null,null,null,null,null,null,null,null,null,null,null,null,null,null,null,null,null,null,null,null,null,null,null,null,null,null,null,null,null,null,null,null,null,null,null,null,null,null,null,null,null,null,null,null,null,null,null,null,null,null,null,null,null,null,null,null,null,null,null,null,null,null,null,null,null,null,null,null,null,null,null,null,null,null,null,null,null,null,null,null,null,null,null,null,null,null,null,null,null,null,null,null,null,null,null,null,null,null,null,null,null,null,null,null,null,null,null,null,null,null,null,null,null,null,null,null,null,null,null,null,null,null,null,null,null,null,null,null,null,null,null,null,null,null,null,null,null,null,null,null,null,null,null,null,null,null,null,null,null,null,null,null,null,null,null,null,null,null,null,null,null,null,null,null,null,null,null,null,null,null,null,null,null,null,null,null,null,null,null,null,null,null,null,null,null,null,null,null,null,null,null,null,null,null,null,null,null,null,null,null,null,null,null,null,null,null,null,null,null,null,null,null,null,null,null,null,11,null,null,null,22,null,"Armes spéciales (tir) I (FOR/COO)","Armes spéciales (tir) I (…....…)",null,null,null,null,null,null,null,null,null,null,19,{"$f":"IR393+19","v":118},20,{"$f":"IT393+21","v":138},null,null,null,"Prêtre du Trident",null,21,15,null,null,"Déstructuration"]
[null,null,null,null,null,null,null,null,null,null,null,null,null,null,null,null,null,null,null,null,null,null,null,null,null,null,null,null,null,null,null,null,null,null,null,null,null,null,null,null,null,null,null,null,null,null,null,null,null,null,null,null,null,null,null,null,null,null,null,null,null,null,null,null,null,null,null,null,null,null,null,null,null,null,null,null,null,null,null,null,null,null,null,null,null,null,null,null,null,null,null,null,null,null,null,null,null,null,null,null,null,null,null,null,null,null,null,null,null,null,null,null,null,null,null,null,null,null,null,null,null,null,null,null,null,null,null,null,null,null,null,null,null,null,null,null,null,null,null,null,null,null,null,null,null,null,null,null,null,null,null,null,null,"Connaissance d'une nation (Equinoxe) * PN",0,0,0,0,0,0,{"$f":"IF(VLOOKUP($E$32,$IE$403:$IF$413,2,)=$P99,1,0)","v":0},0,0,0,0,1,0,0,0,0,0,0,0,0,0,0,0,0,{"$f":"IF(VLOOKUP($E$32,$IE$403:$IF$413,2,)=$P99,1,0)","v":0},1,{"$f":"IF(VLOOKUP($E$32,$IE$403:$IF$413,2,)=$P99,1,0)","v":0},0,0,0,0,0,0,0,0,0,1,0,0,0,0,0,0,0,{"$f":"IF(VLOOKUP($E$32,$IE$403:$IF$413,2,)=$P99,1,0)","v":0},0,0,0,0,0,{"$f":"IF(VLOOKUP($E$32,$IE$403:$IF$413,2,)=$P99,1,0)","v":0},0,0,0,0,0,0,0,0,0,0,0,0,0,0,0,0,0,0,0,0,0,0,0,0,0,0,0,16,null,null,null,27,null,"Fusils/Armes d'épaule","Fusils/Armes d'épaule",null,null,null,null,null,null,null,null,null,null,null,null,null,null,null,null,null,"Soldat d'élite (Commandos souterrains)",null,26,15,null,null,"Guérison moléculaire"]
[null,null,null,null,null,null,null,null,null,null,null,null,null,null,null,null,null,null,null,null,null,null,null,null,null,null,null,null,null,null,null,null,null,null,null,null,null,null,null,null,null,null,null,null,null,null,null,null,null,null,null,null,null,null,null,null,null,null,null,null,null,null,null,null,null,null,null,null,null,null,null,null,null,null,null,null,null,null,null,null,null,null,null,null,null,null,null,null,null,null,null,null,null,null,null,null,null,null,null,null,null,null,null,null,null,null,null,null,null,null,null,null,null,null,null,null,null,null,null,null,null,null,null,null,null,null,null,null,null,null,null,null,null,null,null,null,null,null,null,null,null,null,null,null,null,null,null,null,null,null,null,null,null,"Con. d'une nation (Union Méditerranéenne) * PN",0,0,0,0,0,0,0,0,0,0,0,0,0,0,0,0,0,0,0,0,0,0,0,0,0,0,0,0,0,0,0,0,0,0,0,0,0,0,0,0,0,0,0,0,{"$f":"IF(VLOOKUP($E$32,$IE$403:$IF$413,2,)=$P104,1,0)","v":0},0,0,0,0,0,{"$f":"IF(VLOOKUP($E$32,$IE$403:$IF$413,2,)=$P104,1,0)","v":0},0,0,0,0,0,0,0,0,0,0,0,0,0,0,0,0,0,0,0,0,0,0,0,0,0,0,0,21,null,null,null,{"$f":"P19","v":"Acrobatie/Equilibre *"},null,"Amazonia","Connaissance d'une nation (Amazonia) * PN",null,null,null,null,"Amanéum","Langue étrangère (Amanéun) * PN",null,null,null,null,null,null,null,null,null,null,null,"Techno-Hybride",null,null,null,null,null,"Lames psychiques"]
[null,null,null,null,null,null,null,null,null,null,null,null,null,null,null,null,null,null,null,null,null,null,null,null,null,null,null,null,null,null,null,null,null,null,null,null,null,null,null,null,null,null,null,null,null,null,null,null,null,null,null,null,null,null,null,null,null,null,null,null,null,null,null,null,null,null,null,null,null,null,null,null,null,null,null,null,null,null,null,null,null,null,null,null,null,null,null,null,null,null,null,null,null,null,null,null,null,null,null,null,null,null,null,null,null,null,null,null,null,null,null,null,null,null,null,null,null,null,null,null,null,null,null,null,null,null,null,null,null,null,null,null,null,null,null,"Connaissance nation au choix",null,null,null,null,null,"Connaissance nation au choix",null,null,null,null,null,null,null,null,null,null,null,{"$f":"EX397","v":"Connaissance d'une nation (Amazonia) * PN"},0,0,0,0,0,0,0,{"$f":"IF(IF($E$184<>FF$384,0,VLOOKUP($E$191,$IE$403:$IF$413,2,)=$P97),1,IF(IF($E$204<>FF$384,0,VLOOKUP($E$211,$IE$403:$IF$413,2,)=$P97),1,IF(IF($E$235<>FF$384,0,VLOOKUP($E$242,$IE$403:$IF$413,2,)=$P97),1,IF(IF($E$260<>FF$384,0,VLOOKUP($E$268,$IE$403:$IF$413,2,)=$P97),1,0))))","v":0},0,0,0,0,0,0,0,0,0,0,0,0,0,0,0,0,0,0,0,0,0,0,0,0,0,0,0,0,0,0,0,0,0,{"$f":"IF(IF($E$184<>GN$384,0,VLOOKUP($E$191,$IE$403:$IF$413,2,)=$P97),1,IF(IF($E$204<>GN$384,0,VLOOKUP($E$211,$IE$403:$IF$413,2,)=$P97),1,IF(IF($E$235<>GN$384,0,VLOOKUP($E$242,$IE$403:$IF$413,2,)=$P97),1,IF(IF($E$260<>GN$384,0,VLOOKUP($E$268,$IE$403:$IF$413,2,)=$P97),1,0))))","v":0},0,0,0,0,0,0,0,0,0,0,0,0,0,0,0,0,0,0,0,0,0,0,0,0,0,0,0,0,0,0,0,0,0,0,0,0,24,null,null,null,"Contrôle physique",null,"Hégémonie","Connaissance d'une nation (Hégémonie) * PN",null,null,null,null,"Isitac","Langue étrangère (Isitac) * PN",null,null,null,null,null,null,null,null,null,null,null,"Voie des altérés",null,null,null,null,null,"Modification de la masse"]
[null,null,null,null,null,null,null,null,null,null,null,null,null,null,null,null,null,null,null,null,null,null,null,null,null,null,null,null,null,null,null,null,null,null,null,null,null,null,null,null,null,null,null,null,null,null,null,null,null,null,null,null,null,null,null,null,null,null,null,null,null,null,null,null,null,null,null,null,null,null,null,null,null,null,null,null,null,null,null,null,null,null,null,null,null,null,null,null,null,null,null,null,null,null,null,null,null,null,null,null,null,null,null,null,null,null,null,null,null,null,null,null,null,null,null,null,null,null,null,null,null,null,null,null,null,null,null,null,null,null,null,null,null,null,null,null,null,null,null,null,null,null,null,null,null,null,null,null,null,null,null,null,null,"Con. d'une nation (Union Méditerranéenne) * PN",0,0,0,0,0,0,0,0,0,0,0,0,0,0,0,0,0,0,0,0,0,0,0,0,0,0,0,0,0,0,0,0,0,0,0,0,0,0,0,0,0,0,0,0,0,0,0,0,0,0,0,0,0,0,0,0,0,0,0,0,0,0,0,0,0,0,0,0,0,0,0,0,0,0,0,0,0,0,null,null,null,null,{"$f":"P32","v":"Armes lourdes (contact)"},null," "," ",null,null,null,null,"Olosak","Langue étrangère (Olosak) * PN",null,null,null,null,null,null,null,null,null,null,null,"Empathe adjoint aux patrouilles de sécurité",null,null,null,null,null,"Onde Polaris"]
[null,null,null,null,null,null,null,null,null,null,null,null,null,null,null,null,null,null,null,null,null,null,null,null,null,null,null,null,null,null,null,null,null,null,null,null,null,null,null,null,null,null,null,null,null,null,null,null,null,null,null,null,null,null,null,null,null,null,null,null,null,null,null,null,null,null,null,null,null,null,null,null,null,null,null,null,null,null,null,null,null,null,null,null,null,null,null,null,null,null,null,null,null,null,null,null,null,null,null,null,null,null,null,null,null,null,null,null,null,null,null,null,null,null,null,null,null,null,null,null,null,null,null,null,null,null,null,null,null,null,null,null,null,null,null,null,null,null,null,null,null,null,null,null,null,null,null,null,null,null,null,null,null,"Connaissance d'une nation (Equinoxe) * PN",0,0,0,0,0,0,0,0,0,0,0,0,0,0,0,0,0,0,0,0,0,0,0,0,0,0,0,0,0,0,0,0,0,0,0,0,0,0,0,0,0,0,0,0,0,0,0,0,0,0,0,0,0,0,0,0,0,0,0,0,0,0,0,0,0,0,0,0,0,0,0,0,0,0,0,0,0,0,null,null,null,null,"Arts martiaux (Lutte) *",null,"Lesarach","Langue étrangère (Lesarach) * PN",null,null,null,null,"Etrangère","Langue étrangère (……….) * PN",null,null,null,null,null,null,null,null,null,null,null,"Travailleur hybride indépendant",null,null,null,null,null,"Passage"]
[null,null,null,null,null,null,null,null,null,null,null,null,null,null,null,null,null,null,null,null,null,null,null,null,null,null,null,null,null,null,null,null,null,null,null,null,null,null,null,null,null,null,null,null,null,null,null,null,null,null,null,null,null,null,null,null,null,null,null,null,null,null,null,null,null,null,null,null,null,null,null,null,null,null,null,null,null,null,null,null,null,null,null,null,null,null,null,null,null,null,null,null,null,null,null,null,null,null,null,null,null,null,null,null,null,null,null,null,null,null,null,null,null,null,null,null,null,null,null,null,null,null,null,null,null,null,null,null,null,null,null,null,null,null,null,null,null,null,null,null,null,null,null,null,null,null,null,null,null,null,null,null,null,"Connaissance d'une nation (Hégémonie) * PN",0,0,0,0,0,0,0,0,0,0,0,0,0,0,0,0,0,0,0,0,0,0,0,0,0,0,0,0,0,0,0,0,0,0,0,0,0,0,0,0,0,0,0,0,0,0,0,0,0,0,0,0,0,0,0,0,0,0,0,0,0,0,0,0,0,0,0,0,0,0,0,0,0,0,0,0,0,0,null,null,null,null,"Arts martiaux (Tech. défensives) *",null,"Léxzion","Langue étrangère (Léxzion) * PN",null,null,null,null,"Arkonien","Langue ancienne (Arkonien) *",null,null,null,null,null,null,null,null,null,null,null,"Profession 14",null,null,null,null,null,"Perturbation de la réalité"]
[null,null,null,null,null,null,null,null,null,null,null,null,null,null,null,null,null,null,null,null,null,null,null,null,null,null,null,null,null,null,null,null,null,null,null,null,null,null,null,null,null,null,null,null,null,null,null,null,null,null,null,null,null,null,null,null,null,null,null,null,null,null,null,null,null,null,null,null,null,null,null,null,null,null,null,null,null,null,null,null,null,null,null,null,null,null,null,null,null,null,null,null,null,null,null,null,null,null,null,null,null,null,null,null,null,null,null,null,null,null,null,null,null,null,null,null,null,null,null,null,null,null,null,null,null,null,null,null,null,null,null,null,null,null,null,null,null,null,null,null,null,null,null,null,null,null,null,null,null,null,null,null,null,"Connaissance nation/communauté II (……….) * PN",0,0,0,0,0,0,0,0,0,0,0,0,0,0,0,0,0,0,0,0,0,0,0,0,0,0,0,0,0,0,0,0,0,0,0,0,0,0,0,0,0,0,0,0,0,0,0,0,0,0,0,0,0,0,0,0,0,0,0,0,0,0,0,0,0,0,0,0,0,0,0,0,0,0,0,0,0,0,null,null,null,null,"Armes de poing",null,"Ossyrien","Langue étrangère (Ossyrien) * PN",null,null,null,null,"Signes II","Langage des signes II (……….)",null,null,null,null,null,null,null,null,null,null,null,"Profession 20",null,null,null,null,null,"Prolifération végétale [sol]"]
[null,null,null,null,null,null,null,null,null,null,null,null,null,null,null,null,null,null,null,null,null,null,null,null,null,null,null,null,null,null,null,null,null,null,null,null,null,null,null,null,null,null,null,null,null,null,null,null,null,null,null,null,null,null,null,null,null,null,null,null,null,null,null,null,null,null,null,null,null,null,null,null,null,null,null,null,null,null,null,null,null,null,null,null,null,null,null,null,null,null,null,null,null,null,null,null,null,null,null,null,null,null,null,null,null,null,null,null,null,null,null,null,null,null,null,null,null,null,null,null,null,null,null,null,null,null,null,null,null,null,null,null,null,null,null,null,null,null,null,null,null,null,null,null,null,null,null,null,null,null,null,null,null,"Connaissance d'une nation (Equinoxe) * PN",0,0,0,0,0,0,0,0,0,0,0,0,0,0,0,0,0,0,0,0,0,0,0,0,0,0,0,0,0,0,0,0,0,0,0,0,0,0,0,0,0,0,0,0,0,0,0,0,0,0,0,0,0,0,0,0,0,0,0,0,0,0,0,0,0,0,0,0,0,0,0,0,0,0,0,0,0,0,null,null,null,null,"Armes spéciales (tir) II (…....…)",null,"Trashan","Langue étrangère (Trashan) * PN",null,null,null,null,"Enéfid","Langage spécifique (Enéfid) * PN",null,null,null,null,null,null,null,null,null,null,null,"Profession 23",null,null,null,null,null,"Régénération moléculaire"]
[null,null,null,null,null,null,null,null,null,null,null,null,null,null,null,null,null,null,null,null,null,null,null,null,null,null,null,null,null,null,null,null,null,null,null,null,null,null,null,null,null,null,null,null,null,null,null,null,null,null,null,null,null,null,null,null,null,null,null,null,null,null,null,null,null,null,null,null,null,null,null,null,null,null,null,null,null,null,null,null,null,null,null,null,null,null,null,null,null,null,null,null,null,null,null,null,null,null,null,null,null,null,null,null,null,null,null,null,null,null,null,null,null,null,null,null,null,null,null,null,null,null,null,null,null,null,null,null,null,null,null,null,null,null,null,null,null,null,null,null,null,null,null,null,null,null,null,null,null,null,null,null,null,"Connaissance nation/communauté I (……….) * PN",0,0,0,0,0,0,0,0,0,0,0,0,0,0,0,0,0,0,0,0,0,0,0,0,0,0,0,0,0,0,0,0,0,0,0,0,0,0,0,0,0,0,0,0,0,0,0,0,0,0,0,0,0,0,0,0,0,0,0,0,0,0,0,0,0,0,0,0,0,0,0,0,0,0,0,0,0,0,null,null,null,null,{"$f":"P64","v":"Tir de précision *"},null,"Latkan","Langage de la surface (Latkan) * PN",null,null,null,null,"Lévéan","Langage spécifique (Lévéan) * PN",null,null,null,null,null,null,null,null,null,null,null,"Profession 29",null,null,null,null,null,"Sphère de terreur"]
[null,null,null,null,null,null,null,null,null,null,null,null,null,null,null,null,null,null,null,null,null,null,null,null,null,null,null,null,null,null,null,null,null,null,null,null,null,null,null,null,null,null,null,null,null,null,null,null,null,null,null,null,null,null,null,null,null,null,null,null,null,null,null,null,null,null,null,null,null,null,null,null,null,null,null,null,null,null,null,null,null,null,null,null,null,null,null,null,null,null,null,null,null,null,null,null,null,null,null,null,null,null,null,null,null,null,null,null,null,null,null,null,null,null,null,null,null,null,null,null,null,null,null,null,null,null,null,null,null,null,null,null,null,null,null,null,null,null,null,null,null,null,null,null,null,null,null,null,null,null,null,null,null,"Connaissance d'une nation (Equinoxe) * PN",0,0,0,0,0,0,0,0,0,0,0,0,0,0,0,0,0,0,0,0,0,0,0,0,0,0,0,0,0,0,0,0,0,0,0,0,0,0,0,0,0,0,0,0,{"$f":"IF(IF($E$184<>GQ$384,0,VLOOKUP($E$194,$IE$403:$IF$413,2,)=$P99),1,IF(IF($E$204<>GQ$384,0,VLOOKUP($E$214,$IE$403:$IF$413,2,)=$P99),1,IF(IF($E$235<>GQ$384,0,VLOOKUP($E$250,$IE$403:$IF$413,2,)=$P99),1,IF(IF($E$260<>GQ$384,0,VLOOKUP($E$271,$IE$403:$IF$413,2,)=$P99),1,0))))","v":0},0,0,0,0,0,0,0,0,0,0,0,0,0,0,0,0,0,0,0,0,0,0,0,0,0,0,0,0,0,0,0,0,0,null,null,null,null,"Enseignement +",null,"Zahl","Langage de la surface (Zahl) * PN",null,null,null,null,"Soléen","Langage spécifique (Soléen) * PN",null,null,null,null,null,null,null,null,null,null,null,"Profession 33",null,null,null,null,null,"Téléportation"]
[null,null,null,null,null,null,null,null,null,null,null,null,null,null,null,null,null,null,null,null,null,null,null,null,null,null,null,null,null,null,null,null,null,null,null,null,null,null,null,null,null,null,null,null,null,null,null,null,null,null,null,null,null,null,null,null,null,null,null,null,null,null,null,null,null,null,null,null,null,null,null,null,null,null,null,null,null,null,null,null,null,null,null,null,null,null,null,null,null,null,null,null,null,null,null,null,null,null,null,null,null,null,null,null,null,null,null,null,null,null,null,null,null,null,null,null,null,null,null,null,null,null,null,null,null,null,null,null,null,null,null,null,null,null,null,null,null,null,null,null,null,null,null,null,null,null,null,null,null,null,null,null,null,"Con. d'une nation (Union Méditerranéenne) * PN",0,0,0,0,0,0,0,0,0,0,0,0,0,0,0,0,0,0,0,0,0,0,0,0,0,0,0,0,0,0,0,0,0,0,0,0,0,0,0,0,0,0,0,0,{"$f":"IF(IF($E$184<>GQ$384,0,VLOOKUP($E$194,$IE$403:$IF$413,2,)=$P104),1,IF(IF($E$204<>GQ$384,0,VLOOKUP($E$214,$IE$403:$IF$413,2,)=$P104),1,IF(IF($E$235<>GQ$384,0,VLOOKUP($E$250,$IE$403:$IF$413,2,)=$P104),1,IF(IF($E$260<>GQ$384,0,VLOOKUP($E$271,$IE$403:$IF$413,2,)=$P104),1,0))))","v":0},0,0,0,0,0,0,0,0,0,0,0,0,0,0,0,0,0,0,0,0,0,0,0,0,0,0,0,0,0,0,0,0,0,null,null,null,null,"Expression artistique (Instr. De musique)",null,"Langue 14","Lanques/Langages 14",null,null,null,null,"Koreg","Langage de la surface (Koreg) * PN",null,null,null,null,null,null,null,null,null,null,null,"Profession 38",null,null,null,null,null,"Tourbillon de mort"]
[null,null,null,null,null,null,null,null,null,null,null,null,null,null,null,null,null,null,null,null,null,null,null,null,null,null,null,null,null,null,null,null,null,null,null,null,null,null,null,null,null,null,null,null,null,null,null,null,null,null,null,null,null,null,null,null,null,null,null,null,null,null,null,null,null,null,null,null,null,null,null,null,null,null,null,null,null,null,null,null,null,null,null,null,null,null,null,null,null,null,null,null,null,null,null,null,null,null,null,null,null,null,null,null,null,null,null,null,null,null,null,null,null,null,null,null,null,null,null,null,null,null,null,null,null,null,null,null,null,null,null,null,null,null,null,null,null,null,null,null,null,null,null,null,null,null,null,null,null,null,null,null,null,"Connaissance d'une nation (Hégémonie) * PN",0,0,0,0,0,0,0,0,0,0,0,0,0,0,0,0,0,0,0,0,0,0,0,0,0,0,0,0,0,0,0,0,0,0,0,0,0,0,0,0,0,0,0,0,0,0,0,0,0,0,0,0,0,0,0,0,0,0,0,0,0,0,0,0,0,0,0,0,0,0,0,0,0,0,0,0,0,0,null,null,null,null,"Commerce/Trafic (Armes) +",null,"Langue 20","Lanques/Langages 20",null,null,null,null,"Langue 10","Lanques/Langages 10"]
[null,null,null,null,null,null,null,null,null,null,null,null,null,null,null,null,null,null,null,null,null,null,null,null,null,null,null,null,null,null,null,null,null,null,null,null,null,null,null,null,null,null,null,null,null,null,null,null,null,null,null,null,null,null,null,null,null,null,null,null,null,null,null,null,null,null,null,null,null,null,null,null,null,null,null,null,null,null,null,null,null,null,null,null,null,null,null,null,null,null,null,null,null,null,null,null,null,null,null,null,null,null,null,null,null,null,null,null,null,null,null,null,null,null,null,null,null,null,null,null,null,null,null,null,null,null,null,null,null,null,null,null,null,null,null,null,null,null,null,null,null,null,null,null,null,null,null,null,null,null,null,null,null,"Connaissance nation/communauté II (……….) * PN",0,0,0,0,0,0,0,0,0,0,0,0,0,0,0,0,0,0,0,0,0,0,0,0,0,0,0,0,0,0,0,0,0,0,0,0,0,0,0,0,0,0,0,0,0,0,0,0,0,0,0,0,0,0,0,0,0,0,0,0,0,0,0,0,0,0,0,0,0,0,0,0,0,0,0,0,0,0,null,null,null,null,"Commerce/Trafic (Matières premières) +",null,"Véhicules souterrains","Mécanique (Véhicules souterrains) +",null,null,null,null,"Langue 16","Lanques/Langages 16"]
[null,null,null,null,null,null,null,null,null,null,null,null,null,null,null,null,null,null,null,null,null,null,null,null,null,null,null,null,null,null,null,null,null,null,null,null,null,null,null,null,null,null,null,null,null,null,null,null,null,null,null,null,null,null,null,null,null,null,null,null,null,null,null,null,null,null,null,null,null,null,null,null,null,null,null,null,null,null,null,null,null,null,null,null,null,null,null,null,null,null,null,null,null,null,null,null,null,null,null,null,null,null,null,null,null,null,null,null,null,null,null,null,null,null,null,null,null,null,null,null,null,null,null,null,null,null,null,null,null,null,null,null,null,null,null,null,null,null,null,null,null,null,null,null,null,null,null,null,null,null,null,null,null,"Connaissance d'une nation (Hégémonie) * PN",{"$f":"IF((EY400+EY410+EY420+EY430+EY440+EY450)>0,1,2)","v":2},2,2,2,2,2,2,2,2,2,2,2,2,2,2,2,2,2,2,2,2,2,2,2,2,2,2,2,2,2,2,2,2,2,2,1,2,{"$f":"IF((GJ400+GJ410+GJ420+GJ430+GJ440+GJ450)>0,1,2)","v":2},2,2,2,2,2,2,2,2,2,2,2,2,2,2,2,2,2,2,2,2,2,2,2,2,2,2,2,2,2,2,2,2,2,2,2,2,2,2,2,2,null,null,null,null,"Commerce/Trafic II (……….) +",null,"Artisanat","Commerce/Trafic (Artisanat) +",null,null,null,null,"Langue 20","Lanques/Langages 20"]
[null,null,null,null,null,null,null,null,null,null,null,null,null,null,null,null,null,null,null,null,null,null,null,null,null,null,null,null,null,null,null,null,null,null,null,null,null,null,null,null,null,null,null,null,null,null,null,null,null,null,null,null,null,null,null,null,null,null,null,null,null,null,null,null,null,null,null,null,null,null,null,null,null,null,null,null,null,null,null,null,null,null,null,null,null,null,null,null,null,null,null,null,null,null,null,null,null,null,null,null,null,null,null,null,null,null,null,null,null,null,null,null,null,null,null,null,null,null,null,null,null,null,null,null,null,null,null,null,null,null,null,null,null,null,null,null,null,null,null,null,null,null,null,null,null,null,null,null,null,null,null,null,null,"Connaissance nation/communauté I (……….) * PN",{"$f":"IF((EY405+EY415+EY425+EY435+EY445+EY455)>0,1,2)","v":2},2,2,2,2,2,2,2,2,2,2,2,2,2,2,2,2,2,2,2,2,2,2,2,2,2,2,2,2,2,2,2,2,2,2,2,2,{"$f":"IF((GJ405+GJ415+GJ425+GJ435+GJ445+GJ455)>0,1,2)","v":2},2,2,2,2,2,2,2,2,2,2,2,2,2,2,2,2,2,2,2,2,2,2,2,2,2,2,2,2,2,2,2,2,2,2,2,2,2,2,2,2,null,null,null,null,"Connaissance d'une nation (Ligue Rouge) * PN",null,"Véhicules","Commerce/Trafic (Véhicules) +",null,null,null,null,"Biologie/Physiologie","Sci./Con. Spéc. (Biologie/Physiologie) +"]
[null,null,null,null,null,null,null,null,null,null,null,null,null,null,null,null,null,null,null,null,null,null,null,null,null,null,null,null,null,null,null,null,null,null,null,null,null,null,null,null,null,null,null,null,null,null,null,null,null,null,null,null,null,null,null,null,null,null,null,null,null,null,null,null,null,null,null,null,null,null,null,null,null,null,null,null,null,null,null,null,null,null,null,null,null,null,null,null,null,null,null,null,null,null,null,null,null,null,null,null,null,null,null,null,null,null,null,null,null,null,null,null,null,null,null,null,null,null,null,null,null,null,null,null,null,null,null,null,null,null,null,null,null,null,null,"Science liée aux produits fabriqués/vendus",null,null,null,null,null,"Science liée aux produits vendus",null,null,null,null,null,null,null,null,null,null,null,{"$f":"IL484","v":"Sci./Con. Spéc. (Armes/Syst. d'armement) +"},null,{"$f":"IF(IF($E$184<>EZ$384,0,VLOOKUP($E$200,$IK$483:$IL$497,2,)=$EX469),1,IF(IF($E$204<>EZ$384,0,VLOOKUP($E$231,$IK$483:$IL$497,2,)=$EX469),1,IF(IF($E$235<>EZ$384,0,VLOOKUP($E$256,$IK$483:$IL$497,2,)=$EX469),1,IF(IF($E$260<>EZ$384,0,VLOOKUP($E$277,$IK$483:$IL$497,2,)=$EX469),1,0))))","v":0},null,null,null,null,null,null,null,null,null,{"$f":"IF(IF($E$184<>FJ$384,0,VLOOKUP($E$200,$IK$483:$IL$497,2,)=$EX469),1,IF(IF($E$204<>FJ$384,0,VLOOKUP($E$231,$IK$483:$IL$497,2,)=$EX469),1,IF(IF($E$235<>FJ$384,0,VLOOKUP($E$256,$IK$483:$IL$497,2,)=$EX469),1,IF(IF($E$260<>FJ$384,0,VLOOKUP($E$277,$IK$483:$IL$497,2,)=$EX469),1,0))))","v":0},null,null,null,null,null,null,null,null,null,null,null,null,null,null,null,null,null,null,null,null,null,null,null,null,null,null,null,null,null,null,null,null,null,null,null,null,null,null,null,null,null,null,null,null,null,null,null,null,null,null,null,null,null,null,null,null,null,null,null,null,null,null,null,null,null,null,null,null,null,null,"Connaissance nation/communauté I (……….) * PN",null,"Exo-armures","Mécanique (Exo-armures) +",null,null,null,null,"Criminalistique","Sci./Con. Spéc. (Criminalistique) +"]
[null,null,null,null,null,null,null,null,null,null,null,null,null,null,null,null,null,null,null,null,null,null,null,null,null,null,null,null,null,null,null,null,null,null,null,null,null,null,null,null,null,null,null,null,null,null,null,null,null,null,null,null,null,null,null,null,null,null,null,null,null,null,null,null,null,null,null,null,null,null,null,null,null,null,null,null,null,null,null,null,null,null,null,null,null,null,null,null,null,null,null,null,null,null,null,null,null,null,null,null,null,null,null,null,null,null,null,null,null,null,null,null,null,null,null,null,null,null,null,null,null,null,null,null,null,null,null,null,null,null,null,null,null,null,null,null,null,null,null,null,null,null,null,null,null,null,null,null,null,null,null,null,null,"Sci./Con. Spéc. (Géologie) +",null,0,null,null,null,null,null,null,null,null,null,0,null,null,null,null,null,null,null,null,null,null,null,null,null,null,null,null,null,null,null,null,null,null,null,null,null,null,null,null,null,null,null,null,null,null,null,null,null,null,null,null,null,null,null,null,null,null,null,null,null,null,null,null,null,null,null,null,null,null,null,null,null,null,null,null,null,null,null,null,null,null,"Con. d'une organisation (Mercenaires) * PN",null,"Véhicules de sol","Mécanique (Véhicules de sol) +",null,null,null,null,"Histoire/Archéologie","Sci./Con. Spéc. (Histoire/Archéologie) +"]
[null,null,null,null,null,null,null,null,null,null,null,null,null,null,null,null,null,null,null,null,null,null,null,null,null,null,null,null,null,null,null,null,null,null,null,null,null,null,null,null,null,null,null,null,null,null,null,null,null,null,null,null,null,null,null,null,null,null,null,null,null,null,null,null,null,null,null,null,null,null,null,null,null,null,null,null,null,null,null,null,null,null,null,null,null,null,null,null,null,null,null,null,null,null,null,null,null,null,null,null,null,null,null,null,null,null,null,null,null,null,null,null,null,null,null,null,null,null,null,null,null,null,null,null,null,null,null,null,null,null,null,null,null,null,null,null,null,null,null,null,null,null,null,null,null,null,null,null,null,null,null,null,null,"Sci./Con. Spéc. (Physique/Chimie) +",null,0,null,null,null,null,null,null,null,null,null,0,null,null,null,null,null,null,null,null,null,null,null,null,null,null,null,null,null,null,null,null,null,null,null,null,null,null,null,null,null,null,null,null,null,null,null,null,null,null,null,null,null,null,null,null,null,null,null,null,null,null,null,null,null,null,null,null,null,null,null,null,null,null,null,null,null,null,null,null,null,null,"Connaissance d'une organisation (Veilleurs) * PN",null,"Bionique/Cybertechnologie","Génie tech. (Bionique/Cybertechnologie) +",null,null,null,null,"Sociologie","Sci./Con. Spéc. (Sociologie) +"]
[null,null,null,null,null,null,null,null,null,null,null,null,null,null,null,null,null,null,null,null,null,null,null,null,null,null,null,null,null,null,null,null,null,null,null,null,null,null,null,null,null,null,null,null,null,null,null,null,null,null,null,null,null,null,null,null,null,null,null,null,null,null,null,null,null,null,null,null,null,null,null,null,null,null,null,null,null,null,null,null,null,null,null,null,null,null,null,null,null,null,null,null,null,null,null,null,null,null,null,null,null,null,null,null,null,null,null,null,null,null,null,null,null,null,null,null,null,null,null,null,null,null,null,null,null,null,null,null,null,null,null,null,null,null,null,null,null,null,null,null,null,null,null,null,null,null,null,null,null,null,null,null,null,"Sci./Con. Spéc. (……….) +",null,0,null,null,null,null,null,null,null,null,null,0,null,null,null,null,null,null,null,null,null,null,null,null,null,null,null,null,null,null,null,null,null,null,null,null,null,null,null,null,null,null,null,null,null,null,null,null,null,null,null,null,null,null,null,null,null,null,null,null,null,null,null,null,null,null,null,null,null,null,null,null,null,null,null,null,null,null,null,null,null,null,"Connaissance d'une organisation II (……….) * PN",null,"Electronique/Informatique","Génie technique (Electronique/Informatique) +",null,null,null,null,"Autre","Sci./Con. Spéc. (……….) +"]
[null,null,null,null,null,null,null,null,null,null,null,null,null,null,null,null,null,null,null,null,null,null,null,null,null,null,null,null,null,null,null,null,null,null,null,null,null,null,null,null,null,null,null,null,null,null,null,null,null,null,null,null,null,null,null,null,null,null,null,null,null,null,null,null,null,null,null,null,null,null,null,null,null,null,null,null,null,null,null,null,null,null,null,null,null,null,null,null,null,null,null,null,null,null,null,null,null,null,null,null,null,null,null,null,null,null,null,null,null,null,null,null,null,null,null,null,null,null,null,null,null,null,null,null,null,null,null,null,null,null,null,null,null,null,null,null,null,null,null,null,null,null,null,null,null,null,null,null,null,null,null,null,null,"Sci./Con. Spéc. (Biologie/Physiologie) +",null,0,null,null,null,null,null,null,null,null,null,0,null,null,null,null,null,null,null,null,null,null,null,null,null,null,null,null,null,null,null,null,null,null,null,null,null,null,null,null,null,null,null,null,null,null,null,null,null,null,null,null,null,null,null,null,null,null,null,null,null,null,null,null,null,null,null,null,null,null,null,null,null,null,null,null,null,null,null,null,null,null,"Jeu",null,"Robotique","Génie technique (Robotique) +",null,null,null,null,"Astrophysique/Astronomie","Sci./Con. Spéc. (Astrophysique/Astronomie) +"]
[null,null,null,null,null,null,null,null,null,null,null,null,null,null,null,null,null,null,null,null,null,null,null,null,null,null,null,null,null,null,null,null,null,null,null,null,null,null,null,null,null,null,null,null,null,null,null,null,null,null,null,null,null,null,null,null,null,null,null,null,null,null,null,null,null,null,null,null,null,null,null,null,null,null,null,null,null,null,null,null,null,null,null,null,null,null,null,null,null,null,null,null,null,null,null,null,null,null,null,null,null,null,null,null,null,null,null,null,null,null,null,null,null,null,null,null,null,null,null,null,null,null,null,null,null,null,null,null,null,null,null,null,null,null,null,null,null,null,null,null,null,null,null,null,null,null,null,null,null,null,null,null,null,"Sci./Con. Spéc. (Géographie) +",null,0,null,null,null,null,null,null,null,null,null,0,null,null,null,null,null,null,null,null,null,null,null,null,null,null,null,null,null,null,null,null,null,null,null,null,null,null,null,null,null,null,null,null,null,null,null,null,null,null,null,null,null,null,null,null,null,null,null,null,null,null,null,null,null,null,null,null,null,null,null,null,null,null,null,null,null,null,null,null,null,null,"Sci./Con. Spéc. (Astrophysique/Astronomie) +",null,"Alliance Polaire","Connaissance d'une nation (Alliance Polaire) * PN",null,null,null,null,"Géologie","Sci./Con. Spéc. (Géologie) +"]
[null,null,null,null,null,null,null,null,null,null,null,null,null,null,null,null,null,null,null,null,null,null,null,null,null,null,null,null,null,null,null,null,null,null,null,null,null,null,null,null,null,null,null,null,null,null,null,null,null,null,null,null,null,null,null,null,null,null,null,null,null,null,null,null,null,null,null,null,null,null,null,null,null,null,null,null,null,null,null,null,null,null,null,null,null,null,null,null,null,null,null,null,null,null,null,null,null,null,null,null,null,null,null,null,null,null,null,null,null,null,null,null,null,null,null,null,null,null,null,null,null,null,null,null,null,null,null,null,null,null,null,null,null,null,null,null,null,null,null,null,null,null,null,null,null,null,null,null,null,null,null,null,null,"Sci./Con. Spéc. (Zoologie) +",null,0,null,null,null,null,null,null,null,null,null,0,null,null,null,null,null,null,null,null,null,null,null,null,null,null,null,null,null,null,null,null,null,null,null,null,null,null,null,null,null,null,null,null,null,null,null,null,null,null,null,null,null,null,null,null,null,null,null,null,null,null,null,null,null,null,null,null,null,null,null,null,null,null,null,null,null,null,null,null,null,null,"Sci./Con. Spéc. (Criminalistique) +",null,"République du Corail","Con. d'une nation (République du Corail) * PN",null,null,null,null,"Physique/Chimie","Sci./Con. Spéc. (Physique/Chimie) +"]
[null,null,null,null,null,null,null,null,null,null,null,null,null,null,null,null,null,null,null,null,null,null,null,null,null,null,null,null,null,null,null,null,null,null,null,null,null,null,null,null,null,null,null,null,null,null,null,null,null,null,null,null,null,null,null,null,null,null,null,null,null,null,null,null,null,null,null,null,null,null,null,null,null,null,null,null,null,null,null,null,null,null,null,null,null,null,null,null,null,null,null,null,null,null,null,null,null,null,null,null,null,null,null,null,null,null,null,null,null,null,null,null,null,null,null,null,null,null,null,null,null,null,null,null,null,null,null,null,null,null,null,null,null,null,null,null,null,null,null,null,null,null,null,null,null,null,null,null,null,null,null,null,null,"Sci./Con. Spéc. (Botanique) +",null,0,null,null,null,null,null,null,null,null,null,0,null,null,null,null,null,null,null,null,null,null,null,null,null,null,null,null,null,null,null,null,null,null,null,null,null,null,null,null,null,null,null,null,null,null,null,null,null,null,null,null,null,null,null,null,null,null,null,null,null,null,null,null,null,null,null,null,null,null,null,null,null,null,null,null,null,null,null,null,null,null,"Sci./Con. Spéc. (Géographie) +",null,"Contrebandiers","Con. d'une organisation (Contrebandiers) * PN",null,null,null,null,"Cinn","Langage de la surface (Cinn) * PN"]
[null,null,null,null,null,null,null,null,null,null,null,null,null,null,null,null,null,null,null,null,null,null,null,null,null,null,null,null,null,null,null,null,null,null,null,null,null,null,null,null,null,null,null,null,null,null,null,null,null,null,null,null,null,null,null,null,null,null,null,null,null,null,null,null,null,null,null,null,null,null,null,null,null,null,null,null,null,null,null,null,null,null,null,null,null,null,null,null,null,null,null,null,null,null,null,null,null,null,null,null,null,null,null,null,null,null,null,null,null,null,null,null,null,null,null,null,null,null,null,null,null,null,null,null,null,null,null,null,null,null,null,null,null,null,null,null,null,null,null,null,null,null,null,null,null,null,null,null,null,null,null,null,null,"Sci./Con. Spéc. (Histoire/Archéologie) +",null,0,null,null,null,null,null,null,null,null,null,0,null,null,null,null,null,null,null,null,null,null,null,null,null,null,null,null,null,null,null,null,null,null,null,null,null,null,null,null,null,null,null,null,null,null,null,null,null,null,null,null,null,null,null,null,null,null,null,null,null,null,null,null,null,null,null,null,null,null,null,null,null,null,null,null,null,null,null,null,null,null,"Sci./Con. Spéc. (Psychologie) +",null,"Pirates","Connaissance d'une organisation (Pirates) * PN",null,null,null,null,"Oni","Langage de la surface (Oni) * PN"]
[null,null,null,null,null,null,null,null,null,null,null,null,null,null,null,null,null,null,null,null,null,null,null,null,null,null,null,null,null,null,null,null,null,null,null,null,null,null,null,null,null,null,null,null,null,null,null,null,null,null,null,null,null,null,null,null,null,null,null,null,null,null,null,null,null,null,null,null,null,null,null,null,null,null,null,null,null,null,null,null,null,null,null,null,null,null,null,null,null,null,null,null,null,null,null,null,null,null,null,null,null,null,null,null,null,null,null,null,null,null,null,null,null,null,null,null,null,null,null,null,null,null,null,null,null,null,null,null,null,null,null,null,null,null,null,null,null,null,null,null,null,null,null,null,null,null,null,null,null,null,null,null,null,{"$f":"P135","v":"Sci./Con. Spéc. (Armes/Syst. d'armement) +"},null,{"$f":"IF((EZ469+EZ483+EZ497)>0,1,2)","v":2},null,null,null,null,null,null,null,null,null,{"$f":"IF((FJ469+FJ483+FJ497)>0,1,2)","v":2},null,null,null,null,null,null,null,null,null,null,null,null,null,null,null,null,null,null,null,null,null,null,null,null,null,null,null,null,null,null,null,null,null,null,null,null,null,null,null,null,null,null,null,null,null,null,null,null,null,null,null,null,null,null,null,null,null,null,null,null,null,null,null,null,null,null,null,null,null,null,"Tactique (combat souterrain)"]
[null,null,null,null,null,null,null,null,null,null,null,null,null,null,null,null,null,null,null,null,null,null,null,null,null,null,null,null,null,null,null,null,null,null,null,null,null,null,null,null,null,null,null,null,null,null,null,null,null,null,null,null,null,null,null,null,null,null,null,null,null,null,null,null,null,null,null,null,null,null,null,null,null,null,null,null,null,null,null,null,null,null,null,null,null,null,null,null,null,null,null,null,null,null,null,null,null,null,null,null,null,null,null,null,null,null,null,null,null,null,null,null,null,null,null,null,null,null,null,null,null,null,null,null,null,null,null,null,null,null,null,null,null,null,null,null,null,null,null,null,null,null,null,null,null,null,null,null,null,null,null,null,null,"Sci./Con. Spéc. (Botanique) +",null,2,null,null,null,null,null,null,null,null,null,2,null,null,null,null,null,null,null,null,null,null,null,null,null,null,null,null,null,null,null,null,null,null,null,null,null,null,null,null,null,null,null,null,null,null,null,null,null,null,null,null,null,null,null,null,null,null,null,null,null,null,null,null,null,null,null,null,null,null,null,null,null,null,null,null,null,null,null,null,null,null,{"$f":"P162","v":"Camouflage/Dissimulation"}]
[null,null,null,null,null,null,null,null,null,null,null,null,null,null,null,null,null,null,null,null,null,null,null,null,null,null,null,null,null,null,null,null,null,null,null,null,null,null,null,null,null,null,null,null,null,null,null,null,null,null,null,null,null,null,null,null,null,null,null,null,null,null,null,null,null,null,null,null,null,null,null,null,null,null,null,null,null,null,null,null,null,null,null,null,null,null,null,null,null,null,null,null,null,null,null,null,null,null,null,null,null,null,null,null,null,null,null,null,null,null,null,null,null,null,null,null,null,null,null,null,null,null,null,null,null,null,null,null,null,null,null,null,null,null,null,null,null,null,null,null,null,null,null,null,null,null,null,null,null,null,null,null,null,"Sci./Con. Spéc. (Finances) +",null,2,null,null,null,null,null,null,null,null,null,2,null,null,null,null,null,null,null,null,null,null,null,null,null,null,null,null,null,null,null,null,null,null,null,null,null,null,null,null,null,null,null,null,null,null,null,null,null,null,null,null,null,null,null,null,null,null,null,null,null,null,null,null,null,null,null,null,null,null,null,null,null,null,null,null,null,null,null,null,null,null,{"$f":"P174","v":"Langue étrangère (Amanéun) * PN"}]
[null,null,null,null,null,null,null,null,null,null,null,null,null,null,null,null,null,null,null,null,null,null,null,null,null,null,null,null,null,null,null,null,null,null,null,null,null,null,null,null,null,null,null,null,null,null,null,null,null,null,null,null,null,null,null,null,null,null,null,null,null,null,null,null,null,null,null,null,null,null,null,null,null,null,null,null,null,null,null,null,null,null,null,null,null,null,null,null,null,null,null,null,null,null,null,null,null,null,null,null,null,null,null,null,null,null,null,null,null,null,null,null,null,null,null,null,null,null,null,null,null,null,null,null,null,null,null,null,null,null,null,null,null,null,null,null,null,null,null,null,null,null,null,null,null,null,null,null,null,null,null,null,null,"Sci./Con. Spéc. (Médecine) +",null,2,null,null,null,null,null,null,null,null,null,2,null,null,null,null,null,null,null,null,null,null,null,null,null,null,null,null,null,null,null,null,null,null,null,null,null,null,null,null,null,null,null,null,null,null,null,null,null,null,null,null,null,null,null,null,null,null,null,null,null,null,null,null,null,null,null,null,null,null,null,null,null,null,null,null,null,null,null,null,null,null,"Langue étrangère (Lesarach) * PN"]
[null,null,null,null,null,null,null,null,null,null,null,null,null,null,null,null,null,null,null,null,null,null,null,null,null,null,null,null,null,null,null,null,null,null,null,null,null,null,null,null,null,null,null,null,null,null,null,null,null,null,null,null,null,null,null,null,null,null,null,null,null,null,null,null,null,null,null,null,null,null,null,null,null,null,null,null,null,null,null,null,null,null,null,null,null,null,null,null,null,null,null,null,null,null,null,null,null,null,null,null,null,null,null,null,null,null,null,null,null,null,null,null,null,null,null,null,null,null,null,null,null,null,null,null,null,null,null,null,null,null,null,null,null,null,null,null,null,null,null,null,null,null,null,null,null,null,null,null,null,null,null,null,null,"Sci./Con. Spéc. (Sociologie) +",null,2,null,null,null,null,null,null,null,null,null,2,null,null,null,null,null,null,null,null,null,null,null,null,null,null,null,null,null,null,null,null,null,null,null,null,null,null,null,null,null,null,null,null,null,null,null,null,null,null,null,null,null,null,null,null,null,null,null,null,null,null,null,null,null,null,null,null,null,null,null,null,null,null,null,null,null,null,null,null,null,null,"Langue étrangère (Olakar) * PN"]
[null,null,null,null,null,null,null,null,null,null,null,null,null,null,null,null,null,null,null,null,null,null,null,null,null,null,null,null,null,null,null,null,null,null,null,null,null,null,null,null,null,null,null,null,null,null,null,null,null,null,null,null,null,null,null,null,null,null,null,null,null,null,null,null,null,null,null,null,null,null,null,null,null,null,null,null,null,null,null,null,null,null,null,null,null,null,null,null,null,null,null,null,null,null,null,null,null,null,null,null,null,null,null,null,null,null,null,null,null,null,null,null,null,null,null,null,null,null,null,null,null,null,null,null,null,null,null,null,null,null,null,null,null,null,null,null,null,null,null,null,null,null,null,null,null,null,null,null,null,null,null,null,null,null,null,null,null,null,null,null,null,null,null,null,null,null,null,null,null,null,null,null,null,null,null,null,null,null,null,null,null,null,null,null,null,null,null,null,null,null,null,null,null,null,null,null,null,null,null,null,null,null,null,null,null,null,null,null,null,null,null,null,null,null,null,null,null,null,null,null,null,null,null,null,null,null,null,null,null,null,null,null,null,null,null,null,"Langue étrangère (……….) * PN"]
[null,null,null,null,null,null,null,null,null,null,null,null,null,null,null,null,null,null,null,null,null,null,null,null,null,null,null,null,null,null,null,null,null,null,null,null,null,null,null,null,null,null,null,null,null,null,null,null,null,null,null,null,null,null,null,null,null,null,null,null,null,null,null,null,null,null,null,null,null,null,null,null,null,null,null,null,null,null,null,null,null,null,null,null,null,null,null,null,null,null,null,null,null,null,null,null,null,null,null,null,null,null,null,null,null,null,null,null,null,null,null,null,null,null,null,null,null,null,null,null,null,null,null,null,null,null,null,null,null,null,null,null,null,null,null,null,null,null,null,null,null,null,null,null,null,null,null,null,null,null,null,null,null,null,null,null,null,null,null,null,null,null,null,null,null,null,null,null,null,null,null,null,null,null,null,null,null,null,null,null,null,null,null,null,null,null,null,null,null,null,null,null,null,null,null,null,null,null,null,null,null,null,null,null,null,null,null,null,null,null,null,null,null,null,null,null,null,null,null,null,null,null,null,null,null,null,null,null,null,null,null,null,null,null,null,null,"Langue ancienne (Azuran) *"]
[null,null,null,null,null,null,null,null,null,null,null,null,null,null,null,null,null,null,null,null,null,null,null,null,null,null,null,null,null,null,null,null,null,null,null,null,null,null,null,null,null,null,null,null,null,null,null,null,null,null,null,null,null,null,null,null,null,null,null,null,null,null,null,null,null,null,null,null,null,null,null,null,null,null,null,null,null,null,null,null,null,null,null,null,null,null,null,null,null,null,null,null,null,null,null,null,null,null,null,null,null,null,null,null,null,null,null,null,null,null,null,null,null,null,null,null,null,null,null,null,null,null,null,null,null,null,null,null,null,null,null,null,null,null,null,null,null,null,null,null,null,null,null,null,null,null,null,null,null,null,null,null,null,null,null,null,null,null,null,null,null,null,null,null,null,null,null,null,null,null,null,null,null,null,null,null,null,null,null,null,null,null,null,null,null,null,null,null,null,null,null,null,null,null,null,null,null,null,null,null,null,null,null,null,null,null,null,null,null,null,null,null,null,null,null,null,null,null,null,null,null,null,null,null,null,null,null,null,null,null,null,null,null,null,null,null,"Langage spécifique (Absolan) * PN"]
[null,null,null,null,null,null,null,null,null,null,null,null,null,null,null,null,null,null,null,null,null,null,null,null,null,null,null,null,null,null,null,null,null,null,null,null,null,null,null,null,null,null,null,null,null,null,null,null,null,null,null,null,null,null,null,null,null,null,null,null,null,null,null,null,null,null,null,null,null,null,null,null,null,null,null,null,null,null,null,null,null,null,null,null,null,null,null,null,null,null,null,null,null,null,null,null,null,null,null,null,null,null,null,null,null,null,null,null,null,null,null,null,null,null,null,null,null,null,null,null,null,null,null,null,null,null,null,null,null,null,null,null,null,null,null,"Langue au choix",null,null,null,null,null,"Langue au choix",null,null,null,null,null,null,null,null,null,null,null,{"$f":"IL404","v":"Langue étrangère (Amanéun) * PN"},0,0,0,0,0,0,0,{"$f":"IF(IF($E$184<>FF$533,0,VLOOKUP($E$196,$IK$403:$IL$460,2,)=$EX546),1,IF(IF($E$204<>FF$533,0,VLOOKUP($E$216,$IK$403:$IL$460,2,)=$EX546),1,IF(IF($E$235<>FF$533,0,VLOOKUP($E$252,$IK$403:$IL$460,2,)=$EX546),1,IF(IF($E$260<>FF$533,0,VLOOKUP($E$273,$IK$403:$IL$460,2,)=$EX546),1,0))))","v":0},0,{"$f":"IF(IF($E$184<>FH$533,0,VLOOKUP($E$196,$IK$403:$IL$460,2,)=$EX546),1,IF(IF($E$204<>FH$533,0,VLOOKUP($E$216,$IK$403:$IL$460,2,)=$EX546),1,IF(IF($E$235<>FH$533,0,VLOOKUP($E$252,$IK$403:$IL$460,2,)=$EX546),1,IF(IF($E$260<>FH$533,0,VLOOKUP($E$273,$IK$403:$IL$460,2,)=$EX546),1,0))))","v":0},0,0,0,0,0,0,{"$f":"IF(IF($E$184<>FO$533,0,VLOOKUP($E$196,$IK$403:$IL$460,2,)=$EX546),1,IF(IF($E$204<>FO$533,0,VLOOKUP($E$216,$IK$403:$IL$460,2,)=$EX546),1,IF(IF($E$235<>FO$533,0,VLOOKUP($E$252,$IK$403:$IL$460,2,)=$EX546),1,IF(IF($E$260<>FO$533,0,VLOOKUP($E$273,$IK$403:$IL$460,2,)=$EX546),1,0))))","v":0},0,0,0,0,0,0,0,0,0,0,0,0,0,0,0,0,0,0,0,0,0,0,0,0,0,0,0,0,0,0,{"$f":"IF(IF($E$184<>GT$533,0,VLOOKUP($E$196,$IK$403:$IL$460,2,)=$EX546),1,IF(IF($E$204<>GT$533,0,VLOOKUP($E$216,$IK$403:$IL$460,2,)=$EX546),1,IF(IF($E$235<>GT$533,0,VLOOKUP($E$252,$IK$403:$IL$460,2,)=$EX546),1,IF(IF($E$260<>GT$533,0,VLOOKUP($E$273,$IK$403:$IL$460,2,)=$EX546),1,0))))","v":0},0,0,0,0,0,0,0,0,0,0,0,0,0,0,0,0,0,0,0,0,0,0,0,0,0,0,0,0,0,0,null,null,null,null,"Langage spécifique (Enéfid) * PN"]
[null,null,null,null,null,null,null,null,null,null,null,null,null,null,null,null,null,null,null,null,null,null,null,null,null,null,null,null,null,null,null,null,null,null,null,null,null,null,null,null,null,null,null,null,null,null,null,null,null,null,null,null,null,null,null,null,null,null,null,null,null,null,null,null,null,null,null,null,null,null,null,null,null,null,null,null,null,null,null,null,null,null,null,null,null,null,null,null,null,null,null,null,null,null,null,null,null,null,null,null,null,null,null,null,null,null,null,null,null,null,null,null,null,null,null,null,null,null,null,null,null,null,null,null,null,null,null,null,null,null,null,null,null,null,null,null,null,null,null,null,null,null,null,null,null,null,null,null,null,null,null,null,null,"Langue étrangère (Léxzion) * PN",0,0,0,0,0,0,0,0,0,0,0,0,0,0,0,0,0,0,0,0,0,0,0,0,0,0,0,0,0,0,0,0,0,0,0,0,0,0,0,0,0,0,0,0,0,0,0,0,0,0,0,0,0,0,0,0,0,0,0,0,0,0,0,0,0,0,0,0,0,0,0,0,0,0,0,0,0,0,null,null,null,null,"Langage spécifique (Klan) * PN"]
[null,null,null,null,null,null,null,null,null,null,null,null,null,null,null,null,null,null,null,null,null,null,null,null,null,null,null,null,null,null,null,null,null,null,null,null,null,null,null,null,null,null,null,null,null,null,null,null,null,null,null,null,null,null,null,null,null,null,null,null,null,null,null,null,null,null,null,null,null,null,null,null,null,null,null,null,null,null,null,null,null,null,null,null,null,null,null,null,null,null,null,null,null,null,null,null,null,null,null,null,null,null,null,null,null,null,null,null,null,null,null,null,null,null,null,null,null,null,null,null,null,null,null,null,null,null,null,null,null,null,null,null,null,null,null,null,null,null,null,null,null,null,null,null,null,null,null,null,null,null,null,null,null,"Langue étrangère (Olosak) * PN",0,0,0,0,0,0,0,0,0,0,0,0,0,0,0,0,0,0,0,0,0,0,0,0,0,0,0,0,0,0,0,0,0,0,0,0,0,0,0,0,0,0,0,0,0,0,0,0,0,0,0,0,0,0,0,0,0,0,0,0,0,0,0,0,0,0,0,0,0,0,0,0,0,0,0,0,0,0,null,null,null,null,"Langage spécifique (Soléen) * PN"]
[null,null,null,null,null,null,null,null,null,null,null,null,null,null,null,null,null,null,null,null,null,null,null,null,null,null,null,null,null,null,null,null,null,null,null,null,null,null,null,null,null,null,null,null,null,null,null,null,null,null,null,null,null,null,null,null,null,null,null,null,null,null,null,null,null,null,null,null,null,null,null,null,null,null,null,null,null,null,null,null,null,null,null,null,null,null,null,null,null,null,null,null,null,null,null,null,null,null,null,null,null,null,null,null,null,null,null,null,null,null,null,null,null,null,null,null,null,null,null,null,null,null,null,null,null,null,null,null,null,null,null,null,null,null,null,null,null,null,null,null,null,null,null,null,null,null,null,null,null,null,null,null,null,"Langue étrangère (……….) * PN",0,0,0,0,0,0,0,0,0,0,0,0,0,0,0,0,0,0,0,0,0,0,0,0,0,0,0,0,0,0,0,0,0,0,0,0,0,0,0,0,0,0,0,0,0,0,0,0,0,0,0,0,0,0,0,0,0,0,0,0,0,0,0,0,0,0,0,0,0,0,0,0,0,0,0,0,0,0,null,null,null,null,"Langage de la surface (Koreg) * PN"]
[null,null,null,null,null,null,null,null,null,null,null,null,null,null,null,null,null,null,null,null,null,null,null,null,null,null,null,null,null,null,null,null,null,null,null,null,null,null,null,null,null,null,null,null,null,null,null,null,null,null,null,null,null,null,null,null,null,null,null,null,null,null,null,null,null,null,null,null,null,null,null,null,null,null,null,null,null,null,null,null,null,null,null,null,null,null,null,null,null,null,null,null,null,null,null,null,null,null,null,null,null,null,null,null,null,null,null,null,null,null,null,null,null,null,null,null,null,null,null,null,null,null,null,null,null,null,null,null,null,null,null,null,null,null,null,null,null,null,null,null,null,null,null,null,null,null,null,null,null,null,null,null,null,"Langage des signes II (……….)",0,0,0,0,0,0,0,0,0,0,0,0,0,0,0,0,0,0,0,0,0,0,0,0,0,0,0,0,0,0,0,0,0,0,0,0,0,0,0,0,0,0,0,0,0,0,0,0,0,0,0,0,0,0,0,0,0,0,0,0,0,0,0,0,0,0,0,0,0,0,0,0,0,0,0,0,0,0,null,null,null,null,"Manœuvre d'armures (Externes) *"]
[null,null,null,null,null,null,null,null,null,null,null,null,null,null,null,null,null,null,null,null,null,null,null,null,null,null,null,null,null,null,null,null,null,null,null,null,null,null,null,null,null,null,null,null,null,null,null,null,null,null,null,null,null,null,null,null,null,null,null,null,null,null,null,null,null,null,null,null,null,null,null,null,null,null,null,null,null,null,null,null,null,null,null,null,null,null,null,null,null,null,null,null,null,null,null,null,null,null,null,null,null,null,null,null,null,null,null,null,null,null,null,null,null,null,null,null,null,null,null,null,null,null,null,null,null,null,null,null,null,null,null,null,null,null,null,null,null,null,null,null,null,null,null,null,null,null,null,null,null,null,null,null,null,"Langage spécifique (Enéfid) * PN",0,0,0,0,0,0,0,0,0,0,0,0,0,0,0,0,0,0,0,0,0,0,0,0,0,0,0,0,0,0,0,0,0,0,0,0,0,0,0,0,0,0,0,0,0,0,0,0,0,0,0,0,0,0,0,0,0,0,0,0,0,0,0,0,0,0,0,0,0,0,0,0,0,0,0,0,0,0,null,null,null,null,"Pilotage (Chasseurs sous-marins) +"]
[null,null,null,null,null,null,null,null,null,null,null,null,null,null,null,null,null,null,null,null,null,null,null,null,null,null,null,null,null,null,null,null,null,null,null,null,null,null,null,null,null,null,null,null,null,null,null,null,null,null,null,null,null,null,null,null,null,null,null,null,null,null,null,null,null,null,null,null,null,null,null,null,null,null,null,null,null,null,null,null,null,null,null,null,null,null,null,null,null,null,null,null,null,null,null,null,null,null,null,null,null,null,null,null,null,null,null,null,null,null,null,null,null,null,null,null,null,null,null,null,null,null,null,null,null,null,null,null,null,null,null,null,null,null,null,null,null,null,null,null,null,null,null,null,null,null,null,null,null,null,null,null,null,"Langage spécifique (Klan) * PN",0,0,0,0,0,0,0,0,0,0,0,0,0,0,0,0,0,0,0,0,0,0,0,0,0,0,0,0,0,0,0,0,0,0,0,0,0,0,0,0,0,0,0,0,0,0,0,0,0,0,0,0,0,0,0,0,0,0,0,0,0,0,0,0,0,0,0,0,0,0,0,0,0,0,0,0,0,0,null,null,null,null,"Pilotage (Véhicules souterrains)"]
[null,null,null,null,null,null,null,null,null,null,null,null,null,null,null,null,null,null,null,null,null,null,null,null,null,null,null,null,null,null,null,null,null,null,null,null,null,null,null,null,null,null,null,null,null,null,null,null,null,null,null,null,null,null,null,null,null,null,null,null,null,null,null,null,null,null,null,null,null,null,null,null,null,null,null,null,null,null,null,null,null,null,null,null,null,null,null,null,null,null,null,null,null,null,null,null,null,null,null,null,null,null,null,null,null,null,null,null,null,null,null,null,null,null,null,null,null,null,null,null,null,null,null,null,null,null,null,null,null,null,null,null,null,null,null,null,null,null,null,null,null,null,null,null,null,null,null,null,null,null,null,null,null,"Langage spécifique (Soléen) * PN",0,0,0,0,0,0,0,0,0,0,0,0,0,0,0,0,0,0,0,0,0,0,0,0,0,0,0,0,0,0,0,0,0,0,0,0,0,0,0,0,0,0,0,0,0,0,0,0,0,0,0,0,0,0,0,0,0,0,0,0,0,0,0,0,0,0,0,0,0,0,0,0,0,0,0,0,0,0,null,null,null,null,{"$f":"P252","v":"Appel-Répulsion I (par espèce)"}]
[null,null,null,null,null,null,null,null,null,null,null,null,null,null,null,null,null,null,null,null,null,null,null,null,null,null,null,null,null,null,null,null,null,null,null,null,null,null,null,null,null,null,null,null,null,null,null,null,null,null,null,null,null,null,null,null,null,null,null,null,null,null,null,null,null,null,null,null,null,null,null,null,null,null,null,null,null,null,null,null,null,null,null,null,null,null,null,null,null,null,null,null,null,null,null,null,null,null,null,null,null,null,null,null,null,null,null,null,null,null,null,null,null,null,null,null,null,null,null,null,null,null,null,null,null,null,null,null,null,null,null,null,null,null,null,null,null,null,null,null,null,null,null,null,null,null,null,null,null,null,null,null,null,"Langage de la surface (Koreg) * PN",0,0,0,0,0,0,0,0,0,0,0,0,0,0,0,0,0,0,0,0,0,0,0,0,0,0,0,0,0,0,0,0,0,0,0,0,0,0,0,0,0,0,0,0,0,0,0,0,0,0,0,0,0,0,0,0,0,0,0,0,0,0,0,0,0,0,0,0,0,0,0,0,0,0,0,0,0,0,null,null,null,null,"Connaissance d'un milieu naturel (Océans) *"]
[null,null,null,null,null,null,null,null,null,null,null,null,null,null,null,null,null,null,null,null,null,null,null,null,null,null,null,null,null,null,null,null,null,null,null,null,null,null,null,null,null,null,null,null,null,null,null,null,null,null,null,null,null,null,null,null,null,null,null,null,null,null,null,null,null,null,null,null,null,null,null,null,null,null,null,null,null,null,null,null,null,null,null,null,null,null,null,null,null,null,null,null,null,null,null,null,null,null,null,null,null,null,null,null,null,null,null,null,null,null,null,null,null,null,null,null,null,null,null,null,null,null,null,null,null,null,null,null,null,null,null,null,null,null,null,null,null,null,null,null,null,null,null,null,null,null,null,null,null,null,null,null,null,"Langage de la surface (Zahl) * PN",0,0,0,0,0,0,0,0,0,0,0,0,0,0,0,0,0,0,0,0,0,0,0,0,0,0,0,0,0,0,0,0,0,0,0,0,0,0,0,0,0,0,0,0,0,0,0,0,0,0,0,0,0,0,0,0,0,0,0,0,0,0,0,0,0,0,0,0,0,0,0,0,0,0,0,0,0,0,null,null,null,null,"Orientation"]
[null,null,null,null,null,null,null,null,null,null,null,null,null,null,null,null,null,null,null,null,null,null,null,null,null,null,null,null,null,null,null,null,null,null,null,null,null,null,null,null,null,null,null,null,null,null,null,null,null,null,null,null,null,null,null,null,null,null,null,null,null,null,null,null,null,null,null,null,null,null,null,null,null,null,null,null,null,null,null,null,null,null,null,null,null,null,null,null,null,null,null,null,null,null,null,null,null,null,null,null,null,null,null,null,null,null,null,null,null,null,null,null,null,null,null,null,null,null,null,null,null,null,null,null,null,null,null,null,null,null,null,null,null,null,null,null,null,null,null,null,null,null,null,null,null,null,null,null,null,null,null,null,null,"Lanques/Langages 12",0,0,0,0,0,0,0,0,0,0,0,0,0,0,0,0,0,0,0,0,0,0,0,0,0,0,0,0,0,0,0,0,0,0,0,0,0,0,0,0,0,0,0,0,0,0,0,0,0,0,0,0,0,0,0,0,0,0,0,0,0,0,0,0,0,0,0,0,0,0,0,0,0,0,0,0,0,0,null,null,null,null,{"$f":"P267","v":"Analyse sonscans"}]
[null,null,null,null,null,null,null,null,null,null,null,null,null,null,null,null,null,null,null,null,null,null,null,null,null,null,null,null,null,null,null,null,null,null,null,null,null,null,null,null,null,null,null,null,null,null,null,null,null,null,null,null,null,null,null,null,null,null,null,null,null,null,null,null,null,null,null,null,null,null,null,null,null,null,null,null,null,null,null,null,null,null,null,null,null,null,null,null,null,null,null,null,null,null,null,null,null,null,null,null,null,null,null,null,null,null,null,null,null,null,null,null,null,null,null,null,null,null,null,null,null,null,null,null,null,null,null,null,null,null,null,null,null,null,null,null,null,null,null,null,null,null,null,null,null,null,null,null,null,null,null,null,null,"Lanques/Langages 19",0,0,0,0,0,0,0,0,0,0,0,0,0,0,0,0,0,0,0,0,0,0,0,0,0,0,0,0,0,0,0,0,0,0,0,0,0,0,0,0,0,0,0,0,0,0,0,0,0,0,0,0,0,0,0,0,0,0,0,0,0,0,0,0,0,0,0,0,0,0,0,0,0,0,0,0,0,0,null,null,null,null,"Art/Artisanat III (……….)"]
[null,null,null,null,null,null,null,null,null,null,null,null,null,null,null,null,null,null,null,null,null,null,null,null,null,null,null,null,null,null,null,null,null,null,null,null,null,null,null,null,null,null,null,null,null,null,null,null,null,null,null,null,null,null,null,null,null,null,null,null,null,null,null,null,null,null,null,null,null,null,null,null,null,null,null,null,null,null,null,null,null,null,null,null,null,null,null,null,null,null,null,null,null,null,null,null,null,null,null,null,null,null,null,null,null,null,null,null,null,null,null,null,null,null,null,null,null,null,null,null,null,null,null,null,null,null,null,null,null,null,null,null,null,null,null,null,null,null,null,null,null,null,null,null,null,null,null,null,null,null,null,null,null,"Langue étrangère (Isitac) * PN",0,0,0,0,0,0,0,0,0,0,0,0,0,0,0,0,0,0,0,0,0,0,0,0,0,0,0,0,0,0,0,0,0,0,0,0,0,0,0,0,0,0,0,0,0,0,0,0,0,0,0,0,0,0,0,0,0,0,0,0,0,0,0,0,0,0,0,0,0,0,0,0,0,0,0,0,0,0,null,null,null,null,"Espionnage/Surveillance"]
[null,null,null,null,null,null,null,null,null,null,null,null,null,null,null,null,null,null,null,null,null,null,null,null,null,null,null,null,null,null,null,null,null,null,null,null,null,null,null,null,null,null,null,null,null,null,null,null,null,null,null,null,null,null,null,null,null,null,null,null,null,null,null,null,null,null,null,null,null,null,null,null,null,null,null,null,null,null,null,null,null,null,null,null,null,null,null,null,null,null,null,null,null,null,null,null,null,null,null,null,null,null,null,null,null,null,null,null,null,null,null,null,null,null,null,null,null,null,null,null,null,null,null,null,null,null,null,null,null,null,null,null,null,null,null,null,null,null,null,null,null,null,null,null,null,null,null,null,null,null,null,null,null,"Langue étrangère (Lesarach) * PN",0,0,0,0,0,0,0,0,0,0,0,0,0,0,0,0,0,0,0,0,0,0,0,0,0,0,0,0,0,0,0,0,0,0,0,0,0,0,0,0,0,0,0,0,0,0,0,0,0,0,0,0,0,0,0,0,0,0,0,0,0,0,0,0,0,0,0,0,0,0,0,0,0,0,0,0,0,0,null,null,null,null,"Explosifs"]
[null,null,null,null,null,null,null,null,null,null,null,null,null,null,null,null,null,null,null,null,null,null,null,null,null,null,null,null,null,null,null,null,null,null,null,null,null,null,null,null,null,null,null,null,null,null,null,null,null,null,null,null,null,null,null,null,null,null,null,null,null,null,null,null,null,null,null,null,null,null,null,null,null,null,null,null,null,null,null,null,null,null,null,null,null,null,null,null,null,null,null,null,null,null,null,null,null,null,null,null,null,null,null,null,null,null,null,null,null,null,null,null,null,null,null,null,null,null,null,null,null,null,null,null,null,null,null,null,null,null,null,null,null,null,null,null,null,null,null,null,null,null,null,null,null,null,null,null,null,null,null,null,null,"Langue étrangère (Océane) * PN",0,0,0,0,0,0,0,0,0,0,0,0,0,0,0,0,0,0,0,0,0,0,0,0,0,0,0,0,0,0,0,0,0,0,0,0,0,0,0,0,0,0,0,0,0,0,0,0,0,0,0,0,0,0,0,0,0,0,0,0,0,0,0,0,0,0,0,0,0,0,0,0,0,0,0,0,0,0,null,null,null,null,"Génie tech. (Bionique/Cybertechnologie) +"]
[null,null,null,null,null,null,null,null,null,null,null,null,null,null,null,null,null,null,null,null,null,null,null,null,null,null,null,null,null,null,null,null,null,null,null,null,null,null,null,null,null,null,null,null,null,null,null,null,null,null,null,null,null,null,null,null,null,null,null,null,null,null,null,null,null,null,null,null,null,null,null,null,null,null,null,null,null,null,null,null,null,null,null,null,null,null,null,null,null,null,null,null,null,null,null,null,null,null,null,null,null,null,null,null,null,null,null,null,null,null,null,null,null,null,null,null,null,null,null,null,null,null,null,null,null,null,null,null,null,null,null,null,null,null,null,null,null,null,null,null,null,null,null,null,null,null,null,null,null,null,null,null,null,"Langue étrangère (Trashan) * PN",0,0,0,0,0,0,0,0,0,0,0,0,0,0,0,0,0,0,0,0,0,0,0,0,0,0,0,0,0,0,0,0,0,0,0,0,0,0,0,0,0,0,0,0,0,0,0,0,0,0,0,0,0,0,0,0,0,0,0,0,0,0,0,0,0,0,0,0,0,0,0,0,0,0,0,0,0,0,null,null,null,null,"Génie technique (Télécommunications) +"]
[null,null,null,null,null,null,null,null,null,null,null,null,null,null,null,null,null,null,null,null,null,null,null,null,null,null,null,null,null,null,null,null,null,null,null,null,null,null,null,null,null,null,null,null,null,null,null,null,null,null,null,null,null,null,null,null,null,null,null,null,null,null,null,null,null,null,null,null,null,null,null,null,null,null,null,null,null,null,null,null,null,null,null,null,null,null,null,null,null,null,null,null,null,null,null,null,null,null,null,null,null,null,null,null,null,null,null,null,null,null,null,null,null,null,null,null,null,null,null,null,null,null,null,null,null,null,null,null,null,null,null,null,null,null,null,null,null,null,null,null,null,null,null,null,null,null,null,null,null,null,null,null,null,"Langage de la surface (Oni) * PN",0,0,0,0,0,0,0,0,0,0,0,0,0,0,0,0,0,0,0,0,0,0,0,0,0,0,0,0,0,0,0,0,0,0,0,0,0,0,0,0,0,0,0,0,0,0,0,0,0,0,0,0,0,0,0,0,0,0,0,0,0,0,0,0,0,0,0,0,0,0,0,0,0,0,0,0,0,0,null,null,null,null,"Mécanique (Navires/Chasseurs sous-marins) +"]
[null,null,null,null,null,null,null,null,null,null,null,null,null,null,null,null,null,null,null,null,null,null,null,null,null,null,null,null,null,null,null,null,null,null,null,null,null,null,null,null,null,null,null,null,null,null,null,null,null,null,null,null,null,null,null,null,null,null,null,null,null,null,null,null,null,null,null,null,null,null,null,null,null,null,null,null,null,null,null,null,null,null,null,null,null,null,null,null,null,null,null,null,null,null,null,null,null,null,null,null,null,null,null,null,null,null,null,null,null,null,null,null,null,null,null,null,null,null,null,null,null,null,null,null,null,null,null,null,null,null,null,null,null,null,null,null,null,null,null,null,null,null,null,null,null,null,null,null,null,null,null,null,null,"Langage surface (Yss) * PN",0,0,0,0,0,0,0,0,0,0,0,0,0,0,0,0,0,0,0,0,0,0,0,0,0,0,0,0,0,0,0,0,0,0,0,0,0,0,0,0,0,0,0,0,0,0,0,0,0,0,0,0,0,0,0,0,0,0,0,0,0,0,0,0,0,0,0,0,0,0,0,0,0,0,0,0,0,0,null,null,null,null,"Mécanique (Véhicules de sol) +"]
[null,null,null,null,null,null,null,null,null,null,null,null,null,null,null,null,null,null,null,null,null,null,null,null,null,null,null,null,null,null,null,null,null,null,null,null,null,null,null,null,null,null,null,null,null,null,null,null,null,null,null,null,null,null,null,null,null,null,null,null,null,null,null,null,null,null,null,null,null,null,null,null,null,null,null,null,null,null,null,null,null,null,null,null,null,null,null,null,null,null,null,null,null,null,null,null,null,null,null,null,null,null,null,null,null,null,null,null,null,null,null,null,null,null,null,null,null,null,null,null,null,null,null,null,null,null,null,null,null,null,null,null,null,null,null,null,null,null,null,null,null,null,null,null,null,null,null,null,null,null,null,null,null,"Lanques/Langages 14",0,0,0,0,0,0,0,0,0,0,0,0,0,0,0,0,0,0,0,0,0,0,0,0,0,0,0,0,0,0,0,0,0,0,0,0,0,0,0,0,0,0,0,0,0,0,0,0,0,0,0,0,0,0,0,0,0,0,0,0,0,0,0,0,0,0,0,0,0,0,0,0,0,0,0,0,0,0,null,null,null,null,{"$f":"P316","v":"Absence +"}]
[null,null,null,null,null,null,null,null,null,null,null,null,null,null,null,null,null,null,null,null,null,null,null,null,null,null,null,null,null,null,null,null,null,null,null,null,null,null,null,null,null,null,null,null,null,null,null,null,null,null,null,null,null,null,null,null,null,null,null,null,null,null,null,null,null,null,null,null,null,null,null,null,null,null,null,null,null,null,null,null,null,null,null,null,null,null,null,null,null,null,null,null,null,null,null,null,null,null,null,null,null,null,null,null,null,null,null,null,null,null,null,null,null,null,null,null,null,null,null,null,null,null,null,null,null,null,null,null,null,null,null,null,null,null,null,null,null,null,null,null,null,null,null,null,null,null,null,null,null,null,null,null,null,"Lanques/Langages 19",0,0,0,0,0,0,0,0,0,0,0,0,0,0,0,0,0,0,0,0,0,0,0,0,0,0,0,0,0,0,0,0,0,0,0,0,0,0,0,0,0,0,0,0,0,0,0,0,0,0,0,0,0,0,0,0,0,0,0,0,0,0,0,0,0,0,0,0,0,0,0,0,0,0,0,0,0,0,null,null,null,null,"Contrôle corporel +"]
[null,null,null,null,null,null,null,null,null,null,null,null,null,null,null,null,null,null,null,null,null,null,null,null,null,null,null,null,null,null,null,null,null,null,null,null,null,null,null,null,null,null,null,null,null,null,null,null,null,null,null,null,null,null,null,null,null,null,null,null,null,null,null,null,null,null,null,null,null,null,null,null,null,null,null,null,null,null,null,null,null,null,null,null,null,null,null,null,null,null,null,null,null,null,null,null,null,null,null,null,null,null,null,null,null,null,null,null,null,null,null,null,null,null,null,null,null,null,null,null,null,null,null,null,null,null,null,null,null,null,null,null,null,null,null,null,null,null,null,null,null,null,null,null,null,null,null,null,null,null,null,null,null,"Langue étrangère (Isitac) * PN",0,0,0,0,0,0,0,0,0,0,0,0,0,0,0,0,0,0,0,0,0,0,0,0,0,0,0,0,0,0,0,0,0,0,0,0,0,0,0,0,0,0,0,0,0,0,0,0,0,0,0,0,0,0,0,0,0,0,0,0,0,0,0,0,0,0,0,0,0,0,0,0,0,0,0,0,0,0,null,null,null,null,"Hypnose +"]
[null,null,null,null,null,null,null,null,null,null,null,null,null,null,null,null,null,null,null,null,null,null,null,null,null,null,null,null,null,null,null,null,null,null,null,null,null,null,null,null,null,null,null,null,null,null,null,null,null,null,null,null,null,null,null,null,null,null,null,null,null,null,null,null,null,null,null,null,null,null,null,null,null,null,null,null,null,null,null,null,null,null,null,null,null,null,null,null,null,null,null,null,null,null,null,null,null,null,null,null,null,null,null,null,null,null,null,null,null,null,null,null,null,null,null,null,null,null,null,null,null,null,null,null,null,null,null,null,null,null,null,null,null,null,null,null,null,null,null,null,null,null,null,null,null,null,null,null,null,null,null,null,null,"Langue étrangère (Océane) * PN",0,0,0,0,0,0,0,0,0,0,0,0,0,0,0,0,0,0,0,0,0,0,0,0,0,0,0,0,0,0,0,0,0,0,0,0,0,0,0,0,0,0,0,0,0,0,0,0,0,0,0,0,0,0,0,0,0,0,0,0,0,0,0,0,0,0,0,0,0,0,0,0,0,0,0,0,0,0,null,null,null,null,"Mémoire +"]
[null,null,null,null,null,null,null,null,null,null,null,null,null,null,null,null,null,null,null,null,null,null,null,null,null,null,null,null,null,null,null,null,null,null,null,null,null,null,null,null,null,null,null,null,null,null,null,null,null,null,null,null,null,null,null,null,null,null,null,null,null,null,null,null,null,null,null,null,null,null,null,null,null,null,null,null,null,null,null,null,null,null,null,null,null,null,null,null,null,null,null,null,null,null,null,null,null,null,null,null,null,null,null,null,null,null,null,null,null,null,null,null,null,null,null,null,null,null,null,null,null,null,null,null,null,null,null,null,null,null,null,null,null,null,null,null,null,null,null,null,null,null,null,null,null,null,null,null,null,null,null,null,null,"Langue étrangère (Ossyrien) * PN",0,0,0,0,0,0,0,0,0,0,0,0,0,0,0,0,0,0,0,0,0,0,0,0,0,0,0,0,0,0,0,0,0,0,0,0,0,0,0,0,0,0,0,0,0,0,0,0,0,0,0,0,0,0,0,0,0,0,0,0,0,0,0,0,0,0,0,0,0,0,0,0,0,0,0,0,0,0,null,null,null,null,"Pouvoir Polaris I (……….) +"]
[null,null,null,null,null,null,null,null,null,null,null,null,null,null,null,null,null,null,null,null,null,null,null,null,null,null,null,null,null,null,null,null,null,null,null,null,null,null,null,null,null,null,null,null,null,null,null,null,null,null,null,null,null,null,null,null,null,null,null,null,null,null,null,null,null,null,null,null,null,null,null,null,null,null,null,null,null,null,null,null,null,null,null,null,null,null,null,null,null,null,null,null,null,null,null,null,null,null,null,null,null,null,null,null,null,null,null,null,null,null,null,null,null,null,null,null,null,null,null,null,null,null,null,null,null,null,null,null,null,null,null,null,null,null,null,null,null,null,null,null,null,null,null,null,null,null,null,null,null,null,null,null,null,"Langage de la surface (Kern) * PN",0,0,0,0,0,0,0,0,0,0,0,0,0,0,0,0,0,0,0,0,0,0,0,0,0,0,0,0,0,0,0,0,0,0,0,0,0,0,0,0,0,0,0,0,0,0,0,0,0,0,0,0,0,0,0,0,0,0,0,0,0,0,0,0,0,0,0,0,0,0,0,0,0,0,0,0,0,0,null,null,null,null,"Purulence +"]
[null,null,null,null,null,null,null,null,null,null,null,null,null,null,null,null,null,null,null,null,null,null,null,null,null,null,null,null,null,null,null,null,null,null,null,null,null,null,null,null,null,null,null,null,null,null,null,null,null,null,null,null,null,null,null,null,null,null,null,null,null,null,null,null,null,null,null,null,null,null,null,null,null,null,null,null,null,null,null,null,null,null,null,null,null,null,null,null,null,null,null,null,null,null,null,null,null,null,null,null,null,null,null,null,null,null,null,null,null,null,null,null,null,null,null,null,null,null,null,null,null,null,null,null,null,null,null,null,null,null,null,null,null,null,null,null,null,null,null,null,null,null,null,null,null,null,null,null,null,null,null,null,null,"Langage surface (Yss) * PN",0,0,0,0,0,0,0,0,0,0,0,0,0,0,0,0,0,0,0,0,0,0,0,0,0,0,0,0,0,0,0,0,0,0,0,0,0,0,0,0,0,0,0,0,0,0,0,0,0,0,0,0,0,0,0,0,0,0,0,0,0,0,0,0,0,0,0,0,0,0,0,0,0,0,0,0,0,0]
[null,null,null,null,null,null,null,null,null,null,null,null,null,null,null,null,null,null,null,null,null,null,null,null,null,null,null,null,null,null,null,null,null,null,null,null,null,null,null,null,null,null,null,null,null,null,null,null,null,null,null,null,null,null,null,null,null,null,null,null,null,null,null,null,null,null,null,null,null,null,null,null,null,null,null,null,null,null,null,null,null,null,null,null,null,null,null,null,null,null,null,null,null,null,null,null,null,null,null,null,null,null,null,null,null,null,null,null,null,null,null,null,null,null,null,null,null,null,null,null,null,null,null,null,null,null,null,null,null,null,null,null,null,null,null,null,null,null,null,null,null,null,null,null,null,null,null,null,null,null,null,null,null,"Langage de la surface (Zahl) * PN",0,0,0,0,0,0,0,0,0,0,0,0,0,0,0,0,0,0,0,0,0,0,0,0,0,0,0,0,0,0,0,0,0,0,0,0,0,0,0,0,0,0,0,0,0,0,0,0,0,0,0,0,0,0,0,0,0,0,0,0,0,0,0,0,0,0,0,0,0,0,0,0,0,0,0,0,0,0]
[null,null,null,null,null,null,null,null,null,null,null,null,null,null,null,null,null,null,null,null,null,null,null,null,null,null,null,null,null,null,null,null,null,null,null,null,null,null,null,null,null,null,null,null,null,null,null,null,null,null,null,null,null,null,null,null,null,null,null,null,null,null,null,null,null,null,null,null,null,null,null,null,null,null,null,null,null,null,null,null,null,null,null,null,null,null,null,null,null,null,null,null,null,null,null,null,null,null,null,null,null,null,null,null,null,null,null,null,null,null,null,null,null,null,null,null,null,null,null,null,null,null,null,null,null,null,null,null,null,null,null,null,null,null,null,null,null,null,null,null,null,null,null,null,null,null,null,null,null,null,null,null,null,"Lanques/Langages 13",0,0,0,0,0,0,0,0,0,0,0,0,0,0,0,0,0,0,0,0,0,0,0,0,0,0,0,0,0,0,0,0,0,0,0,0,0,0,0,0,0,0,0,0,0,0,0,0,0,0,0,0,0,0,0,0,0,0,0,0,0,0,0,0,0,0,0,0,0,0,0,0,0,0,0,0,0,0]
[null,null,null,null,null,null,null,null,null,null,null,null,null,null,null,null,null,null,null,null,null,null,null,null,null,null,null,null,null,null,null,null,null,null,null,null,null,null,null,null,null,null,null,null,null,null,null,null,null,null,null,null,null,null,null,null,null,null,null,null,null,null,null,null,null,null,null,null,null,null,null,null,null,null,null,null,null,null,null,null,null,null,null,null,null,null,null,null,null,null,null,null,null,null,null,null,null,null,null,null,null,null,null,null,null,null,null,null,null,null,null,null,null,null,null,null,null,null,null,null,null,null,null,null,null,null,null,null,null,null,null,null,null,null,null,null,null,null,null,null,null,null,null,null,null,null,null,null,null,null,null,null,null,"Lanques/Langages 18",0,0,0,0,0,0,0,0,0,0,0,0,0,0,0,0,0,0,0,0,0,0,0,0,0,0,0,0,0,0,0,0,0,0,0,0,0,0,0,0,0,0,0,0,0,0,0,0,0,0,0,0,0,0,0,0,0,0,0,0,0,0,0,0,0,0,0,0,0,0,0,0,0,0,0,0,0,0]
[null,null,null,null,null,null,null,null,null,null,null,null,null,null,null,null,null,null,null,null,null,null,null,null,null,null,null,null,null,null,null,null,null,null,null,null,null,null,null,null,null,null,null,null,null,null,null,null,null,null,null,null,null,null,null,null,null,null,null,null,null,null,null,null,null,null,null,null,null,null,null,null,null,null,null,null,null,null,null,null,null,null,null,null,null,null,null,null,null,null,null,null,null,null,null,null,null,null,null,null,null,null,null,null,null,null,null,null,null,null,null,null,null,null,null,null,null,null,null,null,null,null,null,null,null,null,null,null,null,null,null,null,null,null,null,null,null,null,null,null,null,null,null,null,null,null,null,null,null,null,null,null,null,"Langage de la surface (Oni) * PN",0,0,0,0,0,0,0,0,0,0,0,0,0,0,0,0,0,0,0,0,0,0,0,0,0,0,0,0,0,0,0,0,0,0,0,0,0,0,0,0,0,0,0,0,0,0,0,0,0,0,0,0,0,0,0,0,0,0,0,0,0,0,0,0,0,0,0,0,0,0,0,0,0,0,0,0,0,0]
[null,null,null,null,null,null,null,null,null,null,null,null,null,null,null,null,null,null,null,null,null,null,null,null,null,null,null,null,null,null,null,null,null,null,null,null,null,null,null,null,null,null,null,null,null,null,null,null,null,null,null,null,null,null,null,null,null,null,null,null,null,null,null,null,null,null,null,null,null,null,null,null,null,null,null,null,null,null,null,null,null,null,null,null,null,null,null,null,null,null,null,null,null,null,null,null,null,null,null,null,null,null,null,null,null,null,null,null,null,null,null,null,null,null,null,null,null,null,null,null,null,null,null,null,null,null,null,null,null,null,null,null,null,null,null,null,null,null,null,null,null,null,null,null,null,null,null,null,null,null,null,null,null,"Langage surface (Yss) * PN",0,0,0,0,0,0,0,0,0,0,0,0,0,0,0,0,0,0,0,0,0,0,0,0,0,0,0,0,0,0,0,0,0,0,0,0,0,0,0,0,0,0,0,0,0,0,0,0,0,0,0,0,0,0,0,0,0,0,0,0,0,0,0,0,0,0,0,0,0,0,0,0,0,0,0,0,0,0]
[null,null,null,null,null,null,null,null,null,null,null,null,null,null,null,null,null,null,null,null,null,null,null,null,null,null,null,null,null,null,null,null,null,null,null,null,null,null,null,null,null,null,null,null,null,null,null,null,null,null,null,null,null,null,null,null,null,null,null,null,null,null,null,null,null,null,null,null,null,null,null,null,null,null,null,null,null,null,null,null,null,null,null,null,null,null,null,null,null,null,null,null,null,null,null,null,null,null,null,null,null,null,null,null,null,null,null,null,null,null,null,null,null,null,null,null,null,null,null,null,null,null,null,null,null,null,null,null,null,null,null,null,null,null,null,null,null,null,null,null,null,null,null,null,null,null,null,null,null,null,null,null,null,"Langue étrangère (Isitac) * PN",2,2,2,2,2,2,2,2,1,{"$f":"IF((FH549+FH606+FH642)>0,1,2)","v":2},2,2,2,2,2,2,2,2,2,2,2,2,2,2,2,2,2,2,2,2,2,2,2,2,2,2,2,2,2,1,2,{"$f":"IF((GN549+GN606+GN642)>0,1,2)","v":2},2,2,1,1,1,1,1,1,{"$f":"IF((GW549+GW606+GW642)>0,1,2)","v":2},2,2,2,2,2,2,2,2,2,2,2,2,2,2,2,2,2,2,2,2,2,2,2,2,2,2,2]
[null,null,null,null,null,null,null,null,null,null,null,null,null,null,null,null,null,null,null,null,null,null,null,null,null,null,null,null,null,null,null,null,null,null,null,null,null,null,null,null,null,null,null,null,null,null,null,null,null,null,null,null,null,null,null,null,null,null,null,null,null,null,null,null,null,null,null,null,null,null,null,null,null,null,null,null,null,null,null,null,null,null,null,null,null,null,null,null,null,null,null,null,null,null,null,null,null,null,null,null,null,null,null,null,null,null,null,null,null,null,null,null,null,null,null,null,null,null,null,null,null,null,null,null,null,null,null,null,null,null,null,null,null,null,null,null,null,null,null,null,null,null,null,null,null,null,null,null,null,null,null,null,null,"Langue étrangère (Olakar) * PN",2,2,2,2,2,2,2,2,1,{"$f":"IF((FH555+FH612+FH648)>0,1,2)","v":2},2,2,2,2,2,2,2,2,2,2,2,2,2,2,2,2,2,2,2,2,2,2,2,2,2,2,2,2,2,1,2,{"$f":"IF((GN555+GN612+GN648)>0,1,2)","v":2},2,2,2,2,2,2,2,2,2,2,2,2,2,2,2,2,2,2,2,2,2,2,2,2,2,2,2,2,2,2,2,2,2,2,2,2]
[null,null,null,null,null,null,null,null,null,null,null,null,null,null,null,null,null,null,null,null,null,null,null,null,null,null,null,null,null,null,null,null,null,null,null,null,null,null,null,null,null,null,null,null,null,null,null,null,null,null,null,null,null,null,null,null,null,null,null,null,null,null,null,null,null,null,null,null,null,null,null,null,null,null,null,null,null,null,null,null,null,null,null,null,null,null,null,null,null,null,null,null,null,null,null,null,null,null,null,null,null,null,null,null,null,null,null,null,null,null,null,null,null,null,null,null,null,null,null,null,null,null,null,null,null,null,null,null,null,null,null,null,null,null,null,null,null,null,null,null,null,null,null,null,null,null,null,null,null,null,null,null,null,"Langue étrangère (Ternaset) * PN",2,2,2,2,2,2,2,2,1,{"$f":"IF((FH559+FH616+FH652)>0,1,2)","v":2},2,2,2,2,2,2,2,2,2,2,2,2,2,2,2,2,2,2,2,2,2,2,2,2,2,2,2,2,2,1,2,{"$f":"IF((GN559+GN616+GN652)>0,1,2)","v":2},2,2,2,2,2,2,2,2,2,2,2,2,2,2,2,2,2,2,2,2,2,2,2,2,2,2,2,2,2,2,2,2,2,2,2,2]
[null,null,null,null,null,null,null,null,null,null,null,null,null,null,null,null,null,null,null,null,null,null,null,null,null,null,null,null,null,null,null,null,null,null,null,null,null,null,null,null,null,null,null,null,null,null,null,null,null,null,null,null,null,null,null,null,null,null,null,null,null,null,null,null,null,null,null,null,null,null,null,null,null,null,null,null,null,null,null,null,null,null,null,null,null,null,null,null,null,null,null,null,null,null,null,null,null,null,null,null,null,null,null,null,null,null,null,null,null,null,null,null,null,null,null,null,null,null,null,null,null,null,null,null,null,null,null,null,null,null,null,null,null,null,null,null,null,null,null,null,null,null,null,null,null,null,null,null,null,null,null,null,null,"Langue ancienne (Azuréen) *",{"$f":"IF(EY564>0,1,2)","v":2},2,2,2,2,2,2,2,1,{"$f":"IF(FH564>0,1,2)","v":2},2,2,2,2,2,2,2,2,2,2,2,2,2,2,2,2,2,2,2,2,2,2,2,2,2,2,2,2,2,1,2,2,2,2,2,2,2,2,2,2,2,2,2,2,2,2,2,2,2,2,2,2,2,2,2,2,2,2,2,2,2,2,2,{"$f":"IF(HT564>0,1,2)","v":2},2,2,2,2]
[null,null,null,null,null,null,null,null,null,null,null,null,null,null,null,null,null,null,null,null,null,null,null,null,null,null,null,null,null,null,null,null,null,null,null,null,null,null,null,null,null,null,null,null,null,null,null,null,null,null,null,null,null,null,null,null,null,null,null,null,null,null,null,null,null,null,null,null,null,null,null,null,null,null,null,null,null,null,null,null,null,null,null,null,null,null,null,null,null,null,null,null,null,null,null,null,null,null,null,null,null,null,null,null,null,null,null,null,null,null,null,null,null,null,null,null,null,null,null,null,null,null,null,null,null,null,null,null,null,null,null,null,null,null,null,null,null,null,null,null,null,null,null,null,null,null,null,null,null,null,null,null,null,"Langage spécifique (Absolan) * PN",{"$f":"IF(EY570>0,1,2)","v":2},2,2,2,2,2,2,2,1,{"$f":"IF(FH570>0,1,2)","v":2},2,2,2,2,2,2,2,2,2,2,2,2,2,2,2,2,2,2,2,2,2,2,2,2,2,2,2,2,2,1,2,2,2,2,2,2,2,2,2,2,2,2,2,2,2,2,2,2,2,2,2,2,2,2,2,2,2,2,2,2,2,2,2,{"$f":"IF(HT570>0,1,2)","v":2},2,2,2,2]
[null,null,null,null,null,null,null,null,null,null,null,null,null,null,null,null,null,null,null,null,null,null,null,null,null,null,null,null,null,null,null,null,null,null,null,null,null,null,null,null,null,null,null,null,null,null,null,null,null,null,null,null,null,null,null,null,null,null,null,null,null,null,null,null,null,null,null,null,null,null,null,null,null,null,null,null,null,null,null,null,null,null,null,null,null,null,null,null,null,null,null,null,null,null,null,null,null,null,null,null,null,null,null,null,null,null,null,null,null,null,null,null,null,null,null,null,null,null,null,null,null,null,null,null,null,null,null,null,null,null,null,null,null,null,null,null,null,null,null,null,null,null,null,null,null,null,null,null,null,null,null,null,null,"Langage spécifique (Exon) * PN",{"$f":"IF(EY572>0,1,2)","v":2},2,2,2,2,2,2,2,1,{"$f":"IF(FH572>0,1,2)","v":2},2,2,2,2,2,2,2,2,2,2,2,2,2,2,2,2,2,2,2,2,2,2,2,2,2,2,2,2,2,1,2,2,2,2,2,2,2,2,2,2,2,2,2,2,2,2,2,2,2,2,2,2,2,2,2,2,2,2,2,2,2,2,2,{"$f":"IF(HT572>0,1,2)","v":2},2,2,2,2]
[null,null,null,null,null,null,null,null,null,null,null,null,null,null,null,null,null,null,null,null,null,null,null,null,null,null,null,null,null,null,null,null,null,null,null,null,null,null,null,null,null,null,null,null,null,null,null,null,null,null,null,null,null,null,null,null,null,null,null,null,null,null,null,null,null,null,null,null,null,null,null,null,null,null,null,null,null,null,null,null,null,null,null,null,null,null,null,null,null,null,null,null,null,null,null,null,null,null,null,null,null,null,null,null,null,null,null,null,null,null,null,null,null,null,null,null,null,null,null,null,null,null,null,null,null,null,null,null,null,null,null,null,null,null,null,null,null,null,null,null,null,null,null,null,null,null,null,null,null,null,null,null,null,"Langage spécifique (Foreur) * PN",{"$f":"IF(EY573>0,1,2)","v":2},2,2,2,2,2,2,2,1,{"$f":"IF(FH573>0,1,2)","v":2},2,2,2,2,2,2,2,2,2,2,2,2,2,2,2,2,2,2,2,2,2,2,2,2,2,2,2,2,2,1,2,2,2,2,2,2,2,2,2,2,2,2,2,2,2,2,2,2,2,2,2,2,2,2,2,2,2,2,2,2,2,2,2,{"$f":"IF(HT573>0,1,2)","v":2},2,2,2,2]
[null,null,null,null,null,null,null,null,null,null,null,null,null,null,null,null,null,null,null,null,null,null,null,null,null,null,null,null,null,null,null,null,null,null,null,null,null,null,null,null,null,null,null,null,null,null,null,null,null,null,null,null,null,null,null,null,null,null,null,null,null,null,null,null,null,null,null,null,null,null,null,null,null,null,null,null,null,null,null,null,null,null,null,null,null,null,null,null,null,null,null,null,null,null,null,null,null,null,null,null,null,null,null,null,null,null,null,null,null,null,null,null,null,null,null,null,null,null,null,null,null,null,null,null,null,null,null,null,null,null,null,null,null,null,null,null,null,null,null,null,null,null,null,null,null,null,null,null,null,null,null,null,null,"Langage spécifique (Inésis) * PN",{"$f":"IF(EY574>0,1,2)","v":2},2,2,2,2,2,2,2,1,{"$f":"IF(FH574>0,1,2)","v":2},2,2,2,2,2,2,2,2,2,2,2,2,2,2,2,2,2,2,2,2,2,2,2,2,2,2,2,2,2,1,2,2,2,2,2,2,2,2,2,2,2,2,2,2,2,2,2,2,2,2,2,2,2,2,2,2,2,2,2,2,2,2,2,{"$f":"IF(HT574>0,1,2)","v":2},2,2,2,2]
[null,null,null,null,null,null,null,null,null,null,null,null,null,null,null,null,null,null,null,null,null,null,null,null,null,null,null,null,null,null,null,null,null,null,null,null,null,null,null,null,null,null,null,null,null,null,null,null,null,null,null,null,null,null,null,null,null,null,null,null,null,null,null,null,null,null,null,null,null,null,null,null,null,null,null,null,null,null,null,null,null,null,null,null,null,null,null,null,null,null,null,null,null,null,null,null,null,null,null,null,null,null,null,null,null,null,null,null,null,null,null,null,null,null,null,null,null,null,null,null,null,null,null,null,null,null,null,null,null,null,null,null,null,null,null,null,null,null,null,null,null,null,null,null,null,null,null,null,null,null,null,null,null,"Langage spécifique (Ithraxien) * PN",{"$f":"IF(EY575>0,1,2)","v":2},2,2,2,2,2,2,2,1,{"$f":"IF(FH575>0,1,2)","v":2},2,2,2,2,2,2,2,2,2,2,2,2,2,2,2,2,2,2,2,2,2,2,2,2,2,2,2,2,2,1,2,2,2,2,2,2,2,2,2,2,2,2,2,2,2,2,2,2,2,2,2,2,2,2,2,2,2,2,2,2,2,2,2,{"$f":"IF(HT575>0,1,2)","v":2},2,2,2,2]
[null,null,null,null,null,null,null,null,null,null,null,null,null,null,null,null,null,null,null,null,null,null,null,null,null,null,null,null,null,null,null,null,null,null,null,null,null,null,null,null,null,null,null,null,null,null,null,null,null,null,null,null,null,null,null,null,null,null,null,null,null,null,null,null,null,null,null,null,null,null,null,null,null,null,null,null,null,null,null,null,null,null,null,null,null,null,null,null,null,null,null,null,null,null,null,null,null,null,null,null,null,null,null,null,null,null,null,null,null,null,null,null,null,null,null,null,null,null,null,null,null,null,null,null,null,null,null,null,null,null,null,null,null,null,null,null,null,null,null,null,null,null,null,null,null,null,null,null,null,null,null,null,null,"Langage spécifique (Klan) * PN",{"$f":"IF(EY576>0,1,2)","v":2},2,2,2,2,2,2,2,1,{"$f":"IF(FH576>0,1,2)","v":2},2,2,2,2,2,2,2,2,2,2,2,2,2,2,2,2,2,2,2,2,2,2,2,2,2,2,2,2,2,1,2,2,2,2,2,2,2,2,2,2,2,2,2,2,2,2,2,2,2,2,2,2,2,2,2,2,2,2,2,2,2,2,2,{"$f":"IF(HT576>0,1,2)","v":2},2,2,2,2]
[null,null,null,null,null,null,null,null,null,null,null,null,null,null,null,null,null,null,null,null,null,null,null,null,null,null,null,null,null,null,null,null,null,null,null,null,null,null,null,null,null,null,null,null,null,null,null,null,null,null,null,null,null,null,null,null,null,null,null,null,null,null,null,null,null,null,null,null,null,null,null,null,null,null,null,null,null,null,null,null,null,null,null,null,null,null,null,null,null,null,null,null,null,null,null,null,null,null,null,null,null,null,null,null,null,null,null,null,null,null,null,null,null,null,null,null,null,null,null,null,null,null,null,null,null,null,null,null,null,null,null,null,null,null,null,null,null,null,null,null,null,null,null,null,null,null,null,null,null,null,null,null,null,"Langage spécifique (Lévéan) * PN",{"$f":"IF(EY577>0,1,2)","v":2},2,2,2,2,2,2,2,1,{"$f":"IF(FH577>0,1,2)","v":2},2,2,2,2,2,2,2,2,2,2,2,2,2,2,2,2,2,2,2,2,2,2,2,2,2,2,2,2,2,1,2,2,2,2,2,2,2,2,2,2,2,2,2,2,2,2,2,2,2,2,2,2,2,2,2,2,2,2,2,2,2,2,2,{"$f":"IF(HT577>0,1,2)","v":2},2,2,2,2]
[null,null,null,null,null,null,null,null,null,null,null,null,null,null,null,null,null,null,null,null,null,null,null,null,null,null,null,null,null,null,null,null,null,null,null,null,null,null,null,null,null,null,null,null,null,null,null,null,null,null,null,null,null,null,null,null,null,null,null,null,null,null,null,null,null,null,null,null,null,null,null,null,null,null,null,null,null,null,null,null,null,null,null,null,null,null,null,null,null,null,null,null,null,null,null,null,null,null,null,null,null,null,null,null,null,null,null,null,null,null,null,null,null,null,null,null,null,null,null,null,null,null,null,null,null,null,null,null,null,null,null,null,null,null,null,null,null,null,null,null,null,null,null,null,null,null,null,null,null,null,null,null,null,"Langage spécifique (Métalan) * PN",{"$f":"IF(EY578>0,1,2)","v":2},2,2,2,2,2,2,2,1,{"$f":"IF(FH578>0,1,2)","v":2},2,2,2,2,2,2,2,2,2,2,2,2,2,2,2,2,2,2,2,2,2,2,2,2,2,2,2,2,2,1,2,2,2,2,2,2,2,2,2,2,2,2,2,2,2,2,2,2,2,2,2,2,2,2,2,2,2,2,2,2,2,2,2,{"$f":"IF(HT578>0,1,2)","v":2},2,2,2,2]
[null,null,null,null,null,null,null,null,null,null,null,null,null,null,null,null,null,null,null,null,null,null,null,null,null,null,null,null,null,null,null,null,null,null,null,null,null,null,null,null,null,null,null,null,null,null,null,null,null,null,null,null,null,null,null,null,null,null,null,null,null,null,null,null,null,null,null,null,null,null,null,null,null,null,null,null,null,null,null,null,null,null,null,null,null,null,null,null,null,null,null,null,null,null,null,null,null,null,null,null,null,null,null,null,null,null,null,null,null,null,null,null,null,null,null,null,null,null,null,null,null,null,null,null,null,null,null,null,null,null,null,null,null,null,null,null,null,null,null,null,null,null,null,null,null,null,null,null,null,null,null,null,null,"Langage spécifique (Néolan) * PN",{"$f":"IF(EY579>0,1,2)","v":2},2,2,2,2,2,2,2,1,{"$f":"IF(FH579>0,1,2)","v":2},2,2,2,2,2,2,2,2,2,2,2,2,2,2,2,2,2,2,2,2,2,2,2,2,2,2,2,2,2,1,2,2,2,2,2,2,2,2,2,2,2,2,2,2,2,2,2,2,2,2,2,2,2,2,2,2,2,2,2,2,2,2,2,{"$f":"IF(HT579>0,1,2)","v":2},2,2,2,2]
[null,null,null,null,null,null,null,null,null,null,null,null,null,null,null,null,null,null,null,null,null,null,null,null,null,null,null,null,null,null,null,null,null,null,null,null,null,null,null,null,null,null,null,null,null,null,null,null,null,null,null,null,null,null,null,null,null,null,null,null,null,null,null,null,null,null,null,null,null,null,null,null,null,null,null,null,null,null,null,null,null,null,null,null,null,null,null,null,null,null,null,null,null,null,null,null,null,null,null,null,null,null,null,null,null,null,null,null,null,null,null,null,null,null,null,null,null,null,null,null,null,null,null,null,null,null,null,null,null,null,null,null,null,null,null,null,null,null,null,null,null,null,null,null,null,null,null,null,null,null,null,null,null,"Langage spécifique (Sirs) * PN",{"$f":"IF(EY580>0,1,2)","v":2},2,2,2,2,2,2,2,1,{"$f":"IF(FH580>0,1,2)","v":2},2,2,2,2,2,2,2,2,2,2,2,2,2,2,2,2,2,2,2,2,2,2,2,2,2,2,2,2,2,1,2,2,2,2,2,2,2,2,2,2,2,2,2,2,2,2,2,2,2,2,2,2,2,2,2,2,2,2,2,2,2,2,2,{"$f":"IF(HT580>0,1,2)","v":2},2,2,2,2]
[null,null,null,null,null,null,null,null,null,null,null,null,null,null,null,null,null,null,null,null,null,null,null,null,null,null,null,null,null,null,null,null,null,null,null,null,null,null,null,null,null,null,null,null,null,null,null,null,null,null,null,null,null,null,null,null,null,null,null,null,null,null,null,null,null,null,null,null,null,null,null,null,null,null,null,null,null,null,null,null,null,null,null,null,null,null,null,null,null,null,null,null,null,null,null,null,null,null,null,null,null,null,null,null,null,null,null,null,null,null,null,null,null,null,null,null,null,null,null,null,null,null,null,null,null,null,null,null,null,null,null,null,null,null,null,null,null,null,null,null,null,null,null,null,null,null,null,null,null,null,null,null,null,"Langage spécifique (Soléen) * PN",{"$f":"IF(EY581>0,1,2)","v":2},2,2,2,2,2,2,2,1,{"$f":"IF(FH581>0,1,2)","v":2},2,2,2,2,2,2,2,2,2,2,2,2,2,2,2,2,2,2,2,2,2,2,2,2,2,2,2,2,2,1,2,2,2,2,2,2,2,2,2,2,2,2,2,2,2,2,2,2,2,2,2,2,2,2,2,2,2,2,2,2,2,2,2,{"$f":"IF(HT581>0,1,2)","v":2},2,2,2,2]
[null,null,null,null,null,null,null,null,null,null,null,null,null,null,null,null,null,null,null,null,null,null,null,null,null,null,null,null,null,null,null,null,null,null,null,null,null,null,null,null,null,null,null,null,null,null,null,null,null,null,null,null,null,null,null,null,null,null,null,null,null,null,null,null,null,null,null,null,null,null,null,null,null,null,null,null,null,null,null,null,null,null,null,null,null,null,null,null,null,null,null,null,null,null,null,null,null,null,null,null,null,null,null,null,null,null,null,null,null,null,null,null,null,null,null,null,null,null,null,null,null,null,null,null,null,null,null,null,null,null,null,null,null,null,null,null,null,null,null,null,null,null,null,null,null,null,null,null,null,null,null,null,null,"Langage spécifique (……….) * PN",{"$f":"IF(EY582>0,1,2)","v":2},2,2,2,2,2,2,2,1,{"$f":"IF(FH582>0,1,2)","v":2},2,2,2,2,2,2,2,2,2,2,2,2,2,2,2,2,2,2,2,2,2,2,2,2,2,2,2,2,2,1,2,2,2,2,2,2,2,2,2,2,2,2,2,2,2,2,2,2,2,2,2,2,2,2,2,2,2,2,2,2,2,2,2,{"$f":"IF(HT582>0,1,2)","v":2},2,2,2,2]
[null,null,null,null,null,null,null,null,null,null,null,null,null,null,null,null,null,null,null,null,null,null,null,null,null,null,null,null,null,null,null,null,null,null,null,null,null,null,null,null,null,null,null,null,null,null,null,null,null,null,null,null,null,null,null,null,null,null,null,null,null,null,null,null,null,null,null,null,null,null,null,null,null,null,null,null,null,null,null,null,null,null,null,null,null,null,null,null,null,null,null,null,null,null,null,null,null,null,null,null,null,null,null,null,null,null,null,null,null,null,null,null,null,null,null,null,null,null,null,null,null,null,null,null,null,null,null,null,null,null,null,null,null,null,null,null,null,null,null,null,null,null,null,null,null,null,null,null,null,null,null,null,null,{"$f":"EX655","v":"Langage de la surface (Cinn) * PN"},{"$f":"IF((EY583+EY619+EY655+EY675)>0,1,2)","v":2},{"$f":"IF((EZ583+EZ619+EZ655+EZ675)>0,1,2)","v":2},2,2,2,2,2,2,1,2,2,2,2,2,2,2,2,2,2,2,2,2,2,2,2,2,2,2,2,2,2,2,2,2,2,2,2,2,2,1,1,1,1,1,2,2,2,2,2,2,2,2,2,2,2,2,2,2,2,2,2,2,2,2,2,{"$f":"IF((HL583+HL619+HL655+HL675)>0,1,2)","v":2},2,2,2,2,2,2,2,2,2,2,2,2]
[null,null,null,null,null,null,null,null,null,null,null,null,null,null,null,null,null,null,null,null,null,null,null,null,null,null,null,null,null,null,null,null,null,null,null,null,null,null,null,null,null,null,null,null,null,null,null,null,null,null,null,null,null,null,null,null,null,null,null,null,null,null,null,null,null,null,null,null,null,null,null,null,null,null,null,null,null,null,null,null,null,null,null,null,null,null,null,null,null,null,null,null,null,null,null,null,null,null,null,null,null,null,null,null,null,null,null,null,null,null,null,null,null,null,null,null,null,null,null,null,null,null,null,null,null,null,null,null,null,null,null,null,null,null,null,null,null,null,null,null,null,null,null,null,null,null,null,null,null,null,null,null,null,"Langage surface (Hassyrien) * PN",{"$f":"IF((EY584+EY620+EY656+EY676)>0,1,2)","v":2},2,2,2,2,2,2,2,1,{"$f":"IF((FH584+FH620+FH656+FH676)>0,1,2)","v":2},2,2,2,2,2,2,2,2,2,2,2,2,2,2,2,2,2,2,2,2,2,2,2,2,2,2,2,2,2,1,2,2,2,2,2,2,2,2,2,2,2,2,2,2,2,2,2,2,2,2,2,2,2,2,2,2,2,2,2,2,2,2,2,{"$f":"IF((HT584+HT620+HT656+HT676)>0,1,2)","v":2},2,2,2,2]
[null,null,null,null,null,null,null,null,null,null,null,null,null,null,null,null,null,null,null,null,null,null,null,null,null,null,null,null,null,null,null,null,null,null,null,null,null,null,null,null,null,null,null,null,null,null,null,null,null,null,null,null,null,null,null,null,null,null,null,null,null,null,null,null,null,null,null,null,null,null,null,null,null,null,null,null,null,null,null,null,null,null,null,null,null,null,null,null,null,null,null,null,null,null,null,null,null,null,null,null,null,null,null,null,null,null,null,null,null,null,null,null,null,null,null,null,null,null,null,null,null,null,null,null,null,null,null,null,null,null,null,null,null,null,null,null,null,null,null,null,null,null,null,null,null,null,null,null,null,null,null,null,null,"Langage de la surface (Kern) * PN",{"$f":"IF((EY585+EY621+EY657+EY677)>0,1,2)","v":2},2,2,2,2,2,2,2,1,{"$f":"IF((FH585+FH621+FH657+FH677)>0,1,2)","v":2},2,2,2,2,2,2,2,2,2,2,2,2,2,2,2,2,2,2,2,2,2,2,2,2,2,2,2,2,2,1,2,2,2,2,2,2,2,2,2,2,2,2,2,2,2,2,2,2,2,2,2,2,2,2,2,2,2,2,2,2,2,2,2,{"$f":"IF((HT585+HT621+HT657+HT677)>0,1,2)","v":2},2,2,2,2]
[null,null,null,null,null,null,null,null,null,null,null,null,null,null,null,null,null,null,null,null,null,null,null,null,null,null,null,null,null,null,null,null,null,null,null,null,null,null,null,null,null,null,null,null,null,null,null,null,null,null,null,null,null,null,null,null,null,null,null,null,null,null,null,null,null,null,null,null,null,null,null,null,null,null,null,null,null,null,null,null,null,null,null,null,null,null,null,null,null,null,null,null,null,null,null,null,null,null,null,null,null,null,null,null,null,null,null,null,null,null,null,null,null,null,null,null,null,null,null,null,null,null,null,null,null,null,null,null,null,null,null,null,null,null,null,null,null,null,null,null,null,null,null,null,null,null,null,null,null,null,null,null,null,"Langage de la surface (Koreg) * PN",{"$f":"IF((EY586+EY622+EY658+EY678)>0,1,2)","v":2},2,2,2,2,2,2,2,1,{"$f":"IF((FH586+FH622+FH658+FH678)>0,1,2)","v":2},2,2,2,2,2,2,2,2,2,2,2,2,2,2,2,2,2,2,2,2,2,2,2,2,2,2,2,2,2,1,2,2,2,2,2,2,2,2,2,2,2,2,2,2,2,2,2,2,2,2,2,2,2,2,2,2,2,2,2,2,2,2,2,{"$f":"IF((HT586+HT622+HT658+HT678)>0,1,2)","v":2},2,2,2,2]
[null,null,null,null,null,null,null,null,null,null,null,null,null,null,null,null,null,null,null,null,null,null,null,null,null,null,null,null,null,null,null,null,null,null,null,null,null,null,null,null,null,null,null,null,null,null,null,null,null,null,null,null,null,null,null,null,null,null,null,null,null,null,null,null,null,null,null,null,null,null,null,null,null,null,null,null,null,null,null,null,null,null,null,null,null,null,null,null,null,null,null,null,null,null,null,null,null,null,null,null,null,null,null,null,null,null,null,null,null,null,null,null,null,null,null,null,null,null,null,null,null,null,null,null,null,null,null,null,null,null,null,null,null,null,null,null,null,null,null,null,null,null,null,null,null,null,null,null,null,null,null,null,null,"Langage de la surface (Latkan) * PN",{"$f":"IF((EY587+EY623+EY659+EY679)>0,1,2)","v":2},2,2,2,2,2,2,2,1,{"$f":"IF((FH587+FH623+FH659+FH679)>0,1,2)","v":2},2,2,2,2,2,2,2,2,2,2,2,2,2,2,2,2,2,2,2,2,2,2,2,2,2,2,2,2,2,1,2,2,2,2,2,2,2,2,2,2,2,2,2,2,2,2,2,2,2,2,2,2,2,2,2,2,2,2,2,2,2,2,2,{"$f":"IF((HT587+HT623+HT659+HT679)>0,1,2)","v":2},2,2,2,2]
[null,null,null,null,null,null,null,null,null,null,null,null,null,null,null,null,null,null,null,null,null,null,null,null,null,null,null,null,null,null,null,null,null,null,null,null,null,null,null,null,null,null,null,null,null,null,null,null,null,null,null,null,null,null,null,null,null,null,null,null,null,null,null,null,null,null,null,null,null,null,null,null,null,null,null,null,null,null,null,null,null,null,null,null,null,null,null,null,null,null,null,null,null,null,null,null,null,null,null,null,null,null,null,null,null,null,null,null,null,null,null,null,null,null,null,null,null,null,null,null,null,null,null,null,null,null,null,null,null,null,null,null,null,null,null,null,null,null,null,null,null,null,null,null,null,null,null,null,null,null,null,null,null,"Langage de la surface (Oni) * PN",{"$f":"IF((EY588+EY624+EY660+EY680)>0,1,2)","v":2},2,2,2,2,2,2,2,1,{"$f":"IF((FH588+FH624+FH660+FH680)>0,1,2)","v":2},2,2,2,2,2,2,2,2,2,2,2,2,2,2,2,2,2,2,2,2,2,2,2,2,2,2,2,2,2,1,2,2,2,2,2,2,2,2,2,2,2,2,2,2,2,2,2,2,2,2,2,2,2,2,2,2,2,2,2,2,2,2,2,{"$f":"IF((HT588+HT624+HT660+HT680)>0,1,2)","v":2},2,2,2,2]
[null,null,null,null,null,null,null,null,null,null,null,null,null,null,null,null,null,null,null,null,null,null,null,null,null,null,null,null,null,null,null,null,null,null,null,null,null,null,null,null,null,null,null,null,null,null,null,null,null,null,null,null,null,null,null,null,null,null,null,null,null,null,null,null,null,null,null,null,null,null,null,null,null,null,null,null,null,null,null,null,null,null,null,null,null,null,null,null,null,null,null,null,null,null,null,null,null,null,null,null,null,null,null,null,null,null,null,null,null,null,null,null,null,null,null,null,null,null,null,null,null,null,null,null,null,null,null,null,null,null,null,null,null,null,null,null,null,null,null,null,null,null,null,null,null,null,null,null,null,null,null,null,null,"Langage surface (Terra Azuran) * PN",{"$f":"IF((EY589+EY625+EY661+EY681)>0,1,2)","v":2},2,2,2,2,2,2,2,1,{"$f":"IF((FH589+FH625+FH661+FH681)>0,1,2)","v":2},2,2,2,2,2,2,2,2,2,2,2,2,2,2,2,2,2,2,2,2,2,2,2,2,2,2,2,2,2,1,2,2,2,2,2,2,2,2,2,2,2,2,2,2,2,2,2,2,2,2,2,2,2,2,2,2,2,2,2,2,2,2,2,{"$f":"IF((HT589+HT625+HT661+HT681)>0,1,2)","v":2},2,2,2,2]
[null,null,null,null,null,null,null,null,null,null,null,null,null,null,null,null,null,null,null,null,null,null,null,null,null,null,null,null,null,null,null,null,null,null,null,null,null,null,null,null,null,null,null,null,null,null,null,null,null,null,null,null,null,null,null,null,null,null,null,null,null,null,null,null,null,null,null,null,null,null,null,null,null,null,null,null,null,null,null,null,null,null,null,null,null,null,null,null,null,null,null,null,null,null,null,null,null,null,null,null,null,null,null,null,null,null,null,null,null,null,null,null,null,null,null,null,null,null,null,null,null,null,null,null,null,null,null,null,null,null,null,null,null,null,null,null,null,null,null,null,null,null,null,null,null,null,null,null,null,null,null,null,null,"Langage surface (Yss) * PN",{"$f":"IF((EY590+EY626+EY662+EY682)>0,1,2)","v":2},2,2,2,2,2,2,{"$f":"IF((FF590+FF626+FF662+FF682)>0,1,2)","v":2},1,{"$f":"IF((FH590+FH626+FH662+FH682)>0,1,2)","v":2},2,2,2,2,2,2,2,2,2,2,2,2,2,2,2,2,2,2,2,2,2,2,2,2,2,2,2,2,2,1,2,2,2,2,2,2,2,2,2,2,2,2,2,2,2,2,2,2,2,2,2,2,2,2,2,2,2,2,2,2,2,2,2,{"$f":"IF((HT590+HT626+HT662+HT682)>0,1,2)","v":2},2,2,2,2]
[null,null,null,null,null,null,null,null,null,null,null,null,null,null,null,null,null,null,null,null,null,null,null,null,null,null,null,null,null,null,null,null,null,null,null,null,null,null,null,null,null,null,null,null,null,null,null,null,null,null,null,null,null,null,null,null,null,null,null,null,null,null,null,null,null,null,null,null,null,null,null,null,null,null,null,null,null,null,null,null,null,null,null,null,null,null,null,null,null,null,null,null,null,null,null,null,null,null,null,null,null,null,null,null,null,null,null,null,null,null,null,null,null,null,null,null,null,null,null,null,null,null,null,null,null,null,null,null,null,null,null,null,null,null,null,null,null,null,null,null,null,null,null,null,null,null,null,null,null,null,null,null,null,"Langage de la surface (Zahl) * PN",{"$f":"IF((EY591+EY627+EY663+EY683)>0,1,2)","v":2},2,2,2,2,2,2,2,1,{"$f":"IF((FH591+FH627+FH663+FH683)>0,1,2)","v":2},2,2,2,2,2,2,2,2,2,2,2,2,2,2,2,2,2,2,2,2,2,2,2,2,2,2,2,2,2,1,1,1,1,1,2,2,2,2,2,2,2,2,2,2,2,2,2,2,2,2,2,2,2,2,2,2,2,2,2,2,2,2,2,{"$f":"IF((HT591+HT627+HT663+HT683)>0,1,2)","v":2},2,2,2,2]
[null,null,null,null,null,null,null,null,null,null,null,null,null,null,null,null,null,null,null,null,null,null,null,null,null,null,null,null,null,null,null,null,null,null,null,null,null,null,null,null,null,null,null,null,null,null,null,null,null,null,null,null,null,null,null,null,null,null,null,null,null,null,null,null,null,null,null,null,null,null,null,null,null,null,null,null,null,null,null,null,null,null,null,null,null,null,null,null,null,null,null,null,null,null,null,null,null,null,null,null,null,null,null,null,null,null,null,null,null,null,null,null,null,null,null,null,null,null,null,null,null,null,null,null,null,null,null,null,null,null,null,null,null,null,null,null,null,null,null,null,null,null,null,null,null,null,null,null,null,null,null,null,null,"Lanques/Langages 10",{"$f":"IF((EY592+EY628+EY664)>0,1,2)","v":2},2,2,2,2,2,2,2,1,{"$f":"IF((FH592+FH628+FH664)>0,1,2)","v":2},2,2,2,2,2,2,2,2,2,2,2,2,2,2,2,2,2,2,2,2,2,2,2,2,2,2,2,2,2,1,2,{"$f":"IF((GN592+GN628+GN664)>0,1,2)","v":2},2,2,2,2,2,2,2,2,2,2,2,2,2,2,2,2,2,2,2,2,2,2,2,2,2,2,2,2,2,2,2,2,2,2,2,2]
[null,null,null,null,null,null,null,null,null,null,null,null,null,null,null,null,null,null,null,null,null,null,null,null,null,null,null,null,null,null,null,null,null,null,null,null,null,null,null,null,null,null,null,null,null,null,null,null,null,null,null,null,null,null,null,null,null,null,null,null,null,null,null,null,null,null,null,null,null,null,null,null,null,null,null,null,null,null,null,null,null,null,null,null,null,null,null,null,null,null,null,null,null,null,null,null,null,null,null,null,null,null,null,null,null,null,null,null,null,null,null,null,null,null,null,null,null,null,null,null,null,null,null,null,null,null,null,null,null,null,null,null,null,null,null,null,null,null,null,null,null,null,null,null,null,null,null,null,null,null,null,null,null,"Lanques/Langages 11",{"$f":"IF((EY593+EY629+EY665)>0,1,2)","v":2},2,2,2,2,2,2,2,1,{"$f":"IF((FH593+FH629+FH665)>0,1,2)","v":2},2,2,2,2,2,2,2,2,2,2,2,2,2,2,2,2,2,2,2,2,2,2,2,2,2,2,2,2,2,1,2,{"$f":"IF((GN593+GN629+GN665)>0,1,2)","v":2},2,2,2,2,2,2,2,2,2,2,2,2,2,2,2,2,2,2,2,2,2,2,2,2,2,2,2,2,2,2,2,2,2,2,2,2]
[null,null,null,null,null,null,null,null,null,null,null,null,null,null,null,null,null,null,null,null,null,null,null,null,null,null,null,null,null,null,null,null,null,null,null,null,null,null,null,null,null,null,null,null,null,null,null,null,null,null,null,null,null,null,null,null,null,null,null,null,null,null,null,null,null,null,null,null,null,null,null,null,null,null,null,null,null,null,null,null,null,null,null,null,null,null,null,null,null,null,null,null,null,null,null,null,null,null,null,null,null,null,null,null,null,null,null,null,null,null,null,null,null,null,null,null,null,null,null,null,null,null,null,null,null,null,null,null,null,null,null,null,null,null,null,null,null,null,null,null,null,null,null,null,null,null,null,null,null,null,null,null,null,"Lanques/Langages 12",2,2,2,2,2,2,2,2,1,{"$f":"IF((FH594+FH630+FH666)>0,1,2)","v":2},2,2,2,2,2,2,2,2,2,2,2,2,2,2,2,2,2,2,2,2,2,2,2,2,2,2,2,2,2,1,2,{"$f":"IF((GN594+GN630+GN666)>0,1,2)","v":2},2,2,2,2,2,2,2,2,2,2,2,2,2,2,2,2,2,2,2,2,2,2,2,2,2,2,2,2,2,2,2,2,2,2,2,2]
[null,null,null,null,null,null,null,null,null,null,null,null,null,null,null,null,null,null,null,null,null,null,null,null,null,null,null,null,null,null,null,null,null,null,null,null,null,null,null,null,null,null,null,null,null,null,null,null,null,null,null,null,null,null,null,null,null,null,null,null,null,null,null,null,null,null,null,null,null,null,null,null,null,null,null,null,null,null,null,null,null,null,null,null,null,null,null,null,null,null,null,null,null,null,null,null,null,null,null,null,null,null,null,null,null,null,null,null,null,null,null,null,null,null,null,null,null,null,null,null,null,null,null,null,null,null,null,null,null,null,null,null,null,null,null,null,null,null,null,null,null,null,null,null,null,null,null,null,null,null,null,null,null,"Lanques/Langages 13",2,2,2,2,2,2,2,2,1,{"$f":"IF((FH595+FH631+FH667)>0,1,2)","v":2},2,2,2,2,2,2,2,2,2,2,2,2,2,2,2,2,2,2,2,2,2,2,2,2,2,2,2,2,2,1,2,{"$f":"IF((GN595+GN631+GN667)>0,1,2)","v":2},2,2,2,2,2,2,2,2,2,2,2,2,2,2,2,2,2,2,2,2,2,2,2,2,2,2,2,2,2,2,2,2,2,2,2,2]
[null,null,null,null,null,null,null,null,null,null,null,null,null,null,null,null,null,null,null,null,null,null,null,null,null,null,null,null,null,null,null,null,null,null,null,null,null,null,null,null,null,null,null,null,null,null,null,null,null,null,null,null,null,null,null,null,null,null,null,null,null,null,null,null,null,null,null,null,null,null,null,null,null,null,null,null,null,null,null,null,null,null,null,null,null,null,null,null,null,null,null,null,null,null,null,null,null,null,null,null,null,null,null,null,null,null,null,null,null,null,null,null,null,null,null,null,null,null,null,null,null,null,null,null,null,null,null,null,null,null,null,null,null,null,null,null,null,null,null,null,null,null,null,null,null,null,null,null,null,null,null,null,null,"Lanques/Langages 14",2,2,2,2,2,2,2,2,1,{"$f":"IF((FH596+FH632+FH668)>0,1,2)","v":2},2,2,2,2,2,2,2,2,2,2,2,2,2,2,2,2,2,2,2,2,2,2,2,2,2,2,2,2,2,1,2,{"$f":"IF((GN596+GN632+GN668)>0,1,2)","v":2},2,2,2,2,2,2,2,2,2,2,2,2,2,2,2,2,2,2,2,2,2,2,2,2,2,2,2,2,2,2,2,2,2,2,2,2]
[null,null,null,null,null,null,null,null,null,null,null,null,null,null,null,null,null,null,null,null,null,null,null,null,null,null,null,null,null,null,null,null,null,null,null,null,null,null,null,null,null,null,null,null,null,null,null,null,null,null,null,null,null,null,null,null,null,null,null,null,null,null,null,null,null,null,null,null,null,null,null,null,null,null,null,null,null,null,null,null,null,null,null,null,null,null,null,null,null,null,null,null,null,null,null,null,null,null,null,null,null,null,null,null,null,null,null,null,null,null,null,null,null,null,null,null,null,null,null,null,null,null,null,null,null,null,null,null,null,null,null,null,null,null,null,null,null,null,null,null,null,null,null,null,null,null,null,null,null,null,null,null,null,"Lanques/Langages 15",2,2,2,2,2,2,2,2,1,{"$f":"IF((FH597+FH633+FH669)>0,1,2)","v":2},2,2,2,2,2,2,2,2,2,2,2,2,2,2,2,2,2,2,2,2,2,2,2,2,2,2,2,2,2,1,2,{"$f":"IF((GN597+GN633+GN669)>0,1,2)","v":2},2,2,2,2,2,2,2,2,2,2,2,2,2,2,2,2,2,2,2,2,2,2,2,2,2,2,2,2,2,2,2,2,2,2,2,2]
[null,null,null,null,null,null,null,null,null,null,null,null,null,null,null,null,null,null,null,null,null,null,null,null,null,null,null,null,null,null,null,null,null,null,null,null,null,null,null,null,null,null,null,null,null,null,null,null,null,null,null,null,null,null,null,null,null,null,null,null,null,null,null,null,null,null,null,null,null,null,null,null,null,null,null,null,null,null,null,null,null,null,null,null,null,null,null,null,null,null,null,null,null,null,null,null,null,null,null,null,null,null,null,null,null,null,null,null,null,null,null,null,null,null,null,null,null,null,null,null,null,null,null,null,null,null,null,null,null,null,null,null,null,null,null,null,null,null,null,null,null,null,null,null,null,null,null,null,null,null,null,null,null,"Lanques/Langages 16",2,2,2,2,2,2,2,2,1,{"$f":"IF((FH598+FH634+FH670)>0,1,2)","v":2},2,2,2,2,2,2,2,2,2,2,2,2,2,2,2,2,2,2,2,2,2,2,2,2,2,2,2,2,2,1,2,{"$f":"IF((GN598+GN634+GN670)>0,1,2)","v":2},2,2,2,2,2,2,2,2,2,2,2,2,2,2,2,2,2,2,2,2,2,2,2,2,2,2,2,2,2,2,2,2,2,2,2,2]
[null,null,null,null,null,null,null,null,null,null,null,null,null,null,null,null,null,null,null,null,null,null,null,null,null,null,null,null,null,null,null,null,null,null,null,null,null,null,null,null,null,null,null,null,null,null,null,null,null,null,null,null,null,null,null,null,null,null,null,null,null,null,null,null,null,null,null,null,null,null,null,null,null,null,null,null,null,null,null,null,null,null,null,null,null,null,null,null,null,null,null,null,null,null,null,null,null,null,null,null,null,null,null,null,null,null,null,null,null,null,null,null,null,null,null,null,null,null,null,null,null,null,null,null,null,null,null,null,null,null,null,null,null,null,null,null,null,null,null,null,null,null,null,null,null,null,null,null,null,null,null,null,null,"Lanques/Langages 17",2,2,2,2,2,2,2,2,1,{"$f":"IF((FH599+FH635+FH671)>0,1,2)","v":2},2,2,2,2,2,2,2,2,2,2,2,2,2,2,2,2,2,2,2,2,2,2,2,2,2,2,2,2,2,1,2,{"$f":"IF((GN599+GN635+GN671)>0,1,2)","v":2},2,2,2,2,2,2,2,2,2,2,2,2,2,2,2,2,2,2,2,2,2,2,2,2,2,2,2,2,2,2,2,2,2,2,2,2]
[null,null,null,null,null,null,null,null,null,null,null,null,null,null,null,null,null,null,null,null,null,null,null,null,null,null,null,null,null,null,null,null,null,null,null,null,null,null,null,null,null,null,null,null,null,null,null,null,null,null,null,null,null,null,null,null,null,null,null,null,null,null,null,null,null,null,null,null,null,null,null,null,null,null,null,null,null,null,null,null,null,null,null,null,null,null,null,null,null,null,null,null,null,null,null,null,null,null,null,null,null,null,null,null,null,null,null,null,null,null,null,null,null,null,null,null,null,null,null,null,null,null,null,null,null,null,null,null,null,null,null,null,null,null,null,null,null,null,null,null,null,null,null,null,null,null,null,null,null,null,null,null,null,"Lanques/Langages 18",2,2,2,2,2,2,2,2,1,{"$f":"IF((FH600+FH636+FH672)>0,1,2)","v":2},2,2,2,2,2,2,2,2,2,2,2,2,2,2,2,2,2,2,2,2,2,2,2,2,2,2,2,2,2,1,2,{"$f":"IF((GN600+GN636+GN672)>0,1,2)","v":2},2,2,2,2,2,2,2,2,2,2,2,2,2,2,2,2,2,2,2,2,2,2,2,2,2,2,2,2,2,2,2,2,2,2,2,2]
[null,null,null,null,null,null,null,null,null,null,null,null,null,null,null,null,null,null,null,null,null,null,null,null,null,null,null,null,null,null,null,null,null,null,null,null,null,null,null,null,null,null,null,null,null,null,null,null,null,null,null,null,null,null,null,null,null,null,null,null,null,null,null,null,null,null,null,null,null,null,null,null,null,null,null,null,null,null,null,null,null,null,null,null,null,null,null,null,null,null,null,null,null,null,null,null,null,null,null,null,null,null,null,null,null,null,null,null,null,null,null,null,null,null,null,null,null,null,null,null,null,null,null,null,null,null,null,null,null,null,null,null,null,null,null,null,null,null,null,null,null,null,null,null,null,null,null,null,null,null,null,null,null,"Lanques/Langages 19",2,2,2,2,2,2,2,2,1,{"$f":"IF((FH601+FH637+FH673)>0,1,2)","v":2},2,2,2,2,2,2,2,2,2,2,2,2,2,2,2,2,2,2,2,2,2,2,2,2,2,2,2,2,2,1,2,{"$f":"IF((GN601+GN637+GN673)>0,1,2)","v":2},2,2,2,2,2,2,2,2,2,2,2,2,2,2,2,2,2,2,2,2,2,2,2,2,2,2,2,2,2,2,2,2,2,2,2,2]
[null,null,null,null,null,null,null,null,null,null,null,null,null,null,null,null,null,null,null,null,null,null,null,null,null,null,null,null,null,null,null,null,null,null,null,null,null,null,null,null,null,null,null,null,null,null,null,null,null,null,null,null,null,null,null,null,null,null,null,null,null,null,null,null,null,null,null,null,null,null,null,null,null,null,null,null,null,null,null,null,null,null,null,null,null,null,null,null,null,null,null,null,null,null,null,null,null,null,null,null,null,null,null,null,null,null,null,null,null,null,null,null,null,null,null,null,null,null,null,null,null,null,null,null,null,null,null,null,null,null,null,null,null,null,null,null,null,null,null,null,null,null,null,null,null,null,null,null,null,null,null,null,null,"Lanques/Langages 20",2,2,2,2,2,2,2,2,1,{"$f":"IF((FH602+FH638+FH674)>0,1,2)","v":2},2,2,2,2,2,2,2,2,2,2,2,2,2,2,2,2,2,2,2,2,2,2,2,2,2,2,2,2,2,1,2,{"$f":"IF((GN602+GN638+GN674)>0,1,2)","v":2},2,2,2,2,2,2,2,2,2,2,2,2,2,2,2,2,2,2,2,2,2,2,2,2,2,2,2,2,2,2,2,2,2,2,2,2]

{"sheet":"AVANTAGES_DESAVANTAGES","index":6,"n_rows":175,"n_cols":50,"rows_kept":175,"cut":false,"hidden":false,"merged":[[9,49,21,51],[96,14,96,41],[98,1,98,4],[130,1,130,4],[125,7,125,13],[127,1,127,4],[127,7,127,13],[120,1,120,4],[120,7,120,13],[121,1,121,4],[121,7,121,13],[122,1,122,4],[122,7,122,13],[98,7,98,13],[99,1,99,4],[99,7,99,13],[106,1,106,4],[106,7,106,13],[107,1,107,4],[107,7,107,13],[117,1,117,4],[117,7,117,13],[96,1,97,4],[96,5,97,5],[146,1,146,4],[146,7,146,13],[137,1,137,4],[137,7,137,13],[138,1,138,4],[138,7,138,13],[128,1,128,4],[128,7,128,13],[110,1,110,4],[133,1,133,4],[133,7,133,13],[135,1,135,4],[135,7,135,13],[131,1,131,4],[131,7,131,13],[130,7,130,13],[142,1,142,4],[142,7,142,13],[110,7,110,13],[111,1,111,4],[111,7,111,13],[124,7,124,13],[112,1,112,4],[112,7,112,13],[150,1,150,4],[150,7,150,13],[155,1,155,4],[155,7,155,13],[147,1,147,4],[147,7,147,13],[148,1,148,4],[148,7,148,13],[149,1,149,4],[149,7,149,13],[153,7,153,13],[154,7,154,13],[154,1,154,4],[153,1,153,4],[19,12,19,15],[20,12,20,15],[21,12,21,15],[22,12,22,15],[23,12,23,15],[24,12,24,15],[144,1,144,4],[144,7,144,13],[145,1,145,4],[145,7,145,13],[139,1,139,4],[139,7,139,13],[140,1,140,4],[140,7,140,13],[143,1,143,4],[143,7,143,13],[136,1,136,4],[136,7,136,13],[124,1,124,4],[123,1,123,4],[123,7,123,13],[125,1,125,4],[109,1,109,4],[109,7,109,13],[113,1,113,4],[113,7,113,13],[96,6,97,6],[79,1,79,4],[101,1,101,4],[101,7,101,13],[105,1,105,4],[105,7,105,13],[96,7,97,13],[94,1,94,4],[94,7,94,13],[89,1,89,4],[90,1,90,4],[92,1,92,4],[89,7,89,13],[90,7,90,13],[92,7,92,13],[80,1,80,4],[80,7,80,13],[81,1,81,4],[81,7,81,13],[74,1,74,4],[79,7,79,13],[93,1,93,4],[93,7,93,13],[85,1,85,4],[85,7,85,13],[86,1,86,4],[86,7,86,13],[87,1,87,4],[87,7,87,13],[88,1,88,4],[88,7,88,13],[82,1,82,4],[82,7,82,13],[83,1,83,4],[83,7,83,13],[84,1,84,4],[84,7,84,13],[78,1,78,4],[78,7,78,13],[76,1,76,4],[76,7,76,13],[77,1,77,4],[77,7,77,13],[57,1,57,4],[57,7,57,13],[52,1,52,4],[52,7,52,13],[55,1,55,4],[55,7,55,13],[74,7,74,13],[75,1,75,4],[75,7,75,13],[70,1,70,4],[70,7,70,13],[71,1,71,4],[71,7,71,13],[73,1,73,4],[73,7,73,13],[58,1,58,4],[58,7,58,13],[59,1,59,4],[59,7,59,13],[60,1,60,4],[60,7,60,13],[72,1,72,4],[72,7,72,13],[56,1,56,4],[50,7,50,13],[43,1,43,4],[43,7,43,13],[42,1,42,4],[42,7,42,13],[47,1,47,4],[47,7,47,13],[48,1,48,4],[48,7,48,13],[3,0,3,2],[36,1,36,4],[26,3,26,6],[36,7,36,13],[38,1,38,4],[38,7,38,13],[39,1,39,4],[39,7,39,13],[26,12,26,15],[37,7,37,13],[37,1,37,4],[4,9,6,9],[10,3,10,4],[11,3,11,4],[12,3,12,4],[13,3,13,4],[13,5,15,5],[14,3,14,4],[28,14,28,41],[30,1,30,4],[30,7,30,13],[32,1,32,4],[32,7,32,13],[34,1,34,4],[34,7,34,13],[33,1,33,4],[33,7,33,13],[28,1,29,4],[28,5,29,5],[28,6,29,6],[28,7,29,13],[31,1,31,4],[31,7,31,13],[15,3,15,4],[21,3,21,6],[22,3,22,6],[23,3,23,6],[24,3,24,6],[16,3,16,4],[17,3,17,4],[19,3,19,6],[20,3,20,6],[171,32,171,34],[126,1,126,4],[134,1,134,4],[134,7,134,13],[151,1,151,4],[151,7,151,13],[102,1,102,4],[102,7,102,13],[152,7,152,13],[152,1,152,4],[114,1,114,4],[114,7,114,13],[115,1,115,4],[115,7,115,13],[116,1,116,4],[116,7,116,13],[119,1,119,4],[119,7,119,13],[103,1,103,4],[103,7,103,13],[104,1,104,4],[104,7,104,13],[108,1,108,4],[108,7,108,13],[35,1,35,4],[35,7,35,13],[46,1,46,4],[46,7,46,13],[53,1,53,4],[54,1,54,4],[53,7,53,13],[54,7,54,13],[61,1,61,4],[61,7,61,13],[56,7,56,13],[51,1,51,4],[51,7,51,13],[45,1,45,4],[45,7,45,13],[44,1,44,4],[44,7,44,13],[40,1,40,4],[40,7,40,13],[41,1,41,4],[41,7,41,13],[49,1,49,4],[49,7,49,13],[50,1,50,4],[19,21,19,22],[20,21,20,22],[21,21,21,22],[22,21,22,22],[23,21,23,22],[24,21,24,22],[18,21,18,22],[19,23,19,24],[19,25,19,26],[18,23,18,24],[18,25,18,26],[20,23,20,24],[21,23,21,24],[22,23,22,24],[23,23,23,24],[24,23,24,24],[20,25,20,26],[21,25,21,26],[22,25,22,26],[23,25,23,26],[24,25,24,26],[65,1,65,4],[66,1,66,4],[67,1,67,4],[68,1,68,4],[69,1,69,4],[62,7,62,13],[63,7,63,13],[64,7,64,13],[65,7,65,13],[66,7,66,13],[67,7,67,13],[68,7,68,13],[69,7,69,13],[9,21,9,28],[132,1,132,4],[132,7,132,13],[141,1,141,4],[141,7,141,13],[18,27,18,28],[19,27,19,28],[20,27,20,28],[21,27,21,28],[22,27,22,28],[23,27,23,28],[24,27,24,28],[91,7,91,13],[91,1,91,4],[100,1,100,4],[100,7,100,13],[118,1,118,4],[118,7,118,13],[129,1,129,4],[129,7,129,13],[19,19,21,19],[62,1,62,4],[63,1,63,4],[64,1,64,4]]}
[]
[null,null,null,null,null,null,null,null,null,"<< Légende _"]
[]
["TROISIEME EDITION",null,null,null,null,null,null,null,null,null,"Cellules à compléter / Sélection à faire dans le menu déroulant"]
[]
[null,null,null,null,null,null,null,null,null,null,"Passer la souris au dessus de ce symbole pour afficher un commentaire",null,null,null,null,null,null,null,null,null,null,null,null,null,null,null,null,null,null,null,null,null,null,null,null,null,null,null,null,null,null,null,null,{"$f":"SUM(H20:H25)","v":0}]
[null,null,null,null,null,null,null,null,null,null,null,null,null,null,null,null,null,null,null,null,null,null,null,null,null,null,null,null,null,null,null,null,null,null,null,null,null,null,null,null,null,null,null,{"$f":"SUM(Q20:Q25)","v":0}]
[]
[]
[null,null,null,null,null,null,null,null,null,null,null,null,null,null,null,null,null,null,null,null,"U","Petit guide personnel pour définir le coût en PC des montures (additionnez les valeurs)",null,null,null,null,null,null,null,null,null,null,null,null,null,null,null,null,null,null,null,null,null,null,null,null,null,{"$f":"IF(D20=\" \",\"\",CONCATENATE(D20,\", \"))","v":""},null,{"$f":"CONCATENATE(AV10,AV11,AV12,AV13,AV14,AV15,AV16,AV17,AV18,AV19,AV20,AV21,AV22)","v":""}]
[null,"PC base",null,{"$f":"ATTRIBUTS!D23","v":20},null,null,null,null,null,null,null,null,null,null,null,null,null,null,null,null,null,"PC","Taille","PC","Vitesse","PC","Combat",null,null,null,null,null,null,null,null,null,null,null,null,null,null,null,null,null,null,null,null,{"$f":"IF(D21=\" \",\"\",CONCATENATE(D21,\", \"))","v":""}]
[null,"PC Attributs",null,{"$f":"ATTRIBUTS!D24","v":0},null,null,null,null,null,null,null,null,null,null,null,null,null,null,null,null,null,1,"Petite",2,"Lente",1,"Ne peut combattre",null,null,null,null,null,null,null,null,null,null,null,null,null,null,null,null,null,null,null,null,""]
[null,"PC Type génétique",null,{"$f":"ATTRIBUTS!D25","v":0},null,null,null,null,null,null,null,null,null,null,null,null,null,null,null,null,null,2,"Moyenne",3,"Moyenne",2,"Peut piétiner",null,null,null,null,null,null,null,null,null,null,null,null,null,null,null,null,null,null,null,null,""]
[null,"PC Capacités spé.",null,{"$f":"ATTRIBUTS!D26","v":0},null,null,null,null,null,null,null,null,null,null,null,null,null,null,null,null,null,3,"Grosse",4,"Rapide",3,"Peut charger et piétiner",null,null,null,null,null,null,null,null,null,null,null,null,null,null,null,null,null,null,null,null,""]
[null,"PC Exp. préliminaire",null,{"$f":"ATTRIBUTS!D27","v":0},null,null,null,null,null,null,null,null,null,null,null,null,null,null,null,null,null,4,"Très grosse",null,null,4,"Peut combattre (morsure/membres)",null,null,null,null,null,null,null,null,null,null,null,null,null,null,null,null,null,null,null,null,""]
["*","PC Avantages/Desav.",null,{"$f":"ATTRIBUTS!D28","v":0},null,null,null,null,null,null,null,null,null,null,null,null,null,null,null,null,null,null,null,null,null,null,null,null,null,null,null,null,null,null,null,null,null,null,null,null,null,null,null,null,null,null,null,{"$f":"IF(D27=\" \",\"\",CONCATENATE(D27,\", \"))","v":""}]
[null,"PC restants",null,{"$f":"D11-D12-D13-D14-D15-D16","v":20},null,null,null,null,null,null,null,null,null,null,null,null,null,null,null,null,null,null,null,null,null,null,null,null,null,null,null,null,null,null,null,null,null,null,null,null,null,null,null,{"$f":"IF(D20=\" \",\"\",CONCATENATE(VLOOKUP(D20,$B$32:$N$95,7,),V20,X20,Z20))","v":""},null,{"$f":"IF(M20=\" \",\"\",CONCATENATE(VLOOKUP(M20,$B$100:$N$156,7,),AB20))","v":""},null,{"$f":"IF(M20=\" \",\"\",CONCATENATE(M20,\", \"))","v":""}]
[null,null,null,{"$f":"IF(D17<0,\"ERREUR\",\"\")","v":""},null,null,null,null,null,null,null,null,null,null,null,null,null,null,null,null,null,null,null,null,null,null,null,null,null,null,null,null,null,null,null,null,null,null,null,null,null,null,null,"",null,{"$f":"IF(M21=\" \",\"\",CONCATENATE(VLOOKUP(M21,$B$100:$N$156,7,),AB21))","v":""},null,{"$f":"IF(M21=\" \",\"\",CONCATENATE(M21,\", \"))","v":""}]
[null,null,null,null,null,null,null,"PC",null,null,null,null,null,null,null,null,"PC",null,null,null,"U","Animal familier",null,"Monture",null,"Symbiote",null,"Maladie",null,null,null,null,null,null,null,null,null,null,null,null,null,null,null,"",null,"",null,""]
[null,"Avantages 1",null," ",null,null,null,{"$f":"VLOOKUP(D20,$B$31:$F$94,5,)","v":0},null,null,"Désavantages 1",null," ",null,null,null,{"$f":"VLOOKUP(M20,$B$99:$F$156,5,)","v":0},null,null,null,"Avantages 1",null,null,null,null,null,null,null,null,null,null,null,null,null,null,null,null,null,null,null,null,null,null,"",null,"",null,""]
[null,"Avantages 2",null," ",null,null,null,0,null,null,"Désavantages 2",null," ",null,null,null,0,null,null,null,"Avantages 2",null,null,null,null,null,null,null,null,null,null,null,null,null,null,null,null,null,null,null,null,null,null,"",null,"",null,""]
[null,"Avantages 3",null," ",null,null,null,0,null,null,"Désavantages 3",null," ",null,null,null,0,null,null,null,"Avantages 3",null,null,null,null,null,null,null,null,null,null,null,null,null,null,null,null,null,null,null,null,null,null,"",null,"",null,""]
[null,"Avantages 4",null," ",null,null,null,0,null,null,"Désavantages 4",null," ",null,null,null,0,null,null,null,"Avantages 4",null,null,null,null,null,null,null,null,null,null,null,null,null,null,null,null,null,null,null,null,null,null,{"$f":"IF(D27=\" \",\"\",VLOOKUP(D27,$B$32:$N$95,7,))","v":""},null,{"$f":"IF(M25=\" \",\"\",VLOOKUP(M25,$B$100:$N$156,7,))","v":""}]
[null,"Avantages 5",null," ",null,null,null,0,null,null,"Désavantages 5",null," ",null,null,null,0,null,null,null,"Avantages 5"]
[null,"Avantages 6",null," ",null,null,null,0,null,null,"Désavantages 6",null," ",null,null,null,0,null,null,null,"Avantages 6"]
[null,null,null,null,null,null,null,{"$f":"H20+H21+H22+H23+H24+H25+Q20+Q21+Q22+Q23+Q24+Q25+MJ_EXPERIENCE!E107-MJ_EXPERIENCE!E174","v":0}]
[null,"Avantage Ouvrier/Docker",null,{"$f":"IF(EXPERIENCE_PRELIMINAIRE!E184=\"Ouvrier/Docker\",\"Unité\",IF(EXPERIENCE_PRELIMINAIRE!E204=\"Ouvrier/Docker\",\"Unité\",IF(EXPERIENCE_PRELIMINAIRE!E235=\"Ouvrier/Docker\",\"Unité\",IF(EXPERIENCE_PRELIMINAIRE!E260=\"Ouvrier/Docker\",\"Unité\",\" \"))))","v":" "},null,null,null,null,null,null,"Droitier ou gaucher ?",null,"Droitier"]
[]
[null,"Avantages",null,null,null,"PC","Cumulable","Bonus non permanents / Descriptions succintes si besoin",null,null,null,null,null,null,"Bonus permanents"]
[null,null,null,null,null,null,null,null,null,null,null,null,null,null,"REA","Resist DOM","Resist DRO","Resist MAL","Resist POI","Resist RAD","Resist CHOC","Souffle","Chance","Pts Comp.","Acrob./Equil.","Athlétisme","Endurance","Escalade","Imit./Deguis.","Discr./Filat.","Adapt. ext.","Célébrité","Allié","Fournisseur","Contact","Ennemi","Opposant","Année","Matériel/mois","Matériel bonus","Sols/mois","Sols","color"]
[null," ",null,null,null,0]
["U","Adaptation extérieure",null,null,null,2,"Oui",".",null,null,null,null,null,null,null,null,null,null,null,null,null,null,null,null,null,null,null,null,null,null,1,null,null,null,null,null,null,null,null,null,null,null,0]
[null,"Allié ou fournisseur supplémentaire : allié",null,null,null,2,"Oui","Allié influent ou à la tête d'un gang",null,null,null,null,null,null,null,null,null,null,null,null,null,null,null,null,null,null,null,null,null,null,null,null,1,null,null,null,null,null,null,null,null,null,1]
[null,"Allié ou fournisseur supplémentaire : fournisseur",null,null,null,2,"Oui","Fournisseur influent ou à la tête d'un gang",null,null,null,null,null,null,null,null,null,null,null,null,null,null,null,null,null,null,null,null,null,null,null,null,null,1,null,null,null,null,null,null,null,null,0]
[null,"Ambidextrie",null,null,null,1,"Non",".",null,null,null,null,null,null,null,null,null,null,null,null,null,null,null,null,null,null,null,null,null,null,null,null,null,null,null,null,null,null,null,null,null,null,1]
["U","Animal familier",null,null,null,3,"Oui","Possède un petit animal familier : ",null,null,null,null,null,null,null,null,null,null,null,null,null,null,null,null,null,null,null,null,null,null,null,null,null,null,null,null,null,null,null,null,null,null,0]
[null,"Argent supplémentaire",null,null,null,1,"Oui",".",null,null,null,null,null,null,null,null,null,null,null,null,null,null,null,null,null,null,null,null,null,null,null,null,null,null,null,null,null,null,null,null,null,10000,1]
["GT","Athlétique",null,null,null,1,"Non",".",null,null,null,null,null,null,null,null,null,null,null,null,null,null,null,null,2,2,2,2,null,null,null,null,null,null,null,null,null,null,null,null,null,null,0]
[null,"Bilingue",null,null,null,1,"Non","Deux compétences langues maternelles",null,null,null,null,null,null,null,null,null,null,null,null,null,null,null,null,null,null,null,null,null,null,null,null,null,null,null,null,null,null,null,null,null,null,1]
[null,"Bonne mémoire",null,null,null,1,"Non"," +3 tests faisant l'appel à la mémoire, +5 pour retenir quelque chose par cœur",null,null,null,null,null,null,null,null,null,null,null,null,null,null,null,null,null,null,null,null,null,null,null,null,null,null,null,null,null,null,null,null,null,null,0]
[null,"Bons réflexes",null,null,null,2,"Non",".",null,null,null,null,null,null,3,null,null,null,null,null,null,null,null,null,null,null,null,null,null,null,null,null,null,null,null,null,null,null,null,null,null,null,1]
[null,"Carte au trésor 1",null,null,null,1,"Oui","Possession d'une carte, l'importance du trésor dépend du coût en PC",null,null,null,null,null,null,null,null,null,null,null,null,null,null,null,null,null,null,null,null,null,null,null,null,null,null,null,null,null,null,null,null,null,null,0]
[null,"Carte au trésor 2",null,null,null,2,"Oui","Possession d'une carte, l'importance du trésor dépend du coût en PC",null,null,null,null,null,null,null,null,null,null,null,null,null,null,null,null,null,null,null,null,null,null,null,null,null,null,null,null,null,null,null,null,null,null,1]
[null,"Carte au trésor 3",null,null,null,3,"Oui","Possession d'une carte, l'importance du trésor dépend du coût en PC",null,null,null,null,null,null,null,null,null,null,null,null,null,null,null,null,null,null,null,null,null,null,null,null,null,null,null,null,null,null,null,null,null,null,0]
[null,"Carte au trésor 4",null,null,null,4,"Oui","Possession d'une carte, l'importance du trésor dépend du coût en PC",null,null,null,null,null,null,null,null,null,null,null,null,null,null,null,null,null,null,null,null,null,null,null,null,null,null,null,null,null,null,null,null,null,null,1]
[null,"Carte au trésor 5",null,null,null,5,"Oui","Possession d'une carte, l'importance du trésor dépend du coût en PC",null,null,null,null,null,null,null,null,null,null,null,null,null,null,null,null,null,null,null,null,null,null,null,null,null,null,null,null,null,null,null,null,null,null,0]
["U","Chance",null,null,null,2,"Non",".",null,null,null,null,null,null,null,null,null,null,null,null,null,null,1,null,null,null,null,null,null,null,null,null,null,null,null,null,null,null,null,null,null,null,1]
[null,"Concession 1",null,null,null,1,"Oui","Possession d'une concession dont la valeur dépend du coût en PC",null,null,null,null,null,null,null,null,null,null,null,null,null,null,null,null,null,null,null,null,null,null,null,null,null,null,null,null,null,null,null,null,null,null,0]
[null,"Concession 2",null,null,null,2,"Oui","Possession d'une concession dont la valeur dépend du coût en PC",null,null,null,null,null,null,null,null,null,null,null,null,null,null,null,null,null,null,null,null,null,null,null,null,null,null,null,null,null,null,null,null,null,null,1]
[null,"Concession 3",null,null,null,3,"Oui","Possession d'une concession dont la valeur dépend du coût en PC",null,null,null,null,null,null,null,null,null,null,null,null,null,null,null,null,null,null,null,null,null,null,null,null,null,null,null,null,null,null,null,null,null,null,0]
[null,"Concession 4",null,null,null,4,"Oui","Possession d'une concession dont la valeur dépend du coût en PC",null,null,null,null,null,null,null,null,null,null,null,null,null,null,null,null,null,null,null,null,null,null,null,null,null,null,null,null,null,null,null,null,null,null,1]
[null,"Concession 5",null,null,null,5,"Oui","Possession d'une concession dont la valeur dépend du coût en PC",null,null,null,null,null,null,null,null,null,null,null,null,null,null,null,null,null,null,null,null,null,null,null,null,null,null,null,null,null,null,null,null,null,null,0]
[null,"Contact supplémentaire",null,null,null,1,"Oui","Contact influent ou à la tête d'un gang (Surface : peut provenir des fonds marins)",null,null,null,null,null,null,null,null,null,null,null,null,null,null,null,null,null,null,null,null,null,null,null,null,null,null,1,null,null,null,null,null,null,null,1]
["U","Découverte (objet)",null,null,null,2,"Oui","A découvert une arme technologique, un véhicule réparable, une armure de base…",null,null,null,null,null,null,null,null,null,null,null,null,null,null,null,null,null,null,null,null,null,null,null,null,null,null,null,null,null,null,null,null,null,null,0]
["U","Découverte (lieu)",null,null,null,5,"Oui","A découvert un dépôt militaire, un site technologique, une mine exploitable…",null,null,null,null,null,null,null,null,null,null,null,null,null,null,null,null,null,null,null,null,null,null,null,null,null,null,null,null,null,null,null,null,null,null,1]
[null,"Dur à cuir",null,null,null,1,"Non",".",null,null,null,null,null,null,null,-1,null,null,null,null,null,null,null,null,null,null,null,null,null,null,null,null,null,null,null,null,null,null,null,null,null,null,0]
[null,"Fausse identité",null,null,null,2,"Oui",".",null,null,null,null,null,null,null,null,null,null,null,null,null,null,null,null,null,null,null,null,null,null,null,null,null,null,null,null,null,null,null,null,null,null,1]
[null,"Formation",null,null,null,1,"Oui"," +1 an toutes les deux Formations",null,null,null,null,null,null,null,null,null,null,null,null,null,null,null,{"$f":"IF(EXPERIENCE_PRELIMINAIRE!E30=\"Non\",7,12)","v":7},null,null,null,null,null,null,null,null,null,null,null,null,null,0.5,null,null,null,null,0]
[null,"Homo delphinus",null,null,null,1,"Non",".",null,null,null,null,null,null,null,null,null,null,null,null,null,10,null,null,null,null,null,null,null,null,null,null,null,null,null,null,null,null,null,null,null,null,1]
[null,"Increvable",null,null,null,1,"Non","Modif. fatigue deviennent +3/+0/-5 (ou si non utilisée, +3 aux test resist. effort/fatigue)",null,null,null,null,null,null,null,null,null,null,null,null,null,null,null,null,null,null,null,null,null,null,null,null,null,null,null,null,null,null,null,null,null,null,0]
["GT","Lecture sur les lèvres",null,null,null,1,"Non","Accès à la compétence spéciale Lecture sur les lèvres (INT/PER, coût normal)",null,null,null,null,null,null,null,null,null,null,null,null,null,null,null,null,null,null,null,null,null,null,null,null,null,null,null,null,null,null,null,null,null,null,1]
["U","Monture 4",null,null,null,4,"Oui","Dispose d'une monture animale  : ",null,null,null,null,null,null,null,null,null,null,null,null,null,null,null,null,null,null,null,null,null,null,null,null,null,null,null,null,null,null,null,null,null,null,0]
["U","Monture 5",null,null,null,5,"Oui","Dispose d'une monture animale  : ",null,null,null,null,null,null,null,null,null,null,null,null,null,null,null,null,null,null,null,null,null,null,null,null,null,null,null,null,null,null,null,null,null,null,1]
["U","Monture 6",null,null,null,6,"Oui","Dispose d'une monture animale  : ",null,null,null,null,null,null,null,null,null,null,null,null,null,null,null,null,null,null,null,null,null,null,null,null,null,null,null,null,null,null,null,null,null,null,0]
["U","Monture 7",null,null,null,7,"Oui","Dispose d'une monture animale  : ",null,null,null,null,null,null,null,null,null,null,null,null,null,null,null,null,null,null,null,null,null,null,null,null,null,null,null,null,null,null,null,null,null,null,1]
["U","Monture 8",null,null,null,8,"Oui","Dispose d'une monture animale  : ",null,null,null,null,null,null,null,null,null,null,null,null,null,null,null,null,null,null,null,null,null,null,null,null,null,null,null,null,null,null,null,null,null,null,0]
["U","Monture 9",null,null,null,9,"Oui","Dispose d'une monture animale  : ",null,null,null,null,null,null,null,null,null,null,null,null,null,null,null,null,null,null,null,null,null,null,null,null,null,null,null,null,null,null,null,null,null,null,1]
["U","Monture 10",null,null,null,10,"Oui","Dispose d'une monture animale  : ",null,null,null,null,null,null,null,null,null,null,null,null,null,null,null,null,null,null,null,null,null,null,null,null,null,null,null,null,null,null,null,null,null,null,0]
["U","Monture 11",null,null,null,11,"Oui","Dispose d'une monture animale  : ",null,null,null,null,null,null,null,null,null,null,null,null,null,null,null,null,null,null,null,null,null,null,null,null,null,null,null,null,null,null,null,null,null,null,1]
["U","Monture 12",null,null,null,12,"Oui","Dispose d'une monture animale  : ",null,null,null,null,null,null,null,null,null,null,null,null,null,null,null,null,null,null,null,null,null,null,null,null,null,null,null,null,null,null,null,null,null,null,0]
[null,"Nerfs d'acier",null,null,null,1,"Non"," +3 aux tests contre le stress, la peur (tests de Moral)",null,null,null,null,null,null,null,null,null,null,null,null,null,null,null,null,null,null,null,null,null,null,null,null,null,null,null,null,null,null,null,null,null,null,1]
[null,"Nyctalope",null,null,null,1,"Non","Réduit de moitié pénalités dans obscurité partielle",null,null,null,null,null,null,null,null,null,null,null,null,null,null,null,null,null,null,null,null,null,null,null,null,null,null,null,null,null,null,null,null,null,null,0]
["GT","Orientation innée",null,null,null,1,"Non","Si concentré pendant déplacement, pas de jet d'orientation nécessaire",null,null,null,null,null,null,null,null,null,null,null,null,null,null,null,null,null,null,null,null,null,null,null,null,null,null,null,null,null,null,null,null,null,null,1]
["*","Parts 1",null,null,null,1,"Oui","Entreprise verse 250 sols de matériel/mois (+500/pt d'Av. Pro. Matériel à la création)",null,null,null,null,null,null,null,null,null,null,null,null,null,null,null,null,null,null,null,null,null,null,null,null,null,null,null,null,null,null,250,500,null,null,0]
["*","Parts 2",null,null,null,2,"Oui","Entreprise verse 500 sols de matériel/mois (+1000/pt d'Av. Pro. Matériel à la création)",null,null,null,null,null,null,null,null,null,null,null,null,null,null,null,null,null,null,null,null,null,null,null,null,null,null,null,null,null,null,500,1000,null,null,1]
["*","Parts 3",null,null,null,3,"Oui","Entreprise verse 750 sols de matériel/mois (+1500/pt d'Av. Pro. Matériel à la création)",null,null,null,null,null,null,null,null,null,null,null,null,null,null,null,null,null,null,null,null,null,null,null,null,null,null,null,null,null,null,750,1500,null,null,0]
["*","Parts 4",null,null,null,4,"Oui","Entreprise verse 1000 sols de matériel/mois (+2000/pt d'Av. Pro. Matériel à la création)",null,null,null,null,null,null,null,null,null,null,null,null,null,null,null,null,null,null,null,null,null,null,null,null,null,null,null,null,null,null,1000,2000,null,null,1]
["*","Rente",null,null,null,3,"Oui","Perception mensuelle de 2D6 x 100 sols (+ 6D6x 1000 sols à la création)",null,null,null,null,null,null,null,null,null,null,null,null,null,null,null,null,null,null,null,null,null,null,null,null,null,null,null,null,null,null,null,null,600,18000,0]
[null,"Résistance à la douleur",null,null,null,1,"Non"," +3 aux tests de CON ou VOL pour résister à la douleur",null,null,null,null,null,null,null,null,null,null,null,null,2,null,null,null,null,null,null,null,null,null,null,null,null,null,null,null,null,null,null,null,null,null,1]
["GT","Résistance à l'alcool",null,null,null,1,"Non","Encaisse bien l'alcool et reste lucide plus longtemps que les autres",null,null,null,null,null,null,null,null,null,null,null,null,null,null,null,null,null,null,null,null,null,null,null,null,null,null,null,null,null,null,null,null,null,null,0]
[null,"Résistance naturelle augmentée : drogues",null,null,null,1,"Non",".",null,null,null,null,null,null,null,null,-1,null,null,null,null,null,null,null,null,null,null,null,null,null,null,null,null,null,null,null,null,null,null,null,null,null,1]
[null,"Résistance naturelle augmentée : maladies",null,null,null,1,"Non",".",null,null,null,null,null,null,null,null,null,-1,null,null,null,null,null,null,null,null,null,null,null,null,null,null,null,null,null,null,null,null,null,null,null,null,0]
[null,"Résistance naturelle augmentée : poisons",null,null,null,1,"Non",".",null,null,null,null,null,null,null,null,null,null,-1,null,null,null,null,null,null,null,null,null,null,null,null,null,null,null,null,null,null,null,null,null,null,null,1]
[null,"Résistance naturelle augmentée : radiations",null,null,null,1,"Non",".",null,null,null,null,null,null,null,null,null,null,null,-1,null,null,null,null,null,null,null,null,null,null,null,null,null,null,null,null,null,null,null,null,null,null,0]
[null,"Sens développé : goût",null,null,null,1,"Non"," +3 aux test nécessitant l'utilisation de ce sens",null,null,null,null,null,null,null,null,null,null,null,null,null,null,null,null,null,null,null,null,null,null,null,null,null,null,null,null,null,null,null,null,null,null,1]
[null,"Sens développé : odorat",null,null,null,1,"Non"," +3 aux test nécessitant l'utilisation de ce sens",null,null,null,null,null,null,null,null,null,null,null,null,null,null,null,null,null,null,null,null,null,null,null,null,null,null,null,null,null,null,null,null,null,null,0]
[null,"Sens développé : toucher",null,null,null,1,"Non"," +3 aux test nécessitant l'utilisation de ce sens",null,null,null,null,null,null,null,null,null,null,null,null,null,null,null,null,null,null,null,null,null,null,null,null,null,null,null,null,null,null,null,null,null,null,1]
[null,"Sens développé : ouïe",null,null,null,2,"Non"," +3 aux test nécessitant l'utilisation de ce sens",null,null,null,null,null,null,null,null,null,null,null,null,null,null,null,null,null,null,null,null,null,null,null,null,null,null,null,null,null,null,null,null,null,null,0]
[null,"Sens développé : vue",null,null,null,2,"Non"," +3 aux test nécessitant l'utilisation de ce sens",null,null,null,null,null,null,null,null,null,null,null,null,null,null,null,null,null,null,null,null,null,null,null,null,null,null,null,null,null,null,null,null,null,null,1]
["GT","Sexy",null,null,null,1,"Non"," +2 aux tests de comp. Sociales en charmant, si abus -2 contre personne jalouse",null,null,null,null,null,null,null,null,null,null,null,null,null,null,null,null,null,null,null,null,null,-2,null,null,null,null,null,null,null,null,null,null,null,null,0]
["GT","Sommeil léger",null,null,null,1,"Non","Toujours sur le qui-vive, se reveille si une personne s'approche",null,null,null,null,null,null,null,null,null,null,null,null,null,null,null,null,null,null,null,null,null,null,null,null,null,null,null,null,null,null,null,null,null,null,1]
["U","Symbiote",null,null,null,2,"Oui","Possède un symbiote : ",null,null,null,null,null,null,null,null,null,null,null,null,null,null,null,null,null,null,null,null,null,null,null,null,null,null,null,null,null,null,null,null,null,null,0]
["GT","Système digestif amélioré",null,null,null,1,"Non","Estomac à tout épreuve. Peut manger de la nourriture que d'autres ne toucheraient pas",null,null,null,null,null,null,null,null,null,null,null,null,null,null,null,null,null,null,null,null,null,null,null,null,null,null,null,null,null,null,null,null,null,null,1]
[null,"Titre",null,null,null,4,"Oui","Titre nobiliaire ou honorifique dans la communauté d'origine",null,null,null,null,null,null,null,null,null,null,null,null,null,null,null,null,null,null,null,null,null,null,null,12,null,null,null,null,null,null,null,null,null,null,0]
[null,"Unité",null,null,null,0,"Non","Aide immédiate de confrères possible (test Célébrité ou Influence selon besoin)"]
[null,"* j'ai choisi d'utiliser une valeur moyenne sur les jets de dés"]
[null,"Désavantages",null,null,null,"PC","Cumulable","Bonus non permanents / Descriptions succintes si besoin",null,null,null,null,null,null,"Malus permanents"]
[null,null,null,null,null,null,null,null,null,null,null,null,null,null,"REA","Resist DOM","Resist DRO","Resist MAL","Resist POI","Resist RAD","Resist CHOC","Souffle","Chance","Pts Comp.","Acrob./Equil.","Athlétisme","Endurance","Escalade","Imit./Deguis.","Discr./Filat.","Adapt. ext.","Célébrité","Allié","Fournisseur","Contact","Ennemi","Opposant","Année","Matériel/mois","Matériel bonus","Sols/mois","Sols"]
[null," ",null,null,null,0]
["U","Adaptation compromise (mutants)",null,null,null,-2,"Non",".",null,null,null,null,null,null,null,null,null,null,null,null,null,null,null,null,null,null,null,null,null,null,-1,null,null,null,null,null,null,null,null,null,null,null,0]
["GT","Albinos",null,null,null,-1,"Non"," -2 aux tests de compétences sociales",null,null,null,null,null,null,null,null,null,null,null,null,null,null,null,null,null,null,null,null,null,null,null,null,null,null,null,null,null,null,null,null,null,null,1]
["GT","Alcoolisme",null,null,null,-1,"Non","Test volonté avec malus de 10 pour éviter de boire",null,null,null,null,null,null,null,null,null,null,null,null,null,null,null,null,null,null,null,null,null,null,null,null,null,null,null,null,null,null,null,null,null,null,0]
[null,"Allergie : légère",null,null,null,-1,"Oui","Gêne occasionnant malus de -3 aux tests",null,null,null,null,null,null,null,null,null,null,null,null,null,null,null,null,null,null,null,null,null,null,null,null,null,null,null,null,null,null,null,null,null,null,1]
[null,"Allergie : sévère",null,null,null,-3,"Oui","Handicap occasionnant des chances de réussite aux tests réduites de moitié",null,null,null,null,null,null,null,null,null,null,null,null,null,null,null,null,null,null,null,null,null,null,null,null,null,null,null,null,null,null,null,null,null,null,0]
[null,"Allergie : fatale",null,null,null,-6,"Oui","Perte de conscience, voir mort si trop exposé",null,null,null,null,null,null,null,null,null,null,null,null,null,null,null,null,null,null,null,null,null,null,null,null,null,null,null,null,null,null,null,null,null,null,1]
["GT","Dépendance à une drogue",null,null,null,-3,"Non","Dépendance à une drogue au choix avec 14+1D6 pts de narco-dommage",null,null,null,null,null,null,null,null,null,null,null,null,null,null,null,null,null,null,null,null,null,null,null,null,null,null,null,null,null,null,null,null,null,null,0]
["GT","Déséquilibre mental : amnésie",null,null,null,-1,"Oui",".",null,null,null,null,null,null,null,null,null,null,null,null,null,null,null,null,null,null,null,null,null,null,null,null,null,null,null,null,null,null,null,null,null,null,1]
["GT","Déséquilibre mental : pulsions sadiques",null,null,null,-1,"Oui",".",null,null,null,null,null,null,null,null,null,null,null,null,null,null,null,null,null,null,null,null,null,null,null,null,null,null,null,null,null,null,null,null,null,null,0]
[null,"Déséquilibre mental : cleptomanie",null,null,null,-2,"Oui",".",null,null,null,null,null,null,null,null,null,null,null,null,null,null,null,null,null,null,null,null,null,null,null,null,null,null,null,null,null,null,null,null,null,null,1]
[null,"Déséquilibre mental : double personnalité",null,null,null,-2,"Oui",".",null,null,null,null,null,null,null,null,null,null,null,null,null,null,null,null,null,null,null,null,null,null,null,null,null,null,null,null,null,null,null,null,null,null,0]
[null,"Déséquilibre mental : hallucination",null,null,null,-2,"Oui",".",null,null,null,null,null,null,null,null,null,null,null,null,null,null,null,null,null,null,null,null,null,null,null,null,null,null,null,null,null,null,null,null,null,null,1]
[null,"Déséquilibre mental : mégalomanie",null,null,null,-2,"Oui",".",null,null,null,null,null,null,null,null,null,null,null,null,null,null,null,null,null,null,null,null,null,null,null,null,null,null,null,null,null,null,null,null,null,null,0]
[null,"Déséquilibre mental : paranoïa",null,null,null,-2,"Oui",".",null,null,null,null,null,null,null,null,null,null,null,null,null,null,null,null,null,null,null,null,null,null,null,null,null,null,null,null,null,null,null,null,null,null,1]
[null,"Déséquilibre mental : pulsion psychopathe",null,null,null,-3,"Oui",".",null,null,null,null,null,null,null,null,null,null,null,null,null,null,null,null,null,null,null,null,null,null,null,null,null,null,null,null,null,null,null,null,null,null,0]
["GT","Endetté 1",null,null,null,-1,"Oui",".",null,null,null,null,null,null,null,null,null,null,null,null,null,null,null,null,null,null,null,null,null,null,null,null,null,null,null,null,null,null,null,null,null,-10000,1]
["GT","Endetté 2",null,null,null,-2,"Oui",".",null,null,null,null,null,null,null,null,null,null,null,null,null,null,null,null,null,null,null,null,null,null,null,null,null,null,null,null,null,null,null,null,null,-20000,0]
["GT","Endetté 3",null,null,null,-3,"Oui",".",null,null,null,null,null,null,null,null,null,null,null,null,null,null,null,null,null,null,null,null,null,null,null,null,null,null,null,null,null,null,null,null,null,-30000,1]
[null,"Ennemi héréditaire",null,null,null,-3,"Oui",".",null,null,null,null,null,null,null,null,null,null,null,null,null,null,null,null,null,null,null,null,null,null,null,null,null,null,null,1,null,null,null,null,null,null,0]
["U","Ennemi sous-marin",null,null,null,-2,"Oui",".",null,null,null,null,null,null,null,null,null,null,null,null,null,null,null,null,null,null,null,null,null,null,null,null,null,null,null,1,null,null,null,null,null,null,1]
["GT","Estomac délicat",null,null,null,-1,"Non","Se force pour nourriture de base (intoxic. possible). Achète nourriture de qualité sup.",null,null,null,null,null,null,null,null,null,null,null,null,null,null,null,null,null,null,null,null,null,null,null,null,null,null,null,null,null,null,null,null,null,null,0]
[null,"Faiblesse naturelle : drogues",null,null,null,-1,"Non",".",null,null,null,null,null,null,null,null,1,null,null,null,null,null,null,null,null,null,null,null,null,null,null,null,null,null,null,null,null,null,null,null,null,null,1]
[null,"Faiblesse naturelle : maladies",null,null,null,-1,"Non",".",null,null,null,null,null,null,null,null,null,1,null,null,null,null,null,null,null,null,null,null,null,null,null,null,null,null,null,null,null,null,null,null,null,null,0]
[null,"Faiblesse naturelle : poisons",null,null,null,-1,"Non",".",null,null,null,null,null,null,null,null,null,null,1,null,null,null,null,null,null,null,null,null,null,null,null,null,null,null,null,null,null,null,null,null,null,null,1]
[null,"Faiblesse naturelle : radiations",null,null,null,-1,"Non",".",null,null,null,null,null,null,null,null,null,null,null,1,null,null,null,null,null,null,null,null,null,null,null,null,null,null,null,null,null,null,null,null,null,null,0]
[null,"Fécondité",null,null,null,-3,"Non","Si connu, effets identiques à Recherché",null,null,null,null,null,null,null,null,null,null,null,null,null,null,null,null,null,null,null,null,null,null,null,null,null,null,null,null,null,null,null,null,null,null,1]
[null,"Froussard",null,null,null,-1,"Non"," -3 aux tests contre le stress, la peur (tests de Moral)",null,null,null,null,null,null,null,null,null,null,null,null,null,null,null,null,null,null,null,null,null,null,null,null,null,null,null,null,null,null,null,null,null,null,0]
["GT","Hémophile",null,null,null,-2,"Non","Hémo. syst. sur BLC. Jets Prem. soins BLG +0 BLC -3 BLM bras/jambe -6 BLM tête/corps -10",null,null,null,null,null,null,null,null,null,null,null,null,null,null,null,null,null,null,null,null,null,null,null,null,null,null,null,null,null,null,null,null,null,null,1]
[null,"Infirmité : importante",null,null,null,-5,"Oui","Ex: bras amputé/paralysé, surdité, muet…",null,null,null,null,null,null,null,null,null,null,null,null,null,null,null,null,null,null,null,null,null,null,null,null,null,null,null,null,null,null,null,null,null,null,0]
[null,"Infirmité : majeure",null,null,null,-7,"Oui","Ex: aveugle, jambe amuptée/paralysée…",null,null,null,null,null,null,null,null,null,null,null,null,null,null,null,null,null,null,null,null,null,null,null,null,null,null,null,null,null,null,null,null,null,null,1]
["U","Interdit",null,null,null,-2,"Oui","S'est fixé un interdit qu'il ne peut briser sous aucun pretexte",null,null,null,null,null,null,null,null,null,null,null,null,null,null,null,null,null,null,null,null,null,null,null,null,null,null,null,null,null,null,null,null,null,null,0]
[null,"Lent à réagir",null,null,null,-2,"Non",".",null,null,null,null,null,null,-3,null,null,null,null,null,null,null,null,null,null,null,null,null,null,null,null,null,null,null,null,null,null,null,null,null,null,null,1]
["U","Malchance",null,null,null,-2,"Oui",".",null,null,null,null,null,null,null,null,null,null,null,null,null,null,-1,null,null,null,null,null,null,null,null,null,null,null,null,null,null,null,null,null,null,null,0]
["U","Obligation",null,null,null,-1,"Oui","S'est fixé ou à reçu une obligation (un objectif) dont il ne peut se détourner",null,null,null,null,null,null,null,null,null,null,null,null,null,null,null,null,null,null,null,null,null,null,null,null,null,null,null,null,null,null,null,null,null,null,1]
[null,"Opposants supplémentaires",null,null,null,-1,"Oui",".",null,null,null,null,null,null,null,null,null,null,null,null,null,null,null,null,null,null,null,null,null,null,null,null,null,null,null,null,2,null,null,null,null,null,0]
["GT","Ossature fragile",null,null,null,-1,"Non",".",null,null,null,null,null,null,null,1,null,null,null,null,null,null,null,null,null,null,null,null,null,null,null,null,null,null,null,null,null,null,null,null,null,null,1]
[null,"Petite nature",null,null,null,-1,"Non"," +2 aux tests de CON ou VOL pour résister à la douleur",null,null,null,null,null,null,null,null,null,null,null,null,-1,null,null,null,null,null,null,null,null,null,null,null,null,null,null,null,null,null,null,null,null,null,0]
[null,"Peu endurant",null,null,null,-1,"Non","Modif. fatigue deviennent -5/-10/-15 (ou si non utilisée, -3 aux test resist. effort/fatigue)",null,null,null,null,null,null,null,null,null,null,null,null,null,null,null,null,null,null,null,null,null,null,null,null,null,null,null,null,null,null,null,null,null,null,1]
[null,"Phobie : élément rencontrable occasionnellement",null,null,null,-1,"Oui","Chances de réussite aux test réduites de moitié, déforme infos MJ",null,null,null,null,null,null,null,null,null,null,null,null,null,null,null,null,null,null,null,null,null,null,null,null,null,null,null,null,null,null,null,null,null,null,0]
["*","Phobie : élément rencontrable régulièrement",null,null,null,-2,"Oui","Chances de réussite aux test réduites de moitié, déforme infos MJ",null,null,null,null,null,null,null,null,null,null,null,null,null,null,null,null,null,null,null,null,null,null,null,null,null,null,null,null,null,null,null,null,null,null,1]
["**","Phobie : élément rencontrable très souvent",null,null,null,-3,"Oui","Chances de réussite aux test réduites de moitié, déforme infos MJ",null,null,null,null,null,null,null,null,null,null,null,null,null,null,null,null,null,null,null,null,null,null,null,null,null,null,null,null,null,null,null,null,null,null,0]
[null,"Phobie : élément omniprésent",null,null,null,-4,"Oui","Chances de réussite aux test réduites de moitié, déforme infos MJ",null,null,null,null,null,null,null,null,null,null,null,null,null,null,null,null,null,null,null,null,null,null,null,null,null,null,null,null,null,null,null,null,null,null,1]
["U","Phobie technologique",null,null,null,-4,"Oui","Chances de réussite aux test réduites de moitié, déforme infos MJ",null,null,null,null,null,null,null,null,null,null,null,null,null,null,null,null,null,null,null,null,null,null,null,null,null,null,null,null,null,null,null,null,null,null,0]
["U","Porteur sain",null,null,null,-2,"Oui","Porteur d'une maladie bénigne mais désagréable et contagieuse par contact : ",null,null,null,null,null,null,null,null,null,null,null,null,null,null,null,null,null,null,null,null,null,null,null,null,null,null,null,null,null,null,null,null,null,null,1]
[null,"Recherché : petite communauté",null,null,null,-1,"Oui",".",null,null,null,null,null,null,null,null,null,null,null,null,null,null,null,null,null,null,null,null,null,null,null,null,null,null,null,null,null,null,null,null,null,null,0]
[null,"Recherché : nation / faction majeure",null,null,null,-3,"Oui",".",null,null,null,null,null,null,null,null,null,null,null,null,null,null,null,null,null,null,null,null,null,null,null,null,null,null,null,null,null,null,null,null,null,null,1]
[null,"Secret : acte honteux, déshonorant…",null,null,null,-2,"Oui",".",null,null,null,null,null,null,null,null,null,null,null,null,null,null,null,null,null,null,null,null,null,null,null,null,null,null,null,null,null,null,null,null,null,null,0]
[null,"Secret : acte terrible (violence, mort)",null,null,null,-3,"Oui",".",null,null,null,null,null,null,null,null,null,null,null,null,null,null,null,null,null,null,null,null,null,null,null,null,null,null,null,null,null,null,null,null,null,null,1]
[null,"Sens diminué : goût",null,null,null,-1,"Non"," -3 aux test nécessitant l'utilisation de ce sens",null,null,null,null,null,null,null,null,null,null,null,null,null,null,null,null,null,null,null,null,null,null,null,null,null,null,null,null,null,null,null,null,null,null,0]
[null,"Sens diminué : odorat",null,null,null,-1,"Non"," -3 aux test nécessitant l'utilisation de ce sens",null,null,null,null,null,null,null,null,null,null,null,null,null,null,null,null,null,null,null,null,null,null,null,null,null,null,null,null,null,null,null,null,null,null,1]
[null,"Sens diminué : toucher",null,null,null,-1,"Non"," -3 aux test nécessitant l'utilisation de ce sens",null,null,null,null,null,null,null,null,null,null,null,null,null,null,null,null,null,null,null,null,null,null,null,null,null,null,null,null,null,null,null,null,null,null,0]
[null,"Sens diminué : ouïe",null,null,null,-2,"Non"," -3 aux test nécessitant l'utilisation de ce sens",null,null,null,null,null,null,null,null,null,null,null,null,null,null,null,null,null,null,null,null,null,null,null,null,null,null,null,null,null,null,null,null,null,null,1]
[null,"Sens diminué : vue",null,null,null,-2,"Non"," -3 aux test nécessitant l'utilisation de ce sens",null,null,null,null,null,null,null,null,null,null,null,null,null,null,null,null,null,null,null,null,null,null,null,null,null,null,null,null,null,null,null,null,null,null,0]
["GT","Sommeil lourd",null,null,null,-1,"Non","Difficile à réveiller",null,null,null,null,null,null,null,null,null,null,null,null,null,null,null,null,null,null,null,null,null,null,null,null,null,null,null,null,null,null,null,null,null,null,1]
["GT","Souffle court",null,null,null,-1,"Non",".",null,null,null,null,null,null,null,null,null,null,null,null,null,-3,null,null,null,null,null,null,null,null,null,null,null,null,null,null,null,null,null,null,null,null,0]
["GT","Trait physique remarquable",null,null,null,-1,"Non","Facilement identifiable, le personnage attire regards et quolibets",null,null,null,null,null,null,null,null,null,null,null,null,null,null,null,null,null,null,null,null,-2,-2,null,null,null,null,null,null,null,null,null,null,null,null,1]
["GT","Taille hors norme",null,null,null,-1,"Non","Mesure plus de 2m. Prix équipement de protection +10%.",null,null,null,null,null,null,null,null,null,null,null,null,null,null,null,null,null,null,null,null,null,-2,null,null,null,null,null,null,null,null,null,null,null,null,0]
[null,"* exemple Agoraphobie GT, **exemple Claustrophobie",null,null,null,null,null,null,null,null,null,null,null,null,14,15,16,17,18,19,20,21,22,23,24,25,26,27,28,29,30,31,32,33,34,35,36,37,38,39,40,41]
[null,null,null,null,null,null,null,null,null,null,null,null,"Av. 1",{"$f":"D20","v":" "},{"$f":"IF($N158=\" \",0,VLOOKUP($N158,$B$32:$AP$94,O$157,))","v":0},0,0,0,0,0,0,0,0,0,{"$f":"IF($N158=\" \",0,VLOOKUP($N158,$B$32:$AP$94,Y$157,))","v":0},0,0,0,0,0,0,0,0,0,{"$f":"IF($N158=\" \",0,VLOOKUP($N158,$B$32:$AP$94,AI$157,))","v":0},0,0,0,0,0,0,0,{"$f":"IF(N158=\"Ambidextrie\",1,0)","v":0},null,{"$f":"IF(N158=\"Lecture sur les lèvres\",1,0)","v":0}]
[null,null,null,null,null,null,null,null,null,null,null,null,"Av. 2"," ",0,0,0,0,0,0,0,0,0,0,0,0,0,0,0,0,0,0,0,0,0,0,0,0,0,0,0,0,{"$f":"IF(N159=\"Ambidextrie\",1,0)","v":0},null,{"$f":"IF(N159=\"Lecture sur les lèvres\",1,0)","v":0}]
[null,null,null,null,null,null,null,null,null,null,null,null,"Av. 3"," ",0,0,0,0,0,0,0,0,0,0,0,0,0,0,0,0,0,0,0,0,0,0,0,0,0,0,0,0,0,null,0]
[null,null,null,null,null,null,null,null,null,null,null,null,"Av. 4"," ",0,0,0,0,0,0,0,0,0,0,0,0,0,0,0,0,0,0,0,0,0,0,0,0,0,0,0,0,0,null,0]
[null,null,null,null,null,null,null,null,null,null,null,null,"Av. 5"," ",0,0,0,0,0,0,0,0,0,0,0,0,0,0,0,0,0,0,0,0,0,0,0,0,0,0,0,0,0,null,0]
[null,null,null,null,null,null,null,null,null,null,null,null,"Av. 6"," ",0,0,0,0,0,0,0,0,0,0,0,0,0,0,0,0,0,0,0,0,0,0,0,0,0,0,0,0,0,null,0]
[null,null,null,null,null,null,null,null,null,null,null,null,"Desav. 1",{"$f":"M20","v":" "},{"$f":"IF($N164=\" \",0,VLOOKUP($N164,$B$100:$AP$156,O$157,))","v":0},0,0,0,0,0,0,0,0,0,{"$f":"IF($N164=\" \",0,VLOOKUP($N164,$B$100:$AP$156,Y$157,))","v":0},0,0,0,0,0,0,0,0,0,{"$f":"IF($N164=\" \",0,VLOOKUP($N164,$B$100:$AP$156,AI$157,))","v":0},0,0,0,0,0,0,0,null,{"$f":"IF(N164=\"Fécondité\",1,0)","v":0}]
[null,null,null,null,null,null,null,null,null,null,null,null,"Desav. 2"," ",0,0,0,0,0,0,0,0,0,0,0,0,0,0,0,0,0,0,0,0,0,0,0,0,0,0,0,0,null,0]
[null,null,null,null,null,null,null,null,null,null,null,null,"Desav. 3"," ",0,0,0,0,0,0,0,0,0,0,0,0,0,0,0,0,0,0,0,0,0,0,0,0,0,0,0,0,null,0]
[null,null,null,null,null,null,null,null,null,null,null,null,"Desav. 4"," ",0,0,0,0,0,0,0,0,0,0,0,0,0,0,0,0,0,0,0,0,0,0,0,0,0,0,0,0,null,0]
[null,null,null,null,null,null,null,null,null,null,null,null,"Desav. 5"," ",0,0,0,0,0,0,0,0,0,0,0,0,0,0,0,0,0,0,0,0,0,0,0,0,0,0,0,0,null,0]
[null,null,null,null,null,null,null,null,null,null,null,null,"Desav. 6"," ",0,0,0,0,0,0,0,0,0,0,0,0,0,0,0,0,0,0,0,0,0,0,0,0,0,0,0,0,null,0]
[null,null,null,null,null,null,null,null,null,null,null,null,null,"Total",{"$f":"SUM(O158:O169)","v":0},{"$f":"SUM(P158:P169)","v":0},0,0,0,0,0,0,0,0,0,0,0,0,0,0,0,0,0,0,0,0,0,{"$f":"ROUNDDOWN(SUM(AL158:AL169),0)","v":0},{"$f":"ROUNDDOWN(SUM(AM158:AM169),0)","v":0},0,0,0,{"$f":"SUM(AQ158:AQ163)","v":0},{"$f":"SUM(AR164:AR169)","v":0},{"$f":"SUM(AS158:AS169)","v":0}]
[null,null,null,null,null,null,null,null,null,null,null,null,null,null,"REA","Resist DOM","Resist DRO","Resist MAL","Resist POI","Resist RAD","Resist CHOC","Souffle","Chance","Pts Comp.","Acrob./Equil.","Athlétisme","Endurance","Escalade","Imit./Deguis.","Discr./Filat.","Adapt. ext.","Célébrité","Allié","Fournisseur","Contact","Ennemi","Opposant","Année","Matériel/mois","Modif. matériel","Sols/mois","Sols","Ambidextrie","Fécond","Lecture lèvres"]
[null,null,null,null,null,null,null,null,null,null,null,null,null,null,null,null,null,null,null,null,null,null,null,null,null,null,null,null,null,null,null,null,"Ce sont des modifs influent ou tête de gang"]
[]
[null,null,null,null,null,null,null,null,null,null,null,null,null,null,null,null,null,null,null,null,null,null,null,null,null,null,null,null,null,null,null,null,null,null,null,null,null,null,null,null,null,null,"Droitier"]
[null,null,null,null,null,null,null,null,null,null,null,null,null,null,null,null,null,null,null,null,null,null,null,null,null,null,null,null,null,null,null,null,null,null,null,null,null,null,null,null,null,null,"Gaucher"]

{"sheet":"AVANTAGES_PROFESSIONNELS","index":7,"n_rows":1148,"n_cols":190,"rows_kept":562,"cut":true,"hidden":false,"merged":[[693,69,693,72],[693,73,693,74],[693,75,693,78],[748,69,748,72],[748,73,748,74],[748,75,748,78],[737,75,737,78],[726,75,726,78],[726,73,726,74],[737,73,737,74],[737,69,737,72],[726,69,726,72],[715,69,715,72],[715,73,715,74],[715,75,715,78],[704,69,704,72],[704,75,704,78],[704,73,704,74],[747,73,747,74],[747,75,747,78],[746,73,746,74],[746,75,746,78],[728,73,728,74],[728,75,728,78],[729,73,729,74],[729,75,729,78],[730,73,730,74],[730,75,730,78],[731,73,731,74],[731,75,731,78],[732,73,732,74],[732,75,732,78],[31,105,39,115],[98,72,98,73],[101,72,101,73],[103,72,103,73],[95,72,95,73],[97,72,97,73],[99,72,99,73],[100,72,100,73],[102,72,102,73],[77,72,77,73],[79,72,79,73],[81,72,81,73],[89,72,89,73],[90,72,90,73],[92,72,92,73],[91,72,91,73],[67,75,67,76],[68,75,68,76],[69,75,69,76],[70,75,70,76],[71,75,71,76],[72,75,72,76],[73,75,73,76],[74,75,74,76],[75,75,75,76],[76,75,76,76],[81,63,81,64],[67,66,67,67],[68,66,68,67],[69,66,69,67],[76,66,76,67],[77,66,77,67],[78,66,78,67],[79,66,79,67],[80,66,80,67],[81,66,81,67],[78,75,78,76],[79,75,79,76],[82,75,82,76],[9,85,28,86],[9,94,27,96],[86,81,92,86],[92,98,92,99],[61,75,63,75],[83,75,83,76],[92,69,92,70],[65,63,65,64],[66,63,66,64],[66,66,66,67],[66,75,66,76],[66,69,66,70],[66,72,66,73],[70,66,70,67],[71,66,71,67],[72,66,72,67],[73,66,73,67],[74,66,74,67],[75,66,75,67],[94,69,94,70],[95,69,95,70],[96,69,96,70],[97,69,97,70],[74,72,74,73],[76,72,76,73],[94,72,94,73],[93,72,93,73],[96,72,96,73],[84,75,84,76],[85,75,85,76],[86,75,86,76],[87,75,87,76],[88,75,88,76],[89,75,89,76],[77,75,77,76],[78,72,78,73],[80,72,80,73],[75,72,75,73],[80,75,80,76],[81,75,81,76],[98,63,98,64],[99,63,99,64],[100,63,100,64],[94,63,94,64],[101,63,101,64],[89,66,89,67],[90,66,90,67],[91,66,91,67],[92,66,92,67],[93,66,93,67],[95,66,95,67],[96,66,96,67],[97,66,97,67],[98,66,98,67],[99,66,99,67],[100,66,100,67],[101,66,101,67],[89,63,89,64],[90,63,90,64],[91,63,91,64],[92,63,92,64],[93,63,93,64],[94,66,94,67],[95,63,95,64],[96,63,96,64],[97,63,97,64],[59,50,59,52],[59,46,59,48],[67,69,67,70],[68,69,68,70],[70,69,70,70],[69,72,69,73],[88,63,88,64],[88,66,88,67],[88,69,88,70],[88,72,88,73],[65,66,65,67],[65,75,65,76],[65,69,65,70],[65,72,65,73],[87,63,87,64],[87,66,87,67],[87,69,87,70],[87,72,87,73],[67,63,67,64],[68,63,68,64],[69,63,69,64],[70,63,70,64],[71,63,71,64],[72,63,72,64],[73,63,73,64],[74,63,74,64],[75,63,75,64],[76,63,76,64],[77,63,77,64],[78,63,78,64],[79,63,79,64],[80,63,80,64],[66,39,66,40],[74,24,74,25],[75,24,75,25],[67,18,67,19],[68,18,68,19],[69,18,69,19],[70,18,70,19],[66,24,66,25],[66,21,66,22],[71,72,71,73],[72,72,72,73],[73,72,73,73],[67,72,67,73],[68,72,68,73],[70,72,70,73],[71,69,71,70],[72,69,72,70],[73,69,73,70],[74,69,74,70],[75,69,75,70],[75,54,75,57],[226,69,226,72],[227,69,227,72],[228,69,228,72],[229,69,229,72],[230,69,230,72],[231,69,231,72],[232,69,232,72],[233,69,233,72],[234,69,234,72],[235,69,235,72],[224,69,224,72],[225,69,225,72],[104,72,104,73],[69,69,69,70],[102,66,102,67],[103,66,103,67],[104,66,104,67],[105,66,105,67],[106,66,106,67],[107,66,107,67],[108,66,108,67],[109,66,109,67],[89,69,89,70],[90,69,90,70],[91,69,91,70],[76,69,76,70],[77,69,77,70],[78,69,78,70],[79,69,79,70],[80,69,80,70],[81,69,81,70],[93,69,93,70],[236,69,236,72],[237,69,237,72],[238,69,238,72],[239,69,239,72],[240,69,240,72],[241,69,241,72],[1029,73,1029,74],[1002,73,1002,74],[993,73,993,74],[984,73,984,74],[975,73,975,74],[966,73,966,74],[957,73,957,74],[948,73,948,74],[939,73,939,74],[930,73,930,74],[921,73,921,74],[912,73,912,74],[903,73,903,74],[894,73,894,74],[885,73,885,74],[876,73,876,74],[867,73,867,74],[858,73,858,74],[849,73,849,74],[840,73,840,74],[831,73,831,74],[822,73,822,74],[813,73,813,74],[804,73,804,74],[795,73,795,74],[786,73,786,74],[1029,75,1029,78],[1030,73,1030,74],[1030,75,1030,78],[1031,73,1031,74],[1031,75,1031,78],[1032,73,1032,74],[1032,75,1032,78],[202,69,202,72],[203,69,203,72],[204,69,204,72],[205,69,205,72],[206,69,206,72],[207,69,207,72],[208,69,208,72],[209,69,209,72],[210,69,210,72],[211,69,211,72],[212,69,212,72],[213,69,213,72],[214,69,214,72],[215,69,215,72],[216,69,216,72],[217,69,217,72],[1020,73,1020,74],[1020,75,1020,78],[1021,73,1021,74],[1021,75,1021,78],[1022,73,1022,74],[1022,75,1022,78],[1023,73,1023,74],[1023,75,1023,78],[1024,73,1024,74],[1009,73,1009,74],[1009,75,1009,78],[1010,73,1010,74],[1010,75,1010,78],[1024,75,1024,78],[1025,73,1025,74],[1025,75,1025,78],[1026,73,1026,74],[1026,75,1026,78],[1027,73,1027,74],[1027,75,1027,78],[1028,73,1028,74],[1028,75,1028,78],[1011,73,1011,74],[1011,75,1011,78],[1012,73,1012,74],[1012,75,1012,78],[1013,73,1013,74],[1013,75,1013,78],[1014,73,1014,74],[1014,75,1014,78],[1015,73,1015,74],[1015,75,1015,78],[1016,73,1016,74],[1016,75,1016,78],[1017,73,1017,74],[1017,75,1017,78],[1018,73,1018,74],[1018,75,1018,78],[1019,73,1019,74],[1019,75,1019,78],[1000,73,1000,74],[1000,75,1000,78],[1001,73,1001,74],[1001,75,1001,78],[1002,75,1002,78],[1003,73,1003,74],[1003,75,1003,78],[1004,73,1004,74],[1004,75,1004,78],[1005,73,1005,74],[1005,75,1005,78],[1006,73,1006,74],[1006,75,1006,78],[1007,73,1007,74],[1007,75,1007,78],[1008,73,1008,74],[1008,75,1008,78],[991,73,991,74],[991,75,991,78],[992,73,992,74],[992,75,992,78],[993,75,993,78],[994,73,994,74],[994,75,994,78],[995,73,995,74],[995,75,995,78],[996,73,996,74],[996,75,996,78],[997,73,997,74],[997,75,997,78],[998,73,998,74],[998,75,998,78],[999,73,999,74],[999,75,999,78],[982,73,982,74],[982,75,982,78],[983,73,983,74],[983,75,983,78],[984,75,984,78],[985,73,985,74],[985,75,985,78],[986,73,986,74],[986,75,986,78],[987,73,987,74],[987,75,987,78],[988,73,988,74],[988,75,988,78],[989,73,989,74],[989,75,989,78],[990,73,990,74],[990,75,990,78],[973,73,973,74],[973,75,973,78],[974,73,974,74],[974,75,974,78],[975,75,975,78],[976,73,976,74],[976,75,976,78],[977,73,977,74],[977,75,977,78],[978,73,978,74],[978,75,978,78],[979,73,979,74],[979,75,979,78],[980,73,980,74],[980,75,980,78],[981,73,981,74],[981,75,981,78],[964,73,964,74],[964,75,964,78],[965,73,965,74],[965,75,965,78],[966,75,966,78],[967,73,967,74],[967,75,967,78],[968,73,968,74],[968,75,968,78],[969,73,969,74],[969,75,969,78],[970,73,970,74],[970,75,970,78],[971,73,971,74],[971,75,971,78],[972,73,972,74],[972,75,972,78],[955,73,955,74],[955,75,955,78],[956,73,956,74],[956,75,956,78],[957,75,957,78],[958,73,958,74],[958,75,958,78],[959,73,959,74],[959,75,959,78],[960,73,960,74],[960,75,960,78],[961,73,961,74],[961,75,961,78],[962,73,962,74],[962,75,962,78],[963,73,963,74],[963,75,963,78],[946,73,946,74],[946,75,946,78],[947,73,947,74],[947,75,947,78],[948,75,948,78],[949,73,949,74],[949,75,949,78],[950,73,950,74],[950,75,950,78],[951,73,951,74],[951,75,951,78],[952,73,952,74],[952,75,952,78],[953,73,953,74],[953,75,953,78],[954,73,954,74],[954,75,954,78],[937,73,937,74],[937,75,937,78],[938,73,938,74],[938,75,938,78],[939,75,939,78],[940,73,940,74],[940,75,940,78],[941,73,941,74],[941,75,941,78],[942,73,942,74],[942,75,942,78],[943,73,943,74],[943,75,943,78],[944,73,944,74],[944,75,944,78],[945,73,945,74],[945,75,945,78],[928,73,928,74],[928,75,928,78],[929,73,929,74],[929,75,929,78],[930,75,930,78],[931,73,931,74],[931,75,931,78],[932,73,932,74],[932,75,932,78],[933,73,933,74],[933,75,933,78],[934,73,934,74],[934,75,934,78],[935,73,935,74],[935,75,935,78],[936,73,936,74],[936,75,936,78],[919,73,919,74],[919,75,919,78],[920,73,920,74],[920,75,920,78],[921,75,921,78],[922,73,922,74],[922,75,922,78],[923,73,923,74],[923,75,923,78],[924,73,924,74],[924,75,924,78],[925,73,925,74],[925,75,925,78],[926,73,926,74],[926,75,926,78],[927,73,927,74],[927,75,927,78],[910,73,910,74],[910,75,910,78],[911,73,911,74],[911,75,911,78],[912,75,912,78],[913,73,913,74],[913,75,913,78],[914,73,914,74],[914,75,914,78],[915,73,915,74],[915,75,915,78],[916,73,916,74],[916,75,916,78],[917,73,917,74],[917,75,917,78],[918,73,918,74],[918,75,918,78],[901,73,901,74],[901,75,901,78],[902,73,902,74],[902,75,902,78],[903,75,903,78],[904,73,904,74],[904,75,904,78],[905,73,905,74],[905,75,905,78],[906,73,906,74],[906,75,906,78],[907,73,907,74],[907,75,907,78],[908,73,908,74],[908,75,908,78],[909,73,909,74],[909,75,909,78],[892,73,892,74],[892,75,892,78],[893,73,893,74],[893,75,893,78],[894,75,894,78],[895,73,895,74],[895,75,895,78],[896,73,896,74],[896,75,896,78],[897,73,897,74],[897,75,897,78],[898,73,898,74],[898,75,898,78],[899,73,899,74],[899,75,899,78],[900,73,900,74],[900,75,900,78],[883,73,883,74],[883,75,883,78],[884,73,884,74],[884,75,884,78],[885,75,885,78],[886,73,886,74],[886,75,886,78],[887,73,887,74],[887,75,887,78],[888,73,888,74],[888,75,888,78],[889,73,889,74],[889,75,889,78],[890,73,890,74],[890,75,890,78],[891,73,891,74],[891,75,891,78],[874,73,874,74],[874,75,874,78],[875,73,875,74],[875,75,875,78],[876,75,876,78],[877,73,877,74],[877,75,877,78],[878,73,878,74],[878,75,878,78],[879,73,879,74],[879,75,879,78],[880,73,880,74],[880,75,880,78],[881,73,881,74],[881,75,881,78],[882,73,882,74],[882,75,882,78],[865,73,865,74],[865,75,865,78],[866,73,866,74],[866,75,866,78],[867,75,867,78],[868,73,868,74],[868,75,868,78],[869,73,869,74],[869,75,869,78],[870,73,870,74],[870,75,870,78],[871,73,871,74],[871,75,871,78],[872,73,872,74],[872,75,872,78],[873,73,873,74],[873,75,873,78],[856,73,856,74],[856,75,856,78],[857,73,857,74],[857,75,857,78],[858,75,858,78],[859,73,859,74],[859,75,859,78],[860,73,860,74],[860,75,860,78],[861,73,861,74],[861,75,861,78],[862,73,862,74],[862,75,862,78],[863,73,863,74],[863,75,863,78],[864,73,864,74],[864,75,864,78],[847,73,847,74],[847,75,847,78],[848,73,848,74],[848,75,848,78],[849,75,849,78],[850,73,850,74],[850,75,850,78],[851,73,851,74],[851,75,851,78],[852,73,852,74],[852,75,852,78],[853,73,853,74],[853,75,853,78],[854,73,854,74],[854,75,854,78],[855,73,855,74],[855,75,855,78],[838,73,838,74],[838,75,838,78],[839,73,839,74],[839,75,839,78],[840,75,840,78],[841,73,841,74],[841,75,841,78],[842,73,842,74],[842,75,842,78],[843,73,843,74],[843,75,843,78],[844,73,844,74],[844,75,844,78],[845,73,845,74],[845,75,845,78],[846,73,846,74],[846,75,846,78],[829,73,829,74],[829,75,829,78],[830,73,830,74],[830,75,830,78],[831,75,831,78],[832,73,832,74],[832,75,832,78],[833,73,833,74],[833,75,833,78],[834,73,834,74],[834,75,834,78],[835,73,835,74],[835,75,835,78],[836,73,836,74],[836,75,836,78],[837,73,837,74],[837,75,837,78],[820,73,820,74],[820,75,820,78],[821,73,821,74],[821,75,821,78],[822,75,822,78],[823,73,823,74],[823,75,823,78],[824,73,824,74],[824,75,824,78],[825,73,825,74],[825,75,825,78],[826,73,826,74],[826,75,826,78],[827,73,827,74],[827,75,827,78],[828,73,828,74],[828,75,828,78],[811,73,811,74],[811,75,811,78],[812,73,812,74],[812,75,812,78],[813,75,813,78],[814,73,814,74],[814,75,814,78],[815,73,815,74],[815,75,815,78],[816,73,816,74],[816,75,816,78],[817,73,817,74],[817,75,817,78],[818,73,818,74],[818,75,818,78],[819,73,819,74],[819,75,819,78],[802,73,802,74],[802,75,802,78],[803,73,803,74],[803,75,803,78],[804,75,804,78],[805,73,805,74],[805,75,805,78],[806,73,806,74],[806,75,806,78],[807,73,807,74],[807,75,807,78],[808,73,808,74],[808,75,808,78],[809,73,809,74],[809,75,809,78],[810,73,810,74],[810,75,810,78],[793,73,793,74],[793,75,793,78],[794,73,794,74],[794,75,794,78],[795,75,795,78],[796,73,796,74],[796,75,796,78],[797,73,797,74],[797,75,797,78],[798,73,798,74],[798,75,798,78],[799,73,799,74],[799,75,799,78],[800,73,800,74],[800,75,800,78],[801,73,801,74],[801,75,801,78],[784,73,784,74],[784,75,784,78],[785,73,785,74],[785,75,785,78],[786,75,786,78],[787,73,787,74],[787,75,787,78],[788,73,788,74],[788,75,788,78],[789,73,789,74],[789,75,789,78],[790,73,790,74],[790,75,790,78],[791,73,791,74],[791,75,791,78],[792,73,792,74],[792,75,792,78],[775,73,775,74],[775,75,775,78],[776,73,776,74],[776,75,776,78],[777,73,777,74],[777,75,777,78],[778,73,778,74],[778,75,778,78],[779,73,779,74],[779,75,779,78],[780,73,780,74],[780,75,780,78],[781,73,781,74],[781,75,781,78],[782,73,782,74],[782,75,782,78],[783,73,783,74],[783,75,783,78],[766,73,766,74],[766,75,766,78],[767,73,767,74],[767,75,767,78],[768,73,768,74],[768,75,768,78],[769,73,769,74],[769,75,769,78],[770,73,770,74],[770,75,770,78],[771,73,771,74],[771,75,771,78],[772,73,772,74],[772,75,772,78],[773,73,773,74],[773,75,773,78],[774,73,774,74],[774,75,774,78],[757,73,757,74],[757,75,757,78],[758,73,758,74],[758,75,758,78],[759,73,759,74],[759,75,759,78],[760,73,760,74],[760,75,760,78],[761,73,761,74],[761,75,761,78],[762,73,762,74],[762,75,762,78],[763,73,763,74],[763,75,763,78],[764,73,764,74],[764,75,764,78],[765,73,765,74],[765,75,765,78],[749,73,749,74],[749,75,749,78],[750,73,750,74],[750,75,750,78],[751,73,751,74],[751,75,751,78],[752,73,752,74],[752,75,752,78],[753,73,753,74],[753,75,753,78],[754,73,754,74],[754,75,754,78],[755,73,755,74],[755,75,755,78],[756,73,756,74],[756,75,756,78],[738,73,738,74],[738,75,738,78],[739,73,739,74],[739,75,739,78],[740,73,740,74],[740,75,740,78],[741,73,741,74],[741,75,741,78],[742,73,742,74],[742,75,742,78],[743,73,743,74],[743,75,743,78],[744,73,744,74],[744,75,744,78],[745,73,745,74],[745,75,745,78],[733,73,733,74],[733,75,733,78],[734,73,734,74],[734,75,734,78],[735,73,735,74],[735,75,735,78],[736,73,736,74],[736,75,736,78],[718,73,718,74],[718,75,718,78],[719,73,719,74],[719,75,719,78],[720,73,720,74],[720,75,720,78],[721,73,721,74],[721,75,721,78],[722,73,722,74],[722,75,722,78],[723,73,723,74],[723,75,723,78],[724,73,724,74],[724,75,724,78],[725,73,725,74],[725,75,725,78],[727,73,727,74],[727,75,727,78],[708,73,708,74],[708,75,708,78],[709,73,709,74],[709,75,709,78],[710,73,710,74],[710,75,710,78],[711,73,711,74],[711,75,711,78],[712,73,712,74],[712,75,712,78],[713,73,713,74],[713,75,713,78],[714,73,714,74],[714,75,714,78],[716,73,716,74],[716,75,716,78],[717,73,717,74],[717,75,717,78],[698,73,698,74],[698,75,698,78],[699,73,699,74],[699,75,699,78],[700,73,700,74],[700,75,700,78],[701,73,701,74],[701,75,701,78],[702,73,702,74],[702,75,702,78],[703,73,703,74],[703,75,703,78],[705,73,705,74],[705,75,705,78],[706,73,706,74],[706,75,706,78],[707,73,707,74],[707,75,707,78],[688,73,688,74],[688,75,688,78],[689,73,689,74],[689,75,689,78],[690,73,690,74],[690,75,690,78],[691,73,691,74],[691,75,691,78],[692,73,692,74],[692,75,692,78],[694,73,694,74],[694,75,694,78],[695,73,695,74],[695,75,695,78],[696,73,696,74],[696,75,696,78],[697,73,697,74],[697,75,697,78],[679,73,679,74],[679,75,679,78],[680,73,680,74],[680,75,680,78],[681,73,681,74],[681,75,681,78],[682,73,682,74],[682,75,682,78],[683,73,683,74],[683,75,683,78],[684,73,684,74],[684,75,684,78],[685,73,685,74],[685,75,685,78],[686,73,686,74],[686,75,686,78],[687,73,687,74],[687,75,687,78],[670,73,670,74],[670,75,670,78],[671,73,671,74],[671,75,671,78],[672,73,672,74],[672,75,672,78],[673,73,673,74],[673,75,673,78],[674,73,674,74],[674,75,674,78],[675,73,675,74],[675,75,675,78],[676,73,676,74],[676,75,676,78],[677,73,677,74],[677,75,677,78],[678,73,678,74],[678,75,678,78],[661,73,661,74],[661,75,661,78],[662,73,662,74],[662,75,662,78],[663,73,663,74],[663,75,663,78],[664,73,664,74],[664,75,664,78],[665,73,665,74],[665,75,665,78],[666,73,666,74],[666,75,666,78],[667,73,667,74],[667,75,667,78],[668,73,668,74],[668,75,668,78],[669,73,669,74],[669,75,669,78],[652,73,652,74],[652,75,652,78],[653,73,653,74],[653,75,653,78],[654,73,654,74],[654,75,654,78],[655,73,655,74],[655,75,655,78],[656,73,656,74],[656,75,656,78],[657,73,657,74],[657,75,657,78],[658,73,658,74],[658,75,658,78],[659,73,659,74],[659,75,659,78],[660,73,660,74],[660,75,660,78],[678,69,678,72],[636,75,636,78],[637,73,637,74],[637,75,637,78],[638,73,638,74],[638,75,638,78],[639,73,639,74],[639,75,639,78],[640,73,640,74],[640,75,640,78],[641,73,641,74],[641,75,641,78],[642,73,642,74],[642,75,642,78],[643,73,643,74],[643,75,643,78],[644,73,644,74],[644,75,644,78],[645,73,645,74],[645,75,645,78]],"bounds":{"rows_first":250,"rows_last":62,"rows_between":250,"halvings":3},"merged_total":3212,"flags":["merged_cut"]}
[]
[null,null,null,null,null,null,null,null,null,null,"<< Légende _"]
[null,null,null,null,null,null,null,null,null,null,null,null,null,null,null,null,null,null,null,null,null,null,null,null,null,null,null,null,null,null,null,null,null,null,null,null,null,null,null,null,null,null,null,null,null,null,null,null,null,null,null,null,null,null,null,null,null,null,null,null,null,null,null,null,null,null,null,null,null,null,null,null,null,null,null,null,null,null,null,null,null,null,null,null,"Importants"]
["TROISIEME EDITION",null,null,null,null,null,null,null,null,null,null,"Cellules à compléter / Sélection à faire dans le menu déroulant",null,null,null,null,null,null,null,null,null,null,null,null,null,null,null,null,null,null,null,null,null,null,null,null,null,null,null,null,null,null,null,null,null,null,null,null,null,null,null,null,null,null,null,null,null,null,null,null,null,null,null,null,null,null,null,null,null,null,null,null,null,null,null,null,null,null,null,null,null,{"$f":"B93","v":0},{"$f":"IF(CD4=0,\"\",IF(CD4=1,\" Contact\",\" Contacts\"))","v":""},{"$f":"IF(CD4=0,\"\",CONCATENATE(CD4,CE4))","v":""},{"$f":"B98+B105","v":0},{"$f":"IF(CG4=0,\"\",IF(CG4=1,CONCATENATE(\" (dont \",CG4,\" important)\"),CONCATENATE(\" (dont \",CG4,\" importants)\")))","v":""},{"$f":"CONCATENATE(CH4,\", \")","v":", "},null,{"$f":"CONCATENATE(CF4,CI4,CF5,CI5,CF6,CI6,CF7,CI7)","v":", , ."}]
[null,null,null,null,null,null,null,null,null,null,null,null,null,null,null,null,null,null,null,null,null,null,null,null,null,null,null,null,null,null,null,null,null,null,null,null,null,null,null,null,null,null,null,null,null,null,null,null,null,null,null,null,null,null,null,null,null,null,null,null,null,null,null,null,null,null,null,null,null,null,null,null,null,null,null,null,null,null,null,null,null,{"$f":"F93+I93","v":0},{"$f":"IF(CD5=0,\"\",IF(CD5=1,\" Allié/Fournisseur\",\" Alliés/Fournisseurs\"))","v":""},{"$f":"IF(CD5=0,\"\",CONCATENATE(CD5,CE5))","v":""},{"$f":"F98+F105+I98+I105","v":0},{"$f":"IF(CG5=0,\"\",IF(CG5=1,CONCATENATE(\" (dont \",CG5,\" important)\"),CONCATENATE(\" (dont \",CG5,\" importants)\")))","v":""},{"$f":"CONCATENATE(CH5,\", \")","v":", "}]
[null,null,null,null,null,null,null,null,null,null,null,"Passer la souris au dessus de ce symbole pour afficher un commentaire",null,null,null,null,null,null,null,null,null,null,null,null,null,null,null,null,null,null,null,null,null,null,null,null,null,null,null,null,null,null,null,null,null,null,null,null,null,null,null,null,null,null,null,null,null,null,null,null,null,null,null,null,null,null,null,null,null,null,null,null,null,null,null,null,null,null,null,null,null,{"$f":"F71","v":0},{"$f":"IF(CD6=0,\"\",IF(CD6=1,\" Opposant\",\" Opposants\"))","v":""},"",null,null,{"$f":"IF(CD7=0,CONCATENATE(CH6,\".\"),CONCATENATE(CH6,\", \"))","v":"."}]
[null,null,null,null,null,null,null,null,null,null,null,null,null,null,null,null,null,null,null,null,null,null,null,null,null,null,null,null,null,null,null,null,null,null,null,null,null,null,null,null,null,null,null,null,null,null,null,null,null,null,null,null,null,null,null,null,null,null,null,null,null,null,null,null,null,null,null,null,null,null,null,null,null,null,null,null,null,null,null,null,null,{"$f":"F79","v":0},{"$f":"IF(CD7=0,\"\",IF(CD7=1,\" Ennemi\",\" Ennemis\"))","v":""},"",{"$f":"H77+H79","v":0},{"$f":"IF(CG7=0,\"\",IF(CG7=1,CONCATENATE(\" (dont \",CG7,\" important)\"),CONCATENATE(\" (dont \",CG7,\" importants)\")))","v":""},{"$f":"IF(CD7=0,\"\",CONCATENATE(CH7,\".\"))","v":""}]
[null,null,null,null,null,null,null,null,null,null,null,null,null,null,null,null,null,null,null,null,null,null,null,null,null,null,null,null,null,null,null,null,null,null,null,null,null,null,null,null,null,null,null,null,"Etudes supérieures",null,{"$f":"EXPERIENCE_PRELIMINAIRE!CR3","v":"Sans profession"},"Bonus Avantages aléatoires + Célébrité/an","Total profession 1",null,{"$f":"EXPERIENCE_PRELIMINAIRE!DD3","v":"Sans profession"},"Bonus Avantages aléatoires + Célébrité/an","Total profession 2",null,{"$f":"EXPERIENCE_PRELIMINAIRE!DP3","v":"Sans profession"},"Bonus Avantages aléatoires + Célébrité/an","Total profession 3",null,{"$f":"EXPERIENCE_PRELIMINAIRE!EB3","v":"Sans profession"},"Bonus Avantages aléatoires + Célébrité/an","Total profession 4",null,"TOTAL"]
[null,null,null,null,null,null,null,null,null,null,null,null,null,null,null,null,null,null,null,null,null,null,null,null,null,null,null,null,null,null,null,null,null,null,null,null,null,null,null,null,null,null,null,null,null,null,null,null,null,null,null,null,null,null,null,null,null,null,null,null,null,null,null,null,null,null,null,null,null,null,null,null,null,null,null,null,null,null,null,null,null,null,"Altéré",null,null,null,null,null,"Avantages pro"]
[null,null,null,null,null,null,null,null,null,null,null,null,null,null,null,null,null,null,null,null,null,null,null,null,null,null,null,null,null,null,null,null,null,null,null,null,null,null,null,null,null,null,null,null,null,null,null,null,null,null,null,null,null,null,null,null,null,null,null,null,null,null,null,null,null,null,null,null,null,null,null,null,null,null,null,null,null,null,null,null,null,null,{"$f":"IF(BX70=\"Nouvelle évolution\",\"\",CONCATENATE(BX70,\", \"))","v":""},{"$f":"IF(CE10=\"\",\"\",\"Evolution [\")","v":""},null,{"$f":"CONCATENATE(CF10,CE10,CE11,CE12,CE13,CE14,CE15,CE16,CE17,CE18,CE19,CE20,CE21,CE22,CE23,CE24,CE25,CE26,CE27,CE28,CE29,CF29)","v":""},null,null,"Célébrité",{"$f":"IF(L67+L69=0,\"\",CONCATENATE(CK10,\" (\",L67+L69,\" points), \"))","v":""},null,"Artefacts",{"$f":"IF(BK51=0,\"\",CONCATENATE(CK11,\" (\",BK51,\" points), \"))","v":""},null,{"$f":"CONCATENATE(CL10,CL11,CL12,CL13,CL14,CL15,CL16,CL17,CL18,CL19,CL20,CL21,CL22,CL23,CL24,CL25,CL26,CL27,CL28,CO10,CO11,CO13,CO14,CO15,CO16,CO17,CO18,CO20,CO21,CO23,CO28)","v":"Parcelles d'élevage/cultures (4 points), "}]
[null,null,null,null,null,null,null,null,null,null,null,null,null,null,null,null,null,null,null,null,null,null,null,null,null,null,null,null,null,null,null,null,null,null,null,null,null,null,null,null,null,null,null,null,null,null,null,null,null,null,null,null,null,null,null,null,null,null,null,null,null,null,null,null,null,null,null,null,null,null,null,null,null,null,null,null,null,null,null,null,null,null,{"$f":"IF(BX71=\"Nouvelle évolution\",\"\",CONCATENATE(BX71,\", \"))","v":""},null,null,null,null,null,"Art/Artisanat",{"$f":"IF(BK33=0,\"\",CONCATENATE(CK11,\" (\",BK33,\" points), \"))","v":""},null,"Conscience du Flux",{"$f":"IF(BK52=0,\"\",CONCATENATE(CK12,\" (\",BK52,\" points), \"))","v":""}]
[null,"PC base",null,null,{"$f":"ATTRIBUTS!D23","v":20},null,null,null,null,null,null,null,null,null,null,null,null,null,null,null,null,null,null,null,null,null,null,null,null,null,null,null,null,null,null,null,null,null,null,null,null,null,null,null,null,null,null,null,null,null,null,null,null,null,null,null,null,null,null,null,null,null,null,null,null,null,null,null,null,null,null,null,null,null,null,null,null,null,null,null,null,null,"",null,null,null,null,null,"Ateliers",{"$f":"IF(BK34=0,\"\",CONCATENATE(CK12,\" (\",BK34,\" points), \"))","v":""}]
[null,"PC Attributs",null,null,{"$f":"ATTRIBUTS!D24","v":0},null,null,null,null,null,null,null,null,null,null,null,null,null,null,null,null,null,null,null,null,null,null,null,null,null,null,null,null,null,null,null,null,null,null,null,null,null,null,null,null,null,null,null,null,null,null,null,null,null,null,null,null,null,null,null,null,null,null,null,null,null,null,null,null,null,null,null,null,null,null,null,null,null,null,null,null,null,"",null,null,null,null,null,"Assemblage","",null,"Larves de connaissance",{"$f":"IF(BK54=0,\"\",CONCATENATE(CK14,\" (\",BK54,\" points), \"))","v":""}]
[null,"PC Type génétique",null,null,{"$f":"ATTRIBUTS!D25","v":0},null,null,null,null,null,null,null,"Officiers",null,null,null,null,null,null,null,null,null,null,null,null,null,null,null,null,null,null,null,null,null,null,null,null,null,null,null,null,null,null,null,null,null,null,null,null,null,null,null,null,null,null,null,null,null,null,null,null,null,null,null,null,null,null,null,null,null,null,null,null,null,null,null,null,null,null,null,null,null,"",null,null,null,null,null,"Base de données","",null,"Larves de vision",""]
[null,"PC Capacités spé.",null,null,{"$f":"ATTRIBUTS!D26","v":0},null,null,null,null,null,null,null,null,null,null,null,null,null,null,null,null,null,null,null,null,null,null,null,null,null,null,null,null,null,null,null,null,null,null,null,null,null,null,null,null,null,null,null,null,null,null,null,null,null,null,null,null,null,null,null,null,null,null,null,null,null,null,null,null,null,null,null,null,null,null,null,null,null,null,null,null,null,"",null,null,null,null,null,"Bar","",null,"Lien espèce",""]
[null,"PC Exp. préliminaire",null,null,{"$f":"EXPERIENCE_PRELIMINAIRE!E15","v":0},null,null,null,null,null,null,null,null,null,null,null,null,null,null,null,null,null,null,null,null,null,null,null,null,null,null,null,null,null,null,null,null,null,null,null,null,null,null,null,null,null,null,null,null,null,null,null,null,null,null,null,null,null,null,null,null,null,null,null,null,null,null,null,null,null,null,null,null,null,null,null,null,null,null,null,null,null,"",null,null,null,null,null,"Cabine privée","",null,"Murmure du monde",""]
[null,"PC Avantages/Desav.",null,null,{"$f":"ATTRIBUTS!D28","v":0},null,null,null,null,null,null,null,null,null,null,null,null,null,null,null,null,null,null,null,null,null,null,null,null,null,null,null,null,null,null,null,null,null,null,null,null,null,null,null,null,null,null,null,null,null,null,null,null,null,null,null,null,null,null,null,null,null,null,null,null,null,null,null,null,null,null,null,null,null,null,null,null,null,null,null,null,null,"",null,null,null,null,null,"Cabinets médicaux","",null,"Protection de la surface",""]
[null,"PC restants",null,null,{"$f":"E12-E13-E14-E15-E16-E17","v":20},null,null,null,null,null,null,null,null,null,null,null,null,null,null,null,null,null,null,null,null,null,null,null,null,null,null,null,null,null,null,null,null,null,null,null,null,null,null,null,null,null,null,null,null,null,null,null,null,null,null,null,null,null,null,null,null,null,null,null,null,null,null,null,null,null,null,null,null,null,null,null,null,null,null,null,null,null,"",null,null,null,null,null,"Concession minières","",null,"Renforcement du lien animal",""]
[null,null,null,null,{"$f":"IF(E18<0,\"ERREUR\",\"\")","v":""},null,null,null,null,null,null,null,null,null,null,null,null,null,null,null,null,null,null,null,null,null,null,null,null,null,null,null,null,null,null,null,null,null,null,null,null,null,null,null,null,null,null,null,null,null,null,null,null,null,null,null,null,null,null,null,null,null,null,null,null,null,null,null,null,null,null,null,null,null,null,null,null,null,null,null,null,null,"",null,null,null,null,null,"Corruption/Chantage",""]
[null,null,null,null,null,null,null,null,null,null,null,null,null,"Pts","Avantages","Résultat",null,"Nom du",null,"Description du",null,null,null,"Refus de la",null,"Refus du",null,"Revers",null,null,null,null,null,null,null,"Reduc. endettement",null,null,null,null,null,null,null,null,null,null,null,null,null,null,null,null,null,null,null,null,null,null,null,null,null,null,null,null,null,null,null,null,null,null,null,null,null,null,null,null,null,null,null,null,null,null,"",null,null,null,null,null,"Etal/Boutique","",null,"Technique de combat",{"$f":"IF(E115=\"\",\"\",CONCATENATE(CN20,\" (\",E115,\" \",I115,\"), \"))","v":""}]
[null,null,null,null,"Profession",null,null,null,null,"Année n°","Economies","Bonus 1","Bonus 2","Av. Pro.","Aléatoires","1D10",null,"Résultat",null,"Résultat",null,null,null,"Proposition","Revers","Revers",null,"Auto.",null,null,null,null,"DE CLASSE","COUT",null,"Pts","1D10","%",null,null,null,null,null,null,null,null,null,null,null,null,null,null,null,null,null,null,null,null,null,null,null,null,null,null,null,null,null,null,null,null,null,null,null,null,null,null,null,null,null,null,null,null,"",null,null,null,null,null,"Falsification","",null,"Technique de combat",{"$f":"IF(E116=\"\",\"\",CONCATENATE(CN21,\" (\",E116,\" \",I116,\"), \"))","v":""}]
[null,"Année pro.",1,{"$f":"IF(C22<($CD$63+1),1,IF((C22-$CD$63)<($CE$63+1),2,IF((C22-$CD$63-$CE$63)<($CF$63+1),3,IF((C22-$CD$63-$CE$63-$CF$63)<($CG$63+1),4,0))))","v":0},{"$f":"IF(D22=1,$CD$62,IF(D22=2,$CE$62,IF(D22=3,$CF$62,IF(D22=4,$CG$62,\"Sans profession\"))))","v":"Sans profession"},null,null,null,null,{"$f":"IF(E22=\"Sans profession\",0,1)","v":0},{"$f":"IF(Z22=\"Oui\",0,IF(J22=0,0,VLOOKUP(E22,$BR$165:$EF$243,(34+J22),)))","v":0},0,0,{"$f":"IF(J22=0,0-AH22,IF(Z22=\"Oui\",0-AH22,Q22+AA22-AH22))","v":0},"Non",1,{"$f":"IF(O22=\"Non\",5,IF(P22=10,7,0))","v":5},{"$f":"IF($O22=\"Oui\",VLOOKUP(CONCATENATE($E22,\" \",$P22,$X22),$BR$246:$BW$1034,5,),\"\")","v":""},null,{"$f":"IF($O22=\"Oui\",VLOOKUP(CONCATENATE($E22,\" \",$P22,$X22),$BR$246:$BX$1034,7,),\"\")","v":""},null,null,null,null,"Non","Non",{"$f":"IF(Y22=\"Oui\",5,0)","v":0},{"$f":"IF(C22>10,IF(AND($H$56=\"Oui\",MOD(C22-10,3)=0),\"Revers\",\"\"),\"\")","v":""},{"$f":"IF(D22=1,N22,0)","v":0},{"$f":"IF(D22=2,N22,0)","v":0},{"$f":"IF(D22=3,N22,0)","v":0},{"$f":"IF(D22=4,N22,0)","v":0},{"$f":"VLOOKUP(E22,$BR$165:$FA$243,88,)","v":0},{"$f":"IF(AND(AG22=0,AJ22=1),1,0)","v":0},{"$f":"IF(N22<0,\"ERREUR\",\"\")","v":""},0,1,{"$f":"IF(AND(AG22=1,AJ22=0),ROUNDUP(AK22/2,0),IF(AND(AG22=0,AJ22=1),ROUNDUP(AK22/2,0),0))","v":0},null,null,"Avantages/Désavantages auto.",null,null,null,null,null,null,null,null,null,null,null,null,null,null,null,null,null,null,null,null,null,null,null,null,null,null,null,null,null,null,null,null,null,null,null,null,null,null,null,null,null,"",null,null,null,null,null,"Fausses identités",""]
[null,"Année pro.",2,0,"Sans profession",null,null,null,null,{"$f":"IF(GA253=1,6,IF(FU253=1,J22+1,IF(E23=\"Sans profession\",0,IF(E23=E22,J22+1,1))))","v":0},0,0,0,{"$f":"IF(J23=0,0-AH23,IF(Z23=\"Oui\",0-AH23,Q23+AA23-AH23))","v":0},"Non",1,{"$f":"IF(O23=\"Non\",5,IF(P23=10,7,0))","v":5},"",null,"",null,null,null,null,"Non","Non",0,"",{"$f":"IF(D23=1,N23,0)","v":0},{"$f":"IF(D23=2,N23,0)","v":0},{"$f":"IF(D23=3,N23,0)","v":0},{"$f":"IF(D23=4,N23,0)","v":0},0,{"$f":"IF(AND(AG23=0,AJ23=1),1,0)","v":0},{"$f":"IF(N23<0,\"ERREUR\",\"\")","v":""},0,1,{"$f":"IF(AND(AG23=1,AJ23=0),ROUNDUP(AK23/2,0),IF(AND(AG23=0,AJ23=1),ROUNDUP(AK23/2,0),0))","v":0},null,null,null,null,"Contacts",null,null,null,{"$f":"ROUNDDOWN((VLOOKUP($AU$8,$BR$165:$EF$243,65,))*EXPERIENCE_PRELIMINAIRE!$CR$16,0)","v":0},{"$f":"HLOOKUP($AQ23,$CO$1036:$DM$1145,28,)","v":0},{"$f":"AU23+AV23","v":0},null,{"$f":"GD262","v":0},{"$f":"HLOOKUP($AQ23,$CO$1036:$DM$1145,55,)","v":0},{"$f":"AY23+AZ23","v":0},null,{"$f":"GF262","v":0},{"$f":"HLOOKUP($AQ23,$CO$1036:$DM$1145,82,)","v":0},{"$f":"BC23+BD23","v":0},null,{"$f":"GH262","v":0},{"$f":"HLOOKUP($AQ23,$CO$1036:$DM$1145,109,)","v":0},{"$f":"BG23+BH23","v":0},null,{"$f":"AW23+BA23+BE23+BI23","v":0},null,null,null,null,null,null,null,null,null,null,null,null,null,null,null,null,null,null,null,"",null,null,null,null,null,"Matériel","",null,"Niveaux de fragments Maîtres",{"$f":"IF(E134+E135=0,\"\",CONCATENATE(CN23,\" \",E134+E135,\", \"))","v":""}]
[null,"Année pro.",3,0,"Sans profession",null,null,null,null,0,0,0,0,0,"Non",1,5,"",null,"",null,null,null,null,"Non","Non",0,"",0,0,0,0,0,0,"",0,1,0,null,null,null,null,"Alliés/Fournisseurs",null,null,null,{"$f":"ROUNDDOWN((VLOOKUP($AU$8,$BR$165:$EF$243,66,))*EXPERIENCE_PRELIMINAIRE!$CR$16,0)","v":0},{"$f":"HLOOKUP(\"Alliés\",$CO$1036:$DM$1145,28,)","v":0},{"$f":"AU24+AV24","v":0},null,{"$f":"GD269","v":0},{"$f":"HLOOKUP(\"Alliés\",$CO$1036:$DM$1145,55,)","v":0},{"$f":"AY24+AZ24","v":0},null,{"$f":"GF269","v":0},{"$f":"HLOOKUP(\"Alliés\",$CO$1036:$DM$1145,82,)","v":0},{"$f":"BC24+BD24","v":0},null,{"$f":"GH269","v":0},{"$f":"HLOOKUP(\"Alliés\",$CO$1036:$DM$1145,109,)","v":0},{"$f":"BG24+BH24","v":0},null,{"$f":"AW24+BA24+BE24+BI24","v":0},null,null,null,null,null,null,null,null,null,null,null,null,null,null,null,null,null,null,null,"",null,null,null,null,null,"Parcelles d'élevage/cultures","Parcelles d'élevage/cultures (4 points), "]
[null,"Année pro.",4,0,"Sans profession",null,null,null,null,0,0,0,0,0,"Non",1,5,"",null,"",null,null,null,null,"Non","Non",0,"",0,0,0,0,0,0,"",0,1,0,null,null,null,null,"Allié améliorable : Groupe/Gang",null,null,null,null,{"$f":"HLOOKUP($AQ25,$CO$1036:$DM$1145,28,)","v":0},{"$f":"AU25+AV25","v":0},null,null,{"$f":"HLOOKUP($AQ25,$CO$1036:$DM$1145,55,)","v":0},{"$f":"AY25+AZ25","v":0},null,null,{"$f":"HLOOKUP($AQ25,$CO$1036:$DM$1145,82,)","v":0},{"$f":"BC25+BD25","v":0},null,null,{"$f":"HLOOKUP($AQ25,$CO$1036:$DM$1145,109,)","v":0},{"$f":"BG25+BH25","v":0},null,{"$f":"AW25+BA25+BE25+BI25","v":0},null,null,null,null,null,null,null,null,null,null,null,null,null,null,null,null,null,null,null,"",null,null,null,null,null,"Pharmacie personnelle",""]
[null,"Année pro.",5,0,"Sans profession",null,null,null,null,0,0,{"$f":"IF(D26=1,(K26*CC1037),IF(D26=2,(K26*CC1064),IF(D26=3,(K26*CC1091),IF(D26=4,(K26*CC1118),0))))","v":0},{"$f":"IF(D26=1,(K26+L26)*CB1037,IF(D26=2,(K26+L26)*CB1064,IF(D26=3,(K26+L26)*CB1091,IF(D26=4,(K26+L26)*CB1118,0))))","v":0},0,"Non",1,5,"",null,{"$f":"IF($O26=\"Oui\",VLOOKUP(CONCATENATE($E26,\" \",$P26,$X26),$BR$246:$BX$1034,7,),\"\")","v":""},null,null,null,null,"Non","Non",0,"",0,0,0,0,0,0,"",0,1,0,null,null,null,null,"Opposants",null,null,null,{"$f":"ROUNDDOWN((VLOOKUP($AU$8,$BR$165:$EF$243,67,))*EXPERIENCE_PRELIMINAIRE!$CR$16,0)","v":0},{"$f":"HLOOKUP($AQ26,$CO$1036:$DM$1145,28,)","v":0},{"$f":"AU26+AV26","v":0},null,{"$f":"GD276","v":0},{"$f":"HLOOKUP($AQ26,$CO$1036:$DM$1145,55,)","v":0},{"$f":"AY26+AZ26","v":0},null,{"$f":"GF276","v":0},{"$f":"HLOOKUP($AQ26,$CO$1036:$DM$1145,82,)","v":0},{"$f":"BC26+BD26","v":0},null,{"$f":"GH276","v":0},{"$f":"HLOOKUP($AQ26,$CO$1036:$DM$1145,109,)","v":0},{"$f":"BG26+BH26","v":0},null,{"$f":"AW26+BA26+BE26+BI26","v":0},null,null,null,null,null,null,null,null,null,null,null,null,null,null,null,null,null,null,null,"",null,null,null,null,null,"Planque/cache",""]
[null,"Année pro.",6,0,"Sans profession",null,null,null,null,0,0,0,0,0,"Non",1,5,"",null,"",null,null,null,null,"Non","Non",0,"",0,0,0,0,0,0,"",0,1,0,null,null,null,null,"Ennemis",null,null,null,null,{"$f":"HLOOKUP($AQ27,$CO$1036:$DM$1145,28,)","v":0},{"$f":"AU27+AV27","v":0},null,null,{"$f":"HLOOKUP($AQ27,$CO$1036:$DM$1145,55,)","v":0},{"$f":"AY27+AZ27","v":0},null,null,{"$f":"HLOOKUP($AQ27,$CO$1036:$DM$1145,82,)","v":0},{"$f":"BC27+BD27","v":0},null,null,{"$f":"HLOOKUP($AQ27,$CO$1036:$DM$1145,109,)","v":0},{"$f":"BG27+BH27","v":0},null,{"$f":"AW27+BA27+BE27+BI27","v":0},null,null,null,null,null,null,null,null,null,null,null,null,null,null,null,null,null,null,null,"",null,null,null,null,null,"Réseau de contrebande",""]
[null,"Année pro.",7,0,"Sans profession",null,null,null,null,0,0,0,0,0,"Non",1,5,"",null,"",null,null,null,null,"Non","Non",0,"",0,0,0,0,0,0,"",0,1,0,null,null,"Avantages professionnels",null,null,null,null,null,null,null,null,null,null,null,null,null,null,null,null,null,null,null,null,null,null,{"$f":"IF(AU26<0,\"ERREUR\",IF(AY26<0,\"ERREUR\",IF(BC26<0,\"ERREUR\",IF(BG26<0,\"ERREUR\",\" \"))))","v":" "},null,null,null,null,null,null,null,null,null,null,null,null,null,null,null,null,null,null,"",null,null,null,null,null,"Stock de marchandises","",null,"Discipline + ",{"$f":"IF(Y121=0,\"\",CONCATENATE(CN28,Y121,\", \"))","v":""}]
[null,"Année pro.",8,0,"Sans profession",null,null,null,null,0,0,0,0,0,"Non",1,5,"",null,"",null,null,null,null,"Non","Non",0,"",0,0,0,0,0,0,"",0,1,0,null,null,null,null,"Poins disponibles",null,null,"*",{"$f":"AC52-MJ_EXPERIENCE!E47-FR300-FR322","v":0},null,null,"*",{"$f":"AD52-MJ_EXPERIENCE!E48-FS300-FS322","v":0},null,null,"*",{"$f":"AE52-MJ_EXPERIENCE!E49-FT300-FT322","v":0},null,null,"*",{"$f":"AF52-MJ_EXPERIENCE!E50-FU300-FU322","v":0},null,null,null,null,null,null,null,null,null,null,null,null,null,null,null,null,null,null,null,null,null,null,null,"",{"$f":"IF(CE10=\"\",\"\",\"] ,\")","v":""}]
[null,"Année pro.",9,0,"Sans profession",null,null,null,null,0,0,0,0,0,"Non",1,5,"",null,"",null,null,null,null,"Non","Non",0,"",0,0,0,0,0,0,"",0,1,0,null,null,null,null,"Poins restants",null,null,null,{"$f":"AU29-SUM(AU31:AU59)","v":-4},null,null,null,{"$f":"AY29-SUM(AY31:AY59)","v":0},null,null,null,{"$f":"BC29-SUM(BC31:BC59)","v":0},null,null,null,{"$f":"BG29-SUM(BG31:BG59)","v":0}]
[null,"Année pro.",10,0,"Sans profession",null,null,null,null,0,0,0,0,0,"Non",1,5,"",null,"",null,null,null,null,"Non","Non",0,"",0,0,0,0,0,0,"",0,1,0,null,null,null,null,"Célébrité (points)",null,{"$f":"EXPERIENCE_PRELIMINAIRE!BC16+EXPERIENCE_PRELIMINAIRE!BM16+EXPERIENCE_PRELIMINAIRE!BW16+EXPERIENCE_PRELIMINAIRE!CG16","v":0},null,0,{"$f":"CD63+HLOOKUP($AQ31,$CO$1036:$DM$1145,28,)","v":0},{"$f":"AU31+AV31","v":0},null,0,{"$f":"CE63+HLOOKUP($AQ31,$CO$1036:$DM$1145,55,)","v":0},{"$f":"AY31+AZ31","v":0},null,0,{"$f":"CF63+HLOOKUP($AQ31,$CO$1036:$DM$1145,82,)","v":0},{"$f":"BC31+BD31","v":0},null,0,{"$f":"CG63+HLOOKUP($AQ31,$CO$1036:$DM$1145,109,)","v":0},{"$f":"BG31+BH31","v":0},null,{"$f":"AS31+AW31+BA31+BE31+BI31","v":0},null,null,null,null,null,null,null,null,null,null,null,null,null,null,null,null,null,null,{"$f":"VLOOKUP(AU$8,$BR$165:$FJ$243,CH31,)","v":0},{"$f":"VLOOKUP(AY$8,$BR$165:$FJ$243,CH31,)","v":0},{"$f":"VLOOKUP(BC$8,$BR$165:$FJ$243,CH31,)","v":0},{"$f":"VLOOKUP(BG$8,$BR$165:$FJ$243,CH31,)","v":0},68,null,null,0,null,"conscience","flux",null,"Lien d'espère",null,null,"comp",null,"larves conn",null,null,null,null,null,null,"Description des avantages pro aléatoire"]
[null,"Année pro.",11,0,"Sans profession",null,null,null,null,0,0,0,0,0,"Non",1,5,"",null,"",null,null,null,null,"Non","Non",0,"",0,0,0,0,0,0,"",0,1,0,null,null,null,null,"Relations",null,null,null,0,{"$f":"HLOOKUP($AQ32,$CO$1036:$DM$1145,28,)","v":0},{"$f":"AU32+AV32","v":0},null,0,{"$f":"HLOOKUP($AQ32,$CO$1036:$DM$1145,55,)","v":0},{"$f":"AY32+AZ32","v":0},null,0,{"$f":"HLOOKUP($AQ32,$CO$1036:$DM$1145,82,)","v":0},{"$f":"BC32+BD32","v":0},null,0,{"$f":"HLOOKUP($AQ32,$CO$1036:$DM$1145,109,)","v":0},{"$f":"BG32+BH32","v":0},null,{"$f":"AW32+BA32+BE32+BI32","v":0},null,null,null,null,null,null,null,null,null,null,null,null,null,null,null,null,null,null,0,0,0,0,69,null,null,1,null,0,0,null,0,0,null,0,null,{"$f":"IF(BR73=0,0,1)","v":0},null,null,null,null,{"$f":"IF(T26=\"\",\"\",IF(T26=\".\",\"\",CONCATENATE(T26,\" ; \")))","v":""},null,{"$f":"CONCATENATE(\"Faits marquants professionnels (Avantages pro. aléatoires) : \",CZ32,CZ33,CZ34,CZ35,CZ36,CZ37,CZ38,CZ39,CZ40,CZ41,CZ42,CZ43,CZ44,CZ45,CZ46,CZ47,CZ48,CZ49,CZ50,CZ51,CZ52,CZ53,CZ54,CZ55,CZ56,CZ57)","v":"Faits marquants professionnels (Avantages pro. aléatoires) : "}]
[null,"Année pro.",12,0,"Sans profession",null,null,null,null,0,0,0,0,0,"Non",1,5,"",null,"",null,null,null,null,"Non","Non",0,"",0,0,0,0,0,0,"",0,1,0,null,null,null,null,"Art/Artisanat",null,null,null,0,0,{"$f":"AU33+AV33","v":0},null,0,0,{"$f":"AY33+AZ33","v":0},null,0,0,{"$f":"BC33+BD33","v":0},null,0,0,{"$f":"BG33+BH33","v":0},null,{"$f":"AW33+BA33+BE33+BI33","v":0},null,null,null,null,null,null,null,null,null,null,null,null,null,null,null,null,null,null,0,0,0,0,70,null,null,2,null,1,1,null,1,1,null,1,null,null,null,null,null,null,{"$f":"IF(T27=\"\",\"\",IF(T27=\".\",\"\",CONCATENATE(T27,\" ; \")))","v":""}]
[null,"Année pro.",13,0,"Sans profession",null,null,null,null,0,0,0,0,0,"Non",1,5,"",null,"",null,null,null,null,"Non","Non",0,"",0,0,0,0,0,0,"",0,1,0,null,null,null,null,"Ateliers",null,null,null,0,0,{"$f":"AU34+AV34","v":0},null,0,0,{"$f":"AY34+AZ34","v":0},null,0,0,{"$f":"BC34+BD34","v":0},null,0,0,{"$f":"BG34+BH34","v":0},null,{"$f":"AW34+BA34+BE34+BI34","v":0},null,null,null,null,null,null,null,null,null,null,null,null,null,null,null,null,null,null,0,0,0,0,71,null,null,3,null,2,{"$f":"CN33+CM34","v":3},null,2,{"$f":"CQ33+CP34","v":3},null,2,null,{"$f":"IF(BR75=0,0,1)","v":0},null,null,null,null,""]
[null,"Année pro.",14,0,"Sans profession",null,null,null,null,0,0,0,0,0,"Non",1,5,"",null,"",null,null,null,null,"Non","Non",0,"",0,0,0,0,0,0,"",0,1,0,null,null,null,null,"Assemblage",null,null,null,0,0,{"$f":"AU35+AV35","v":0},null,0,0,{"$f":"AY35+AZ35","v":0},null,0,0,{"$f":"BC35+BD35","v":0},null,0,0,{"$f":"BG35+BH35","v":0},null,{"$f":"AW35+BA35+BE35+BI35","v":0},null,null,null,null,null,null,null,null,null,null,null,null,null,null,null,null,null,null,0,0,0,0,72,null,null,4,null,3,{"$f":"CN34+CM35","v":6},null,3,{"$f":"CQ34+CP35","v":6},null,3,null,null,null,null,null,null,""]
[null,"Année pro.",15,0,"Sans profession",null,null,null,null,0,0,0,0,0,"Non",1,5,"",null,"",null,null,null,null,"Non","Non",0,"",0,0,0,0,0,0,"",0,1,0,null,null,null,null,"Base de données (points)",null,null,null,0,0,0,null,0,0,0,null,0,0,0,null,0,0,0,null,0,null,null,null,null,null,null,null,null,null,null,null,null,null,null,null,null,null,null,0,0,0,0,73,null,null,5,null,4,10,null,4,10,null,4,null,0,null,null,null,null,""]
[null,"Année pro.",16,0,"Sans profession",null,null,null,null,0,0,0,0,0,"Non",1,5,"",null,"",null,null,null,null,"Non","Non",0,"",0,0,0,0,0,0,"",0,1,0,null,null,null,null,"Bar",null,null,null,0,0,0,null,0,0,0,null,0,0,0,null,0,0,0,null,0,null,null,null,null,null,null,null,null,null,null,null,null,null,null,null,null,null,null,0,0,0,0,74,null,null,null,null,"CdF 1",{"$f":"VLOOKUP(BO71,CM32:CN36,2)","v":0},null,5,15,null,5,null,null,null,null,null,null,""]
[null,"Année pro.",17,0,"Sans profession",null,null,null,null,0,0,0,0,0,"Non",1,5,"",null,"",null,null,null,null,"Non","Non",0,"",0,0,0,0,0,0,"",0,1,0,null,null,null,null,"Cabine privée (points)",null,null,null,0,0,0,null,0,0,0,null,0,0,0,null,0,0,0,null,0,null,null,null,null,null,null,null,null,null,null,null,null,null,null,null,null,null,null,0,0,0,0,75,null,null,null,null,"CdF 2",{"$f":"VLOOKUP(BO75,CM32:CN36,2)","v":0},null,6,21,null,6,null,0,null,null,null,null,""]
[null,"Année pro.",18,0,"Sans profession",null,null,null,null,0,0,0,0,0,"Non",1,5,"",null,"",null,null,null,null,"Non","Non",0,"",0,0,0,0,0,0,"",0,1,0,null,null,null,null,"Cabinets médicaux",null,null,null,0,0,0,null,0,0,0,null,0,0,0,null,0,0,0,null,0,null,null,null,null,null,null,null,null,null,null,null,null,null,null,null,null,null,null,0,0,0,0,76,null,null," ",null,"CdF 3",{"$f":"VLOOKUP(BO79,CM32:CN36,2)","v":0},null,7,28,null,7,null,null,null,null,null,null,""]
[null,"Année pro.",19,0,"Sans profession",null,null,null,null,0,0,0,0,0,"Non",1,5,"",null,"",null,null,null,null,"Non","Non",0,"",0,0,0,0,0,0,"",0,1,0,null,null,null,null,"Concession minières",null,null,null,0,0,0,null,0,0,0,null,0,0,0,null,0,0,0,null,0,null,null,null,null,null,null,null,null,null,null,null,null,null,null,null,null,null,null,0,0,0,0,77,null,null,"Oui",null,"TOTAL",{"$f":"SUM(CN37:CN39)","v":0},null,8,36,null,8,null,0,null,null,null,null,""]
[null,"Année pro.",20,0,"Sans profession",null,null,null,null,0,0,0,0,0,"Non",1,5,"",null,"",null,null,null,null,"Non","Non",0,"",0,0,0,0,0,0,"",0,1,0,null,null,null,null,"Corruption/Chantage (points)",null,null,null,0,0,0,null,0,0,0,null,0,0,0,null,0,0,0,null,0,null,null,null,null,null,null,null,null,null,null,null,null,null,null,null,null,null,null,0,0,0,0,78,null,null,"Non",null,null,null,null,9,45,null,9,null,null,null,null,null,null,""]
[null,"Année pro.",21,0,"Sans profession",null,null,null,null,0,0,0,0,0,"Non",1,5,"",null,"",null,null,null,null,"Non","Non",0,"",0,0,0,0,0,0,"",0,1,0,null,null,null,null,"Etal/Boutique",null,null,null,0,0,0,null,0,0,0,null,0,0,0,null,0,0,0,null,0,null,null,null,null,null,null,null,null,null,null,null,null,null,null,null,null,null,null,0,0,0,0,79,null,null,null,null,null,null,null,10,55,null,10,null,{"$f":"SUM(CU31:CU40)","v":0},null,null,null,null,""]
[null,"Année pro.",22,0,"Sans profession",null,null,null,null,0,0,0,0,0,"Non",1,5,"",null,"",null,null,null,null,"Non","Non",0,"",0,0,0,0,0,0,"",0,1,0,null,null,null,null,"Falsification (points)",null,null,null,0,0,0,null,0,0,0,null,0,0,0,null,0,0,0,null,0,null,null,null,null,null,null,null,null,null,null,null,null,null,null,null,null,null,null,0,0,0,0,80,null,null,null,null,null,null,null,"LE 1",{"$f":"VLOOKUP(BL93,$CP$32:$CQ$42,2)","v":0},null,11,null,null,null,null,null,null,""]
[null,"Année pro.",23,0,"Sans profession",null,null,null,null,0,0,0,0,0,"Non",1,5,"",null,"",null,null,null,null,"Non","Non",0,"",0,0,0,0,0,0,"",0,1,0,null,null,null,null,"Fausses identités (points)",null,null,null,0,0,0,null,0,0,0,null,0,0,0,null,0,0,0,null,0,null,null,null,null,null,null,null,null,null,null,null,null,null,null,null,null,null,null,0,0,0,0,81,null,null,null,null,null,null,null,"LE 2",{"$f":"VLOOKUP(BL95,$CP$32:$CQ$42,2)","v":0},null,12,null,null,null,null,null,null,""]
[null,"Année pro.",24,0,"Sans profession",null,null,null,null,0,0,0,0,0,"Non",1,5,"",null,"",null,null,null,null,"Non","Non",0,"",0,0,0,0,0,0,"",0,1,0,null,null,null,null,"Matériel",null,null,null,0,0,0,null,0,0,0,null,0,0,0,null,0,0,0,null,0,null,null,null,null,null,null,null,null,null,null,null,null,null,null,null,null,null,null,0,0,0,0,82,null,null,null,null,null,null,null,"LE 3",{"$f":"VLOOKUP(BL97,$CP$32:$CQ$42,2)","v":0},null,13,null,null,null,null,null,null,""]
[null,"Année pro.",25,0,"Sans profession",null,null,null,null,0,0,0,0,0,"Non",1,5,"",null,"",null,null,null,null,"Non","Non",0,"",0,0,0,0,0,0,"",0,1,0,null,null,null,null,"Parcelles d'élevage/cultures",null,null,null,4,0,4,null,0,0,0,null,0,0,0,null,0,0,0,null,4,{"$f":"IF(CH103>0,\"Erreur\",\"\")","v":""},{"$f":"IF(AND(AU8=\"Travailleur hybride indépendant\",AU46>AU29-40),1,0)","v":0},{"$f":"IF(AND(AY8=\"Travailleur hybride indépendant\",AY46>AY29-40),1,0)","v":0},{"$f":"IF(AND(BC8=\"Travailleur hybride indépendant\",BC46>BC29-40),1,0)","v":0},{"$f":"IF(AND(BG8=\"Travailleur hybride indépendant\",BG46>BG29-40),1,0)","v":0},null,null,null,null,null,null,null,null,null,null,null,null,null,0,0,0,0,83,null,null,null,null,null,null,null,"LE 4",{"$f":"VLOOKUP(BL99,$CP$32:$CQ$42,2)","v":0},null,14,null,null,null,null,null,null,""]
[null,"Année pro.",26,0,"Sans profession",null,null,null,null,0,0,0,0,0,"Non",1,5,"",null,"",null,null,null,null,"Non","Non",0,"",0,0,0,0,0,0,"",0,1,0,null,null,null,null,"Pharmacie personnelle (points)",null,null,null,0,0,0,null,0,0,0,null,0,0,0,null,0,0,0,null,0,null,null,null,null,null,null,null,null,null,null,null,null,null,null,null,null,null,null,0,0,0,0,84,null,null,null,null,null,null,null,"LE 5",{"$f":"VLOOKUP(BL101,$CP$32:$CQ$42,2)","v":0},null,15,null,null,null,null,null,null,""]
[null,"Année pro.",27,0,"Sans profession",null,null,null,null,0,0,0,0,0,"Non",1,5,"",null,"",null,null,null,null,"Non","Non",0,"",0,0,0,0,0,0,"",0,1,0,null,null,null,null,"Planque/cache (points)",null,null,null,0,0,{"$f":"AU48+AV48","v":0},null,0,0,{"$f":"AY48+AZ48","v":0},null,0,0,{"$f":"BC48+BD48","v":0},null,0,0,{"$f":"BG48+BH48","v":0},null,0,null,null,null,null,null,null,null,null,null,null,null,null,null,null,null,null,null,null,0,0,0,0,85,null,null,null,null,null,null,null,"TOTAL",{"$f":"SUM(CQ43:CQ46)","v":0},null,null,null,null,null,null,null,null,""]
[null,"Année pro.",28,0,"Sans profession",null,null,null,null,0,0,0,0,0,"Non",1,5,"",null,"",null,null,null,null,"Non","Non",0,"",0,0,0,0,0,0,"",0,1,0,null,null,null,null,"Réseau de contrebande (points)",null,null,null,0,0,{"$f":"AU49+AV49","v":0},null,0,0,{"$f":"AY49+AZ49","v":0},null,0,0,{"$f":"BC49+BD49","v":0},null,0,0,{"$f":"BG49+BH49","v":0},null,0,null,null,null,null,null,null,null,null,null,null,null,null,null,null,null,null,null,null,0,0,0,0,86,null,null,null,null,null,null,null,null,null,null,null,null,null,null,null,null,null,""]
[null,"Année pro.",29,0,"Sans profession",null,null,null,null,0,0,0,0,0,"Non",1,5,"",null,"",null,null,null,null,"Non","Non",0,"",0,0,0,0,0,0,"",0,1,0,null,null,null,null,"Stock de marchandises (points)",null,null,null,0,0,{"$f":"AU50+AV50","v":0},null,0,0,{"$f":"AY50+AZ50","v":0},null,0,0,{"$f":"BC50+BD50","v":0},null,0,0,{"$f":"BG50+BH50","v":0},null,{"$f":"AW50+BA50+BE50+BI50","v":0},null,null,null,null,null,null,null,null,null,null,null,null,null,null,null,null,null,null,0,0,0,0,87,null,null,null,null,null,null,null,null,null,null,null,null,null,null,null,null,null,""]
[null,"Année pro.",30,0,"Sans profession",null,null,null,null,0,0,0,0,0,"Non",1,5,"",null,"",null,null,null,null,"Non","Non",0,"",0,0,0,0,0,0,"",0,1,0,null,"U ",null,null,"Artefacts (points)",null,null,null,0,{"$f":"HLOOKUP($AQ51,$CO$1036:$EC$1145,28,)","v":0},{"$f":"AU51+AV51","v":0},null,0,{"$f":"HLOOKUP($AQ51,$CO$1036:$EC$1145,55,)","v":0},{"$f":"AY51+AZ51","v":0},null,0,{"$f":"HLOOKUP($AQ51,$CO$1036:$EC$1145,82,)","v":0},{"$f":"BC51+BD51","v":0},null,0,{"$f":"HLOOKUP($AQ51,$CO$1036:$EC$1145,109,)","v":0},{"$f":"BG51+BH51","v":0},null,{"$f":"AW51+BA51+BE51+BI51","v":0},null,null,null,null,null,null,null,null,null,null,null,null,null,null,null,null,null,null,0,0,0,0,89,null,null,null,null,null,null,null,null,null,null,null,null,null,null,null,null,null,""]
[null,null,null,null,null,null,null,null,null,null,null,null,null,null,null,null,null,null,null,null,null,null,null,null,null,null,null,null,{"$f":"SUM(AC22:AC51)","v":0},{"$f":"SUM(AD22:AD51)","v":0},{"$f":"SUM(AE22:AE51)","v":0},{"$f":"SUM(AF22:AF51)","v":0},null,null,null,null,null,{"$f":"SUM(AL22:AL51)","v":0},null,"U ",null,null,"Conscience du Flux (points)",null,null,null,0,0,0,null,0,0,0,null,0,0,0,null,0,0,0,null,0,null,null,null,null,null,null,null,null,null,null,null,null,null,null,null,null,null,null,0,0,0,0,90,null,null,null,null,null,null,null,null,null,null,null,null,null,null,null,null,null,""]
[null,null,null,null,null,null,null,null,null,null,null,null,null,null,null,null,null,null,null,null,null,null,null,null,null,null,null,null,null,null,null,null,null,null,null,null,null,null,null,"U ",null,null,"Evolution (points)",null,null,null,0,0,0,null,0,0,0,null,0,0,0,null,0,0,0,null,0,null,null,null,null,null,null,null,null,null,null,null,null,null,null,null,null,null,null,0,0,0,0,91,null,null,null,null,null,null,null,null,null,null,null,null,null,null,null,null,null,""]
[null,null,null,null,null,null,null,null,null,null,null,null,null,null,null,null,null,null,null,null,null,null,null,null,null,null,null,null,null,null,null,null,null,null,null,null,null,null,null,"U ",null,null,"Larves de connaissance (points)",null,null,null,0,0,0,null,0,0,0,null,0,0,0,null,0,0,0,null,0,null,null,null,null,null,null,null,null,null,null,null,null,null,null,null,null,null,null,0,0,0,0,92,null,null,null,null,null,null,null,null,null,null,null,null,null,null,null,null,null,""]
[null,null,null,null,null,null,null,null,null,null,null,null,null,null,null,null,null,null,null,null,null,null,null,null,null,null,null,null,null,null,null,null,null,null,null,null,null,null,null,"U ",null,null,"Larves de vision (points)",null,null,null,0,0,0,null,0,0,0,null,0,0,0,null,0,0,0,null,0,null,null,null,null,null,null,null,null,null,null,null,null,null,null,null,null,null,null,0,0,0,0,93,null,null,null,null,null,null,null,null,null,null,null,null,null,null,null,null,null,""]
[null,null,null,null,null,null,"Règle optionnelle : Personnage expérimenté (Revers obligatoire)","Non",null,null,null,null,null,null,null,null,null,"Attribut augmenté",null,null,"Dispo.","FOR","CON","COO","ADA","PRE",null,null,null,null,null,null,null,null,null,null,null,null,null,"U ",null,null,"Lien espèce (points)",null,null,null,0,0,0,null,0,0,0,null,0,0,0,null,0,0,0,null,0,null,null,null,null,null,null,null,null,null,null,null,null,null,null,null,null,null,null,0,0,0,0,94,null,null,null,null,null,null,null,null,null,null,null,null,null,null,null,null,null,""]
[null,null,null,null,null,null,null,null,null,null,null,null,null,null,null,null,null,"Voie des altérés",null,null,{"$f":"EB1146","v":0},"Non","Non","Non","Non",0,null,{"$f":"IF(SUM(V57:Z57)>U57,\"ERREUR\",\"\")","v":""},null,null,null,null,null,null,null,null,null,null,null,"U ",null,null,"Murmure du monde (points)",null,null,null,0,0,{"$f":"AU57+AV57","v":0},null,0,0,{"$f":"AY57+AZ57","v":0},null,0,0,{"$f":"BC57+BD57","v":0},null,0,0,{"$f":"BG57+BH57","v":0},null,{"$f":"AW57+BA57+BE57+BI57","v":0},null,null,null,null,null,null,null,null,null,null,null,null,null,null,null,null,null,null,0,0,0,0,95,null,null,null,null,null,null,null,null,null,null,null,null,null,null,null,null,null,{"$f":"IF(T51=\"\",\"\",IF(T51=\".\",\"\",CONCATENATE(T51,\" ; \")))","v":""}]
[null,null,null,null,null,null,null,null,null,null,null,null,null,null,null,null,null,"Voie de la chasse et du combat",null,null,{"$f":"EC1146","v":0},"Non",0,0,"Non",0,null,{"$f":"IF(SUM(V58:Z58)>U58,\"ERREUR\",\"\")","v":""},null,null,null,null,null,null,null,null,null,null,null,"U ",null,null,"Protection de la surface (points)",null,null,null,0,0,0,null,0,0,0,null,0,0,0,null,0,0,0,null,0,null,null,null,null,null,null,null,null,null,null,null,null,null,null,null,null,null,null,0,0,0,0,96]
[null,null,null,null,null,null,null,null,null,null,null,null,null,null,null,null,null,"Voie de l'errance et du commerce",null,null,{"$f":"ED1146","v":0},0,0,0,"Non","Non",null,"",null,null,null,null,null,null,null,null,null,null,null,"U ",null,null,"Renforcement du lien animal (points)",null,null,null,0,0,0,null,0,0,0,null,0,0,0,null,0,0,0,null,{"$f":"AW59+BA59+BE59+BI59","v":0},null,null,null,null,null,null,null,null,null,null,null,null,null,null,null,null,null,null,0,0,0,0,97]
[null,null,null,null,null,null,null,null,null,null,null,null,null,null,null,null,null,null,null,null,null,{"$f":"SUM(V57:V59)","v":0},{"$f":"SUM(W57:W59)","v":0},{"$f":"SUM(Y57:Y59)","v":0},{"$f":"SUM(X57:X59)","v":0},0,null,null,null,null,null,null,null,null,null,null,null,null,null,null,null,null,"Titre",null,null,null,{"$f":"IF($AU$8=\"Sans profession\",\" \",VLOOKUP($AU$8,$BR$165:$EF$243,(4+EXPERIENCE_PRELIMINAIRE!$CR$16),))","v":" "},null,null,null,{"$f":"IF($AY$8=\"Sans profession\",\" \",VLOOKUP($AY$8,$BR$165:$EF$243,(4+EXPERIENCE_PRELIMINAIRE!$DD$16+GA285+FU285),))","v":" "},null,null,null,{"$f":"IF($BC$8=\"Sans profession\",\" \",VLOOKUP($BC$8,$BR$165:$EF$243,(4+EXPERIENCE_PRELIMINAIRE!$DP$16+GA287+FU287),))","v":" "},null,null,null,{"$f":"IF($BG$8=\"Sans profession\",\" \",VLOOKUP($BG$8,$BR$165:$EF$243,(4+EXPERIENCE_PRELIMINAIRE!$EB$16+GA289+FU289),))","v":" "}]
[null,null,null,"Règle optionnelle : Progression naturelle",null,null,null,null,null,null,null,null,null,null,null,null,null,null,null,null,null,null,null,null,null,null,null,null,null,null,null,"Célébrité (points, niv 25 max)",null,null,null,null,null,null,null,null,null,null,null,null,null,null,{"$f":"IF(AU30<0,\"ERREUR\",\" \")","v":"ERREUR"},null,null,null,{"$f":"IF(AY30<0,\"ERREUR\",\" \")","v":" "},null,null,null,{"$f":"IF(BC30<0,\"ERREUR\",\" \")","v":" "},null,null,null,{"$f":"IF(BG30<0,\"ERREUR\",\" \")","v":" "}]
[null,null,null,null,null,null,null,null,null,null,null,null,null,null,null,null,null,null,null,null,null,null,null,null,null,null,null,null,null,null,null,null,null,null,null,null,null,null,null,null,null,null,null,null,null,null,null,null,null,null,null,null,null,null,null,null,null,null,null,null,null,null,null,null,null,null,null,null,null,null,null,null,null,null,null,null,null,null,null,null,null,{"$f":"EXPERIENCE_PRELIMINAIRE!E184","v":"Sans profession"},{"$f":"EXPERIENCE_PRELIMINAIRE!E204","v":"Sans profession"},{"$f":"EXPERIENCE_PRELIMINAIRE!E235","v":"Sans profession"},{"$f":"EXPERIENCE_PRELIMINAIRE!E260","v":"Sans profession"}]
[null,null,null,null,null,null,null,null,null,null,null,null,null,null,null,null,null,null,null,null,null,null,null,null,null,null,null,null,null,null,null,null,null,null,null,null,null,null,null,null,null,null,null,null,null,null,null,null,null,null,null,null,null,null,null,null,null,null,null,null,null,null,null,null,null,null,null,null,null,null,null,null,null,null,null,null,null,null,null,null,null,{"$f":"EXPERIENCE_PRELIMINAIRE!E186","v":0},{"$f":"EXPERIENCE_PRELIMINAIRE!E206","v":0},{"$f":"EXPERIENCE_PRELIMINAIRE!E237","v":0},{"$f":"EXPERIENCE_PRELIMINAIRE!E262","v":0}]
[null,null,null,null,null,null,null,null,null,null,null,null,null,null,null,null,null,null,null,null,null,null,null,null,null,null,null,null,null,null,null,"Relations",null,null,null,null,null,null,null,null,null,null,null,null,null,null,null,null,null,null,null,null,null,null,null,null,null,null,null,null,null,null,null,null,null,null,null,null,"AVANTAGES PROFESSIONNELS D'UNIVERS"]
[null,null,null,null,null,null,null,null,null,null,null,null,null,null,null,null,null,null,null,null,null,null,null,null,null,null,null,null,null,null,null,"Art/Artisanat"]
[null,"Relations (base)",null,null,null,"Opposants (base)",null,null,"Alliés/Fournisseurs",null,null,"Célébrité (points)",null,null,"Salaire",null,null,null,"Art/Artisanat",null,null,"Assemblage",null,null,"Ateliers",null,null,null,null,null,null,"Ateliers",null,null,"Base de données (points)",null,null,null,null,"Bar",null,null,"Cabine privée (points)",null,null,null,null,null,"Cabinets médicaux",null,null,null,null,null,"Concession minières",null,null,null,null,null,null,null,"U ","Artefacts (points)",null,"U ","Conscience du Flux (points)",null,"U ","Larves de connaissance (points)",null,"U ","Larves de vision (points)",null,"U ","Evolution (points)",null,null,null,null,null,null,"EVOLUTION ALTERE"]
[null,{"$f":"BK32","v":0},null,null,null,{"$f":"BK26","v":0},null,null,{"$f":"BK24","v":0},null,null,{"$f":"BK31","v":0},null,null,{"$f":"SUM(K22:M51)-MJ_EXPERIENCE!E45","v":0},null,null,"*",{"$f":"BK33","v":0},null,null,{"$f":"BK35","v":0},null,null,{"$f":"BK34","v":0},null,null,null,null,null,null,"Assemblage",null,null,{"$f":"BK36","v":0},null,null,null,null,{"$f":"BK37","v":0},null,null,{"$f":"BK38","v":0},null,null,null,null,null,{"$f":"BK39","v":0},null,null,null,null,null,{"$f":"BK40","v":0},null,null,null,null,null,null,null,null,{"$f":"BK51","v":0},null,null,{"$f":"BK52","v":0},null,null,{"$f":"BK54","v":0},null,null,{"$f":"BK55","v":0},null,null,{"$f":"BK53","v":0},null,null,null,null,null,"Nouvelle évolution",null,null,null,null,null,null,null,null,"Camouflage","Camouflage","Déplacement","Peau renforcée","Perception accrue","Guérison améliorée","Instinct","Défenses naturelles","Arme naturelle (1PC)","Arme naturelle (2PC)","Survie optimisée","Attributs augmentés (FOR)","Attributs augmentés (CON)","Attributs augmentés (COO)","Attributs augmentés (ADA)","Attributs augmentés (PER)","Attributs augmentés (INT)","Attributs augmentés (VOL)","Attributs augmentés (PRE)"]
[null,"Relations (reste)",null,null,null,"Opposants (av./désav.)",null,null,"Alliés/Fourn. (reste)",null,null,"Célébrité (av./désav.)",null,null,"Avantages/Désavant.",null,null,null,"2D6",null,null,"Assemblage (reste)",null,null,"m² (loués)",null,null,null,null,null,null,"Base de données (points, niv 15 max)",null,null,"Base de données (reste)",null,null,null,null,{"$f":"IF(AN67<10,\"Non exploitable\",\"m² (loués)\")","v":"Non exploitable"},null,null,"Cabine privée (reste)",null,null,null,null,null,"m² (loués)",null,null,null,null,null,"Concession m. (reste)",null,null,null,null,null,null,null,null,"Artefacts (reste)",null,null,"Conscience du Flux (reste)",null,null,"Larves de connaissance (reste)",null,null,"Larves de vision (reste)",null,null,"Evolution (reste)",null,null,null,null,null,"Camouflage",null,null,null,null,null,null,null,null,2,4,1,1,1,1,1,1,-1,-2,1,2,2,2,2,2,2,2,2]
[null,{"$f":"B67-(B91)-(F91*3)-(I91*3)","v":0},null,null,null,{"$f":"AVANTAGES_DESAVANTAGES!AK170","v":0},null,null,{"$f":"I67-I71-I73","v":0},null,null,{"$f":"AVANTAGES_DESAVANTAGES!AF170","v":0},null,null,{"$f":"AVANTAGES_DESAVANTAGES!AP170","v":0},null,null,null,2,null,null,{"$f":"V67-(V71*5)-(V73*4/5)-(V75*2/5)-(V77*10)-(V79*5)-(V81*5)-(V83*(-3))-V85","v":0},null,null,"Equipement réparable :",null,null,null,null,null,null,"Bar",null,null,{"$f":"AI67-VLOOKUP(AI71,FI253:FJ268,2,)-VLOOKUP(AI73,FI253:FJ268,2,)-VLOOKUP(AI75,FI253:FJ268,2,)-VLOOKUP(AI77,FI253:FJ268,2,)-VLOOKUP(AI79,FI253:FJ268,2,)","v":0},null,null,null,null,"Bénéfice mensuel (sols)",null,null,{"$f":"AQ67-VLOOKUP(AQ71,FI253:FJ268,2,)-VLOOKUP(AQ73,FI253:FJ268,2,)-VLOOKUP(AQ75,FI253:FJ268,2,)","v":0},null,null,null,null,null,"Bénéfice mensuel (sols)",null,null,null,null,null,{"$f":"BC67-BC73-BC79","v":0},null,null,null,null,null,null,null,null,{"$f":"BL67-BL71-BL75-BL79","v":0},null,null,{"$f":"BO67-CN40","v":0},null,null,{"$f":"BR67-BR71-VLOOKUP(BR73,FI253:FJ268,2,)-VLOOKUP(BR75,FI253:FJ268,2,)-VLOOKUP(BR77,FI253:FJ268,2,)-VLOOKUP(BR79,FI253:FJ268,2,)-VLOOKUP(BR81,FI253:FJ268,2,)-CU42","v":0},null,null,{"$f":"BU67-BU71-BU75*2-BU77*3-BU79*4-BU81*5","v":0},null,null,{"$f":"BX67-CL90","v":0},null,null,null,null,null,"Déplacement",null,null,null,null,null,null,"Evo","Coût"]
[null,{"$f":"IF(B69<0,\"ERREUR\",\"\")","v":""},null,null,null,"Opposants",null,null,"Alliés (base)",null,null,"Célébrité (reste)",null,null,"Economies (sols)",null,null,null,"Valeur d'art (sols)",null,null,"Dommages augmentés",null,null,{"$f":"IF(Y67>9,\"Armures exo-1 à 2\",\"\")","v":""},null,null,null,null,null,null,"Cabine privée (points)",null,null,"Base de données 1",null,null,null,null,{"$f":"IF(AN67<10,0,15*AN67)","v":0},null,null,"Cabine privée 1",null,null,null,null,null,{"$f":"30*AW67","v":0},null,null,null,null,null,"Concession 1",null,null,null,null,null,null,null,null,"Artefact 1",null,null,"Conscience du Flux 1",null,null,"Nombre larves vierges",null,null,"Nombre larves vierges",null,null,"Nouvelle évolution",null,null,null,null,null,"Peau renforcée",null,null,null,null,null,null,{"$f":"BX70","v":"Nouvelle évolution"},{"$f":"IF(BX70=\"Nouvelle évolution\",0,5)","v":0},{"$f":"IF($CK70=CM$67,CM$68,0)","v":0},{"$f":"IF($CK70=CN$67,CN$68,0)","v":0},0,0,0,0,0,0,0,0,0,0,0,0,0,0,0,{"$f":"IF($CK70=DD$67,DD$68,0)","v":0},0]
[null,null,null,null,"*",{"$f":"F67+F69-(F77*3)+MJ_EXPERIENCE!E68-MJ_EXPERIENCE!E148","v":0},null,null,0,null,null,{"$f":"L67+L69-VLOOKUP(L73,FC253:FD278,2,)","v":0},null,null,{"$f":"O67+O69","v":0},null,null,null,{"$f":"S69*100*S67","v":0},null,null,0,null,null,{"$f":"IF(Y67>35,\"Armures exo-3 à 6\",\"\")","v":""},null,null,null,null,null,null,"Cabinets médicaux",null,null,0,null,null,null,null,null,null,null,0,null,null,null,null,null,"Niveau equipement +0",null,null,null,null,null,{"$f":"IF(BC73<51,\"Petite exploitation\",\"Exploitation industrielle\")","v":"Petite exploitation"},null,null,null,null,null,null,null,null,0,null,null,0,null,null,0,null,null,0,null,null,"Nouvelle évolution",null,null,null,null,null,"Perception accrue",null,null,null,null,null,null,"Nouvelle évolution",0,{"$f":"IF($CK71=CM$67,CM$68,0)","v":0},0,0,0,0,0,0,0,0,0,0,0,0,0,0,0,0,0,0]
[null,null,null,null,null,"Ennemis (base)",null,null,"Fournisseurs (base)",null,null,"Célébrité (conversion)",null,null,null,null,null,null,null,null,null,"Portée augmentée (%)",null,null,{"$f":"IF(Y67>99,CONCATENATE(\"Véhicules jusqu'à \",Y67, \"T\"),\"\")","v":""},null,null,null,null,null,null,"Concession minières",null,null,"Base de données 2",null,null,null,null,null,null,null,"Cabine privée 2",null,null,null,null,null,"Augmentable à +5",null,null,null,null,null,"Energie",null,null,null,null,null,null,null,null,"Estimation (sols)",null,null,"de bonus à un domaine",null,null,"Larve avec données 1",null,null,"Nombre de larves",null,null,"Nouvelle évolution",null,null,null,null,null,"Guérison améliorée",null,null,null,null,null,null,"Nouvelle évolution",0,0,0,0,0,0,0,0,0,0,0,0,0,0,0,0,0,0,0,0]
[null,null,null,null,null,{"$f":"BK27","v":0},null,null,0,null,null,0,null,null,null,null,null,null,null,null,null,0,null,null,"Bénéfice mensuel (sols)",null,null,null,null,null,null,"Corruption/Chantage (points, niv 20 max)",null,null,0,null,null,null,null,null,null,null,0,null,null,null,null,null,"Coût = lvl x lvl x 10000",null,null,null,null,null,0,null,null,null,null,null,null,null,null,{"$f":"BL71*2000","v":0},null,null,"de connaissance",null,null,0,null,null,"avec enregistrement :",null,null,"Nouvelle évolution",null,null,null,null,null,"Instinct",null,null,null,null,null,null,"Nouvelle évolution",0,0,0,0,0,0,0,0,0,0,0,0,0,0,0,0,0,0,0,0]
[null,null,null,null,null,"Ennemis (av./désav.)",null,null,{"$f":"IF(I69<0,\"ERREUR\",\"\")","v":""},null,null,"Célébrité",null,null,"Reliques / butin (sols)",null,null,null,null,null,null,"Batterie/munitions (%)",null,null,{"$f":"20*Y67","v":0},null,null,null,null,null,null,"Etal/Petite boutique",null,null,"Base de données 3",null,null,null,null,null,null,null,"Cabine privée 3",null,null,null,null,null,"Utilisable si superficie",null,null,null,null,null,"Bénéfice mensuel 1 (sols)",null,null,null,null,null,null,null,null,"Artefact 2",null,null,"Conscience du Flux 2",null,null,"Larve avec données 2",null,null,"Spécifique",null,null,"Nouvelle évolution",null,null,null,null,null,"Défenses naturelles",null,null,null,null,null,null,"Nouvelle évolution",0,0,0,0,0,0,0,0,0,0,0,0,0,0,0,0,0,0,0,0]
[null,null,null,null,null,{"$f":"AVANTAGES_DESAVANTAGES!AJ170","v":0},null,null,null,null,"*",{"$f":"L73-MJ_EXPERIENCE!E54","v":0},null,null,{"$f":"CD1146","v":0},null,null,null,null,null,null,0,null,null,"Niveau equipement +0",null,null,null,null,null,null,"Falsification (points, niv 15 max)",null,null,0,null,null,null,null,null,null,null,0,null,null,null,null,null,"supérieure à 10 fois le niv.",null,null,null,null,null,{"$f":"IF(BC73<51,BC73*10,BC73*50)","v":0},null,null,null,null,null,null,null,null,0,null,null,0,null,null,0,null,null,0,null,null,"Nouvelle évolution",null,null,null,null,null,"Arme naturelle (1PC)",null,null,null,null,null,null,"Nouvelle évolution",0,0,0,0,0,0,0,0,0,0,0,0,0,0,0,0,0,0,0,0]
[null,null,null,null,null,"Ennemis (conversion)",null,"Ennemis influents",null,null,null,{"$f":"IF(L71<0,\"ERREUR\",\"\")","v":""},null,null,"Rente mensuelle (sols)",null,null,null,null,null,null,"Amélioration",null,null,"Augmentable à +5",null,null,null,null,null,null,"Fausses identités",null,null,"Base de données 4",null,null,null,null,null,null,null,"m²",null,null,null,null,null,null,null,null,null,null,null,"Concession 2",null,null,null,null,null,null,null,null,"Estimation (sols)",null,null,"de bonus à un domaine",null,null,"Larve avec données 3",null,null,"Intéressant",null,null,"Nouvelle évolution",null,null,null,null,null,"Arme naturelle (2PC)",null,null,null,null,null,null,"Nouvelle évolution",0,0,0,0,0,0,0,0,0,0,0,0,0,0,0,0,0,0,0,0]
[null,null,null,null,null,0,null,{"$f":"MJ_EXPERIENCE!E70-MJ_EXPERIENCE!E150","v":0},null,"*",null,null,null,null,{"$f":"AVANTAGES_DESAVANTAGES!AO170","v":0},null,null,null,null,null,null,0,null,null,"Coût = lvl x lvl x 5000",null,null,null,null,null,null,"Matériel",null,null,0,null,null,null,null,null,null,null,"Plusieurs cabines que si",null,null,null,null,null,null,null,null,null,null,null,{"$f":"IF(BC79<51,\"Petite exploitation\",\"Exploitation industrielle\")","v":"Petite exploitation"},null,null,null,null,null,null,null,null,{"$f":"BL75*2000","v":0},null,null,"de connaissance",null,null,0,null,null,0,null,null,"Nouvelle évolution",null,null,null,null,null,"Survie optimisée",null,null,null,null,null,null,"Nouvelle évolution",0,0,0,0,0,0,0,0,0,0,0,0,0,0,0,0,0,0,0,0]
[null,null,null,null,null,"Ennemis",null,"Ennemis Groupe/Gang",null,null,null,null,null,null,"Reduc. Endettement (%)",null,null,null,null,null,null,"Personnalisation (1 seul)",null,null,null,null,null,null,null,null,null,"Parcelles d'élevage/cultures",null,null,"Base de données 5",null,null,null,null,null,null,null,"changement profession",null,null,null,null,null,null,null,null,null,null,null,"Energie",null,null,null,null,null,null,null,null,"Artefact 3",null,null,"Conscience du Flux 3",null,null,"Larve avec données 4",null,null,"Fort intéressant",null,null,"Nouvelle évolution",null,null,null,null,null,"Attributs augmentés (FOR)",null,null,null,null,null,null,"Nouvelle évolution",0,0,0,0,0,0,0,0,0,0,0,0,0,0,0,0,0,0,0,0]
[null,null,null,null,"*",{"$f":"F73+F75+F77+MJ_EXPERIENCE!E69-MJ_EXPERIENCE!E149","v":0},null,{"$f":"MJ_EXPERIENCE!E71-MJ_EXPERIENCE!E151","v":0},null,"*",null,null,null,null,{"$f":"SUM(AL22:AL51)","v":0},null,null,null,null,null,null,0,null,null,null,null,null,null,null,null,null,"Pharmacie personnelle (points, niv 20 max)",null,null,0,null,null,null,null,null,null,null,"ou communauté",null,null,null,null,null,null,null,null,null,null,null,0,null,null,null,null,null,null,null,null,0,null,null,0,null,null,0,null,null,0,null,null,"Nouvelle évolution",null,null,null,null,null,"Attributs augmentés (CON)",null,null,null,null,null,null,"Nouvelle évolution",0,0,0,0,0,0,0,0,0,0,0,0,0,0,0,0,0,0,0,0]
[null,null,null,null,null,{"$f":"IF(F71<0,\"ERREUR\",\"\")","v":""},null,null,null,null,null,null,null,null,null,null,null,null,null,null,null,"Protection",null,null,null,null,null,null,null,null,null,"Planque/cache (points, niv 15 max)",null,null,"Amélio. aussi via achat",null,null,null,null,null,null,null,{"$f":"IF(AQ69<0,\"ERREUR\",\"\")","v":""},null,null,null,null,null,null,null,null,null,null,null,"Bénéfice mensuel 2 (sols)",null,null,null,null,null,null,null,null,"Estimation (sols)",null,null,"de bonus à un domaine",null,null,"Larve avec données 5",null,null,"Très sensible",null,null,"Nouvelle évolution",null,null,null,null,null,"Attributs augmentés (COO)",null,null,null,null,null,null,"Nouvelle évolution",0,0,0,0,0,0,0,0,0,0,0,0,0,0,0,0,0,0,0,0]
[null,null,null,null,null,null,null,null,null,null,null,null,null,null,null,null,null,null,null,null,null,0,null,null,null,null,null,null,null,null,null,"Réseau de contrebande (points, niv 15 max)",null,null,"Coût = lvl x lvl x 1000",null,null,null,null,null,null,null,null,null,null,null,null,null,null,null,null,null,null,null,{"$f":"IF(BC79<51,BC79*10,BC79*50)","v":0},null,null,null,null,null,null,null,null,{"$f":"BL79*2000","v":0},null,null,"de connaissance",null,null,0,null,null,0,null,null,"Nouvelle évolution",null,null,null,null,null,"Attributs augmentés (ADA)",null,null,null,null,null,null,"Nouvelle évolution",0,0,0,0,0,0,0,0,0,0,0,0,0,0,0,0,0,0,0,0]
[null,null,null,null,null,null,null,null,null,null,null,null,null,null,null,null,null,null,null,null,null,"Silencieux",null,null,null,null,null,null,null,null,null,"Stock de marchandises (points, niv 20 max)",null,null,{"$f":"IF(AI69<0,\"ERREUR\",\"\")","v":""},null,null,null,null,null,null,null,null,null,null,null,null,null,null,null,null,null,null,null,{"$f":"IF(BC69<0,\"ERREUR\",\"\")","v":""},null,null,null,null,null,null,null,null,{"$f":"IF(BL69<0,\"ERREUR\",\"\")","v":""},null,null,{"$f":"IF(BO69<0,\"ERREUR\",\"\")","v":""},null,null,{"$f":"IF(BR69<0,\"ERREUR\",\"\")","v":""},null,null,{"$f":"IF(BU69<0,\"ERREUR\",\"\")","v":""},null,null,"Nouvelle évolution",null,null,null,null,null,"Attributs augmentés (PER)",null,null,null,null,null,null,"Nouvelle évolution",0,0,0,0,0,0,0,0,0,0,0,0,0,0,0,0,0,0,0,0]
[null,null,null,null,null,null,null,null,null,null,null,null,null,null,null,null,null,null,null,null,null,0,null,null,null,null,null,null,null,null,null,"Endettement",null,null,null,null,null,null,null,null,null,null,null,null,null,null,null,null,null,null,null,null,null,null,null,null,null,null,null,null,null,null,null,null,null,null,null,null,null,null,null,null,null,null,null,"Nouvelle évolution",null,null,null,null,null,"Attributs augmentés (INT)",null,null,null,null,null,null,"Nouvelle évolution",0,0,0,0,0,0,0,0,0,0,0,0,0,0,0,0,0,0,0,0]
[null,null,null,null,null,null,null,null,null,null,null,null,null,null,null,null,null,null,null,null,null,"Intégrité",null,null,null,null,null,null,null,null,null,null,null,null,null,null,null,null,null,null,null,null,null,null,null,null,null,null,null,null,null,null,null,null,null,null,null,null,null,null,null,null,null,null,null,null,null,null,null,null,null,null,null,null,null,"Nouvelle évolution",null,null,null,null,null,"Attributs augmentés (VOL)",null,null,null,null,null,null,"Nouvelle évolution",0,0,0,0,0,0,0,0,0,0,0,0,0,0,0,0,0,0,0,0]
[null,null,null,null,null,null,null,null,null,null,null,null,null,null,null,null,null,null,null,null,null,0,null,null,null,null,null,null,null,null,null,null,null,null,null,null,null,null,null,null,null,null,null,null,null,null,null,null,null,null,null,null,null,null,null,null,null,null,null,null,null,null,null,null,null,null,null,null,null,null,null,null,null,null,null,"Nouvelle évolution",null,null,null,null,null,"Attributs augmentés (PRE)",null,null,null,null,null,null,"Nouvelle évolution",0,0,0,0,0,0,0,0,0,0,0,0,0,0,0,{"$f":"IF($CK85=DA$67,DA$68,0)","v":0},0,0,0,0]
[null,null,null,null,null,null,null,null,null,null,null,null,null,null,null,null,null,null,null,null,null,{"$f":"IF(V69<0,\"ERREUR\",\"\")","v":""},null,null,null,null,null,null,null,null,null,null,null,null,null,null,null,null,null,null,null,null,null,null,null,null,null,null,null,null,null,null,null,null,null,null,null,null,null,null,null,null,null,null,null,null,null,null,null,null,null,null,null,null,null,"Nouvelle évolution",null,null,null,null,null,null,null,null,null,null,null,null,"Nouvelle évolution",0,0,0,0,0,0,0,0,0,0,0,0,0,0,0,0,0,0,{"$f":"IF($CK86=DD$67,DD$68,0)","v":0},0]
[null,null,null,null,null,null,null,null,null,null,null,null,null,null,null,null,null,null,null,null,null,null,null,null,null,null,null,null,null,null,null,null,null,null,null,null,null,null,null,null,null,null,null,null,null,null,null,null,null,null,null,null,null,null,null,null,null,null,null,null,null,null,null,null,null,null,null,null,null,null,null,null,null,null,null,"Nouvelle évolution",null,null,null,null,null,{"$f":"CONCATENATE(CL93,CM93,CN93,CO93,CP93,CQ93,CR93,CS93,CT93,CW93,CX93,CY93,CZ93,DA93,DB93,DC93,DD93,DE93,DF93)","v":""},null,null,null,null,null,null,"Nouvelle évolution",0,0,0,0,0,0,0,0,0,0,0,0,0,0,0,0,0,0,0,0]
[null,"Contacts (base)",null,null,null,"Alliés (base)",null,null,"Fournisseurs (base)",null,null,"Corruption/Chantage (points)",null,null,"Etal/Boutique",null,null,null,"Falsification (points)",null,null,"Fausses identités (points)",null,null,"Matériel",null,null,null,null,null,null,null,null,null,"Parcelles d'élevage/cultures",null,null,null,null,"Pharmacie personnelle (points)",null,null,"Planque/cache (points)",null,null,null,null,null,"Réseau de contrebande (points)",null,null,null,null,null,"Stock de marchandises (points)",null,null,null,null,null,null,null,"U ","Lien espèce (points)",null,"U ","Murmure du monde (points)",null,"U ","Protection de la surface (points)",null,"U ","Renforcement lien animal (points)",null,null,"Nouvelle évolution",null,null,null,null,null,null,null,null,null,null,null,null,"Nouvelle évolution",0,0,0,0,0,0,0,0,0,0,0,0,0,0,0,0,0,0,0,0]
[null,{"$f":"BK23","v":0},null,null,null,{"$f":"I71","v":0},null,null,{"$f":"I73","v":0},null,null,{"$f":"BK41","v":0},null,null,{"$f":"BK42","v":0},null,null,null,{"$f":"BK43","v":0},null,null,{"$f":"BK44","v":0},null,null,{"$f":"BK45","v":0},null,null,null,null,null,null,null,null,null,{"$f":"BK46","v":4},null,null,null,null,{"$f":"BK47","v":0},null,null,{"$f":"BK48","v":0},null,null,null,null,null,{"$f":"BK49","v":0},null,null,null,null,null,{"$f":"BK50","v":0},null,null,null,null,null,null,null,null,{"$f":"BK56","v":0},null,null,{"$f":"BK57","v":0},null,null,{"$f":"BK58","v":0},null,null,{"$f":"BK59","v":0},null,null,"Nouvelle évolution",null,null,null,null,null,null,null,null,null,null,null,null,"Nouvelle évolution",0,0,0,0,0,0,0,0,0,0,0,0,0,0,0,0,0,0,0,0]
[null,"Contacts (pts relations)",null,null,null,"Alliés (pts relations)",null,null,"Fourniss. (pts relations)",null,null,"Corruption/Chantage (reste)",null,null,"m² (loués)",null,null,null,"Falsification (reste)",null,null,"Fausses identités (reste)",null,null,"Valeur matériel (sols)",null,null,null,null,null,null,null,null,null,"Parcelles d'élev./cult. (reste)",null,null,null,null,"Pharmacie personnelle (reste)",null,null,"Planque/cache (reste)",null,null,null,null,null,"Réseau de contrebande (reste)",null,null,null,null,null,"Stock de marchandises (reste)",null,null,null,null,null,null,null,null,"Lien espèce (reste)",null,null,"Murmure du monde (reste)",null,null,"Protection de la surface (reste)",null,null,"Renforcement lien animal (points)",null,null,{"$f":"IF(BX69<0,\"ERREUR\",\"\")","v":""},null,null,null,null,null,null,null,null,null,null,null,null,null,{"$f":"SUM(CL70:CL89)","v":0},{"$f":"SUM(CM70:CM89)","v":0},0,0,0,0,{"$f":"IF(SUM(CR70:CR89)>4,4,SUM(CR70:CR89))","v":0},0,{"$f":"IF(SUM(CT70:CT89)>2,2,SUM(CT70:CT89))","v":0},0,0,0,{"$f":"IF(SUM(CX70:CX89)>3,3,SUM(CX70:CX89))","v":0},{"$f":"IF(SUM(CY70:CY89)>3,3,SUM(CY70:CY89))","v":0},0,0,0,0,0,0]
[null,0,null,null,null,0,null,null,0,null,null,{"$f":"L89-VLOOKUP(L93,FI253:FJ273,2,)-VLOOKUP(L95,FI253:FJ273,2,)-VLOOKUP(L97,FI253:FJ273,2,)-VLOOKUP(L99,FI253:FJ273,2,)-VLOOKUP(L101,FI253:FJ273,2,)","v":0},null,null,{"$f":"IF(O89<10,\"Etal\",\"Boutique\")","v":"Etal"},null,null,null,{"$f":"S89-VLOOKUP(S93,FI253:FJ268,2,)-VLOOKUP(S95,FI253:FJ268,2,)-VLOOKUP(S97,FI253:FJ268,2,)-VLOOKUP(S99,FI253:FJ268,2,)-VLOOKUP(S101,FI253:FJ268,2,)","v":0},null,null,{"$f":"V89-VLOOKUP(V95,FC253:FE278,3,)-VLOOKUP(V97,FC253:FE278,3,)-VLOOKUP(V99,FC253:FE278,3,)","v":0},null,null,{"$f":"Y89*1000","v":0},null,null,null,null,null,null,null,null,null,{"$f":"AI89-AI95-AI101","v":4},null,null,null,null,{"$f":"AN89-VLOOKUP(AN93,FI253:FJ273,2,)-VLOOKUP(AN95,FI253:FJ273,2,)-VLOOKUP(AN97,FI253:FJ273,2,)-VLOOKUP(AN99,FI253:FJ273,2,)-VLOOKUP(AN101,FI253:FJ273,2,)","v":0},null,null,{"$f":"AQ89-VLOOKUP(AQ93,FI253:FJ268,2,)-VLOOKUP(AQ95,FI253:FJ268,2,)-VLOOKUP(AQ97,FI253:FJ268,2,)-VLOOKUP(AQ99,FI253:FJ268,2,)-VLOOKUP(AQ101,FI253:FJ268,2,)","v":0},null,null,null,null,null,{"$f":"AW89-VLOOKUP(AW93,FI253:FJ273,2,)-VLOOKUP(AW95,FI253:FJ273,2,)-VLOOKUP(AW97,FI253:FJ273,2,)-VLOOKUP(AW99,FI253:FJ273,2,)-VLOOKUP(AW101,FI253:FJ273,2,)","v":0},null,null,null,null,null,{"$f":"BC89-VLOOKUP(BC93,FI253:FJ273,2,)-VLOOKUP(BC101,FI253:FJ273,2,)-VLOOKUP(BC109,FI253:FJ273,2,)-VLOOKUP(BC117,FI253:FJ273,2,)-VLOOKUP(BC125,FI253:FJ273,2,)","v":0},null,null,null,null,null,null,null,null,{"$f":"BL89-CQ48","v":0},null,null,{"$f":"BO89-BO93-BO99-BO105","v":0},null,null,{"$f":"BR89-BR93-BR95-BR97","v":0},null,null,{"$f":"BU89-IF(BU93=\"Non\",1,0)-BU95-BU97-BU99+VLOOKUP(BU102,FI253:FJ268,2,)-VLOOKUP(BU104,FI253:FJ268,2,)","v":0},null,null,null,null,null,null,null,null,null,null,null,null,null,null,null,null,null,null,null,null,null,null,"limit 4",null,"limit 2",null,null,null,"limit 3","limit 3","limit 3","limit 3","limit 3","limit 3","limit 3","limit 3"]
[null,"Contacts",null,null,null,"Alliés",null,null,"Fournisseurs",null,null,"Individu 1",null,null,"Bénéfice mensuel (sols)",null,null,null,"Document 1",null,null,"Identité A (avantage)",null,null,"Bonus Parts",null,null,null,null,null,null,null,null,null,"Parcelles 1",null,null,null,null,"Pharmacie 1",null,null,"Planque/cache 1",null,null,null,null,null,"Réseau 1",null,null,null,null,null,"Stock 1",null,null,null,null,null,null,null,null,"Espèce Animale/Plante 1",null,null,"Environnement 1",null,null,"Environnement 1",null,null,"Possède déjà un animal"]
["*",{"$f":"B89+B91+B98+B105-MJ_EXPERIENCE!E57-MJ_EXPERIENCE!E58-MJ_EXPERIENCE!E59+MJ_EXPERIENCE!E137+MJ_EXPERIENCE!E138+MJ_EXPERIENCE!E139","v":0},null,null,"*",{"$f":"F89+F91+F98+F105-MJ_EXPERIENCE!E60-MJ_EXPERIENCE!E61-MJ_EXPERIENCE!E62+MJ_EXPERIENCE!E140+MJ_EXPERIENCE!E141+MJ_EXPERIENCE!E142","v":0},null,"*",{"$f":"I89+I91+I98+I105-MJ_EXPERIENCE!E63-MJ_EXPERIENCE!E64-MJ_EXPERIENCE!E65+MJ_EXPERIENCE!E143+MJ_EXPERIENCE!E144+MJ_EXPERIENCE!E145","v":0},null,null,0,null,null,{"$f":"IF(O89<10,O89*10,O89*100)","v":0},null,null,null,0,null,null,{"$f":"IF(AVANTAGES_DESAVANTAGES!D20=\"fausse identité\",15,IF(AVANTAGES_DESAVANTAGES!D21=\"fausse identité\",15,IF(AVANTAGES_DESAVANTAGES!D22=\"fausse identité\",15,IF(AVANTAGES_DESAVANTAGES!D23=\"fausse identité\",15,IF(AVANTAGES_DESAVANTAGES!D24=\"fausse identité\",15,IF(AVANTAGES_DESAVANTAGES!D25=\"fausse identité\",15,0))))))","v":0},null,null,"Indiquer pts de Matériel",null,null,null,null,null,null,null,null,null,{"$f":"IF(AI95<51,\"Petite parcelle personnelle\",\"Petite ferme indépendante\")","v":"Petite parcelle personnelle"},null,null,null,null,0,null,null,0,null,null,null,null,null,0,null,null,null,null,null,0,null,null,null,null,null,null,null,null,0,null,null,0,null,null,0,null,null," ",null,null,null,null,null,null,null,null,null,null,null,null,null,null,"TEXTES",null,{"$f":"IF(SUM(CM90:DE90)>0,\"[Dans son milieu naturel : \",\"\")","v":""},{"$f":"IF(CM90>0,CONCATENATE(\"Pénalité adverse des Tests de perception de +\",CM90,\", \"),\"\")","v":""},{"$f":"IF(CN90>0,CONCATENATE(\"+\",CN90,\" si immobile ; \"),\"\")","v":""},{"$f":"IF(CO90>0,CONCATENATE(\"Vitesse déterminée avec un bonus de +\",CO90,\" en Athlétisme et en Coordination ; \"),\"\")","v":""},{"$f":"IF(CP90>0,CONCATENATE(\"Bonus de +\",CP90,\" point d'armure ; \"),\"\")","v":""},{"$f":"IF(CQ90>0,CONCATENATE(\"Malus aux Tests de perception sont réduits de \",CQ90,\" ; \"),\"\")","v":""},{"$f":"IF(CR90>0,CONCATENATE(\"Bonus de +\",CR90,\" aux Tests de Guérison, temps divisé par 2 ; \"),\"\")","v":""},{"$f":"IF(CS90>0,CONCATENATE(\"Bonus de +\",CS90,\" aux Tests de surprise et de Réaction ; \"),\"\")","v":""},{"$f":"IF(CT90>0,CONCATENATE(\"Défense naturelle de la peau (piques, acide, poison…) inligeant \",CT90,\"D6 points de dommages au contact ; \"),\"\")","v":""},{"$f":"CU90+CV90","v":0},null,{"$f":"IF(CW90>0,CONCATENATE(\"Bonus de +\",CW90,\" aux Tests de Chasse/pistage, Observation, Orientation et Survie ; \"),\"\")","v":""},{"$f":"IF(CX90>0,CONCATENATE(\"Bonus de +\",CX90,\" en Force ; \"),\"\")","v":""},{"$f":"IF(CY90>0,CONCATENATE(\"Bonus de +\",CY90,\" en Constitution ; \"),\"\")","v":""},{"$f":"IF(CZ90>0,CONCATENATE(\"Bonus de +\",CZ90,\" en Coordination ; \"),\"\")","v":""},{"$f":"IF(DA90>0,CONCATENATE(\"Bonus de +\",DA90,\" en Adaptation ; \"),\"\")","v":""},{"$f":"IF(DB90>0,CONCATENATE(\"Bonus de +\",DB90,\" en Perception ; \"),\"\")","v":""},{"$f":"IF(DC90>0,CONCATENATE(\"Bonus de +\",DC90,\" en Intelligence ; \"),\"\")","v":""},{"$f":"IF(DD90>0,CONCATENATE(\"Bonus de +\",DD90,\" en Volonté ; \"),\"\")","v":""},{"$f":"IF(DE90>0,CONCATENATE(\"Bonus de +\",DE90,\" en Présence \"),\"\")","v":""},{"$f":"IF(SUM(CM90:DE90)>0,\" ]\",\"\")","v":""}]
[null,"dont",null,null,null,"dont",null,null,"dont",null,null,"Individu 2",null,null,null,null,null,null,"Document 2",null,null,"Identité 1",null,null,"livrés par l'entreprise",null,null,null,null,null,null,null,null,null,{"$f":"IF(AI95<51,\"environ 200 m²\",\"10 000 m² et plus\")","v":"environ 200 m²"},null,null,null,null,"Pharmacie 2",null,null,"Planque/cache 2",null,null,null,null,null,"Réseau 2",null,null,null,null,null,"Type produits : 1D20",null,null,null,null,null,null,null,null,"Espèce Animale/Plante 2",null,null,"Dépense définitive",null,null,"Environnement 2",null,null,"Apprendre un tour"]
[null,"Contacts sup. (Av.)",null,null,null,"Alliés sup. (Av.)",null,null,"Fournisseurs sup. (Av.)",null,null,0,null,null,null,null,null,null,0,null,null,0,null,{"$f":"IF(AVANTAGES_DESAVANTAGES!AN170>0,1,0)","v":0},0,null,null,null,null,null,null,null,null,null,0,null,null,null,null,0,null,null,0,null,null,null,null,null,0,null,null,null,null,null,1,null,null,null,null,null,null,null,null,0,null,null,0,null,null,0,null,null,0]
[null,{"$f":"AVANTAGES_DESAVANTAGES!AI170","v":0},null,null,null,{"$f":"AVANTAGES_DESAVANTAGES!AG170","v":0},null,null,{"$f":"AVANTAGES_DESAVANTAGES!AH170","v":0},null,null,"Individu 3",null,null,null,null,null,null,"Document 3",null,null,"Identité 2",null,null,"Equip. bonus Parts (sols)",null,null,null,null,null,null,null,null,null,"Bénéfice mensuel 1 (sols)",null,null,null,null,"Pharmacie 3",null,null,"Planque/cache 3",null,null,null,null,null,"Réseau 3",null,null,null,null,null,{"$f":"VLOOKUP(BC95,$FL$253:$FM$272,2)","v":"Produits divers"},null,null,null,null,null,null,null,null,"Espèce Animale/Plante 3",null,null,"Restant",null,null,"Environnement 3",null,null,"Augmenter un Attribut"]
[null,"Personne influente",null,null,null,"Personne influente",null,null,"Personne influente",null,null,0,null,null,null,null,null,null,0,null,null,0,null,null,{"$f":"Y95*AVANTAGES_DESAVANTAGES!AN170","v":0},null,null,null,null,null,null,null,null,null,{"$f":"IF(AI95<51,10*AI95,50*AI95)","v":0},null,null,null,null,0,null,null,0,null,null,null,null,null,0,null,null,null,null,null,"Valeur : 10D10 x 20 x niv. (sols)",null,null,null,null,null,null,null,null,0,null,null,{"$f":"BO93-BO95","v":0},null,null,0,null,null,0,null,null,null,null,null,null,null,null,"Travailleur hybride indépendant",null,null,null,null,null,null,null,"Discipline"]
[{"$f":"IF(MJ_EXPERIENCE!E58>0,CONCATENATE(\"-\",MJ_EXPERIENCE!E58),\"*\")","v":"*"},0,null,null,{"$f":"IF(MJ_EXPERIENCE!E61>0,CONCATENATE(\"-\",MJ_EXPERIENCE!E61),\"*\")","v":"*"},0,null,{"$f":"IF(MJ_EXPERIENCE!E64>0,CONCATENATE(\"-\",MJ_EXPERIENCE!E64),\"*\")","v":"*"},0,null,null,"Individu 4",null,null,null,null,null,null,"Document 4",null,null,"Identité 3",null,null,"Valeur équipement (sols)",null,null,null,null,null,null,null,null,null,"Parcelles 2",null,null,null,null,"Pharmacie 4",null,null,"Planque/cache 4",null,null,null,null,null,"Réseau 4",null,null,null,null,null,10,null,null,null,null,null,null,null,null,"Espèce Animale/Plante 4",null,null,"Environnement 2",null,null,{"$f":"IF(BR91<0,\"ERREUR\",\"\")","v":""},null,null,"Augmenter une caract.",null,null,null,null,null,null,null,null,"Avantage parcelles d'élevage"]
[null,null,null,null,null,null,null,null,null,null,null,0,null,null,null,null,null,null,0,null,null,0,null,null,{"$f":"Y91+Y97","v":0},null,null,null,null,null,null,null,null,null,{"$f":"IF(AI101<51,\"Petite parcelle personnelle\",\"Petite ferme indépendante\")","v":"Petite parcelle personnelle"},null,null,null,null,0,null,null,0,null,null,null,null,null,0,null,null,null,null,null,{"$f":"BC93*BC98*20","v":0},null,null,null,null,null,null,null,null,0,null,null,0,null,null,null,null,null,0,null,null,null,null,null,null,null,null,{"$f":"IF(CD62=$CD$97,CD63,0)","v":0},{"$f":"IF(CE62=$CD$97,CE63,0)","v":0},0,0,{"$f":"IF((CD99+CE99+CF99+CG99)>8,1,0)","v":0},null,null,null,0,0]
[null,null,null,null,null,"Groupe/Gang (pts relat.)",null,null,null,null,null,"Individu 5",null,null,null,null,null,null,"Document 5",null,null,"Possibilité dépenser pts",null,null,{"$f":"IF(Y95>Y89,\"ERREUR\",\"\")","v":""},null,null,null,null,null,null,null,null,null,{"$f":"IF(AI101<51,\"environ 200 m²\",\"10 000 m² et plus\")","v":"environ 200 m²"},null,null,null,null,"Pharmacie 5",null,null,"Planque/cache 5",null,null,null,null,null,"Réseau 5",null,null,null,null,null,"Stock 2",null,null,null,null,null,null,null,null,"Espèce Animale/Plante 5",null,null,"Dépense définitive",null,null,null,null,null,"Augmenter une comp.",null,null,null,null,null,null,null,null,"Travaille exclusivement en République du Corail",null,null,null,{"$f":"EXPERIENCE_PRELIMINAIRE!G351","v":0},null,null,null,1,0]
[null,null,null,null,null,0,null,null,null,null,null,0,null,null,null,null,null,null,0,null,null,"d'une identité pour la",null,null,null,null,null,null,null,null,null,null,null,null,0,null,null,null,null,0,null,null,0,null,null,null,null,null,0,null,null,null,null,null,0,null,null,null,null,null,null,null,null,0,null,null,0,null,null,null,null,null,"Niveau origine",null,null,null,null,null,null,null,null,null,null,null,null,null,null,null,null,2,1]
[null,null,null,null,null,"Groupe/Gang (bonus)",null,null,null,null,null,{"$f":"IF(L91<0,\"ERREUR\",\"\")","v":""},null,null,null,null,null,null,{"$f":"IF(S91<0,\"ERREUR\",\"\")","v":""},null,null,"protéger (malus test",null,null,"Matériel mensuel (sols)",null,null,null,null,null,null,null,null,null,"Bénéfice mensuel 2 (sols)",null,null,null,null," -1 à chaque utilisation",null,null,{"$f":"IF(AQ91<0,\"ERREUR\",\"\")","v":""},null,null,null,null,null," -1 à chaque echec",null,null,null,null,null,"Type produits : 1D20",null,null,null,null,null,null,null,null,{"$f":"IF(BL91<0,\"ERREUR\",\"\")","v":""},null,null,"Restant",null,null,null,null,null,0,null,null,null,null,null,null,null,null,"Vérification du nombre de points mis dans parcelles d'élevage",null,null,null,null,null,null,null,3,1]
[null,null,null,null,null,{"$f":"BK25","v":0},null,null,null,null,null,null,null,null,null,null,null,null,null,null,null,"avec -15 max)",null,null,{"$f":"AVANTAGES_DESAVANTAGES!AM170","v":0},null,null,null,null,null,null,null,null,null,{"$f":"IF(AI101<51,10*AI101,50*AI101)","v":0},null,null,null,null,"Racheter medocs : 1000",null,null,null,null,null,null,null,null,"de test d'utilisation",null,null,null,null,null,1,null,null,null,null,null,null,null,null,null,null,null,{"$f":"BO99-BO101","v":0},null,null,null,null,null,"Nouveau niveau",null,null,null,null,null,null,"Année 1",{"$f":"IF(AND(E22=\"Travailleur hybride indépendant\",J22>0,J22<9),N22,0)","v":0},{"$f":"IF(AND(AU8=\"Travailleur hybride indépendant\",AU46>AU29-$CC$133),1,0)","v":0},{"$f":"IF(AND(AY8=\"Travailleur hybride indépendant\",AY46>AY29-$CC$133),1,0)","v":0},{"$f":"IF(AND(BC8=\"Travailleur hybride indépendant\",BC46>BC29-$CC$133),1,0)","v":0},{"$f":"IF(AND(BG8=\"Travailleur hybride indépendant\",BG46>BG29-$CC$133),1,0)","v":0},{"$f":"SUM(CD103:CG103)","v":0},null,null,null,4,2]
[null,"Groupe/Gang",null,null,null,"Groupe/Gang",null,null,"Groupe/Gang",null,null,null,null,null,null,null,null,null,null,null,null,{"$f":"IF(V91<0,\"ERREUR\",\"\")","v":""},null,null,null,null,null,null,null,null,null,null,null,null,{"$f":"IF(AI91<0,\"ERREUR\",\"\")","v":""},null,null,null,null,{"$f":"IF(AN91<0,\"ERREUR\",\"\")","v":""},null,null,null,null,null,null,null,null,{"$f":"IF(AW91<0,\"ERREUR\",\"\")","v":""},null,null,null,null,null,{"$f":"VLOOKUP(BC103,$FL$253:$FM$272,2)","v":"Produits divers"},null,null,null,null,null,null,null,null,null,null,null,"Environnement 3",null,null,null,null,null,0,null,null,null,null,null,null,"Année 2",{"$f":"IF(AND(E23=\"Travailleur hybride indépendant\",J23>0,J23<9),N23,0)","v":0},null,null,null,null,null,null,null,null,5,2]
[{"$f":"IF(MJ_EXPERIENCE!E59>0,CONCATENATE(\"-\",MJ_EXPERIENCE!E59),\"*\")","v":"*"},0,null,null,{"$f":"IF(MJ_EXPERIENCE!E62>0,CONCATENATE(\"-\",MJ_EXPERIENCE!E62),\"*\")","v":"*"},{"$f":"F103+F101","v":0},null,{"$f":"IF(MJ_EXPERIENCE!E65>0,CONCATENATE(\"-\",MJ_EXPERIENCE!E65),\"*\")","v":"*"},0,null,null,null,null,null,null,null,null,null,null,null,null,null,null,null,null,null,null,null,null,null,null,null,null,null,null,null,null,null,null,null,null,null,null,null,null,null,null,null,null,null,null,null,null,null,"Valeur : 10D10 x 20 x niv. (sols)",null,null,null,null,null,null,null,null,null,null,null,0,null,null,null,null,null,{"$f":"IF(BU91<0,\"ERREUR\",\"\")","v":""},null,null,null,null,null,null,"Année 3",0,null,null,null,null,null,null,null,null,6,2]
[null,{"$f":"IF(B98+B105=B96,\"\",\"ERREUR\")","v":""},null,null,null,{"$f":"IF(F98+F101=F96,\"\",\"ERREUR\")","v":""},null,null,{"$f":"IF(I98+I105=I96,\"\",\"ERREUR\")","v":""},null,null,null,null,null,null,null,null,null,null,null,null,null,null,null,null,null,null,null,null,null,null,null,null,null,null,null,null,null,null,null,null,null,null,null,null,null,null,null,null,null,null,null,null,null,10,null,null,null,null,null,null,null,null,null,null,null,"Dépense définitive",null,null,null,null,null,null,null,null,null,null,null,null,"Année 4",0,null,"(soustraction des points acquis dans les 8 première années)",null,null,null,null,null,null,7,2]
[null,null,null,null,null,null,null,null,null,null,null,null,null,null,null,null,null,null,null,null,null,null,null,null,null,null,null,null,null,null,null,null,null,null,null,null,null,null,null,null,null,null,null,null,null,null,null,null,null,null,null,null,null,null,{"$f":"BC101*BC106*20","v":0},null,null,null,null,null,null,null,null,null,null,null,0,null,null,null,null,null,null,null,null,null,null,null,null,"Année 5",0,null,null,null,null,null,null,null,null,8,3]
[null,null,null,null,null,null,null,null,null,null,null,null,null,null,null,null,null,null,null,null,null,null,null,null,null,null,null,null,null,null,null,null,null,null,null,null,null,null,null,null,null,null,null,null,null,null,null,null,null,null,null,null,null,null,"Stock 3",null,null,null,null,null,null,null,null,null,null,null,"Restant",null,null,null,null,null,null,null,null,null,null,null,null,"Année 6",0,null,null,null,null,null,null,null,null,9,3]
[null,null,null,null,null,null,null,null,null,null,null,null,null,null,null,null,null,null,null,null,null,null,null,null,null,null,null,null,null,null,null,null,null,null,null,null,null,null,null,null,null,null,null,null,null,null,null,null,null,null,null,null,null,null,0,null,null,null,null,null,null,null,null,null,null,null,{"$f":"BO105-BO107","v":0},null,null,null,null,null,null,null,null,null,null,null,null,"Année 7",0,null,null,null,null,null,null,null,null,10,3]
[null,null,null,null,null,null,null,null,null,null,null,null,null,null,null,null,null,null,null,null,null,null,null,null,null,null,null,null,null,null,null,null,null,null,null,null,null,null,null,null,null,null,null,null,null,null,null,null,null,null,null,null,null,null,"Type produits : 1D20",null,null,null,null,null,null,null,null,null,null,null,{"$f":"IF(BO91<0,\"ERREUR\",\"\")","v":""},null,null,null,null,null,null,null,null,null,null,null,null,"Année 8",0,null,null,null,null,null,null,null,null,11,3]
[null,"AVANTAGES PROFESSIONNELS DU GUIDE TECHNIQUE",null,null,null,null,null,null,null,null,null,null,null,null,null,null,null,null,null,null,null,null,null,null,"DISCIPLINE RC",null,null,null,null,null,null,null,null,null,null,null,null,null,null,null,null,null,null,null,null,null,null,null,null,null,null,null,null,null,1,null,null,null,null,null,null,null,null,null,null,null,null,null,null,null,null,null,null,null,null,null,null,null,null,"Année 9",0,null,null,null,null,null,null,null,null,12,3]
[null,null,null,null,null,null,null,null,null,null,null,null,null,null,null,null,null,null,null,null,null,null,null,null,null,null,null,null,null,null,null,null,null,null,null,null,null,null,null,null,null,null,null,null,null,null,null,null,null,null,null,null,null,null,{"$f":"VLOOKUP(BC111,$FL$253:$FM$272,2)","v":"Produits divers"},null,null,null,null,null,null,null,null,null,null,null,null,null,null,null,null,null,null,null,null,null,null,null,null,"Année 10",0,null,null,null,null,null,null,null,null,13,3]
[null,null,null,null,null,null,null,null,"*",null,null,null,null,null,null,null,null,null,null,null,null,null,null,null,null,null,null,null,null,null,null,null,null,null,null,null,null,null,null,null,null,null,null,null,null,null,null,null,null,null,null,null,null,null,"Valeur : 10D10 x 20 x niv. (sols)",null,null,null,null,null,null,null,null,null,null,null,null,null,null,null,null,null,null,null,null,null,null,null,null,"Année 11",0,null,null,null,null,null,null,null,null,14,3]
[null,"Professions",null,null,"Techniques de combat GT",null,null,"Niveau","Amelior.","Compétence associée, niveau requis, niveau actuel",null,null,null,null,"Bonus au test d'attaque",null,null,"Malus test adversaire",null,"Bonus aux dégâts",null,"Autres modif.",null,null,"Niveau",null,null,null,null,null,null,null,null,null,null,null,null,null,null,null,null,null,null,null,null,null,null,null,null,null,null,null,null,null,10,null,null,null,null,null,null,null,null,null,null,null,null,null,null,null,null,null,null,null,null,null,null,null,null,"Année 12",0,null,null,null,null,null,null,null,null,15,3]
[null,null,null,null,null,null,null,"X",{"$f":"IF(H115=\"X\",\"X\",H115+MJ_EXPERIENCE!U51)","v":"X"}," ",null,null,{"$f":"IF(I115=\"X\",\"X\",I115+5)","v":"X"},{"$f":"VLOOKUP(J115,$FQ$302:$FR$312,2)","v":"X"},0,null,null,0,null,0,null,null,null,null,0,null,null,null,null,null,null,null,null,null,null,null,null,null,null,null,null,null,null,null,null,null,null,null,null,null,null,null,null,null,{"$f":"BC109*BC114*20","v":0},null,null,null,null,null,null,null,null,null,null,null,null,null,null,null,null,null,null,null,null,null,null,null,null,"Année 13",0,null,null,null,null,null,null,null,null,16,4]
[null,null,null,null,null,null,null,"X",{"$f":"IF(H116=\"X\",\"X\",H116+MJ_EXPERIENCE!U52)","v":"X"}," ",null,null,{"$f":"IF(I116=\"X\",\"X\",I116+5)","v":"X"},{"$f":"VLOOKUP(J116,$FQ$302:$FR$312,2)","v":"X"},0,null,null,0,null,0,null,null,null,null,"Avantage pro",null,null,null,null,null,null,null,null,null,null,null,null,null,null,null,null,null,null,null,null,null,null,null,null,null,null,null,null,null,"Stock 4",null,null,null,null,null,null,null,null,null,null,null,null,null,null,null,null,null,null,null,null,null,null,null,null,"Année 14",0,null,null,null,null,null,null,null,null,17,4]
[null,null,null,null,null,null,null,null,null,{"$f":"IF(J115=\" \",\"\",CONCATENATE(J115,\" (\",N115,\")\"))","v":""},null,null,{"$f":"IF(N115=\"X\",-5,N115)","v":-5},{"$f":"IF(M115=\"X\",\"\",IF(M117<M115,\"ERREUR\",\"\"))","v":""},null,null,null,null,null,null,null,null,null,null,{"$f":"EF1146","v":0},null,null,null,null,null,null,null,null,null,null,null,null,null,null,null,null,null,null,null,null,null,null,null,null,null,null,null,null,null,0,null,null,null,null,null,null,null,null,null,null,null,null,null,null,null,null,null,null,null,null,null,null,null,null,"Année 15",0,null,null,null,null,null,null,null,null,18,4]
[null,null,null,null,null,null,null,null,null,{"$f":"IF(J116=\" \",\"\",CONCATENATE(J116,\" (\",N116,\")\"))","v":""},null,null,{"$f":"IF(N116=\"X\",-5,N116)","v":-5},{"$f":"IF(M116=\"X\",\"\",IF(M118<M116,\"ERREUR\",\"\"))","v":""},null,null,null,null,null,null,null,null,null,null,"Niveau total",null,null,null,null,null,null,null,null,null,null,null,null,null,null,null,null,null,null,null,null,null,null,null,null,null,null,null,null,null,"Type produits : 1D20",null,null,null,null,null,null,null,null,null,null,null,null,null,null,null,null,null,null,null,null,null,null,null,null,"Année 16",0,null,null,null,null,null,null,null,null,19,4]
[null,null,null,null,{"$f":"IF(E115=\"\",\"\",E115)","v":""},null,null,null,null,null,null,"Effets",null,null,null,null,null,null,null,null,null,null,null,null,{"$f":"Y115+Y117","v":0},null,null,null,null,null,null,null,null,null,null,null,null,null,null,null,null,null,null,null,null,null,null,null,null,null,null,null,null,null,1,null,null,null,null,null,null,null,null,null,null,null,null,null,null,null,null,null,null,null,null,null,null,null,null,"Année 17",0,null,null,null,null,null,null,null,null,20,4]
[null,null,"Botte 1",null,null,null,null,null,null,null,null,null,null,null,null,null,null,null,null,null,null,null,null,null,"Bonus correspondant*",null,null,null,null,null,null,null,null,null,null,null,null,null,null,null,null,null,null,null,null,null,null,null,null,null,null,null,null,null,{"$f":"VLOOKUP(BC119,$FL$253:$FM$272,2)","v":"Produits divers"},null,null,null,null,null,null,null,null,null,null,null,null,null,null,null,null,null,null,null,null,null,null,null,null,"Année 18",0]
[null,null,"Botte 2",null,null,null,null,null,null,null,null,null,null,null,null,null,null,null,null,null,null,null,null,null,{"$f":"VLOOKUP(Y119,CL99:CM119,2)","v":0},null,null,null,null,null,null,null,null,null,null,null,null,null,null,null,null,null,null,null,null,null,null,null,null,null,null,null,null,null,"Valeur : 10D10 x 20 x niv. (sols)",null,null,null,null,null,null,null,null,null,null,null,null,null,null,null,null,null,null,null,null,null,null,null,null,"Année 19",0]
[null,null,"Botte 3",null,null,null,null,null,null,null,null,null,null,null,null,null,null,null,null,null,null,null,null,null,null,null,null,null,null,null,null,null,null,null,null,null,null,null,null,null,null,null,null,null,null,null,null,null,null,null,null,null,null,null,10,null,null,null,null,null,null,null,null,null,null,null,null,null,null,null,null,null,null,null,null,null,null,null,null,"Année 20",0]
[null,null,null,null,null,null,null,null,null,null,null,null,null,null,null,null,null,null,null,null,null,null,null,null,"A utiliser manuellement",null,null,null,null,null,null,null,null,null,null,null,null,null,null,null,null,null,null,null,null,null,null,null,null,null,null,null,null,null,{"$f":"BC117*BC122*20","v":0},null,null,null,null,null,null,null,null,null,null,null,null,null,null,null,null,null,null,null,null,null,null,null,null,"Année 21",0]
[null,null,null,null,null,null,null,null,null,null,null,null,null,null,null,null,null,null,null,null,null,null,null,null,"pour les compétences",null,null,null,null,null,null,null,null,null,null,null,null,null,null,null,null,null,null,null,null,null,null,null,null,null,null,null,null,null,"Stock 5",null,null,null,null,null,null,null,null,null,null,null,null,null,null,null,null,null,null,null,null,null,null,null,null,"Année 22",0]
[null,null,null,null,{"$f":"IF(E116=\"\",\"\",E116)","v":""},null,null,null,null,null,null,"Effets",null,null,null,null,null,null,null,null,null,null,null,null,"(et familles de comp.) :",null,null,null,null,null,null,null,null,null,null,null,null,null,null,null,null,null,null,null,null,null,null,null,null,null,null,null,null,null,0,null,null,null,null,null,null,null,null,null,null,null,null,null,null,null,null,null,null,null,null,null,null,null,null,"Année 23",0]
[null,null,"Botte 1",null,null,null,null,null,null,null,null,null,null,null,null,null,null,null,null,null,null,null,null,null,"Analyse empathique",null,null,null,null,null,null,null,null,null,null,null,null,null,null,null,null,null,null,null,null,null,null,null,null,null,null,null,null,null,"Type produits : 1D20",null,null,null,null,null,null,null,null,null,null,null,null,null,null,null,null,null,null,null,null,null,null,null,null,"Année 24",0]
[null,null,"Botte 2",null,null,null,null,null,null,null,null,null,null,null,null,null,null,null,null,null,null,null,null,null,"Empathie",null,null,null,null,null,null,null,null,null,null,null,null,null,null,null,null,null,null,null,null,null,null,null,null,null,null,null,null,null,1,null,null,null,null,null,null,null,null,null,null,null,null,null,null,null,null,null,null,null,null,null,null,null,null,"Année 25",0]
[null,null,"Botte 3",null,null,null,null,null,null,null,null,null,null,null,null,null,null,null,null,null,null,null,null,null,"Aptitudes physiques",null,null,null,null,null,null,null,null,null,null,null,null,null,null,null,null,null,null,null,null,null,null,null,null,null,null,null,null,null,{"$f":"VLOOKUP(BC127,$FL$253:$FM$272,2)","v":"Produits divers"},null,null,null,null,null,null,null,null,null,null,null,null,null,null,null,null,null,null,null,null,null,null,null,null,"Année 26",0]
[null,null,null,null,null,null,null,null,null,null,null,null,null,null,null,null,null,null,null,null,null,null,null,null,"Arts martiaux",null,null,null,null,null,null,null,null,null,null,null,null,null,null,null,null,null,null,null,null,null,null,null,null,null,null,null,null,null,"Valeur : 10D10 x 20 x niv. (sols)",null,null,null,null,null,null,null,null,null,null,null,null,null,null,null,null,null,null,null,null,null,null,null,null,"Année 27",0]
[null,null,null,null,null,null,null,null,null,null,null,null,null,null,null,null,null,null,null,null,null,null,null,null,"Relations sociales",null,null,null,null,null,null,null,null,null,null,null,null,null,null,null,null,null,null,null,null,null,null,null,null,null,null,null,null,null,10,null,null,null,null,null,null,null,null,null,null,null,null,null,null,null,null,null,null,null,null,null,null,null,null,"Année 28",0]
[null,null,null,null,null,null,null,null,null,null,null,null,null,null,null,null,null,null,null,null,null,null,null,null,"Psychologie",null,null,null,null,null,null,null,null,null,null,null,null,null,null,null,null,null,null,null,null,null,null,null,null,null,null,null,null,null,{"$f":"BC125*BC130*20","v":0},null,null,null,null,null,null,null,null,null,null,null,null,null,null,null,null,null,null,null,null,null,null,null,null,"Année 29",0]
[null,null,null,null,null,null,null,null,null,null,null,null,null,null,null,null,null,null,null,null,null,null,null,null,"Premiers soins",null,null,null,null,null,null,null,null,null,null,null,null,null,null,null,null,null,null,null,null,null,null,null,null,null,null,null,null,null,{"$f":"IF(BC91<0,\"ERREUR\",\"\")","v":""},null,null,null,null,null,null,null,null,null,null,null,null,null,null,null,null,null,null,null,null,null,null,null,null,"Année 30",0]
[null,"Professions",null,null,"Niveaux de fragments Maîtres GT",null,null,"Niveau en Logiciel",null,"Nombre de niveaux maximum par programme",null,null,null,null,null,null,null,null,null,null,null,null,null,null,"Chirurgie",null,null,null,null,null,null,null,null,null,null,null,null,null,null,null,null,null,null,null,null,null,null,null,null,null,null,null,null,null,null,null,null,null,null,null,null,null,null,null,null,null,null,null,null,null,null,null,null,null,null,null,null,null,null,null,{"$f":"SUM(CC103:CC132)","v":0}]
[null,null,null,null,0,null,null,{"$f":"EXPERIENCE_PRELIMINAIRE!W287","v":"X"},null,{"$f":"IF(I136<1,\"aucun niveau allouable\",CONCATENATE(I136,\" niveaux allouables/programme\"))","v":"aucun niveau allouable"},null,null,null,null,null,null,null,null,null,null,null,null,null,null,"…",null,null,null,null,null,null,null,null,null,null,null,null,null,null,null,null,null,null,null,null,null,null,null,null,null,null,null,null,null,"Utilisation du stock :"]
[null,null,null,null,0,null,null,null,null,null,null,null,null,{"$f":"CONCATENATE(E134+E135,\" (\",J134,\")\")","v":"0 (aucun niveau allouable)"},null,null,null,null,null,null,null,null,null,null,null,null,null,null,null,null,null,null,null,null,null,null,null,null,null,null,null,null,null,null,null,null,null,null,null,null,null,null,null,null,"tester état du stock"]
[null,null,null,null,null,null,null,null,{"$f":"IF(H134=\"X\",-4,H134)","v":-4},null,null,null,null,null,null,null,null,null,null,null,null,null,null,null,null,null,null,null,null,null,null,null,null,null,null,null,null,null,null,null,null,null,null,null,null,null,null,null,null,null,null,null,null,null,"1D20"]
[null,null,null,null,null,null,null,null,null,null,null,null,null,null,null,null,null,null,null,null,null,null,null,null,null,null,null,null,null,null,null,null,null,null,null,null,null,null,null,null,null,null,null,null,null,null,null,null,null,null,null,null,null,null,1]
[null,null,null,null,null,null,null,null,null,null,null,null,null,null,null,null,null,null,null,null,null,null,null,null,null,null,null,null,null,null,null,null,null,null,null,null,null,null,null,null,null,null,null,null,null,null,null,null,null,null,null,null,null,null,{"$f":"VLOOKUP(BC137,FP253:FR272,2)","v":"Produits détruits"}]
[null,null,null,null,null,null,null,null,null,null,null,null,null,null,null,null,null,null,null,null,null,null,null,null,null,null,null,null,null,null,null,null,null,null,null,null,null,null,null,null,null,null,null,null,null,null,null,null,null,null,null,null,null,null,{"$f":"VLOOKUP(BC137,FP253:FR272,3)","v":"Valeur réduite à néant"}]
[]
[]
[]
[]
[]
[]
[]
[]
[]
[]
[]
[]
[]
[]
[]
[]
[]
[]
[]
[]
[]
[]
[]
[]
[null,null,null,null,null,null,null,null,null,null,null,null,null,null,null,null,null,null,null,null,null,null,null,null,null,null,null,null,null,null,null,null,null,null,null,null,null,null,null,null,null,null,null,null,null,null,null,null,null,null,null,null,null,null,null,null,null,null,null,null,null,null,null,null,null,null,null,null,null,1,2,3,4,5,6,7,8,9,10,11,12,13,14,15,16,17,18,19,20,21,22,23,24,25,26,27,28,29,30,31,32,33,34,35,36,37,38,39,40,41,42,43,44,45,46,47,48,49,50,51,52,53,54,55,56,57,58,59,60,61,62,63,64,65,66,67,68,69,70,71,72,73,74,75,76,77,78,79,80,81,82,83,84,85,86,87,88,89,90,91,92,93,94,95,96,97]
[null,null,null,null,null,null,null,null,null,null,null,null,null,null,null,null,null,null,null,null,null,null,null,null,null,null,null,null,null,null,null,null,null,null,null,null,null,null,null,null,null,null,null,null,null,null,null,null,null,null,null,null,null,null,null,null,null,null,null,null,null,null,null,null,null,null,null,null,null,"Professions",null,null,null,"Titre 1","Titre 2","Titre 3","Titre 4","Titre 5","Titre 6","Titre 7","Titre 8","Titre 9","Titre 10","Titre 11","Titre 12","Titre 13","Titre 14","Titre 15","Titre 16","Titre 17","Titre 18","Titre 19","Titre 20","Titre 21","Titre 22","Titre 23","Titre 24","Titre 25","Titre 26","Titre 27","Titre 28","Titre 29","Titre 30","Salaire 1","Salaire 2","Salaire 3","Salaire 4","Salaire 5","Salaire 6","Salaire 7","Salaire 8","Salaire 9","Salaire 10","Salaire 11","Salaire 12","Salaire 13","Salaire 14","Salaire 15","Salaire 16","Salaire 17","Salaire 18","Salaire 19","Salaire 20","Salaire 21","Salaire 22","Salaire 23","Salaire 24","Salaire 25","Salaire 26","Salaire 27","Salaire 28","Salaire 29","Salaire 30","Contacts","Alliés","Opposants","Célébrité","Relations","Art/Artisanat","Ateliers","Assemblage","Base de données","Bar","Cabine privée","Cabinets médicaux","Concession minières","Corruption/Chantage","Etal/Boutique","Falsification","Fausses identités","Matériel","Parcelles d'élevage/cultures","Pharmacie personnelle","Planque/cache","Réseau de contrebande","Stock de marchandises","Endettement","Artefacts","Conscience du Flux","Evolution","Larves de connaissance","Larves de vision","Lien espèce","Murmure du monde","Protection de la surface","Renforcement du lien animal"]
[null,null,null,null,null,null,null,null,null,null,null,null,null,null,null,null,null,null,null,null,null,null,null,null,null,null,null,null,null,null,null,null,null,null,null,null,null,null,null,null,null,null,null,null,null,null,null,null,null,null,null,null,null,null,null,null,null,null,null,null,null,null,null,null,null,null,null,null,null,"Sans profession",null,null,null," "," "," "," "," "," "," "," "," "," "," "," "," "," "," "," "," "," "," "," "," "," "," "," "," "," "," "," "," "," ",0,0,0,0,0,0,0,0,0,0,0,0,0,0,0,0,0,0,0,0,0,0,0,0,0,0,0,0,0,0,0,0,0,0,0,0,0,0,0,0,0,0,0,0,0,0,0,0,0,0,0,0,0,0,0,0,0,0,0,0,0,0,0]
[null,null,null,null,null,null,null,null,null,null,null,null,null,null,null,null,null,null,null,null,null,null,null,null,null,null,null,null,null,null,null,null,null,null,null,null,null,null,null,null,null,null,null,null,null,null,null,null,null,null,null,null,null,null,null,null,null,null,null,null,null,null,null,null,null,null,null,null,null,"Artisan/Artiste",null,null,null,"Apprenti","Apprenti","Compagnon","Compagnon","Compagnon","Compagnon","Artisan/Artiste","Artisan/Artiste","Artisan/Artiste","Artisan/Artiste","Artisan/Artiste","Artisan/Artiste","Maître","Maître","Maître","Maître","Maître","Maître","Maître","Maître","Maître","Maître","Maître","Maître","Maître","Maître","Maître","Maître","Maître","Maître",50,50,1500,1500,1500,1500,15000,15000,15000,15000,15000,15000,30000,30000,30000,30000,30000,30000,30000,30000,30000,30000,30000,30000,30000,30000,30000,30000,30000,30000,1,0.5,0.25,1,1,1,null,null,null,null,null,null,null,null,1,null,null,1]
[null,null,null,null,null,null,null,null,null,null,null,null,null,null,null,null,null,null,null,null,null,null,null,null,null,null,null,null,null,null,null,null,null,null,null,null,null,null,null,null,null,null,null,null,null,null,null,null,null,null,null,null,null,null,null,null,null,null,null,null,null,null,null,null,null,null,null,null,null,"Assassin",null,null,null,"Tueur à gages","Tueur à gages","Tueur à gages","Assassin","Assassin","Assassin","Assassin","Assassin","Assassin","Assassin","Assassin","Assassin","Netoyeur","Netoyeur","Netoyeur","Netoyeur","Netoyeur","Netoyeur","Netoyeur","Netoyeur","Netoyeur","Netoyeur","Netoyeur","Netoyeur","Netoyeur","Netoyeur","Netoyeur","Netoyeur","Netoyeur","Netoyeur",500,500,500,1000,1000,1000,1000,2000,2000,4000,4000,4000,6000,6000,6000,6000,6000,6000,6000,6000,6000,6000,6000,6000,6000,6000,6000,6000,6000,6000,1,0.33333333333333331,1,1,1,null,null,null,null,null,null,null,null,1,null,1,1,1,null,null,1]
[null,null,null,null,null,null,null,null,null,null,null,null,null,null,null,null,null,null,null,null,null,null,null,null,null,null,null,null,null,null,null,null,null,null,null,null,null,null,null,null,null,null,null,null,null,null,null,null,null,null,null,null,null,null,null,null,null,null,null,null,null,null,null,null,null,null,null,null,null,"Barman",null,null,null,"Apprenti","Apprenti","Barman","Barman","Barman","Barman","Barman","Barman","Barman","Barman","Barman","Barman","Barman","Barman","Barman","Barman","Barman","Barman","Barman","Barman","Barman","Barman","Barman","Barman","Barman","Barman","Barman","Barman","Barman","Barman",400,400,800,800,800,800,1000,1000,1000,1000,1000,1000,1000,1000,5000,5000,5000,5000,5000,5000,5000,5000,5000,5000,5000,5000,5000,5000,5000,5000,2,0.5,0.25,1,1,null,null,null,null,1,null,null,null,null,null,null,null,1,null,null,null,null,1]
[null,null,null,null,null,null,null,null,null,null,null,null,null,null,null,null,null,null,null,null,null,null,null,null,null,null,null,null,null,null,null,null,null,null,null,null,null,null,null,null,null,null,null,null,null,null,null,null,null,null,null,null,null,null,null,null,null,null,null,null,null,null,null,null,null,null,null,null,null,"Chasseur de primes",null,null,null,"Apprenti","Apprenti","Apprenti","Apprenti","Apprenti","Apprenti","Chasseur de primes","Chasseur de primes","Chasseur de primes","Chasseur de primes","Chasseur de primes","Chasseur de primes","Chasseur de primes","Chasseur de primes","Chasseur de primes","Chasseur de primes","Chasseur de primes","Chasseur de primes","Chasseur de primes","Chasseur de primes","Chasseur de primes","Chasseur de primes","Chasseur de primes","Chasseur de primes","Chasseur de primes","Chasseur de primes","Chasseur de primes","Chasseur de primes","Chasseur de primes","Chasseur de primes",500,500,500,500,500,500,1000,1000,2000,2000,6000,6000,6000,6000,8000,8000,8000,8000,12000,12000,12000,12000,12000,12000,12000,12000,12000,12000,12000,12000,{"$f":"1/2","v":0.5},0.25,0.5,1,1,null,null,null,null,null,null,null,null,null,null,null,null,1,null,null,null,null,null,1]
[null,null,null,null,null,null,null,null,null,null,null,null,null,null,null,null,null,null,null,null,null,null,null,null,null,null,null,null,null,null,null,null,null,null,null,null,null,null,null,null,null,null,null,null,null,null,null,null,null,null,null,null,null,null,null,null,null,null,null,null,null,null,null,null,null,null,null,null,null,"Contrebandier",null,null,null,"Contrebandier","Contrebandier","Contrebandier","Contrebandier","Contrebandier","Contrebandier","Contrebandier","Contrebandier","Contrebandier","Contrebandier","Contrebandier","Contrebandier","Contrebandier","Contrebandier","Contrebandier","Contrebandier","Contrebandier","Contrebandier","Contrebandier","Contrebandier","Contrebandier","Contrebandier","Contrebandier","Contrebandier","Contrebandier","Contrebandier","Contrebandier","Contrebandier","Contrebandier","Contrebandier",300,300,300,300,300,300,5000,5000,5000,5000,5000,5000,5000,5000,5000,5000,5000,5000,5000,5000,5000,5000,5000,5000,5000,5000,5000,5000,5000,5000,1,0.33333333333333331,0.5,1,1,null,null,null,null,null,null,null,null,1,null,1,null,1,null,null,1,1,1,1]
[null,null,null,null,null,null,null,null,null,null,null,null,null,null,null,null,null,null,null,null,null,null,null,null,null,null,null,null,null,null,null,null,null,null,null,null,null,null,null,null,null,null,null,null,null,null,null,null,null,null,null,null,null,null,null,null,null,null,null,null,null,null,null,null,null,null,null,null,null,"Cultivateur/Eleveur",null,null,null,"Apprenti","Ouvrier agricole","Ouvrier agricole","Ouvrier agricole","Ouvrier agricole","Ouvrier agricole","Ouvrier agricole","Ouvrier agricole","Ouvrier agricole","Responsable d'élevage/culture","Responsable d'élevage/culture","Responsable de maître/culture","Responsable de maître/culture","Eleveur/Aquaculteur","Eleveur/Aquaculteur","Eleveur/Aquaculteur","Eleveur/Aquaculteur","Eleveur/Aquaculteur","Eleveur/Aquaculteur","Eleveur/Aquaculteur","Responsable d'exploitation","Responsable d'exploitation","Responsable d'exploitation","Responsable d'exploitation","Responsable d'exploitation","Responsable d'exploitation","Responsable d'exploitation","Responsable d'exploitation","Responsable d'exploitation","Responsable d'exploitation",100,1000,1000,1000,1000,1000,1000,1000,1000,1500,1500,2000,2000,3000,3000,4000,4000,4000,4000,4000,6000,6000,6000,6000,6000,6000,6000,6000,6000,6000,0.33333333333333331,0.2,0.2,1,1,null,null,null,null,null,null,null,null,null,null,null,null,1,1,null,null,null,null,1]
[null,null,null,null,null,null,null,null,null,null,null,null,null,null,null,null,null,null,null,null,null,null,null,null,null,null,null,null,null,null,null,null,null,null,null,null,null,null,null,null,null,null,null,null,null,null,null,null,null,null,null,null,null,null,null,null,null,null,null,null,null,null,null,null,null,null,null,null,null,"Diplomate",null,null,null,"Etudiant","Etudiant","Universitaire","Universitaire","Universitaire","Universitaire","Universitaire","Universitaire","Assistant","Assistant","Assistant","Assistant","Diplomate","Diplomate","Diplomate","Diplomate","Diplomate","Diplomate","Diplomate","Conseiller","Conseiller","Conseiller","Conseiller","Conseiller","Conseiller","Conseiller","Conseiller","Conseiller","Conseiller","Conseiller",1000,1000,2000,2000,2000,2000,2000,2000,4000,4000,4000,4000,20000,20000,20000,20000,20000,20000,40000,40000,40000,40000,40000,40000,40000,40000,40000,40000,40000,40000,1,0.5,0.5,1,1,null,null,null,null,null,1,null,null,1,null,null,null,1]
[null,null,null,null,null,null,null,null,null,null,null,null,null,null,null,null,null,null,null,null,null,null,null,null,null,null,null,null,null,null,null,null,null,null,null,null,null,null,null,null,null,null,null,null,null,null,null,null,null,null,null,null,null,null,null,null,null,null,null,null,null,null,null,null,null,null,null,null,null,"Erudit/Archéologue",null,null,null,"Etudiant","Etudiant","Universitaire","Universitaire","Universitaire","Universitaire","Assistant","Assistant","Assistant","Assistant","Assistant","Assistant","Erudit","Erudit","Erudit","Erudit","Erudit","Erudit","Erudit","Erudit","Erudit","Erudit","Erudit","Erudit","Erudit","Erudit","Erudit","Erudit","Erudit","Erudit",1000,1000,2000,2000,2000,2000,4000,4000,4000,4000,4000,4000,14000,14000,14000,14000,14000,14000,14000,14000,14000,14000,14000,14000,14000,14000,14000,14000,14000,14000,1,0.5,0.5,1,1,null,null,null,1,null,1,null,null,null,null,null,null,1]
[null,null,null,null,null,null,null,null,null,null,null,null,null,null,null,null,null,null,null,null,null,null,null,null,null,null,null,null,null,null,null,null,null,null,null,null,null,null,null,null,null,null,null,null,null,null,null,null,null,null,null,null,null,null,null,null,null,null,null,null,null,null,null,null,null,null,null,null,null,"Espion",null,null,null,"Novice","Novice","Novice","Novice","Novice","Novice","Espion","Espion","Espion","Espion","Espion","Espion","Espion","Espion","Espion","Espion","Espion","Espion","Espion","Espion","Espion","Espion","Espion","Espion","Espion","Espion","Espion","Espion","Espion","Espion",600,600,600,600,600,600,6000,6000,6000,6000,6000,6000,6000,6000,6000,6000,6000,6000,6000,6000,6000,6000,6000,6000,6000,6000,6000,6000,6000,6000,1,0.33333333333333331,0.5,1,1,null,null,null,null,null,null,null,null,1,null,1,1,1,null,null,1]
[null,null,null,null,null,null,null,null,null,null,null,null,null,null,null,null,null,null,null,null,null,null,null,null,null,null,null,null,null,null,null,null,null,null,null,null,null,null,null,null,null,null,null,null,null,null,null,null,null,null,null,null,null,null,null,null,null,null,null,null,null,null,null,null,null,null,null,null,null,"Hybride du Trident (Membre du GSI)",null,null,null,"Hybride","Hybride","Hybride","Hybride","Hybride","Hybride","Hybride","Hybride","Hybride","Hybride","Hybride","Hybride","Hybride","Hybride","Hybride","Hybride","Hybride","Hybride","Hybride","Hybride","Hybride","Hybride","Hybride","Hybride","Hybride","Hybride","Hybride","Hybride","Hybride","Hybride",1000,1000,1000,1000,1000,1000,1000,1000,1000,1000,1000,1000,1000,1000,1000,1000,1000,1000,1000,1000,1000,1000,1000,1000,1000,1000,1000,1000,1000,1000,0.25,0.2,0.2,1,1,null,null,null,null,null,null,null,null,null,null,null,null,1]
[null,null,null,null,null,null,null,null,null,null,null,null,null,null,null,null,null,null,null,null,null,null,null,null,null,null,null,null,null,null,null,null,null,null,null,null,null,null,null,null,null,null,null,null,null,null,null,null,null,null,null,null,null,null,null,null,null,null,null,null,null,null,null,null,null,null,null,null,null,"Marchand",null,null,null,"Employé","Employé","Employé","Employé","Employé","Apprenti marchand","Apprenti marchand","Marchand","Marchand","Marchand","Marchand","Marchand","Marchand","Marchand","Marchand","Marchand","Marchand","Marchand","Marchand","Marchand","Marchand","Marchand","Marchand","Marchand","Marchand","Marchand","Marchand","Marchand","Marchand","Marchand",100,100,100,100,100,1000,1000,2000,2000,2000,2000,4000,4000,4000,4000,6000,6000,6000,6000,12000,12000,12000,12000,20000,20000,20000,30000,30000,30000,30000,1,0.5,0.25,1,1,null,null,null,null,null,null,null,null,null,1,null,null,1,null,null,null,null,1]
[null,null,null,null,null,null,null,null,null,null,null,null,null,null,null,null,null,null,null,null,null,null,null,null,null,null,null,null,null,null,null,null,null,null,null,null,null,null,null,null,null,null,null,null,null,null,null,null,null,null,null,null,null,null,null,null,null,null,null,null,null,null,null,null,null,null,null,null,null,"Marchand itinérant/Conteur",null,null,null,"Marchand itinérant","Marchand itinérant","Marchand itinérant","Marchand itinérant","Marchand itinérant","Marchand itinérant","Marchand itinérant","Marchand itinérant","Marchand itinérant","Marchand itinérant","Marchand itinérant","Marchand itinérant","Marchand itinérant","Marchand itinérant","Marchand itinérant","Marchand itinérant","Marchand itinérant","Marchand itinérant","Marchand itinérant","Marchand itinérant","Marchand itinérant","Marchand itinérant","Marchand itinérant","Marchand itinérant","Marchand itinérant","Marchand itinérant","Marchand itinérant","Marchand itinérant","Marchand itinérant","Marchand itinérant",500,500,500,500,500,500,500,500,500,500,500,500,500,500,500,500,500,500,500,500,500,500,500,500,500,500,500,500,500,500,2,1,0.5,1,1,null,null,null,null,null,null,null,null,null,null,null,null,1,null,null,null,null,1,1]
[null,null,null,null,null,null,null,null,null,null,null,null,null,null,null,null,null,null,null,null,null,null,null,null,null,null,null,null,null,null,null,null,null,null,null,null,null,null,null,null,null,null,null,null,null,null,null,null,null,null,null,null,null,null,null,null,null,null,null,null,null,null,null,null,null,null,null,null,null,"Médecin/Chirurgien",null,null,null,"Etudiant","Etudiant","Etudiant","Etudiant","Etudiant","Etudiant","Médecin publique","Médecin publique","Médecin publique","Médecin publique","Médecin publique","Médecin publique","Médecin privé","Médecin privé","Médecin 1ère catégorie","Médecin 1ère catégorie","Médecin confirmé","Médecin confirmé","Médecin","Médecin","Expert en médecine","Expert en médecine","Expert en médecine","Expert en médecine","Expert en médecine","Expert en médecine","Expert en médecine","Expert en médecine","Expert en médecine","Expert en médecine",200,200,200,200,200,200,1000,1000,1000,1000,1000,1000,4000,4000,8000,8000,12000,12000,18000,18000,20000,20000,20000,20000,20000,20000,20000,20000,20000,20000,0.25,0.25,0.25,1,1,null,null,null,1,null,null,1,null,null,null,null,null,1,null,1]
[null,null,null,null,null,null,null,null,null,null,null,null,null,null,null,null,null,null,null,null,null,null,null,null,null,null,null,null,null,null,null,null,null,null,null,null,null,null,null,null,null,null,null,null,null,null,null,null,null,null,null,null,null,null,null,null,null,null,null,null,null,null,null,null,null,null,null,null,null,"Mercenaire",null,null,null,"Mercenaire","Mercenaire","Mercenaire","Mercenaire","Mercenaire","Mercenaire","Sergent","Sergent","Sergent","Sergent","Sergent","Sergent","Sergent","Sergent","Lieutenant","Lieutenant","Lieutenant","Lieutenant","Capitaine","Capitaine","Capitaine","Capitaine","Capitaine","Capitaine","Capitaine","Capitaine","Capitaine","Capitaine","Capitaine","Capitaine",500,500,500,500,500,500,1000,1000,2000,2000,4000,4000,4000,4000,8000,8000,8000,8000,12000,12000,12000,12000,12000,12000,12000,12000,12000,12000,12000,12000,0.5,0.25,0.5,1,1,null,null,null,null,null,null,null,null,null,null,null,null,1,null,null,null,null,null,1]
[null,null,null,null,null,null,null,null,null,null,null,null,null,null,null,null,null,null,null,null,null,null,null,null,null,null,null,null,null,null,null,null,null,null,null,null,null,null,null,null,null,null,null,null,null,null,null,null,null,null,null,null,null,null,null,null,null,null,null,null,null,null,null,null,null,null,null,null,null,"Mineur",null,null,null,"Mineur apprenti","Mineur apprenti","Mineur","Mineur","Mineur","Mineur","Mineur 1ère catégorie","Mineur 1ère catégorie","Mineur Classe A","Mineur Classe A","Mineur Classe B","Mineur Classe B","Mineur Classe C","Mineur Classe C","Mineur Classe C","Mineur Classe C","Mineur Classe C","Mineur Classe C","Mineur expert","Mineur expert","Maïtre de mine","Maïtre de mine","Maïtre de mine","Maïtre de mine","Maïtre de mine","Maïtre de mine","Maïtre de mine","Maïtre de mine","Maïtre de mine","Maïtre de mine",500,500,1000,1000,1000,1000,2000,2000,3000,3000,4000,4000,5000,5000,5000,5000,5000,5000,8000,8000,12000,12000,12000,12000,12000,12000,12000,12000,12000,12000,0.5,0.25,0.16666666666666666,1,1,null,null,null,null,null,null,null,1,null,null,null,null,1,null,null,null,null,null,1]
[null,null,null,null,null,null,null,null,null,null,null,null,null,null,null,null,null,null,null,null,null,null,null,null,null,null,null,null,null,null,null,null,null,null,null,null,null,null,null,null,null,null,null,null,null,null,null,null,null,null,null,null,null,null,null,null,null,null,null,null,null,null,null,null,null,null,null,null,null,"Officier naval/Navigateur",null,null,null,"Aspirant","Aspirant","Aspirant","Aspirant","Aspirant","Lieutenant","Lieutenant","Lieutenant","Lieutenant","Lieutenant","Lieutenant","Capitaine","Capitaine","Capitaine","Capitaine","Capitaine","Capitaine","Capitaine","Capitaine","Capitaine","Capitaine","Capitaine","Capitaine","Capitaine","Capitaine","Capitaine","Capitaine","Capitaine","Capitaine","Capitaine",12000,12000,12000,12000,12000,20000,20000,20000,20000,20000,20000,36000,36000,36000,36000,36000,36000,36000,36000,36000,36000,36000,36000,36000,36000,36000,36000,36000,36000,36000,0.5,0.25,0.16666666666666666,1,1,null,null,null,null,null,null,null,null,null,null,null,null,1]
[null,null,null,null,null,null,null,null,null,null,null,null,null,null,null,null,null,null,null,null,null,null,null,null,null,null,null,null,null,null,null,null,null,null,null,null,null,null,null,null,null,null,null,null,null,null,null,null,null,null,null,null,null,null,null,null,null,null,null,null,null,null,null,null,null,null,null,null,null,"Officier militaire",null,null,null,"Aspirant","Aspirant","Aspirant","Aspirant","Aspirant","Lieutenant","Lieutenant","Lieutenant","Lieutenant","Lieutenant","Lieutenant","Capitaine","Capitaine","Capitaine","Capitaine","Capitaine","Capitaine","Capitaine","Capitaine","Capitaine","Capitaine","Capitaine","Capitaine","Capitaine","Capitaine","Capitaine","Capitaine","Capitaine","Capitaine","Capitaine",4000,4000,4000,4000,4000,6000,6000,6000,6000,6000,6000,10000,10000,10000,10000,10000,10000,10000,10000,10000,10000,10000,10000,10000,10000,10000,10000,10000,10000,10000,0.5,0.25,0.16666666666666666,1,1,null,null,null,null,null,null,null,null,null,null,null,null,1]
[null,null,null,null,null,null,null,null,null,null,null,null,null,null,null,null,null,null,null,null,null,null,null,null,null,null,null,null,null,null,null,null,null,null,null,null,null,null,null,null,null,null,null,null,null,null,null,null,null,null,null,null,null,null,null,null,null,null,null,null,null,null,null,null,null,null,null,null,null,"Officier militaire (Spé. Op. Surface)",null,null,null,"Aspirant","Aspirant","Aspirant","Aspirant","Aspirant","Lieutenant","Lieutenant","Lieutenant","Lieutenant","Lieutenant","Lieutenant","Capitaine","Capitaine","Capitaine","Capitaine","Capitaine","Capitaine","Capitaine","Capitaine","Capitaine","Capitaine","Capitaine","Capitaine","Capitaine","Capitaine","Capitaine","Capitaine","Capitaine","Capitaine","Capitaine",12000,12000,12000,12000,12000,18000,18000,18000,18000,18000,18000,30000,30000,30000,30000,30000,30000,30000,30000,30000,30000,30000,30000,30000,30000,30000,30000,30000,30000,30000,0.5,0.25,0.16666666666666666,1,1,null,null,null,null,null,null,null,null,null,null,null,null,1]
[null,null,null,null,null,null,null,null,null,null,null,null,null,null,null,null,null,null,null,null,null,null,null,null,null,null,null,null,null,null,null,null,null,null,null,null,null,null,null,null,null,null,null,null,null,null,null,null,null,null,null,null,null,null,null,null,null,null,null,null,null,null,null,null,null,null,null,null,null,"Officier militaire (Spé. Op. Souterrains)",null,null,null,"Aspirant","Aspirant","Aspirant","Aspirant","Aspirant","Lieutenant","Lieutenant","Lieutenant","Lieutenant","Lieutenant","Lieutenant","Capitaine","Capitaine","Capitaine","Capitaine","Capitaine","Capitaine","Capitaine","Capitaine","Capitaine","Capitaine","Capitaine","Capitaine","Capitaine","Capitaine","Capitaine","Capitaine","Capitaine","Capitaine","Capitaine",12000,12000,12000,12000,12000,18000,18000,18000,18000,18000,18000,30000,30000,30000,30000,30000,30000,30000,30000,30000,30000,30000,30000,30000,30000,30000,30000,30000,30000,30000,0.5,0.25,0.16666666666666666,1,1,null,null,null,null,null,null,null,null,null,null,null,null,1]
[null,null,null,null,null,null,null,null,null,null,null,null,null,null,null,null,null,null,null,null,null,null,null,null,null,null,null,null,null,null,null,null,null,null,null,null,null,null,null,null,null,null,null,null,null,null,null,null,null,null,null,null,null,null,null,null,null,null,null,null,null,null,null,null,null,null,null,null,null,"Ouvrier/Docker",null,null,null,"Apprenti","Apprenti","Ouvrier Classe A","Ouvrier Classe A","Ouvrier Classe A","Ouvrier Classe A","Ouvrier Classe B","Ouvrier Classe B","Ouvrier Classe C","Ouvrier Classe C","Ouvrier Classe D","Ouvrier Classe D","Ouvrier qualifié","Ouvrier qualifié","Ouvrier qualifié","Ouvrier qualifié","Ouvrier qualifié","Ouvrier qualifié","Ouvrier expert","Ouvrier epert","Maître ouvrier","Maître ouvrier","Maître ouvrier","Maître ouvrier","Maître ouvrier","Maître ouvrier","Maître ouvrier","Maître ouvrier","Maître ouvrier","Maître ouvrier",300,300,500,500,500,500,1000,1000,2000,2000,3000,3000,4000,4000,4000,4000,4000,4000,5000,5000,8000,8000,8000,8000,8000,8000,8000,8000,8000,8000,1,0.5,0.25,1,1,null,null,null,null,null,null,null,null,null,null,null,null,1]
[null,null,null,null,null,null,null,null,null,null,null,null,null,null,null,null,null,null,null,null,null,null,null,null,null,null,null,null,null,null,null,null,null,null,null,null,null,null,null,null,null,null,null,null,null,null,null,null,null,null,null,null,null,null,null,null,null,null,null,null,null,null,null,null,null,null,null,null,null,"Pilote de chasse (Chasseur atmosphérique)",null,null,null,"Recrue","Soldat","Soldat","Soldat","Soldat","Vétéran","Vétéran","Sergent","Sergent","Sergent","Sergent","Lieutenant","Lieutenant","Lieutenant","Lieutenant","Capitaine","Capitaine","Capitaine","Capitaine","Capitaine","Capitaine","Capitaine","Capitaine","Capitaine","Capitaine","Capitaine","Capitaine","Capitaine","Capitaine","Capitaine",800,1600,1600,1600,1600,6000,6000,12000,12000,12000,12000,20000,20000,20000,20000,36000,36000,36000,36000,36000,36000,36000,36000,36000,36000,36000,36000,36000,36000,36000,0.5,0.25,0.16666666666666666,1,1,null,null,null,null,null,null,null,null,null,null,null,null,1]
[null,null,null,null,null,null,null,null,null,null,null,null,null,null,null,null,null,null,null,null,null,null,null,null,null,null,null,null,null,null,null,null,null,null,null,null,null,null,null,null,null,null,null,null,null,null,null,null,null,null,null,null,null,null,null,null,null,null,null,null,null,null,null,null,null,null,null,null,null,"Pilote de chasse (Chasseur sous-marin)",null,null,null,"Recrue","Soldat","Soldat","Soldat","Soldat","Vétéran","Vétéran","Sergent","Sergent","Sergent","Sergent","Lieutenant","Lieutenant","Lieutenant","Lieutenant","Capitaine","Capitaine","Capitaine","Capitaine","Capitaine","Capitaine","Capitaine","Capitaine","Capitaine","Capitaine","Capitaine","Capitaine","Capitaine","Capitaine","Capitaine",800,1600,1600,1600,1600,6000,6000,12000,12000,12000,12000,20000,20000,20000,20000,36000,36000,36000,36000,36000,36000,36000,36000,36000,36000,36000,36000,36000,36000,36000,0.5,0.25,0.16666666666666666,1,1,null,null,null,null,null,null,null,null,null,null,null,null,1]
[null,null,null,null,null,null,null,null,null,null,null,null,null,null,null,null,null,null,null,null,null,null,null,null,null,null,null,null,null,null,null,null,null,null,null,null,null,null,null,null,null,null,null,null,null,null,null,null,null,null,null,null,null,null,null,null,null,null,null,null,null,null,null,null,null,null,null,null,null,"Pirate",null,null,null,"Mousse","Mousse","Mousse","Mousse","Mousse","Mousse","Pirate","Pirate","Pirate","Pirate","Pirate","Pirate","Pirate","Pirate","Pirate","Pirate","Pirate","Pirate","Pirate","Pirate","Pirate","Pirate","Pirate","Pirate","Pirate","Pirate","Pirate","Pirate","Pirate","Pirate",100,100,100,100,100,100,500,500,500,500,500,500,500,500,500,500,5000,5000,5000,5000,5000,5000,5000,5000,5000,5000,5000,5000,5000,5000,0.5,0.25,0.5,1,1,null,null,null,null,null,null,null,null,1,null,null,null,1,null,null,null,null,null,1]
[null,null,null,null,null,null,null,null,null,null,null,null,null,null,null,null,null,null,null,null,null,null,null,null,null,null,null,null,null,null,null,null,null,null,null,null,null,null,null,null,null,null,null,null,null,null,null,null,null,null,null,null,null,null,null,null,null,null,null,null,null,null,null,null,null,null,null,null,null,"Policier/Enquêteur",null,null,null,"Recrue","Policier","Policier","Policier","Policier","Policier","Policier","Inspecteur","Inspecteur","Inspecteur","Inspecteur","Lieutenant","Lieutenant","Lieutenant","Lieutenant","Capitaine","Capitaine","Capitaine","Capitaine","Capitaine","Capitaine","Capitaine","Capitaine","Capitaine","Capitaine","Capitaine","Capitaine","Capitaine","Capitaine","Capitaine",200,800,800,800,800,2400,2400,5000,5000,5000,5000,12000,12000,12000,12000,20000,20000,20000,20000,20000,20000,20000,20000,20000,20000,20000,20000,20000,20000,20000,1,0.25,0.5,1,1,null,null,null,1,null,null,null,null,1,null,null,null,1]
[null,null,null,null,null,null,null,null,null,null,null,null,null,null,null,null,null,null,null,null,null,null,null,null,null,null,null,null,null,null,null,null,null,null,null,null,null,null,null,null,null,null,null,null,null,null,null,null,null,null,null,null,null,null,null,null,null,null,null,null,null,null,null,null,null,null,null,null,null,"Prêtre du Trident",null,null,null,"Novice","Novice","Initié","Initié","Initié","Initié","Initié","Initié","Aspirant","Aspirant","Aspirant","Aspirant","Prêtre","Prêtre","Prêtre","Prêtre","Prêtre","Prêtre","Prêtre","Prêtre","Prêtre","Prêtre","Prêtre","Prêtre","Prêtre","Prêtre","Prêtre","Prêtre","Prêtre","Prêtre",100,100,500,500,500,500,500,500,2000,2000,2000,2000,6000,6000,6000,6000,6000,6000,6000,6000,6000,6000,6000,6000,6000,6000,6000,6000,6000,6000,0.33333333333333331,0.25,0.25,1,1,null,null,null,null,null,1,null,null,null,null,null,null,1]
[null,null,null,null,null,null,null,null,null,null,null,null,null,null,null,null,null,null,null,null,null,null,null,null,null,null,null,null,null,null,null,null,null,null,null,null,null,null,null,null,null,null,null,null,null,null,null,null,null,null,null,null,null,null,null,null,null,null,null,null,null,null,null,null,null,null,null,null,null,"Prostituée",null,null,null,"Apprenti","Apprenti","Apprenti","Apprenti","Prostituée","Prostituée","Prostituée","Prostituée","Experte","Experte","Experte","Experte","Experte","Experte","Experte","Experte","Experte","Experte","Experte","Experte","Experte","Experte","Experte","Experte","Experte","Experte","Experte","Experte","Experte","Experte",500,500,500,500,1000,1000,1000,1000,6000,6000,6000,6000,6000,6000,6000,6000,6000,6000,6000,6000,6000,6000,6000,6000,6000,6000,6000,6000,6000,6000,2,2,0.25,1,1,null,null,null,null,null,1,null,null,1,null,null,null,1]
[null,null,null,null,null,null,null,null,null,null,null,null,null,null,null,null,null,null,null,null,null,null,null,null,null,null,null,null,null,null,null,null,null,null,null,null,null,null,null,null,null,null,null,null,null,null,null,null,null,null,null,null,null,null,null,null,null,null,null,null,null,null,null,null,null,null,null,null,null,"Scientifique/Ingénieur",null,null,null,"Etudiant","Etudiant","Etudiant","Etudiant","Etudiant","Etudiant","Doctorant","Doctorant","Doctorant","Doctorant","Doctorant","Doctorant","Chercheur","Chercheur","Chef de projet","Chef de projet","Scientifique confirmé","Scientifique confirmé","Responsable dez recherches","Responsable dez recherches","Expert","Expert","Expert","Expert","Expert","Expert","Expert","Expert","Expert","Expert",200,200,200,200,200,200,1000,1000,1000,1000,1000,1000,4000,4000,8000,8000,12000,12000,18000,18000,20000,20000,20000,20000,20000,20000,20000,20000,20000,20000,1,0.5,0.5,1,1,null,null,null,1,null,1,null,null,null,null,null,null,1]
[null,null,null,null,null,null,null,null,null,null,null,null,null,null,null,null,null,null,null,null,null,null,null,null,null,null,null,null,null,null,null,null,null,null,null,null,null,null,null,null,null,null,null,null,null,null,null,null,null,null,null,null,null,null,null,null,null,null,null,null,null,null,null,null,null,null,null,null,null,"Soldat/Milicien",null,null,null,"Recrue","Soldat","Soldat","Soldat","Soldat","Vétéran","Vétéran","Sergent","Sergent","Sergent","Sergent","Sergent","Sergent","Sergent","Sergent (ou Lieutenant)","Sergent (ou Lieutenant)","Sergent (ou Lieutenant)","Sergent (ou Lieutenant)","Sergent (ou Lieutenant)","Sergent (ou Lieutenant)","Sergent (ou Lieutenant)","Sergent (ou Lieutenant)","Sergent (ou Lieutenant)","Sergent (ou Lieutenant)","Sergent (ou Lieutenant)","Sergent (ou Lieutenant)","Sergent (ou Lieutenant)","Sergent (ou Lieutenant)","Sergent (ou Lieutenant)","Sergent (ou Lieutenant)",100,400,400,400,400,1200,1200,2500,2500,2500,2500,2500,2500,2500,2500,2500,2500,2500,2500,2500,2500,2500,2500,2500,2500,2500,2500,2500,2500,2500,0.33333333333333331,0.25,0.2,1,1,null,null,null,null,null,null,null,null,null,null,null,null,1]
[null,null,null,null,null,null,null,null,null,null,null,null,null,null,null,null,null,null,null,null,null,null,null,null,null,null,null,null,null,null,null,null,null,null,null,null,null,null,null,null,null,null,null,null,null,null,null,null,null,null,null,null,null,null,null,null,null,null,null,null,null,null,null,null,null,null,null,null,null,"Soldat d'élite (Commandos marin)",null,null,null,"Recrue","Soldat","Soldat","Soldat","Soldat","Vétéran","Vétéran","Sergent","Sergent","Sergent","Sergent","Sergent (ou Lieutenant)","Sergent (ou Lieutenant)","Sergent (ou Lieutenant)","Sergent (ou Lieutenant)","Sergent (ou Lieutenant)","Sergent (ou Lieutenant)","Sergent (ou Lieutenant)","Sergent (ou Lieutenant)","Sergent (ou Lieutenant)","Sergent (ou Lieutenant)","Sergent (ou Lieutenant)","Sergent (ou Lieutenant)","Sergent (ou Lieutenant)","Sergent (ou Lieutenant)","Sergent (ou Lieutenant)","Sergent (ou Lieutenant)","Sergent (ou Lieutenant)","Sergent (ou Lieutenant)","Sergent (ou Lieutenant)",400,800,800,800,800,3000,3000,6000,6000,6000,6000,6000,6000,6000,6000,6000,6000,6000,6000,6000,6000,6000,6000,6000,6000,6000,6000,6000,6000,6000,0.5,0.25,0.16666666666666666,1,1,null,null,null,null,null,null,null,null,null,null,null,null,1]
[null,null,null,null,null,null,null,null,null,null,null,null,null,null,null,null,null,null,null,null,null,null,null,null,null,null,null,null,null,null,null,null,null,null,null,null,null,null,null,null,null,null,null,null,null,null,null,null,null,null,null,null,null,null,null,null,null,null,null,null,null,null,null,null,null,null,null,null,null,"Soldat d'élite (Commandos souterrains)",null,null,null,"Recrue","Soldat","Soldat","Soldat","Soldat","Vétéran","Vétéran","Sergent","Sergent","Sergent","Sergent","Sergent (ou Lieutenant)","Sergent (ou Lieutenant)","Sergent (ou Lieutenant)","Sergent (ou Lieutenant)","Sergent (ou Lieutenant)","Sergent (ou Lieutenant)","Sergent (ou Lieutenant)","Sergent (ou Lieutenant)","Sergent (ou Lieutenant)","Sergent (ou Lieutenant)","Sergent (ou Lieutenant)","Sergent (ou Lieutenant)","Sergent (ou Lieutenant)","Sergent (ou Lieutenant)","Sergent (ou Lieutenant)","Sergent (ou Lieutenant)","Sergent (ou Lieutenant)","Sergent (ou Lieutenant)","Sergent (ou Lieutenant)",500,1200,1200,1200,1200,3600,3600,7500,7500,7500,7500,7500,7500,7500,7500,7500,7500,7500,7500,7500,7500,7500,7500,7500,7500,7500,7500,7500,7500,7500,0.33333333333333331,0.2,0.16666666666666666,1,1,null,null,null,null,null,null,null,null,null,null,null,null,1]
[null,null,null,null,null,null,null,null,null,null,null,null,null,null,null,null,null,null,null,null,null,null,null,null,null,null,null,null,null,null,null,null,null,null,null,null,null,null,null,null,null,null,null,null,null,null,null,null,null,null,null,null,null,null,null,null,null,null,null,null,null,null,null,null,null,null,null,null,null,"Soldat d'élite (Commandos de surface)",null,null,null,"Recrue","Soldat","Soldat","Soldat","Soldat","Vétéran","Vétéran","Sergent","Sergent","Sergent","Sergent","Sergent (ou Lieutenant)","Sergent (ou Lieutenant)","Sergent (ou Lieutenant)","Sergent (ou Lieutenant)","Sergent (ou Lieutenant)","Sergent (ou Lieutenant)","Sergent (ou Lieutenant)","Sergent (ou Lieutenant)","Sergent (ou Lieutenant)","Sergent (ou Lieutenant)","Sergent (ou Lieutenant)","Sergent (ou Lieutenant)","Sergent (ou Lieutenant)","Sergent (ou Lieutenant)","Sergent (ou Lieutenant)","Sergent (ou Lieutenant)","Sergent (ou Lieutenant)","Sergent (ou Lieutenant)","Sergent (ou Lieutenant)",500,1200,1200,1200,1200,3600,3600,7500,7500,7500,7500,7500,7500,7500,7500,7500,7500,7500,7500,7500,7500,7500,7500,7500,7500,7500,7500,7500,7500,7500,0.2,0.16666666666666666,0.16666666666666666,1,1,null,null,null,null,null,null,null,null,null,null,null,null,1]
[null,null,null,null,null,null,null,null,null,null,null,null,null,null,null,null,null,null,null,null,null,null,null,null,null,null,null,null,null,null,null,null,null,null,null,null,null,null,null,null,null,null,null,null,null,null,null,null,null,null,null,null,null,null,null,null,null,null,null,null,null,null,null,null,null,null,null,null,null,"Soldat d'élite (Forces spéciales)",null,null,null,"Recrue","Soldat","Soldat","Soldat","Soldat","Vétéran","Vétéran","Sergent","Sergent","Sergent","Sergent","Sergent (ou Lieutenant)","Sergent (ou Lieutenant)","Sergent (ou Lieutenant)","Sergent (ou Lieutenant)","Sergent (ou Lieutenant)","Sergent (ou Lieutenant)","Sergent (ou Lieutenant)","Sergent (ou Lieutenant)","Sergent (ou Lieutenant)","Sergent (ou Lieutenant)","Sergent (ou Lieutenant)","Sergent (ou Lieutenant)","Sergent (ou Lieutenant)","Sergent (ou Lieutenant)","Sergent (ou Lieutenant)","Sergent (ou Lieutenant)","Sergent (ou Lieutenant)","Sergent (ou Lieutenant)","Sergent (ou Lieutenant)",400,800,800,800,800,3000,3000,6000,6000,6000,6000,6000,6000,6000,6000,6000,6000,6000,6000,6000,6000,6000,6000,6000,6000,6000,6000,6000,6000,6000,0.5,0.25,0.16666666666666666,1,1,null,null,null,null,null,null,null,null,null,null,null,null,1]
[null,null,null,null,null,null,null,null,null,null,null,null,null,null,null,null,null,null,null,null,null,null,null,null,null,null,null,null,null,null,null,null,null,null,null,null,null,null,null,null,null,null,null,null,null,null,null,null,null,null,null,null,null,null,null,null,null,null,null,null,null,null,null,null,null,null,null,null,null,"Sous-marinier",null,null,null,"Mousse","Mousse","Sous-marinier","Sous-marinier","Sous-marinier","Sous-marinier","Sous-marinier","Quartier-maître","Quartier-maître","Quartier-maître","Quartier-maître","Quartier-maître","Quartier-maître","Quartier-maître","Patron (ou Lieutenant)","Patron (ou Lieutenant)","Patron (ou Lieutenant)","Patron (ou Lieutenant)","Patron (ou Lieutenant)","Patron (ou Lieutenant)","Patron (ou Lieutenant)","Patron (ou Lieutenant)","Patron (ou Lieutenant)","Patron (ou Lieutenant)","Patron (ou Lieutenant)","Patron (ou Lieutenant)","Patron (ou Lieutenant)","Patron (ou Lieutenant)","Patron (ou Lieutenant)","Patron (ou Lieutenant)",500,500,1500,1500,1500,1500,1500,3000,3000,3000,3000,3000,3000,3000,4000,4000,4000,4000,4000,4000,4000,4000,4000,4000,4000,4000,4000,4000,4000,4000,1,0.25,0.33333333333333331,1,1,null,null,null,null,null,null,null,null,null,null,null,null,1,null,null,null,null,null,1]
[null,null,null,null,null,null,null,null,null,null,null,null,null,null,null,null,null,null,null,null,null,null,null,null,null,null,null,null,null,null,null,null,null,null,null,null,null,null,null,null,null,null,null,null,null,null,null,null,null,null,null,null,null,null,null,null,null,null,null,null,null,null,null,null,null,null,null,null,null,"Technicien/Mécanicien",null,null,null,"Apprenti","Apprenti","Apprenti","Apprenti","Apprenti","Apprenti","Apprenti","Technicien indépendant","Technicien indépendant","Technicien indépendant","Technicien indépendant","Technicien indépendant","Technicien indépendant","Technicien Classe A","Technicien Classe A","Technicien Classe B","Technicien Classe B","Technicien confirmé","Technicien confirmé","Technicien expert","Technicien expert","Maître technicien","Maître technicien","Maître technicien","Maître technicien","Maître technicien","Maître technicien","Maître technicien","Maître technicien","Maître technicien",500,500,500,500,500,500,500,1500,1500,1500,1500,1500,1500,3000,3000,6000,6000,8000,8000,12000,12000,20000,20000,20000,20000,20000,20000,20000,20000,20000,0.5,0.25,0.25,1,1,null,1,1,null,null,null,null,null,null,null,null,null,1]
[null,null,null,null,null,null,null,null,null,null,null,null,null,null,null,null,null,null,null,null,null,null,null,null,null,null,null,null,null,null,null,null,null,null,null,null,null,null,null,null,null,null,null,null,null,null,null,null,null,null,null,null,null,null,null,null,null,null,null,null,null,null,null,null,null,null,null,null,null,"Techno-Hybride",null,null,null,"Recrue","Soldat","Soldat","Soldat","Soldat","Vétéran","Vétéran","Sergent","Sergent","Sergent","Sergent","Major","Major","Major","Major (ou Lieutenant)","Major (ou Lieutenant)","Major (ou Lieutenant)","Major (ou Lieutenant)","Major (ou Lieutenant)","Major (ou Lieutenant)","Major (ou Lieutenant)","Major (ou Lieutenant)","Major (ou Lieutenant)","Major (ou Lieutenant)","Major (ou Lieutenant)","Major (ou Lieutenant)","Major (ou Lieutenant)","Major (ou Lieutenant)","Major (ou Lieutenant)","Major (ou Lieutenant)",100,400,400,400,400,1200,1200,2500,2500,2500,2500,6000,6000,6000,6000,6000,6000,6000,6000,6000,6000,6000,6000,6000,6000,6000,6000,6000,6000,6000,0.125,0.1,0.1,1,1,null,null,null,null,null,null,null,null,null,null,null,null,1]
[null,null,null,null,null,null,null,null,null,null,null,null,null,null,null,null,null,null,null,null,null,null,null,null,null,null,null,null,null,null,null,null,null,null,null,null,null,null,null,null,null,null,null,null,null,null,null,null,null,null,null,null,null,null,null,null,null,null,null,null,null,null,null,null,null,null,null,null,null,"Veilleur",null,null,null,"Recrue","Soldat","Soldat","Soldat","Soldat","Vétéran","Vétéran","Sergent","Sergent","Sergent","Sergent","Sergent (ou Lieutenant)","Sergent (ou Lieutenant)","Sergent (ou Lieutenant)","Sergent (ou Lieutenant)","Sergent (ou Lieutenant)","Sergent (ou Lieutenant)","Sergent (ou Lieutenant)","Sergent (ou Lieutenant)","Sergent (ou Lieutenant)","Sergent (ou Lieutenant)","Sergent (ou Lieutenant)","Sergent (ou Lieutenant)","Sergent (ou Lieutenant)","Sergent (ou Lieutenant)","Sergent (ou Lieutenant)","Sergent (ou Lieutenant)","Sergent (ou Lieutenant)","Sergent (ou Lieutenant)","Sergent (ou Lieutenant)",200,800,800,800,800,2400,2400,5000,5000,5000,5000,5000,5000,5000,5000,5000,5000,5000,5000,5000,5000,5000,5000,5000,5000,5000,5000,5000,5000,5000,0.5,0.33333333333333331,0.25,1,1,null,null,null,null,null,1,null,null,1,null,null,null,1]
[null,null,null,null,null,null,null,null,null,null,null,null,null,null,null,null,null,null,null,null,null,null,null,null,null,null,null,null,null,null,null,null,null,null,null,null,null,null,null,null,null,null,null,null,null,null,null,null,null,null,null,null,null,null,null,null,null,null,null,null,null,null,null,null,null,null,null,null,null,"Voleur/Criminel",null,null,null,"Guetteur","Guetteur","Guetteur","Voleur/Criminel","Voleur/Criminel","Voleur/Criminel","Voleur/Criminel","Voleur/Criminel","Voleur/Criminel","Voleur/Criminel","Chef de gang","Chef de gang","Chef de gang","Chef de gang","Chef de gang","Chef de gang","Chef de gang","Chef de gang","Chef de gang","Chef de gang","Seigneur du crime","Seigneur du crime","Seigneur du crime","Seigneur du crime","Seigneur du crime","Seigneur du crime","Seigneur du crime","Seigneur du crime","Seigneur du crime","Seigneur du crime",500,500,500,1500,1500,1500,2500,2500,2500,2500,7000,7000,7000,7000,7000,12000,12000,12000,12000,12000,20000,20000,20000,20000,20000,20000,20000,20000,20000,20000,1,0.25,1,1,1,null,null,null,null,null,null,null,null,null,null,null,null,1,null,null,1]
[null,null,null,null,null,null,null,null,null,null,null,null,null,null,null,null,null,null,null,null,null,null,null,null,null,null,null,null,null,null,null,null,null,null,null,null,null,null,null,null,null,null,null,null,null,null,null,null,null,null,null,null,null,null,null,null,null,null,null,null,null,null,null,null,null,null,null,null,null,"Voie des altérés",null,null,null," "," "," "," "," "," "," "," "," "," "," "," "," "," "," "," "," "," "," "," "," "," "," "," "," "," "," "," "," "," ",0,0,0,0,0,0,0,0,0,0,0,0,0,0,0,0,0,0,0,0,0,0,0,0,0,0,0,0,0,0,0.16666666666666666,0,0,1,1,null,null,null,null,null,null,null,null,null,null,null,null,null,null,null,null,null,null,null,null,null,1,null,null,1]
[null,null,null,null,null,null,null,null,null,null,null,null,null,null,null,null,null,null,null,null,null,null,null,null,null,null,null,null,null,null,null,null,null,null,null,null,null,null,null,null,null,null,null,null,null,null,null,null,null,null,null,null,null,null,null,null,null,null,null,null,null,null,null,null,null,null,null,null,null,"Voie de la connaissance et du spirituel",null,null,null," "," "," "," "," "," "," "," "," "," "," "," "," "," "," "," "," "," "," "," "," "," "," "," "," "," "," "," "," "," ",100,100,100,100,100,100,100,100,100,100,100,100,100,100,100,100,100,100,100,100,100,100,100,100,100,100,100,100,100,100,0.33333333333333331,0.2,0.2,1,1,null,null,null,null,null,null,null,null,null,null,null,null,null,null,null,null,null,null,null,1,1,null,1,1,null,1,1]
[null,null,null,null,null,null,null,null,null,null,null,null,null,null,null,null,null,null,null,null,null,null,null,null,null,null,null,null,null,null,null,null,null,null,null,null,null,null,null,null,null,null,null,null,null,null,null,null,null,null,null,null,null,null,null,null,null,null,null,null,null,null,null,null,null,null,null,null,null,"Voie de la chasse et du combat",null,null,null," "," "," "," "," "," "," "," "," "," "," "," "," "," "," "," "," "," "," "," "," "," "," "," "," "," "," "," "," "," ",200,200,200,200,200,200,200,200,200,200,200,200,200,200,200,200,200,200,200,200,200,200,200,200,200,200,200,200,200,200,0.5,0.33333333333333331,0.33333333333333331,1,1,null,null,null,null,null,null,null,null,null,null,null,null,null,null,null,null,null,null,null,null,null,null,null,null,1,null,1,1]
[null,null,null,null,null,null,null,null,null,null,null,null,null,null,null,null,null,null,null,null,null,null,null,null,null,null,null,null,null,null,null,null,null,null,null,null,null,null,null,null,null,null,null,null,null,null,null,null,null,null,null,null,null,null,null,null,null,null,null,null,null,null,null,null,null,null,null,null,null,"Voie de l'errance et du commerce",null,null,null," "," "," "," "," "," "," "," "," "," "," "," "," "," "," "," "," "," "," "," "," "," "," "," "," "," "," "," "," "," ",400,400,400,400,400,400,400,400,400,400,400,400,400,400,400,400,400,400,400,400,400,400,400,400,400,400,400,400,400,400,1,0.33333333333333331,0.33333333333333331,1,1,null,null,null,null,null,null,null,null,null,null,null,null,1,null,null,1,null,1]
[null,null,null,null,null,null,null,null,null,null,null,null,null,null,null,null,null,null,null,null,null,null,null,null,null,null,null,null,null,null,null,null,null,null,null,null,null,null,null,null,null,null,null,null,null,null,null,null,null,null,null,null,null,null,null,null,null,null,null,null,null,null,null,null,null,null,null,null,null,"Voie de la technologie",null,null,null," "," "," "," "," "," "," "," "," "," "," "," "," "," "," "," "," "," "," "," "," "," "," "," "," "," "," "," "," "," ",1000,1000,1000,1000,1000,1000,1000,1000,1000,1000,1000,1000,1000,1000,1000,1000,1000,1000,1000,1000,1000,1000,1000,1000,1000,1000,1000,1000,1000,1000,0.5,0.25,0.16666666666666666,1,1,null,1,1,null,null,null,null,1,null,null,null,null,1]
[null,null,null,null,null,null,null,null,null,null,null,null,null,null,null,null,null,null,null,null,null,null,null,null,null,null,null,null,null,null,null,null,null,null,null,null,null,null,null,null,null,null,null,null,null,null,null,null,null,null,null,null,null,null,null,null,null,null,null,null,null,null,null,null,null,null,null,null,null,"Voie de la nature et de l'artisanat",null,null,null," "," "," "," "," "," "," "," "," "," "," "," "," "," "," "," "," "," "," "," "," "," "," "," "," "," "," "," "," "," ",300,300,300,300,300,300,300,300,300,300,300,300,300,300,300,300,300,300,300,300,300,300,300,300,300,300,300,300,300,300,0.33333333333333331,0.2,0.16666666666666666,1,1,1,null,null,1,null,null,null,null,null,null,null,null,1,null,1,null,null,null,null,null,null,null,1]
[null,null,null,null,null,null,null,null,null,null,null,null,null,null,null,null,null,null,null,null,null,null,null,null,null,null,null,null,null,null,null,null,null,null,null,null,null,null,null,null,null,null,null,null,null,null,null,null,null,null,null,null,null,null,null,null,null,null,null,null,null,null,null,null,null,null,null,null,null,"Prêtre/Prêtresse du Corail",null,null,null,"Novice","Novice","Sœur/Frère","Sœur/Frère","Sœur/Frère","Sœur/Frère","Sœur/Frère","Sœur/Frère","Mère/Père","Mère/Père","Mère/Père","Mère/Père","Empathe","Empathe","Empathe","Empathe","Empathe","Empathe","Empathe","Empathe","Empathe","Empathe","Empathe","Empathe","Empathe","Empathe","Empathe","Empathe","Empathe","Empathe",0,0,0,0,0,0,0,0,0,0,0,0,0,0,0,0,0,0,0,0,0,0,0,0,0,0,0,0,0,0,0.2,0.2,0.2,1,1,null,null,null,null,null,null,null,null,1,null,null,null,1]
[null,null,null,null,null,null,null,null,null,null,null,null,null,null,null,null,null,null,null,null,null,null,null,null,null,null,null,null,null,null,null,null,null,null,null,null,null,null,null,null,null,null,null,null,null,null,null,null,null,null,null,null,null,null,null,null,null,null,null,null,null,null,null,null,null,null,null,null,null,"Empathe adjoint aux patrouilles de sécurité",null,null,null,"Novice","Novice","Sœur/Frère","Sœur/Frère","Sœur/Frère","Sœur/Frère","Sœur/Frère","Sœur/Frère","Mère/Père","Mère/Père","Mère/Père","Mère/Père","Empathe","Empathe","Empathe","Empathe","Empathe","Empathe","Empathe","Empathe","Empathe","Empathe","Empathe","Empathe","Empathe","Empathe","Empathe","Empathe","Empathe","Empathe",0,0,0,0,0,0,0,0,0,0,0,0,0,0,0,0,0,0,0,0,0,0,0,0,0,0,0,0,0,0,0.2,0.2,0.2,1,1,null,null,null,null,null,null,null,null,1,null,null,null,1]
[null,null,null,null,null,null,null,null,null,null,null,null,null,null,null,null,null,null,null,null,null,null,null,null,null,null,null,null,null,null,null,null,null,null,null,null,null,null,null,null,null,null,null,null,null,null,null,null,null,null,null,null,null,null,null,null,null,null,null,null,null,null,null,null,null,null,null,null,null,"Empathe courtisane",null,null,null,"Novice","Novice","Sœur/Frère","Sœur/Frère","Sœur/Frère","Sœur/Frère","Sœur/Frère","Sœur/Frère","Mère/Père","Mère/Père","Mère/Père","Mère/Père","Empathe","Empathe","Empathe","Empathe","Empathe","Empathe","Empathe","Empathe","Empathe","Empathe","Empathe","Empathe","Empathe","Empathe","Empathe","Empathe","Empathe","Empathe",0,0,0,0,0,0,0,0,0,0,0,0,0,0,0,0,0,0,0,0,0,0,0,0,0,0,0,0,0,0,0.2,0.2,0.2,1,1,null,null,null,null,null,null,null,null,1,null,null,null,1]
[null,null,null,null,null,null,null,null,null,null,null,null,null,null,null,null,null,null,null,null,null,null,null,null,null,null,null,null,null,null,null,null,null,null,null,null,null,null,null,null,null,null,null,null,null,null,null,null,null,null,null,null,null,null,null,null,null,null,null,null,null,null,null,null,null,null,null,null,null,"Empathe administratif",null,null,null,"Novice","Novice","Sœur/Frère","Sœur/Frère","Sœur/Frère","Sœur/Frère","Sœur/Frère","Sœur/Frère","Mère/Père","Mère/Père","Mère/Père","Mère/Père","Empathe","Empathe","Empathe","Empathe","Empathe","Empathe","Empathe","Empathe","Empathe","Empathe","Empathe","Empathe","Empathe","Empathe","Empathe","Empathe","Empathe","Empathe",0,0,0,0,0,0,0,0,0,0,0,0,0,0,0,0,0,0,0,0,0,0,0,0,0,0,0,0,0,0,0.2,0.2,0.2,1,1,null,null,null,null,null,null,null,null,1,null,null,null,1]
[null,null,null,null,null,null,null,null,null,null,null,null,null,null,null,null,null,null,null,null,null,null,null,null,null,null,null,null,null,null,null,null,null,null,null,null,null,null,null,null,null,null,null,null,null,null,null,null,null,null,null,null,null,null,null,null,null,null,null,null,null,null,null,null,null,null,null,null,null,"Empathe médecin",null,null,null,"Novice","Novice","Sœur/Frère","Sœur/Frère","Sœur/Frère","Sœur/Frère","Sœur/Frère","Sœur/Frère","Mère/Père","Mère/Père","Mère/Père","Mère/Père","Empathe","Empathe","Empathe","Empathe","Empathe","Empathe","Empathe","Empathe","Empathe","Empathe","Empathe","Empathe","Empathe","Empathe","Empathe","Empathe","Empathe","Empathe",0,0,0,0,0,0,0,0,0,0,0,0,0,0,0,0,0,0,0,0,0,0,0,0,0,0,0,0,0,0,0.2,0.2,0.2,1,1,null,null,null,null,null,null,null,null,1,null,null,null,1]
[null,null,null,null,null,null,null,null,null,null,null,null,null,null,null,null,null,null,null,null,null,null,null,null,null,null,null,null,null,null,null,null,null,null,null,null,null,null,null,null,null,null,null,null,null,null,null,null,null,null,null,null,null,null,null,null,null,null,null,null,null,null,null,null,null,null,null,null,null,"Empathe combattante",null,null,null,"Novice","Novice","Sœur/Frère","Sœur/Frère","Sœur/Frère","Sœur/Frère","Sœur/Frère","Sœur/Frère","Mère/Père","Mère/Père","Mère/Père","Mère/Père","Empathe","Empathe","Empathe","Empathe","Empathe","Empathe","Empathe","Empathe","Empathe","Empathe","Empathe","Empathe","Empathe","Empathe","Empathe","Empathe","Empathe","Empathe",0,0,0,0,0,0,0,0,0,0,0,0,0,0,0,0,0,0,0,0,0,0,0,0,0,0,0,0,0,0,0.2,0.2,0.2,1,1,null,null,null,null,null,null,null,null,1,null,null,null,1]
[null,null,null,null,null,null,null,null,null,null,null,null,null,null,null,null,null,null,null,null,null,null,null,null,null,null,null,null,null,null,null,null,null,null,null,null,null,null,null,null,null,null,null,null,null,null,null,null,null,null,null,null,null,null,null,null,null,null,null,null,null,null,null,null,null,null,null,null,null,"Travailleur hybride indépendant",null,null,null,"Travailleur journalier","Travailleur journalier","Travailleur régulier","Travailleur régulier","Travailleur hybride","Travailleur hybride","Travailleur hybride","Travailleur hybride","Hybride intégré","Hybride intégré","Hybride intégré","Hybride intégré","Hybride qualifié","Hybride qualifié","Hybride qualifié","Hybride qualifié","Hybride expert","Hybride expert","Hybride expert","Hybride expert","Maître hybride","Maître hybride","Maître hybride","Maître hybride","Maître hybride","Maître hybride","Maître hybride","Maître hybride","Maître hybride","Maître hybride",{"$f":"IF($CH$100=1,300,150)","v":150},{"$f":"IF($CH$100=1,300,150)","v":150},{"$f":"IF($CH$100=1,500,250)","v":250},{"$f":"IF($CH$100=1,500,250)","v":250},{"$f":"IF($CH$100=1,1000,500)","v":500},{"$f":"IF($CH$100=1,1000,500)","v":500},500,500,1000,1000,1000,1000,2000,2000,2000,2000,3000,3000,3000,3000,4000,4000,4000,4000,4000,4000,4000,4000,4000,4000,0.2,0.16666666666666666,0.16666666666666666,1,1,null,null,null,null,null,null,null,null,null,null,null,null,1,{"$f":"IF(CH99=1,1,0)","v":0},null,{"$f":"IF(CH100=1,0,1)","v":1}]
[null,null,null,null,null,null,null,null,null,null,null,null,null,null,null,null,null,null,null,null,null,null,null,null,null,null,null,null,null,null,null,null,null,null,null,null,null,null,null,null,null,null,null,null,null,null,null,null,null,null,null,null,null,null,null,null,null,null,null,null,null,null,null,null,null,null,null,null,null,"Profession 14"]
[null,null,null,null,null,null,null,null,null,null,null,null,null,null,null,null,null,null,null,null,null,null,null,null,null,null,null,null,null,null,null,null,null,null,null,null,null,null,null,null,null,null,null,null,null,null,null,null,null,null,null,null,null,null,null,null,null,null,null,null,null,null,null,null,null,null,null,null,null,"Profession 15"]
[null,null,null,null,null,null,null,null,null,null,null,null,null,null,null,null,null,null,null,null,null,null,null,null,null,null,null,null,null,null,null,null,null,null,null,null,null,null,null,null,null,null,null,null,null,null,null,null,null,null,null,null,null,null,null,null,null,null,null,null,null,null,null,null,null,null,null,null,null,"Profession 16"]
[null,null,null,null,null,null,null,null,null,null,null,null,null,null,null,null,null,null,null,null,null,null,null,null,null,null,null,null,null,null,null,null,null,null,null,null,null,null,null,null,null,null,null,null,null,null,null,null,null,null,null,null,null,null,null,null,null,null,null,null,null,null,null,null,null,null,null,null,null,"Profession 17"]
[null,null,null,null,null,null,null,null,null,null,null,null,null,null,null,null,null,null,null,null,null,null,null,null,null,null,null,null,null,null,null,null,null,null,null,null,null,null,null,null,null,null,null,null,null,null,null,null,null,null,null,null,null,null,null,null,null,null,null,null,null,null,null,null,null,null,null,null,null,"Profession 18"]
[null,null,null,null,null,null,null,null,null,null,null,null,null,null,null,null,null,null,null,null,null,null,null,null,null,null,null,null,null,null,null,null,null,null,null,null,null,null,null,null,null,null,null,null,null,null,null,null,null,null,null,null,null,null,null,null,null,null,null,null,null,null,null,null,null,null,null,null,null,"Profession 19"]
[null,null,null,null,null,null,null,null,null,null,null,null,null,null,null,null,null,null,null,null,null,null,null,null,null,null,null,null,null,null,null,null,null,null,null,null,null,null,null,null,null,null,null,null,null,null,null,null,null,null,null,null,null,null,null,null,null,null,null,null,null,null,null,null,null,null,null,null,null,"Profession 20"]
[null,null,null,null,null,null,null,null,null,null,null,null,null,null,null,null,null,null,null,null,null,null,null,null,null,null,null,null,null,null,null,null,null,null,null,null,null,null,null,null,null,null,null,null,null,null,null,null,null,null,null,null,null,null,null,null,null,null,null,null,null,null,null,null,null,null,null,null,null,"Profession 21"]
[null,null,null,null,null,null,null,null,null,null,null,null,null,null,null,null,null,null,null,null,null,null,null,null,null,null,null,null,null,null,null,null,null,null,null,null,null,null,null,null,null,null,null,null,null,null,null,null,null,null,null,null,null,null,null,null,null,null,null,null,null,null,null,null,null,null,null,null,null,"Profession 22"]
[null,null,null,null,null,null,null,null,null,null,null,null,null,null,null,null,null,null,null,null,null,null,null,null,null,null,null,null,null,null,null,null,null,null,null,null,null,null,null,null,null,null,null,null,null,null,null,null,null,null,null,null,null,null,null,null,null,null,null,null,null,null,null,null,null,null,null,null,null,"Profession 23"]
[null,null,null,null,null,null,null,null,null,null,null,null,null,null,null,null,null,null,null,null,null,null,null,null,null,null,null,null,null,null,null,null,null,null,null,null,null,null,null,null,null,null,null,null,null,null,null,null,null,null,null,null,null,null,null,null,null,null,null,null,null,null,null,null,null,null,null,null,null,"Profession 24"]
[null,null,null,null,null,null,null,null,null,null,null,null,null,null,null,null,null,null,null,null,null,null,null,null,null,null,null,null,null,null,null,null,null,null,null,null,null,null,null,null,null,null,null,null,null,null,null,null,null,null,null,null,null,null,null,null,null,null,null,null,null,null,null,null,null,null,null,null,null,"Profession 25"]
[null,null,null,null,null,null,null,null,null,null,null,null,null,null,null,null,null,null,null,null,null,null,null,null,null,null,null,null,null,null,null,null,null,null,null,null,null,null,null,null,null,null,null,null,null,null,null,null,null,null,null,null,null,null,null,null,null,null,null,null,null,null,null,null,null,null,null,null,null,"Profession 26"]
[null,null,null,null,null,null,null,null,null,null,null,null,null,null,null,null,null,null,null,null,null,null,null,null,null,null,null,null,null,null,null,null,null,null,null,null,null,null,null,null,null,null,null,null,null,null,null,null,null,null,null,null,null,null,null,null,null,null,null,null,null,null,null,null,null,null,null,null,null,"Profession 27"]
[null,null,null,null,null,null,null,null,null,null,null,null,null,null,null,null,null,null,null,null,null,null,null,null,null,null,null,null,null,null,null,null,null,null,null,null,null,null,null,null,null,null,null,null,null,null,null,null,null,null,null,null,null,null,null,null,null,null,null,null,null,null,null,null,null,null,null,null,null,"Profession 28"]
[null,null,null,null,null,null,null,null,null,null,null,null,null,null,null,null,null,null,null,null,null,null,null,null,null,null,null,null,null,null,null,null,null,null,null,null,null,null,null,null,null,null,null,null,null,null,null,null,null,null,null,null,null,null,null,null,null,null,null,null,null,null,null,null,null,null,null,null,null,"Profession 29"]
[null,null,null,null,null,null,null,null,null,null,null,null,null,null,null,null,null,null,null,null,null,null,null,null,null,null,null,null,null,null,null,null,null,null,null,null,null,null,null,null,null,null,null,null,null,null,null,null,null,null,null,null,null,null,null,null,null,null,null,null,null,null,null,null,null,null,null,null,null,"Profession 30"]
[null,null,null,null,null,null,null,null,null,null,null,null,null,null,null,null,null,null,null,null,null,null,null,null,null,null,null,null,null,null,null,null,null,null,null,null,null,null,null,null,null,null,null,null,null,null,null,null,null,null,null,null,null,null,null,null,null,null,null,null,null,null,null,null,null,null,null,null,null,"Profession 31"]
[null,null,null,null,null,null,null,null,null,null,null,null,null,null,null,null,null,null,null,null,null,null,null,null,null,null,null,null,null,null,null,null,null,null,null,null,null,null,null,null,null,null,null,null,null,null,null,null,null,null,null,null,null,null,null,null,null,null,null,null,null,null,null,null,null,null,null,null,null,"Profession 32"]
[null,null,null,null,null,null,null,null,null,null,null,null,null,null,null,null,null,null,null,null,null,null,null,null,null,null,null,null,null,null,null,null,null,null,null,null,null,null,null,null,null,null,null,null,null,null,null,null,null,null,null,null,null,null,null,null,null,null,null,null,null,null,null,null,null,null,null,null,null,"Profession 33"]
[null,null,null,null,null,null,null,null,null,null,null,null,null,null,null,null,null,null,null,null,null,null,null,null,null,null,null,null,null,null,null,null,null,null,null,null,null,null,null,null,null,null,null,null,null,null,null,null,null,null,null,null,null,null,null,null,null,null,null,null,null,null,null,null,null,null,null,null,null,"Profession 34"]
[null,null,null,null,null,null,null,null,null,null,null,null,null,null,null,null,null,null,null,null,null,null,null,null,null,null,null,null,null,null,null,null,null,null,null,null,null,null,null,null,null,null,null,null,null,null,null,null,null,null,null,null,null,null,null,null,null,null,null,null,null,null,null,null,null,null,null,null,null,"Profession 35"]
[null,null,null,null,null,null,null,null,null,null,null,null,null,null,null,null,null,null,null,null,null,null,null,null,null,null,null,null,null,null,null,null,null,null,null,null,null,null,null,null,null,null,null,null,null,null,null,null,null,null,null,null,null,null,null,null,null,null,null,null,null,null,null,null,null,null,null,null,null,"Profession 36"]
[null,null,null,null,null,null,null,null,null,null,null,null,null,null,null,null,null,null,null,null,null,null,null,null,null,null,null,null,null,null,null,null,null,null,null,null,null,null,null,null,null,null,null,null,null,null,null,null,null,null,null,null,null,null,null,null,null,null,null,null,null,null,null,null,null,null,null,null,null,"Profession 37"]
[null,null,null,null,null,null,null,null,null,null,null,null,null,null,null,null,null,null,null,null,null,null,null,null,null,null,null,null,null,null,null,null,null,null,null,null,null,null,null,null,null,null,null,null,null,null,null,null,null,null,null,null,null,null,null,null,null,null,null,null,null,null,null,null,null,null,null,null,null,"Profession 38"]
[null,null,null,null,null,null,null,null,null,null,null,null,null,null,null,null,null,null,null,null,null,null,null,null,null,null,null,null,null,null,null,null,null,null,null,null,null,null,null,null,null,null,null,null,null,null,null,null,null,null,null,null,null,null,null,null,null,null,null,null,null,null,null,null,null,null,null,null,null,"Profession 39"]
[null,null,null,null,null,null,null,null,null,null,null,null,null,null,null,null,null,null,null,null,null,null,null,null,null,null,null,null,null,null,null,null,null,null,null,null,null,null,null,null,null,null,null,null,null,null,null,null,null,null,null,null,null,null,null,null,null,null,null,null,null,null,null,null,null,null,null,null,null,"Profession 40"]
[null,null,null,null,null,null,null,null,null,null,null,null,null,null,null,null,null,null,null,null,null,null,null,null,null,null,null,null,null,null,null,null,null,null,null,null,null,null,null,null,null,null,null,null,null,null,null,null,null,null,null,null,null,null,null,null,null,null,null,null,null,null,null,null,null,null,null,null,null,null,null,null,null,null,null,null,null,null,null,null,null,null,null,null,null,null,null,null,null,null,null,null,null,null,null,null,null,null,null,null,null,null,null,null,null,null,null,null,null,null,null,null,null,null,null,null,null,null,null,null,null,null,null,null,null,null,null,null,null,null,null,null,null,null,"Bonus + 1"]
[null,null,null,null,null,null,null,null,null,null,null,null,null,null,null,null,null,null,null,null,null,null,null,null,null,null,null,null,null,null,null,null,null,null,null,null,null,null,null,null,null,null,null,null,null,null,null,null,null,null,null,null,null,null,null,null,null,null,null,null,null,null,null,null,null,null,null,null,null,null,null,null,null,"Nom du résultat",null,"Effet particulier",null,null,null,"Bonus salaire","Modif. salaire","Valeur objets","Nvlle comp.","Pts comp.","FOR","CON","COO","ADA","PER","INT","VOL","PRE","Contacts","Alliés","Allié améliorable : Groupe/Gang","Opposants","Ennemis","Célébrité","Relations","Art/Artisanat","Ateliers","Assemblage","Base de données","Bar","Cabine privée","Cabinets médicaux","Concession minières","Corruption/Chantage","Etal/Boutique","Falsification","Fausses identités","Matériel","Parcelles d'élevage/cultures","Pharmacie personnelle","Planque/cache","Réseau de contrebande","Stock de marchandises","Acrobatie/Equilibre","Combat corps à corps","Empathie","CHOIX","Adaptation extérieure","Artefacts (points)","Conscience du Flux (points)","Evolution (points)","Larves de connaissance (points)","Larves de vision (points)","Lien espèce (points)","Murmure du monde (points)","Protection de la surface (points)","Renforcement du lien animal (points)","FOR/CON/ADA/COO","FOR/ADA","ADA/PRE","Empathie","Discipline"]
[null,null,null,null,null,null,null,null,null,null,null,null,null,null,null,null,null,null,null,null,null,null,null,null,null,null,null,null,null,null,null,null,null,null,null,null,null,null,null,null,null,null,null,null,null,null,null,null,null,null,null,null,null,null,null,null,null,null,null,null,null,null,null,null,null,null,null,null,null,"Artisan/Artiste 1",null,null,null,"Attribut augmenté",null,".",null,null,null,null,null,null,null,null,null,null,null,null,null,1,null,null,null,null,null,null,null,null,null,null,null,null,null,null,null,null,null,null,null,null,null,null,null,null,null,null,null,null,null,null,null,null,null,null,null,null,null,null,null,null,null,null,null,null,null,null,null,null,null,null,null,null,null,null,null,null,null,null,null,null,null,null,null,null,null,null,null,null,null,null,null,null,null,null,null,null,null,null,null,null,null,null,null,null,null,null,null,null,null,null,null,null,null,null,"Contacts, alliés et opposants pour officiers"]
[null,null,null,null,null,null,null,null,null,null,null,null,null,null,null,null,null,null,null,null,null,null,null,null,null,null,null,null,null,null,null,null,null,null,null,null,null,null,null,null,null,null,null,null,null,null,null,null,null,null,null,null,null,null,null,null,null,null,null,null,null,null,null,null,null,null,null,null,null,"Artisan/Artiste 2",null,null,null,"Prestation",null,"Travail particulièrement remarqué",null,null,null,null,null,null,null,1,null,null,null,null,null,null,null,null,null,null,null,null,null,2,null,2]
[null,null,null,null,null,null,null,null,null,null,null,null,null,null,null,null,null,null,null,null,null,null,null,null,null,null,null,null,null,null,null,null,null,null,null,null,null,null,null,null,null,null,null,null,null,null,null,null,null,null,null,null,null,null,null,null,null,null,null,null,null,null,null,null,null,null,null,null,null,"Artisan/Artiste 3",null,null,null,"Hautes sphères",null,"Un travail réalisé pour un personnage haut placé",null,null,null,null,null,null,null,2,null,null,null,null,null,null,null,null,null,null,null,null,null,4,1,2,null,null,null,null,null,null,null,null,null,null,null,null,null,null,null,null,null,null,null,null,null,null,null,null,null,null,null,null,null,null,null,null,null,null,null,null,null,null,null,null,null,null,null,null,null,null,null,null,null,null,null,null,null,null,null,null,null,null,null,null,null,null,null,null,null,null,null,null,null,null,null,null,null,null,null,null,null,null,null,null,null,null,null,null,"Lvl","Classe 1",null,"Classe 2",null,"Classe 3"]
[null,null,null,null,null,null,null,null,null,null,null,null,null,null,null,null,null,null,null,null,null,null,null,null,null,null,null,null,null,null,null,null,null,null,null,null,null,null,null,null,null,null,null,null,null,null,null,null,null,null,null,null,null,null,null,null,null,null,null,null,null,null,null,null,null,null,null,null,null,"Artisan/Artiste 4",null,null,null,"Guilde/Compagnie",null,"Engagé par une guilde d'artisant/Cie d'artistes",null,null,null,null,0.1,null,null,null,null,null,null,null,null,null,null,null,null,null,null,null,null,2,2,null,null,null,null,null,null,null,null,null,2,null,null,null,null,null,null,null,null,null,null,null,null,null,null,null,null,null,null,null,null,null,null,null,null,null,null,null,null,null,null,null,null,null,null,null,null,null,null,null,null,null,null,null,null,null,null,null,null,null,null,null,null,null,null,null,null,null,null,null,null,null,null,null,null,null,null,null,null,null,null,null,null,null,null,null,null,{"$f":"EXPERIENCE_PRELIMINAIRE!CR16","v":0},null,{"$f":"EXPERIENCE_PRELIMINAIRE!DD16","v":0},null,{"$f":"EXPERIENCE_PRELIMINAIRE!DP16","v":0}]
[null,null,null,null,null,null,null,null,null,null,null,null,null,null,null,null,null,null,null,null,null,null,null,null,null,null,null,null,null,null,null,null,null,null,null,null,null,null,null,null,null,null,null,null,null,null,null,null,null,null,null,null,null,null,null,null,null,null,null,null,null,null,null,null,null,null,null,null,null,"Artisan/Artiste 5",null,null,null,"Protecteur/Mécène",null,"Protégé par puissant perso. versant qq donations",null,null,null,null,0.2,null,null,null,null,null,null,null,null,null,null,null,null,1,null,null,null,4,null,6,null,null,null,null,null,null,null,null,1,null,null,null,null,null,null,null,null,null,null,null,null,null,null,null,null,null,null,null,null,null,null,null,null,null,null,null,null,null,null,null,null,null,null,null,null,null,null,null,null,null,null,null,null,null,null,null,null,null,null,null,null,null,null,null,null,null,null,null,null,null,null,null,null,null,null,null,"Officier à",null,"Soldat/Milit.","Techno-H","Soldat Elite","Veilleur"]
[null,null,null,null,null,null,null,null,null,null,null,null,null,null,null,null,null,null,null,null,null,null,null,null,null,null,null,null,null,null,null,null,null,null,null,null,null,null,null,null,null,null,null,null,null,null,null,null,null,null,null,null,null,null,null,null,null,null,null,null,null,null,null,null,null,null,null,null,null,"Artisan/Artiste 6",null,null,null,"Chef-d'œuvre",null,"A créé un chef-d'œuvre reconnu par tous",null,null,null,2,null,null,null,4,null,null,null,null,null,null,null,null,null,null,null,null,null,6,2,null,null,null,null,null,null,null,null,null,null,null,null,null,null,null,null,null,null,null,null,null,null,null,null,null,null,null,null,null,null,null,null,null,null,null,null,null,null,null,null,null,null,null,null,null,null,null,null,null,null,null,null,null,null,null,null,null,null,null,null,null,null,null,null,null,null,null,null,null,null,null,null,null,null,null,null,null,"Off. Spé. Op.",null,"à Officier","à Officier","à Officier","à Officier","TOTAL",null,null,"Classe 1+2",null,"Classe 2+3",null,"Classe 3+4"]
[null,null,null,null,null,null,null,null,null,null,null,null,null,null,null,null,null,null,null,null,null,null,null,null,null,null,null,null,null,null,null,null,null,null,null,null,null,null,null,null,null,null,null,null,null,null,null,null,null,null,null,null,null,null,null,null,null,null,null,null,null,null,null,null,null,null,null,null,null,"Artisan/Artiste 10",null,null,null,"Au choix ou 7 Pts Av.",null,null,null,null,null,null,null,null,null,null,null,null,null,null,null,null,null,null,null,null,null,null,null,null,null,null,null,null,null,null,null,null,null,null,null,null,null,null,null,null,null,null,null,null,null,null,null,null,null,null,null,null,null,null,null,null,null,null,null,null,null,null,null,null,null,null,null,null,null,null,null,null,null,null,null,null,null,null,null,null,null,null,null,2,2,{"$f":"FD254+3","v":6},3,10,-2,null,2,{"$f":"FJ254+1","v":2},null,3,"Produits divers",null,null,3,"Produits détruits","Valeur réduite à néant",null,null,0,null,0,0,0,0,0,null,null,{"$f":"IF(AND($AY$8=\"Officier militaire (Spé. Op. Souterrains)\",$AU$8=\"Officier militaire\"),1,IF(AND($AY$8=\"Officier militaire (Spé. Op. Surface)\",$AU$8=\"Officier militaire\"),1,0))","v":0},null,{"$f":"IF(AND($BC$8=\"Officier militaire (Spé. Op. Souterrains)\",$AY$8=\"Officier militaire\"),1,IF(AND($BC$8=\"Officier militaire (Spé. Op. Surface)\",$AY$8=\"Officier militaire\"),1,0))","v":0},null,{"$f":"IF(AND($BG$8=\"Officier militaire (Spé. Op. Souterrains)\",$BC$8=\"Officier militaire\"),1,IF(AND($BG$8=\"Officier militaire (Spé. Op. Surface)\",$BC$8=\"Officier militaire\"),1,0))","v":0}]
[null,null,null,null,null,null,null,null,null,null,null,null,null,null,null,null,null,null,null,null,null,null,null,null,null,null,null,null,null,null,null,null,null,null,null,null,null,null,null,null,null,null,null,null,null,null,null,null,null,null,null,null,null,null,null,null,null,null,null,null,null,null,null,null,null,null,null,null,null,"Assassin 5",null,null,null,"Coup d'éclat",null,"A réussi un coup impressionnant (personnalité)",null,null,null,null,null,null,null,2,null,null,null,null,null,null,null,null,null,null,null,null,null,4,null,null,null,null,null,null,null,null,null,4,null,4,null,null,null,null,null,null,null,null,null,null,null,null,null,null,null,null,null,null,null,null,null,null,null,null,null,null,null,null,null,null,null,null,null,null,null,null,null,null,null,null,null,null,null,null,null,null,null,7,7,21,10,null,-7,null,7,{"$f":"FJ259+2","v":9},null,8,"Produits divers",null,null,8,"Produits en parfait état"," ",null,null,0,null,0,0,0,0,0,null,null,{"$f":"ROUNDDOWN((VLOOKUP($AY$8,$BR$165:$EF$243,65,))*$GD$252,0)","v":0},null,{"$f":"ROUNDDOWN((VLOOKUP($BC$8,$BR$165:$EF$243,65,))*$GF$252,0)","v":0},null,{"$f":"ROUNDDOWN((VLOOKUP($BG$8,$BR$165:$EF$243,65,))*$GH$252,0)","v":0}]
[null,null,null,null,null,null,null,null,null,null,null,null,null,null,null,null,null,null,null,null,null,null,null,null,null,null,null,null,null,null,null,null,null,null,null,null,null,null,null,null,null,null,null,null,null,null,null,null,null,null,null,null,null,null,null,null,null,null,null,null,null,null,null,null,null,null,null,null,null,"Assassin 8",null,null,null,"Contrat",null,"A obtenu un contrat auprès d'un groupe important",null,null,null,null,0.1,null,null,null,null,null,null,null,null,null,null,null,null,1,null,null,null,5,2,null,null,null,null,null,null,null,null,null,null,null,null,null,null,null,null,null,null,null,null,null,null,null,null,null,null,null,null,null,null,null,null,null,null,null,null,null,null,null,null,null,null,null,null,null,null,null,null,null,null,null,null,null,null,null,null,null,null,10,10,30,15,null,"Energie",null,10,{"$f":"FJ262+2","v":15},null,11,"Nourriture/Boissons",null,null,11,"Produits en parfait état"," ",null,null,0,null,0,0,0,0,0]
[null,null,null,null,null,null,null,null,null,null,null,null,null,null,null,null,null,null,null,null,null,null,null,null,null,null,null,null,null,null,null,null,null,null,null,null,null,null,null,null,null,null,null,null,null,null,null,null,null,null,null,null,null,null,null,null,null,null,null,null,null,null,null,null,null,null,null,null,null,"Barman 1",null,null,null,"Attribut augmenté",null,".",null,null,null,null,null,null,null,null,null,null,null,null,null,null,1,null,null,null,null,null,null,null,null,null,null,null,null,null,null,null,null,null,null,null,null,null,null,null,null,null,null,null,null,null,null,null,null,null,null,null,null,null,null,null,null,null,null,null,null,null,null,null,null,null,null,null,null,null,null,null,null,null,null,null,null,null,null,null,null,null,null,13,13,{"$f":"FD265+6","v":48},24,null,"Métal",null,13,{"$f":"FJ265+5","v":27},null,14,"Armures",null,null,14,"Produits sous scellés","Rdv avec les autorités",null,null,0,null,0,0,0,0,0,null,null,"Classe 1+2",null,"Classe 2+3",null,"Classe 3+4"]
[null,null,null,null,null,null,null,null,null,null,null,null,null,null,null,null,null,null,null,null,null,null,null,null,null,null,null,null,null,null,null,null,null,null,null,null,null,null,null,null,null,null,null,null,null,null,null,null,null,null,null,null,null,null,null,null,null,null,null,null,null,null,null,null,null,null,null,null,null,"Barman 4",null,null,null,"Clientèle prestigieuse",null,"Quelques clients connus",null,null,null,null,0.1,null,null,null,null,null,null,null,null,null,null,null,null,1,null,null,null,4,2,null,null,null,null,null,null,null,null,null,null,null,null,null,null,null,null,null,null,null,null,null,null,null,null,null,null,null,null,null,null,null,null,null,null,null,null,null,null,null,null,null,null,null,null,null,null,null,null,null,null,null,null,null,null,null,null,null,null,16,16,{"$f":"FD268+9","v":69},34,null,null,null,16,{"$f":"FJ268+8","v":48},null,17,"Pièces/outils informatiques",null,null,17,"Produits surveillés","Risque des ennuis",null,null,0,null,0,0,0,0,0,null,"Résultat",{"$f":"IF($GD$255=1,GD267-GD265,GD267)","v":0},null,{"$f":"IF($GF$255=1,GF267-GF265,GF267)","v":0},null,{"$f":"IF($GH$255=1,GH267-GH265,GH267)","v":0}]
[null,null,null,null,null,null,null,null,null,null,null,null,null,null,null,null,null,null,null,null,null,null,null,null,null,null,null,null,null,null,null,null,null,null,null,null,null,null,null,null,null,null,null,null,null,null,null,null,null,null,null,null,null,null,null,null,null,null,null,null,null,null,null,null,null,null,null,null,null,"Barman 6",null,null,null,"Dépôt de marchandises",null,"Marchandises mises en dépôt par des clients",null,null,null,null,0.1,null,null,null,null,null,null,null,null,null,null,null,null,null,null,null,null,null,1,null,null,null,null,null,null,null,null,null,null,null,null,null,null,null,null,null,4,null,null,null,null,null,null,null,null,null,null,null,null,null,null,null,null,null,null,null,null,null,null,null,null,null,null,null,null,null,null,null,null,null,null,null,null,null,null,null,null,18,18,{"$f":"FD270+15","v":96},48,null,null,null,18,{"$f":"FJ270+10","v":67},null,19,"Drogues",null,null,19,"Stock sous-évalué","Valeur x10",null,null,0,null,0,0,0,0,0,null,"Opposants","Classe 1",null,"Classe 2",null,"Classe 3"]
[null,null,null,null,null,null,null,null,null,null,null,null,null,null,null,null,null,null,null,null,null,null,null,null,null,null,null,null,null,null,null,null,null,null,null,null,null,null,null,null,null,null,null,null,null,null,null,null,null,null,null,null,null,null,null,null,null,null,null,null,null,null,null,null,null,null,null,null,null,"Barman 9",null,null,null,"Secret",null,"Connait un secret confié par un client ivre",null,null,null,null,null,null,null,null,null,null,null,null,null,null,null,null,null,null,null,null,null,null,null,null,null,null,null,null,null,null,null,null,null,null,null,null,null,null,null,null,null,null,null,null,null,null,null,null,null,null,null,null,null,null,null,null,null,null,null,null,null,null,null,null,null,null,null,null,null,null,null,null,null,null,null,null,null,null,null,null,null,21,21,{"$f":"FD273+24","v":159},79,null,null,null,null,null,null,null,null,null,null,null,null,null,null,null,0,null,0,0,0,0,0,null,null,{"$f":"ROUNDDOWN((VLOOKUP($AY$8,$BR$165:$EF$243,67,))*$GD$252,0)","v":0},null,{"$f":"ROUNDDOWN((VLOOKUP($BC$8,$BR$165:$EF$243,67,))*$GF$252,0)","v":0},null,{"$f":"ROUNDDOWN((VLOOKUP($BG$8,$BR$165:$EF$243,67,))*$GH$252,0)","v":0}]
[null,null,null,null,null,null,null,null,null,null,null,null,null,null,null,null,null,null,null,null,null,null,null,null,null,null,null,null,null,null,null,null,null,null,null,null,null,null,null,null,null,null,null,null,null,null,null,null,null,null,null,null,null,null,null,null,null,null,null,null,null,null,null,null,null,null,null,null,null,"Chasseur de primes 3",null,null,null,"Guilde",null,"Engagé par guilde de merc. (spé traque fugitif)",null,null,null,null,0.1,null,null,null,null,null,null,null,null,null,null,null,null,null,null,null,null,4,null,null,null,null,null,null,null,null,null,null,null,null,null,2,null,null,null,null,null,null,null,null,null,null,null,null,null,null,null,null,null,null,null,null,null,null,null,null,null,null,null,null,null,null,null,null,null,null,null,null,null,null,null,null,null,null,null,null,null,25,25,{"$f":"FD277+36","v":285},142,null,null,null,null,null,null,null,null,null,null,null,0,null,null,null,0,null,0,0,0,0,0]
[null,null,null,null,null,null,null,null,null,null,null,null,null,null,null,null,null,null,null,null,null,null,null,null,null,null,null,null,null,null,null,null,null,null,null,null,null,null,null,null,null,null,null,null,null,null,null,null,null,null,null,null,null,null,null,null,null,null,null,null,null,null,null,null,null,null,null,null,null,"Chasseur de primes 6",null,null,null,"Réseau",null,"Bénéficie d'un réseau d'informateurs",null,null,null,null,null,null,null,null,null,null,null,null,null,null,null,null,null,null,null,null,null,2,8,null,null,null,null,null,null,null,null,null,null,null,null,null,null,null,null,null,null,null,null,null,null,null,null,null,null,null,null,null,null,null,null,null,null,null,null,null,null,null,null,null,null,null,null,null,null,null,null,null,null,null,null,null,null,null,null,null,null,29,"Non",1,2,null,null,null,null,null,null,null,null,null,null,null,4,null,null,null,null,"TOTAL",{"$f":"SUM(FW252:FW281)","v":0},{"$f":"SUM(FX252:FX281)","v":0},{"$f":"SUM(FY252:FY281)","v":0},{"$f":"SUM(FZ252:FZ281)","v":0}]
[null,null,null,null,null,null,null,null,null,null,null,null,null,null,null,null,null,null,null,null,null,null,null,null,null,null,null,null,null,null,null,null,null,null,null,null,null,null,null,null,null,null,null,null,null,null,null,null,null,null,null,null,null,null,null,null,null,null,null,null,null,null,null,null,null,null,null,null,null,"Chasseur de primes 9",null,null,null,"Année faste",null,"Bonne année",null,null,null,1,null,null,null,null,null,null,null,null,null,null,null,null,null,null,null,null,null,2,null,null,null,null,null,null,null,null,null,null,null,null,null,2,null,null,null,null,null,null,null,null,null,null,null,null,null,null,null,null,null,null,null,null,null,null,null,null,null,null,null,null,null,null,null,null,null,null,null,null,null,null,null,null,null,null,null,null,null,32," Refus",null,5,null,null,null,null,null,null,null,null,null,null,null,7,null,null,null,{"$f":"IF(AND($AY$8=\"Officier militaire (Spé. Op. Souterrains)\",$AU$8=\"Officier militaire\"),EXPERIENCE_PRELIMINAIRE!CR16,IF(AND($AY$8=\"Officier militaire (Spé. Op. Surface)\",$AU$8=\"Officier militaire\"),EXPERIENCE_PRELIMINAIRE!CR16,0))","v":0},null,{"$f":"IF(AND($AU$8=\"Soldat/Milicien\",FW$282=1),6,0)","v":0},{"$f":"IF(AND($AU$8=\"Techno-Hybride\",FX$282=1),6,0)","v":0},{"$f":"IF(AND($AU$8=\"Soldat d'élite (Commandos marin)\",FY$282=1),6,IF(AND($AU$8=\"Soldat d'élite (Commandos souterrains)\",FY$282=1),6,IF(AND($AU$8=\"Soldat d'élite (Commandos de surface)\",FY$282=1),6,IF(AND($AU$8=\"Soldat d'élite (Forces spéciales)\",FY$282=1),6,0))))","v":0},{"$f":"IF(AND($AU$8=\"Veilleur\",FZ$282=1),6,0)","v":0},{"$f":"SUM(FW285:FZ285)","v":0}]
[null,null,null,null,null,null,null,null,null,null,null,null,null,null,null,null,null,null,null,null,null,null,null,null,null,null,null,null,null,null,null,null,null,null,null,null,null,null,null,null,null,null,null,null,null,null,null,null,null,null,null,null,null,null,null,null,null,null,null,null,null,null,null,null,null,null,null,null,null,"Contrebandier 1",null,null,null,"Attribut augmenté",null,".",null,null,null,null,null,null,null,null,null,null,null,1,null,null,null,null,null,null,null,null,null,null,null,null,null,null,null,null,null,null,null,null,null,null,null,null,null,null,null,null,null,null,null,null,null,null,null,null,null,null,null,null,null,null,null,null,null,null,null,null,null,null,null,null,null,null,null,null,null,null,null,null,null,null,null,null,null,null,null,null,null,34,null,null,7,null,null,null,null,null,null,null,null,null,null,null,9,null,null,null,{"$f":"IF(AND($BC$8=\"Officier militaire (Spé. Op. Souterrains)\",$AY$8=\"Officier militaire\"),EXPERIENCE_PRELIMINAIRE!DD16,IF(AND($BC$8=\"Officier militaire (Spé. Op. Surface)\",$AY$8=\"Officier militaire\"),EXPERIENCE_PRELIMINAIRE!DD6,0))","v":0},null,{"$f":"IF(AND($AY$8=\"Soldat/Milicien\",FW$282=1),6,0)","v":0},{"$f":"IF(AND($AY$8=\"Techno-Hybride\",FX$282=1),6,0)","v":0},{"$f":"IF(AND($AY$8=\"Soldat d'élite (Commandos marin)\",FY$282=1),6,IF(AND($AY$8=\"Soldat d'élite (Commandos souterrains)\",FY$282=1),6,IF(AND($AY$8=\"Soldat d'élite (Commandos de surface)\",FY$282=1),6,IF(AND($AY$8=\"Soldat d'élite (Forces spéciales)\",FY$282=1),6,0))))","v":0},{"$f":"IF(AND($AY$8=\"Veilleur\",FZ$282=1),6,0)","v":0},{"$f":"SUM(FW287:FZ287)","v":0}]
[null,null,null,null,null,null,null,null,null,null,null,null,null,null,null,null,null,null,null,null,null,null,null,null,null,null,null,null,null,null,null,null,null,null,null,null,null,null,null,null,null,null,null,null,null,null,null,null,null,null,null,null,null,null,null,null,null,null,null,null,null,null,null,null,null,null,null,null,null,"Contrebandier 7",null,null,null,"Falsification",null,"Aide d'un membre de l'administration",null,null,null,null,null,null,null,null,null,null,null,null,null,null,null,null,null,null,null,null,null,null,1,null,null,null,null,null,null,null,null,null,null,4,null,null,null,null,null,null,null,null,null,null,null,null,null,null,null,null,null,null,null,null,null,null,null,null,null,null,null,null,null,null,null,null,null,null,null,null,null,null,null,null,null,null,null,null,null,null,null,40,null,null,null,null,null,null,null,null,null,null,null,null,null,null,"Profession 3"]
[null,null,null,null,null,null,null,null,null,null,null,null,null,null,null,null,null,null,null,null,null,null,null,null,null,null,null,null,null,null,null,null,null,null,null,null,null,null,null,null,null,null,null,null,null,null,null,null,null,null,null,null,null,null,null,null,null,null,null,null,null,null,null,null,null,null,null,null,null,"Contrebandier 10",null,null,null,"Au choix ou 7 Pts Av.",null,null,null,null,null,null,null,null,null,null,null,null,null,null,null,null,null,null,null,null,null,null,null,null,null,null,null,null,null,null,null,null,null,null,null,null,null,null,null,null,null,null,null,null,null,null,null,null,null,null,null,null,null,null,null,null,null,null,null,null,null,null,null,null,null,null,null,null,null,null,null,null,null,null,null,null,null,null,null,null,null,null,null,43]
[null,null,null,null,null,null,null,null,null,null,null,null,null,null,null,null,null,null,null,null,null,null,null,null,null,null,null,null,null,null,null,null,null,null,null,null,null,null,null,null,null,null,null,null,null,null,null,null,null,null,null,null,null,null,null,null,null,null,null,null,null,null,null,null,null,null,null,null,null,"Cultivateur/Eleveur 4",null,null,null,"Empathie",null,"Gagne la mutation Empathie au niveau 1",null,null,null,null,null,null,null,null,null,null,null,null,null,null,null,null,null,null,null,null,null,null,null,null,null,null,null,null,null,null,null,null,null,null,null,null,null,null,null,null,null,null,null,1,null,1,null,null,null,null,null,null,null,null,null,null,null,null,null,null,null,null,null,null,null,null,null,null,null,null,null,null,null,null,null,null,null,null,null,null,null,47,null,null,null,null,null,null,null,null,null,null,null,null,null,null,null,{"$f":"SUM(FR298:FR299)","v":0},{"$f":"SUM(FS298:FS299)","v":0},0,0]
[null,null,null,null,null,null,null,null,null,null,null,null,null,null,null,null,null,null,null,null,null,null,null,null,null,null,null,null,null,null,null,null,null,null,null,null,null,null,null,null,null,null,null,null,null,null,null,null,null,null,null,null,null,null,null,null,null,null,null,null,null,null,null,null,null,null,null,null,null,"Cultivateur/Eleveur 5",null,null,null,"Dauphin",null,"Lien d'amitié avec un dauphin",null,null,null,null,null,null,null,null,null,null,null,null,null,null,null,null,null,null,null,null,null,null,null,null,null,null,null,null,null,null,null,null,null,null,null,null,null,null,null,null,null,null,null,null,null,null,null,null,null,null,null,null,null,null,null,null,null,null,null,null,null,null,null,null,null,null,null,null,null,null,null,null,null,null,null,null,null,null,null,null,null,48]
[null,null,null,null,null,null,null,null,null,null,null,null,null,null,null,null,null,null,null,null,null,null,null,null,null,null,null,null,null,null,null,null,null,null,null,null,null,null,null,null,null,null,null,null,null,null,null,null,null,null,null,null,null,null,null,null,null,null,null,null,null,null,null,null,null,null,null,null,null,"Cultivateur/Eleveur 9",null,null,null,"Laboratoire",null,"Contrat avec labo, créatures/plantes expériment.",null,null,null,null,0.2,null,null,2,null,null,null,null,null,null,null,null,null,null,null,null,null,2,null,null,null,null,null,null,null,null,null,null,null,null,null,null,2,null,null,null,null,null,null,null,null,null,null,null,null,null,null,null,null,null,null,null,null,null,null,null,null,null,null,null,null,null,null,null,null,null,null,null,null,null,null,null,null,null,null,null,null,52,null,null,null,null,null,null,null,null,null,null,null,null,null,null,"Armes spéciales (contact) II (…....…)",{"$f":"EXPERIENCE_PRELIMINAIRE!W34","v":-2},null,3,-3,null,6]
[null,null,null,null,null,null,null,null,null,null,null,null,null,null,null,null,null,null,null,null,null,null,null,null,null,null,null,null,null,null,null,null,null,null,null,null,null,null,null,null,null,null,null,null,null,null,null,null,null,null,null,null,null,null,null,null,null,null,null,null,null,null,null,null,null,null,null,null,null,"Diplomate 3",null,null,null,"Coup d'éclat",null,"A réussi médiation particulièrement remarquée",null,null,null,null,null,null,null,4,null,null,null,null,null,null,null,null,null,1,null,null,2,4,2,null,null,null,null,null,null,null,null,3,null,null,null,null,null,null,null,null,null,null,null,null,null,null,null,null,null,null,null,null,null,null,null,null,null,null,null,null,null,null,null,null,null,null,null,null,null,null,null,null,null,null,null,null,null,null,null,null,null,56,null,null,null,null,null,null,null,null,null,null,null,null,null,null,"Arts martiaux (Tech. défensives) *",{"$f":"EXPERIENCE_PRELIMINAIRE!W38","v":-5},null,7,-7,null,14]
[null,null,null,null,null,null,null,null,null,null,null,null,null,null,null,null,null,null,null,null,null,null,null,null,null,null,null,null,null,null,null,null,null,null,null,null,null,null,null,null,null,null,null,null,null,null,null,null,null,null,null,null,null,null,null,null,null,null,null,null,null,null,null,null,null,null,null,null,null,"Diplomate 5",null,null,null,"Corruption",null,"(A) Approché par des gens pour agir en leur faveur ",null,null,null,1,null,null,null,null,null,null,null,null,null,null,null,null,null,null,null,null,null,null,2,null,null,null,null,null,1,null,null,2,null,null,null,null,null,null,null,null,null,null,null,null,1,null,null,null,null,null,null,null,null,null,null,null,null,null,null,null,null,null,null,null,null,null,null,null,null,null,null,null,null,null,null,null,null,null,null,null,null,59,null,null,null,null,null,null,null,null,null,null,null,null,null,null,"Combat à mains nues",{"$f":"EXPERIENCE_PRELIMINAIRE!W46","v":0},null,10,-10,null,20]
[null,null,null,null,null,null,null,null,null,null,null,null,null,null,null,null,null,null,null,null,null,null,null,null,null,null,null,null,null,null,null,null,null,null,null,null,null,null,null,null,null,null,null,null,null,null,null,null,null,null,null,null,null,null,null,null,null,null,null,null,null,null,null,null,null,null,null,null,null,"Diplomate 9",null,null,null,"Sombre secret",null,"Secret important VIP/communauté/nation/groupe",null,null,null,null,null,null,null,null,null,null,null,null,null,null,null,null,null,null,null,null,null,null,null,null,null,null,null,null,null,null,null,null,null,null,null,null,null,null,null,null,null,null,null,null,null,null,null,null,null,null,null,null,null,null,null,null,null,null,null,null,null,null,null,null,null,null,null,null,null,null,null,null,null,null,null,null,null,null,null,null,null,63,null,null,null,null,null,null,null,null,null,null,null,null,null,null,null,null,null,null,null,null,28]
[null,null,null,null,null,null,null,null,null,null,null,null,null,null,null,null,null,null,null,null,null,null,null,null,null,null,null,null,null,null,null,null,null,null,null,null,null,null,null,null,null,null,null,null,null,null,null,null,null,null,null,null,null,null,null,null,null,null,null,null,null,null,null,null,null,null,null,null,null,"Erudit/Archéologue 1",null,null,null,"Attribut augmenté",null,".",null,null,null,null,null,null,null,null,null,null,null,null,null,1,null,null,null,null,null,null,null,null,null,null,null,null,null,null,null,null,null,null,null,null,null,null,null,null,null,null,null,null,null,null,null,null,null,null,null,null,null,null,null,null,null,null,null,null,null,null,null,null,null,null,null,null,null,null,null,null,null,null,null,null,null,null,null,null,null,null,null,65,null,null,null,null,null,null,null,null,null,null,null,null,null,null,null,"Fragments",null,null,null,null,32]
[null,null,null,null,null,null,null,null,null,null,null,null,null,null,null,null,null,null,null,null,null,null,null,null,null,null,null,null,null,null,null,null,null,null,null,null,null,null,null,null,null,null,null,null,null,null,null,null,null,null,null,null,null,null,null,null,null,null,null,null,null,null,null,null,null,null,null,null,null,"Erudit/Archéologue 4",null,null,null,"Sombre secret",null,"A découvert éléments histo. gênants pour des VIP",null,null,null,null,null,null,null,6,null,null,null,null,null,null,null,null,null,1,null,3,null,6,4,null,null,null,6,null,null,null,null,null,null,null,null,null,null,null,null,null,null,null,null,null,null,null,null,null,null,null,null,null,null,null,null,null,null,null,null,null,null,null,null,null,null,null,null,null,null,null,null,null,null,null,null,null,null,null,null,null,null,68,null,null,null,null,null,null,null,null,null,null,null,null,null,null,{"$f":"E135/2","v":0},{"$f":"IF($B135=\"Profession 1\",$FQ321,0)","v":0},{"$f":"IF($B135=\"Profession 2\",$FQ321,0)","v":0},{"$f":"IF($B135=\"Profession 3\",$FQ321,0)","v":0},{"$f":"IF($B135=\"Profession 4\",$FQ321,0)","v":0},null,38]
[null,null,null,null,null,null,null,null,null,null,null,null,null,null,null,null,null,null,null,null,null,null,null,null,null,null,null,null,null,null,null,null,null,null,null,null,null,null,null,null,null,null,null,null,null,null,null,null,null,null,null,null,null,null,null,null,null,null,null,null,null,null,null,null,null,null,null,null,null,"Erudit/Archéologue 7",null,null,null,"Réseau d'érudits",null,"Peut compter sur un réseau de confrères si besoin",null,null,null,null,null,null,null,null,null,null,null,null,null,null,null,null,null,null,null,null,null,null,6,null,null,null,null,null,null,null,null,null,null,null,null,null,null,null,null,null,null,null,null,null,null,null,null,null,null,null,null,null,null,null,null,null,null,null,null,null,null,null,null,null,null,null,null,null,null,null,null,null,null,null,null,null,null,null,null,null,null,71,null,null,null,null,null,null,null,null,null,null,null,null,null,null,null,null,null,null,null,null,44]
[null,null,null,null,null,null,null,null,null,null,null,null,null,null,null,null,null,null,null,null,null,null,null,null,null,null,null,null,null,null,null,null,null,null,null,null,null,null,null,null,null,null,null,null,null,null,null,null,null,null,null,null,null,null,null,null,null,null,null,null,null,null,null,null,null,null,null,null,null,"Erudit/Archéologue 10",null,null,null,"Au choix ou 7 Pts Av.",null,null,null,null,null,null,null,null,null,null,null,null,null,null,null,null,null,null,null,null,null,null,null,null,null,null,null,null,null,null,null,null,null,null,null,null,null,null,null,null,null,null,null,null,null,null,null,null,null,null,null,null,null,null,null,null,null,null,null,null,null,null,null,null,null,null,null,null,null,null,null,null,null,null,null,null,null,null,null,null,null,null,null,74,null,null,null,null,null,null,null,null,null,null,null,null,null,null,null,null,null,null,null,null,50]
[null,null,null,null,null,null,null,null,null,null,null,null,null,null,null,null,null,null,null,null,null,null,null,null,null,null,null,null,null,null,null,null,null,null,null,null,null,null,null,null,null,null,null,null,null,null,null,null,null,null,null,null,null,null,null,null,null,null,null,null,null,null,null,null,null,null,null,null,null,"Espion 4",null,null,null,"Corruption",null,".",null,null,null,null,null,null,null,null,null,null,null,null,null,null,null,null,null,null,null,null,null,null,null,null,null,null,null,null,null,null,null,6,null,null,null,null,null,null,null,null,null,null,null,null,null,null,null,null,null,null,null,null,null,null,null,null,null,null,null,null,null,null,null,null,null,null,null,null,null,null,null,null,null,null,null,null,null,null,null,null,null,79,null,null,null,null,null,null,null,null,null,null,null,null,null,null,null,null,null,null,null,null,60]
[null,null,null,null,null,null,null,null,null,null,null,null,null,null,null,null,null,null,null,null,null,null,null,null,null,null,null,null,null,null,null,null,null,null,null,null,null,null,null,null,null,null,null,null,null,null,null,null,null,null,null,null,null,null,null,null,null,null,null,null,null,null,null,null,null,null,null,null,null,"Espion 7",null,null,null,"Fausse identité",null,".",null,null,null,null,null,null,null,null,null,null,null,null,null,null,null,null,null,null,null,null,null,null,null,null,null,null,null,null,null,null,null,null,null,null,6,null,null,null,null,null,null,null,null,null,null,null,null,null,null,null,null,null,null,null,null,null,null,null,null,null,null,null,null,null,null,null,null,null,null,null,null,null,null,null,null,null,null,null,null,null,null,82,null,null,null,null,null,null,null,null,null,null,null,null,null,null,null,null,null,null,null,null,66]
[null,null,null,null,null,null,null,null,null,null,null,null,null,null,null,null,null,null,null,null,null,null,null,null,null,null,null,null,null,null,null,null,null,null,null,null,null,null,null,null,null,null,null,null,null,null,null,null,null,null,null,null,null,null,null,null,null,null,null,null,null,null,null,null,null,null,null,null,null,"Hybride du Trident (Membre du GSI) 2",null,null,null,"Prestation",null,"Travail particulièrement remarqué",null,null,null,null,null,null,null,2,null,null,null,null,null,null,null,null,null,null,null,null,null,2,null,null,null,null,null,null,null,null,null,null,null,null,null,null,null,null,null,null,null,null,null,null,null,null,null,null,null,null,null,null,null,null,null,null,null,null,null,null,null,null,null,null,null,null,null,null,null,null,null,null,null,null,null,null,null,null,null,null,null,87,null,null,null,null,null,null,null,null,null,null,null,null,null,null,null,null,null,null,null,null,76]
[null,null,null,null,null,null,null,null,null,null,null,null,null,null,null,null,null,null,null,null,null,null,null,null,null,null,null,null,null,null,null,null,null,null,null,null,null,null,null,null,null,null,null,null,null,null,null,null,null,null,null,null,null,null,null,null,null,null,null,null,null,null,null,null,null,null,null,null,null,"Hybride du Trident (Membre du GSI) 4 Refus",null,null,null,"Soleil noir",null,"(R) Reste membre du Culte du Trident, ennemi du SN",null,null,null,1,null,null,null,null,null,null,null,null,null,null,null,null,null,1,null,null,1,null,2,null,null,null,null,null,null,null,null,null,null,null,null,null,null,null,null,null,null,null,null,null,1,null,null,null,null,null,null,null,null,null,null,null,null,null,null,null,null,null,null,null,null,null,null,null,null,null,null,null,null,null,null,null,null,null,null,null,null,90,null,null,null,null,null,null,null,null,null,null,null,null,null,null,null,null,null,null,null,null,82]
[null,null,null,null,null,null,null,null,null,null,null,null,null,null,null,null,null,null,null,null,null,null,null,null,null,null,null,null,null,null,null,null,null,null,null,null,null,null,null,null,null,null,null,null,null,null,null,null,null,null,null,null,null,null,null,null,null,null,null,null,null,null,null,null,null,null,null,null,null,"Hybride du Trident (Membre du GSI) 7",null,null,null,"Unité d'élite",null,"A intégré un groupe d'élite",null,null,null,null,1,null,null,null,null,null,null,null,null,null,null,null,null,null,null,null,null,null,null,null,null,null,null,null,null,null,null,null,null,null,null,null,null,null,null,null,null,null,null,null,null,null,null,null,null,null,null,null,null,null,null,null,null,null,null,null,null,null,null,null,null,null,null,null,null,null,null,null,null,null,null,null,null,null,null,null,null,93,null,null,null,null,null,null,null,null,null,null,null,null,null,null,null,null,null,null,null,null,88]
[null,null,null,null,null,null,null,null,null,null,null,null,null,null,null,null,null,null,null,null,null,null,null,null,null,null,null,null,null,null,null,null,null,null,null,null,null,null,null,null,null,null,null,null,null,null,null,null,null,null,null,null,null,null,null,null,null,null,null,null,null,null,null,null,null,null,null,null,null,"Hybride du Trident (Membre du GSI) 10",null,null,null,"Au choix ou 7 Pts Av.",null,null,null,null,null,null,null,null,null,null,null,null,null,null,null,null,null,null,null,null,null,null,null,null,null,null,null,null,null,null,null,null,null,null,null,null,null,null,null,null,null,null,null,null,null,null,null,null,null,null,null,null,null,null,null,null,null,null,null,null,null,null,null,null,null,null,null,null,null,null,null,null,null,null,null,null,null,null,null,null,null,null,null,96,null,null,null,null,null,null,null,null,null,null,null,null,null,null,null,null,null,null,null,null,94]
[null,null,null,null,null,null,null,null,null,null,null,null,null,null,null,null,null,null,null,null,null,null,null,null,null,null,null,null,null,null,null,null,null,null,null,null,null,null,null,null,null,null,null,null,null,null,null,null,null,null,null,null,null,null,null,null,null,null,null,null,null,null,null,null,null,null,null,null,null,"Marchand 2",null,null,null,"Prestation",null,"Travail particulièrement remarqué",null,null,null,null,null,null,null,2,null,null,null,null,null,null,null,null,null,null,null,null,null,2,null,null,null,null,null,null,null,null,null,null,null,null,null,null,null,null,null,null,2,null,null,null,null,null,null,null,null,null,null,null,null,null,null,null,null,null,null,null,null,null,null,null,null,null,null,null,null,null,null,null,null,null,null,null,null,null,null,null,null,98,null,null,null,null,null,null,null,null,null,null,null,null,null,null,null,null,null,null,null,null,98]
[null,null,null,null,null,null,null,null,null,null,null,null,null,null,null,null,null,null,null,null,null,null,null,null,null,null,null,null,null,null,null,null,null,null,null,null,null,null,null,null,null,null,null,null,null,null,null,null,null,null,null,null,null,null,null,null,null,null,null,null,null,null,null,null,null,null,null,null,null,"Marchand 5",null,null,null,"Année faste",null,"Bonne année",null,null,null,2,null,null,null,null,null,null,null,null,null,null,null,null,null,null,null,null,null,null,null,null,null,null,null,null,null,null,null,null,null,null,null,null,null,null,null,null,4,null,null,null,null,null,null,null,null,null,null,null,null,null,null,null,null,null,null,null,null,null,null,null,null,null,null,null,null,null,null,null,null,null,null,null,null,null,null,null,null,101]
[null,null,null,null,null,null,null,null,null,null,null,null,null,null,null,null,null,null,null,null,null,null,null,null,null,null,null,null,null,null,null,null,null,null,null,null,null,null,null,null,null,null,null,null,null,null,null,null,null,null,null,null,null,null,null,null,null,null,null,null,null,null,null,null,null,null,null,null,null,"Marchand 10",null,null,null,"Au choix ou 7 Pts Av.",null,null,null,null,null,null,null,null,null,null,null,null,null,null,null,null,null,null,null,null,null,null,null,null,null,null,null,null,null,null,null,null,null,null,null,null,null,null,null,null,null,null,null,null,null,null,null,null,null,null,null,null,null,null,null,null,null,null,null,null,null,null,null,null,null,null,null,null,null,null,null,null,null,null,null,null,null,null,null,null,null,null,null,106]
[null,null,null,null,null,null,null,null,null,null,null,null,null,null,null,null,null,null,null,null,null,null,null,null,null,null,null,null,null,null,null,null,null,null,null,null,null,null,null,null,null,null,null,null,null,null,null,null,null,null,null,null,null,null,null,null,null,null,null,null,null,null,null,null,null,null,null,null,null,"Marchand itinérant/Conteur 3",null,null,null,"Secret",null,"Connaît un secret/lieu découvert pdt voyages",null,null,null,null,null,null,null,null,null,null,null,null,null,null,null,null,null,null,null,null,null,null,null,null,null,null,null,null,null,null,null,null,null,null,null,null,null,null,null,null,null,null,null,null,null,null,null,null,null,null,null,null,null,null,null,null,null,null,null,null,null,null,null,null,null,null,null,null,null,null,null,null,null,null,null,null,null,null,null,null,null,109]
[null,null,null,null,null,null,null,null,null,null,null,null,null,null,null,null,null,null,null,null,null,null,null,null,null,null,null,null,null,null,null,null,null,null,null,null,null,null,null,null,null,null,null,null,null,null,null,null,null,null,null,null,null,null,null,null,null,null,null,null,null,null,null,null,null,null,null,null,null,"Marchand itinérant/Conteur 8",null,null,null,"Récup. de marchandises",null,"A récupéré un stock de marchandises",null,null,null,null,null,null,null,null,null,null,null,null,null,null,null,null,null,null,null,null,null,null,null,null,null,null,null,null,null,null,null,null,null,null,null,null,null,null,null,null,6,null,null,null,null,null,null,null,null,null,null,null,null,null,null,null,null,null,null,null,null,null,null,null,null,null,null,null,null,null,null,null,null,null,null,null,null,null,null,null,null,114]
[null,null,null,null,null,null,null,null,null,null,null,null,null,null,null,null,null,null,null,null,null,null,null,null,null,null,null,null,null,null,null,null,null,null,null,null,null,null,null,null,null,null,null,null,null,null,null,null,null,null,null,null,null,null,null,null,null,null,null,null,null,null,null,null,null,null,null,null,null,"Médecin/Chirurgien 1",null,null,null,"Attribut augmenté",null,".",null,null,null,null,null,null,null,null,null,null,null,null,null,1,null,null,null,null,null,null,null,null,null,null,null,null,null,null,null,null,null,null,null,null,null,null,null,null,null,null,null,null,null,null,null,null,null,null,null,null,null,null,null,null,null,null,null,null,null,null,null,null,null,null,null,null,null,null,null,null,null,null,null,null,null,null,null,null,null,null,null,117]
[null,null,null,null,null,null,null,null,null,null,null,null,null,null,null,null,null,null,null,null,null,null,null,null,null,null,null,null,null,null,null,null,null,null,null,null,null,null,null,null,null,null,null,null,null,null,null,null,null,null,null,null,null,null,null,null,null,null,null,null,null,null,null,null,null,null,null,null,null,"Médecin/Chirurgien 4",null,null,null,"Grande société",null,"Engagé si accept. par gde société",null,null,null,null,0.2,null,null,3,null,null,null,null,null,null,null,null,null,null,null,null,null,4,null,null,null,null,null,null,null,2,null,null,null,null,null,null,null,null,null,null,null,null,null,null,null,null,null,null,null,null,null,null,null,null,null,null,null,null,null,null,null,null,null,null,null,null,null,null,null,null,null,null,null,null,null,null,null,null,null,null,null,120]
[null,null,null,null,null,null,null,null,null,null,null,null,null,null,null,null,null,null,null,null,null,null,null,null,null,null,null,null,null,null,null,null,null,null,null,null,null,null,null,null,null,null,null,null,null,null,null,null,null,null,null,null,null,null,null,null,null,null,null,null,null,null,null,null,null,null,null,null,null,"Médecin/Chirurgien 6",null,null,null,"Personnage influent",null,"A soigné un personnage influent",null,null,null,1,null,null,null,2,null,null,null,null,null,null,null,null,null,1,null,null,null,4,2,null,null,null,null,null,null,2,null,null,null,null,null,null,null,null,null,null,null,null,null,null,null,null,null,null,null,null,null,null,null,null,null,null,null,null,null,null,null,null,null,null,null,null,null,null,null,null,null,null,null,null,null,null,null,null,null,null,null,123]
[null,null,null,null,null,null,null,null,null,null,null,null,null,null,null,null,null,null,null,null,null,null,null,null,null,null,null,null,null,null,null,null,null,null,null,null,null,null,null,null,null,null,null,null,null,null,null,null,null,null,null,null,null,null,null,null,null,null,null,null,null,null,null,null,null,null,null,null,null,"Médecin/Chirurgien 8",null,null,null,"Expérience interdite",null,"A participé a des exp. interdites et dangereuses.",null,null,null,1,null,null,null,5,null,null,null,null,null,null,null,null,null,null,null,null,null,null,null,null,null,null,null,null,null,null,null,null,null,null,null,null,null,2,null,null,null,null,null,null,null,null,null,null,null,null,null,null,null,null,null,null,null,null,null,null,null,null,null,null,null,null,null,null,null,null,null,null,null,null,null,null,null,null,null,null,null,125]
[null,null,null,null,null,null,null,null,null,null,null,null,null,null,null,null,null,null,null,null,null,null,null,null,null,null,null,null,null,null,null,null,null,null,null,null,null,null,null,null,null,null,null,null,null,null,null,null,null,null,null,null,null,null,null,null,null,null,null,null,null,null,null,null,null,null,null,null,null,"Mercenaire 1",null,null,null,"Attribut augmenté",null,".",null,null,null,null,null,null,null,null,null,1,null,null,null,null,null,null,null,null,null,null,null,null,null,null,null,null,null,null,null,null,null,null,null,null,null,null,null,null,null,null,null,null,null,null,null,null,null,null,null,null,null,null,null,null,null,null,null,null,null,null,null,null,null,null,null,null,null,null,null,null,null,null,null,null,null,null,null,null,null,null,null,128]
[null,null,null,null,null,null,null,null,null,null,null,null,null,null,null,null,null,null,null,null,null,null,null,null,null,null,null,null,null,null,null,null,null,null,null,null,null,null,null,null,null,null,null,null,null,null,null,null,null,null,null,null,null,null,null,null,null,null,null,null,null,null,null,null,null,null,null,null,null,"Mercenaire 4 Refus",null,null,null,"Grande société",null,"(R) Refuse de rejoindre une gde société",null,null,null,null,null,null,null,null,null,null,null,null,null,null,null,null,null,null,null,null,null,null,null,null,null,null,null,null,null,null,null,null,null,null,null,null,null,null,null,null,null,null,null,null,1,null,null,null,null,null,null,null,null,null,null,null,null,null,null,null,null,null,null,null,null,null,null,null,null,null,null,null,null,null,null,null,null,null,null,null,null,132]
[null,null,null,null,null,null,null,null,null,null,null,null,null,null,null,null,null,null,null,null,null,null,null,null,null,null,null,null,null,null,null,null,null,null,null,null,null,null,null,null,null,null,null,null,null,null,null,null,null,null,null,null,null,null,null,null,null,null,null,null,null,null,null,null,null,null,null,null,null,"Mercenaire 8",null,null,null,"Camarades de combat",null,"Peut compter sur l'aide de camarades",null,null,null,null,null,null,null,null,null,null,null,null,null,null,null,null,null,1,null,null,null,null,2,null,null,null,null,null,null,null,null,null,null,null,null,null,null,null,null,null,null,null,null,null,null,null,null,null,null,null,null,null,null,null,null,null,null,null,null,null,null,null,null,null,null,null,null,null,null,null,null,null,null,null,null,null,null,null,null,null,null,136]
[null,null,null,null,null,null,null,null,null,null,null,null,null,null,null,null,null,null,null,null,null,null,null,null,null,null,null,null,null,null,null,null,null,null,null,null,null,null,null,null,null,null,null,null,null,null,null,null,null,null,null,null,null,null,null,null,null,null,null,null,null,null,null,null,null,null,null,null,null,"Mineur 2",null,null,null,"Concession",null,"A obtenu droits nvlle concession non exploitée",null,null,null,null,null,null,null,null,null,null,null,null,null,null,null,null,null,null,null,null,null,null,null,null,null,null,null,null,null,null,null,null,null,null,null,null,null,null,null,null,null,null,null,null,null,null,null,null,null,null,null,null,null,null,null,null,null,null,null,null,null,null,null,null,null,null,null,null,null,null,null,null,null,null,null,null,null,null,null,null,null,140]
[null,null,null,null,null,null,null,null,null,null,null,null,null,null,null,null,null,null,null,null,null,null,null,null,null,null,null,null,null,null,null,null,null,null,null,null,null,null,null,null,null,null,null,null,null,null,null,null,null,null,null,null,null,null,null,null,null,null,null,null,null,null,null,null,null,null,null,null,null,"Mineur 3",null,null,null,"Prestation",null,"Travail particulièrement remarqué",null,null,null,null,null,null,null,2,null,null,null,null,null,null,null,null,null,null,null,null,null,2,null,null,null,null,null,null,null,null,null,null,null,null,null,2,null,null,null,null,null,null,null,null,null,null,null,null,null,null,null,null,null,null,null,null,null,null,null,null,null,null,null,null,null,null,null,null,null,null,null,null,null,null,null,null,null,null,null,null,null,141]
[null,null,null,null,null,null,null,null,null,null,null,null,null,null,null,null,null,null,null,null,null,null,null,null,null,null,null,null,null,null,null,null,null,null,null,null,null,null,null,null,null,null,null,null,null,null,null,null,null,null,null,null,null,null,null,null,null,null,null,null,null,null,null,null,null,null,null,null,null,"Mineur 9",null,null,null,"Nouveau filon",null,".",null,null,null,null,null,null,null,null,null,null,null,null,null,null,null,null,null,null,null,null,null,null,null,null,null,null,null,null,null,null,6,null,null,null,null,null,null,null,null,null,null,null,null,null,null,null,null,null,null,null,null,null,null,null,null,null,null,null,null,null,null,null,null,null,null,null,null,null,null,null,null,null,null,null,null,null,null,null,null,null,null,147]
[null,null,null,null,null,null,null,null,null,null,null,null,null,null,null,null,null,null,null,null,null,null,null,null,null,null,null,null,null,null,null,null,null,null,null,null,null,null,null,null,null,null,null,null,null,null,null,null,null,null,null,null,null,null,null,null,null,null,null,null,null,null,null,null,null,null,null,null,null,"Mineur 10",null,null,null,"Au choix ou 7 Pts Av.",null,null,null,null,null,null,null,null,null,null,null,null,null,null,null,null,null,null,null,null,null,null,null,null,null,null,null,null,null,null,null,null,null,null,null,null,null,null,null,null,null,null,null,null,null,null,null,null,null,null,null,null,null,null,null,null,null,null,null,null,null,null,null,null,null,null,null,null,null,null,null,null,null,null,null,null,null,null,null,null,null,null,null,148]
[null,null,null,null,null,null,null,null,null,null,null,null,null,null,null,null,null,null,null,null,null,null,null,null,null,null,null,null,null,null,null,null,null,null,null,null,null,null,null,null,null,null,null,null,null,null,null,null,null,null,null,null,null,null,null,null,null,null,null,null,null,null,null,null,null,null,null,null,null,"Officier naval/Navigateur 5",null,null,null,"Secret/Carte",null,"A entendu parler d'un secret ou carte au trésor"]
[null,null,null,null,null,null,null,null,null,null,null,null,null,null,null,null,null,null,null,null,null,null,null,null,null,null,null,null,null,null,null,null,null,null,null,null,null,null,null,null,null,null,null,null,null,null,null,null,null,null,null,null,null,null,null,null,null,null,null,null,null,null,null,null,null,null,null,null,null,"Officier naval/Navigateur 6",null,null,null,"Unité des marins",null,"Peut compter sur l'aide de ses confrères",null,null,null,null,null,null,null,null,null,null,null,null,null,null,null,null,null,2,null,null,null,null,4]
[null,null,null,null,null,null,null,null,null,null,null,null,null,null,null,null,null,null,null,null,null,null,null,null,null,null,null,null,null,null,null,null,null,null,null,null,null,null,null,null,null,null,null,null,null,null,null,null,null,null,null,null,null,null,null,null,null,null,null,null,null,null,null,null,null,null,null,null,null,"Officier naval/Navigateur 10",null,null,null,"Au choix ou 7 Pts Av."]
[null,null,null,null,null,null,null,null,null,null,null,null,null,null,null,null,null,null,null,null,null,null,null,null,null,null,null,null,null,null,null,null,null,null,null,null,null,null,null,null,null,null,null,null,null,null,null,null,null,null,null,null,null,null,null,null,null,null,null,null,null,null,null,null,null,null,null,null,null,"Officier militaire 4",null,null,null,"Héros",null,"A participé à une bataille et a eu une distinction",null,null,null,2,null,null,null,4,null,null,null,null,null,null,null,null,null,null,null,null,null,4,null,null,null,null,null,null,null,null,null,null,null,null,null,3]
[null,null,null,null,null,null,null,null,null,null,null,null,null,null,null,null,null,null,null,null,null,null,null,null,null,null,null,null,null,null,null,null,null,null,null,null,null,null,null,null,null,null,null,null,null,null,null,null,null,null,null,null,null,null,null,null,null,null,null,null,null,null,null,null,null,null,null,null,null,"Officier militaire 8",null,null,null,"Camarades de combat",null,"Peut compter sur l'aide de camarades",null,null,null,null,null,null,null,null,null,null,null,null,null,null,null,null,null,1,null,null,null,null,2]
[null,null,null,null,null,null,null,null,null,null,null,null,null,null,null,null,null,null,null,null,null,null,null,null,null,null,null,null,null,null,null,null,null,null,null,null,null,null,null,null,null,null,null,null,null,null,null,null,null,null,null,null,null,null,null,null,null,null,null,null,null,null,null,null,null,null,null,null,null,"Officier militaire (Spé. Op. Surface) 1",null,null,null,"Attribut augmenté",null,".",null,null,null,null,null,null,null,null,null,null,null,null,null,null,1]
[null,null,null,null,null,null,null,null,null,null,null,null,null,null,null,null,null,null,null,null,null,null,null,null,null,null,null,null,null,null,null,null,null,null,null,null,null,null,null,null,null,null,null,null,null,null,null,null,null,null,null,null,null,null,null,null,null,null,null,null,null,null,null,null,null,null,null,null,null,"Officier militaire (Spé. Op. Surface) 3",null,null,null,"Distinction",null,"S'est distingué au combat",null,null,null,1,null,null,null,3,null,null,null,null,null,null,null,null,null,null,null,null,null,3,null,null,null,null,null,null,null,null,null,null,null,null,null,2]
[null,null,null,null,null,null,null,null,null,null,null,null,null,null,null,null,null,null,null,null,null,null,null,null,null,null,null,null,null,null,null,null,null,null,null,null,null,null,null,null,null,null,null,null,null,null,null,null,null,null,null,null,null,null,null,null,null,null,null,null,null,null,null,null,null,null,null,null,null,"Officier militaire (Spé. Op. Surface) 6",null,null,null,"Prestation",null,"A été remarqué par sa hiérarchie",null,null,null,null,null,null,null,1,null,null,null,null,null,null,null,null,null,null,null,null,null,1]
[null,null,null,null,null,null,null,null,null,null,null,null,null,null,null,null,null,null,null,null,null,null,null,null,null,null,null,null,null,null,null,null,null,null,null,null,null,null,null,null,null,null,null,null,null,null,null,null,null,null,null,null,null,null,null,null,null,null,null,null,null,null,null,null,null,null,null,null,null,"Officier militaire (Spé. Op. Surface) 9",null,null,null,"Mercenaires/Milice priv.",null,"Peut faire appel à un groupe d'anciens camarades",null,null,null,null,null,null,null,null,null,null,null,null,null,null,null,null,null,2,null,null,null,null,4]
[null,null,null,null,null,null,null,null,null,null,null,null,null,null,null,null,null,null,null,null,null,null,null,null,null,null,null,null,null,null,null,null,null,null,null,null,null,null,null,null,null,null,null,null,null,null,null,null,null,null,null,null,null,null,null,null,null,null,null,null,null,null,null,null,null,null,null,null,null,"Officier militaire (Spé. Op. Souterrains) 2",null,null,null,"Bataille",null,"A participé à une bataille",null,null,null,null,null,null,null,2,null,null,null,null,null,null,null,null,null,null,null,null,null,2,null,null,null,null,null,null,null,null,null,null,null,null,null,1]
[null,null,null,null,null,null,null,null,null,null,null,null,null,null,null,null,null,null,null,null,null,null,null,null,null,null,null,null,null,null,null,null,null,null,null,null,null,null,null,null,null,null,null,null,null,null,null,null,null,null,null,null,null,null,null,null,null,null,null,null,null,null,null,null,null,null,null,null,null,"Officier militaire (Spé. Op. Souterrains) 7",null,null,null,"Formation",null,"A eu accès à une formation",null,null,null,null,null,null,1,2,null,null,null,null,null,null,null,null,null,null,null,null,null,null,1]
[null,null,null,null,null,null,null,null,null,null,null,null,null,null,null,null,null,null,null,null,null,null,null,null,null,null,null,null,null,null,null,null,null,null,null,null,null,null,null,null,null,null,null,null,null,null,null,null,null,null,null,null,null,null,null,null,null,null,null,null,null,null,null,null,null,null,null,null,null,"Officier militaire (Spé. Op. Souterrains) 10",null,null,null,"Au choix ou 7 Pts Av."]
[null,null,null,null,null,null,null,null,null,null,null,null,null,null,null,null,null,null,null,null,null,null,null,null,null,null,null,null,null,null,null,null,null,null,null,null,null,null,null,null,null,null,null,null,null,null,null,null,null,null,null,null,null,null,null,null,null,null,null,null,null,null,null,null,null,null,null,null,null,"Ouvrier/Docker 5",null,null,null,"Année faste",null,"Bonne année",null,null,null,1,null,null,null,null,null,null,null,null,null,null,null,null,null,null,null,null,null,2,null,null,null,null,null,null,null,null,null,null,null,null,null,2]
[null,null,null,null,null,null,null,null,null,null,null,null,null,null,null,null,null,null,null,null,null,null,null,null,null,null,null,null,null,null,null,null,null,null,null,null,null,null,null,null,null,null,null,null,null,null,null,null,null,null,null,null,null,null,null,null,null,null,null,null,null,null,null,null,null,null,null,null,null,"Ouvrier/Docker 8",null,null,null,"Formation",null,"A eu accès à une formation",null,null,null,null,null,null,1,2,null,null,null,null,null,null,null,null,null,null,null,null,null,null,1]
[null,null,null,null,null,null,null,null,null,null,null,null,null,null,null,null,null,null,null,null,null,null,null,null,null,null,null,null,null,null,null,null,null,null,null,null,null,null,null,null,null,null,null,null,null,null,null,null,null,null,null,null,null,null,null,null,null,null,null,null,null,null,null,null,null,null,null,null,null,"Ouvrier/Docker 10",null,null,null,"Au choix ou 7 Pts Av."]
[null,null,null,null,null,null,null,null,null,null,null,null,null,null,null,null,null,null,null,null,null,null,null,null,null,null,null,null,null,null,null,null,null,null,null,null,null,null,null,null,null,null,null,null,null,null,null,null,null,null,null,null,null,null,null,null,null,null,null,null,null,null,null,null,null,null,null,null,null,"Pilote de chasse (Chasseur atmosphérique) 3",null,null,null,"Distinction",null,"S'est distingué au combat",null,null,null,1,null,null,null,3,null,null,null,null,null,null,null,null,null,null,null,null,null,3,null,null,null,null,null,null,null,null,null,null,null,null,null,2]
[null,null,null,null,null,null,null,null,null,null,null,null,null,null,null,null,null,null,null,null,null,null,null,null,null,null,null,null,null,null,null,null,null,null,null,null,null,null,null,null,null,null,null,null,null,null,null,null,null,null,null,null,null,null,null,null,null,null,null,null,null,null,null,null,null,null,null,null,null,"Pilote de chasse (Chasseur atmosphérique) 5",null,null,null,"Elite",null,"A intégré un groupe d'élite suite à une bataille",null,null,null,null,1,null,null,6,null,null,null,null,null,null,null,null,null,null,null,null,null,6,null,null,null,null,null,null,null,null,null,null,null,null,null,4]
[null,null,null,null,null,null,null,null,null,null,null,null,null,null,null,null,null,null,null,null,null,null,null,null,null,null,null,null,null,null,null,null,null,null,null,null,null,null,null,null,null,null,null,null,null,null,null,null,null,null,null,null,null,null,null,null,null,null,null,null,null,null,null,null,null,null,null,null,null,"Pilote de chasse (Chasseur atmosphérique) 8",null,null,null,"Camarades de combat",null,"Peut compter sur l'aide de camarades",null,null,null,null,null,null,null,null,null,null,null,null,null,null,null,null,null,1,null,null,null,null,2]
[null,null,null,null,null,null,null,null,null,null,null,null,null,null,null,null,null,null,null,null,null,null,null,null,null,null,null,null,null,null,null,null,null,null,null,null,null,null,null,null,null,null,null,null,null,null,null,null,null,null,null,null,null,null,null,null,null,null,null,null,null,null,null,null,null,null,null,null,null,"Pilote de chasse (Chasseur sous-marin) 3",null,null,null,"Distinction",null,"S'est distingué au combat",null,null,null,1,null,null,null,3,null,null,null,null,null,null,null,null,null,null,null,null,null,3,null,null,null,null,null,null,null,null,null,null,null,null,null,2]
[null,null,null,null,null,null,null,null,null,null,null,null,null,null,null,null,null,null,null,null,null,null,null,null,null,null,null,null,null,null,null,null,null,null,null,null,null,null,null,null,null,null,null,null,null,null,null,null,null,null,null,null,null,null,null,null,null,null,null,null,null,null,null,null,null,null,null,null,null,"Pilote de chasse (Chasseur sous-marin) 6",null,null,null,"Prestation",null,"A été remarqué par sa hiérarchie",null,null,null,null,null,null,null,1,null,null,null,null,null,null,null,null,null,null,null,null,null,1]
[null,null,null,null,null,null,null,null,null,null,null,null,null,null,null,null,null,null,null,null,null,null,null,null,null,null,null,null,null,null,null,null,null,null,null,null,null,null,null,null,null,null,null,null,null,null,null,null,null,null,null,null,null,null,null,null,null,null,null,null,null,null,null,null,null,null,null,null,null,"Pirate 1",null,null,null,"Attribut augmenté",null,".",null,null,null,null,null,null,null,null,null,null,null,null,null,null,1]
[null,null,null,null,null,null,null,null,null,null,null,null,null,null,null,null,null,null,null,null,null,null,null,null,null,null,null,null,null,null,null,null,null,null,null,null,null,null,null,null,null,null,null,null,null,null,null,null,null,null,null,null,null,null,null,null,null,null,null,null,null,null,null,null,null,null,null,null,null,"Pirate 4",null,null,null,"Confrérie",null,"A été remarqué et a rejoint une grande confrérié",null,null,null,null,1,null,null,4,null,null,null,null,null,null,null,null,null,null,null,null,null,4,null,null,null,null,null,null,null,null,null,4]
[null,null,null,null,null,null,null,null,null,null,null,null,null,null,null,null,null,null,null,null,null,null,null,null,null,null,null,null,null,null,null,null,null,null,null,null,null,null,null,null,null,null,null,null,null,null,null,null,null,null,null,null,null,null,null,null,null,null,null,null,null,null,null,null,null,null,null,null,null,"Pirate 7",null,null,null,"Respect/Viol. du code",null,"Réputé pour respecter ou violer le code",null,null,null,null,null,null,null,null,null,null,null,null,null,null,null,null,null,1,null,null,null,4,4]
[null,null,null,null,null,null,null,null,null,null,null,null,null,null,null,null,null,null,null,null,null,null,null,null,null,null,null,null,null,null,null,null,null,null,null,null,null,null,null,null,null,null,null,null,null,null,null,null,null,null,null,null,null,null,null,null,null,null,null,null,null,null,null,null,null,null,null,null,null,"Pirate 10",null,null,null,"Au choix ou 7 Pts Av."]
[null,null,null,null,null,null,null,null,null,null,null,null,null,null,null,null,null,null,null,null,null,null,null,null,null,null,null,null,null,null,null,null,null,null,null,null,null,null,null,null,null,null,null,null,null,null,null,null,null,null,null,null,null,null,null,null,null,null,null,null,null,null,null,null,null,null,null,null,null,"Policier/Enquêteur 2",null,null,null,"Distinction",null,"S'est distingué lors d'une enquête",null,null,null,1,null,null,null,3,null,null,null,null,null,null,null,null,null,null,null,null,null,3]
[null,null,null,null,null,null,null,null,null,null,null,null,null,null,null,null,null,null,null,null,null,null,null,null,null,null,null,null,null,null,null,null,null,null,null,null,null,null,null,null,null,null,null,null,null,null,null,null,null,null,null,null,null,null,null,null,null,null,null,null,null,null,null,null,null,null,null,null,null,"Policier/Enquêteur 6",null,null,null,"Réseau d'informateurs",null,"A des informateurs",null,null,null,null,null,null,null,null,null,null,null,null,null,null,null,null,null,null,null,null,null,null,8]
[null,null,null,null,null,null,null,null,null,null,null,null,null,null,null,null,null,null,null,null,null,null,null,null,null,null,null,null,null,null,null,null,null,null,null,null,null,null,null,null,null,null,null,null,null,null,null,null,null,null,null,null,null,null,null,null,null,null,null,null,null,null,null,null,null,null,null,null,null,"Policier/Enquêteur 9",null,null,null,"Mercenaires/Milice priv.",null,"Peut faire appel à un groupe d'anciens camarades",null,null,null,null,null,null,null,null,null,null,null,null,null,null,null,null,null,2,null,null,null,null,4]
[null,null,null,null,null,null,null,null,null,null,null,null,null,null,null,null,null,null,null,null,null,null,null,null,null,null,null,null,null,null,null,null,null,null,null,null,null,null,null,null,null,null,null,null,null,null,null,null,null,null,null,null,null,null,null,null,null,null,null,null,null,null,null,null,null,null,null,null,null,"Prêtre du Trident 3",null,null,null,"Corps d'élite",null,"Administratif dans un service élite du Trident",null,null,null,null,null,null,null,4,null,null,null,null,null,null,null,null,null,null,null,null,null,4,null,null,null,null,null,null,4]
[null,null,null,null,null,null,null,null,null,null,null,null,null,null,null,null,null,null,null,null,null,null,null,null,null,null,null,null,null,null,null,null,null,null,null,null,null,null,null,null,null,null,null,null,null,null,null,null,null,null,null,null,null,null,null,null,null,null,null,null,null,null,null,null,null,null,null,null,null,"Prêtre du Trident 6",null,null,null,"Soleil noir",null,"(A) Recruté par Soleil noir",null,null,null,null,1,null,null,null,null,null,null,null,null,null,null,null,null,null,null,null,null,null,null,null,null,null,null,null,null,null,null,null,null,null,null,4,null,null,null,null,null,null,null,null,1]
[null,null,null,null,null,null,null,null,null,null,null,null,null,null,null,null,null,null,null,null,null,null,null,null,null,null,null,null,null,null,null,null,null,null,null,null,null,null,null,null,null,null,null,null,null,null,null,null,null,null,null,null,null,null,null,null,null,null,null,null,null,null,null,null,null,null,null,null,null,"Prêtre du Trident 6 Refus",null,null,null,"Soleil noir",null,"(R) Gagne confiance de ses supérieurs",null,null,null,1,null,null,null,null,null,null,null,null,null,null,null,null,null,1,null,null,1,null,2,null,null,null,null,null,2,null,null,null,null,null,null,null,null,null,null,null,null,null,null,null,1]
[null,null,null,null,null,null,null,null,null,null,null,null,null,null,null,null,null,null,null,null,null,null,null,null,null,null,null,null,null,null,null,null,null,null,null,null,null,null,null,null,null,null,null,null,null,null,null,null,null,null,null,null,null,null,null,null,null,null,null,null,null,null,null,null,null,null,null,null,null,"Prêtre du Trident 10",null,null,null,"Au choix ou 7 Pts Av."]
[null,null,null,null,null,null,null,null,null,null,null,null,null,null,null,null,null,null,null,null,null,null,null,null,null,null,null,null,null,null,null,null,null,null,null,null,null,null,null,null,null,null,null,null,null,null,null,null,null,null,null,null,null,null,null,null,null,null,null,null,null,null,null,null,null,null,null,null,null,"Prostituée 3",null,null,null,"Corps d'élite",null,"Engagé par un groupe prestigieux dans ce domaine",null,null,null,null,0.2,null,null,4,null,null,null,null,null,null,null,null,null,null,null,null,null,2,null,null,null,null,null,null,2]
[null,null,null,null,null,null,null,null,null,null,null,null,null,null,null,null,null,null,null,null,null,null,null,null,null,null,null,null,null,null,null,null,null,null,null,null,null,null,null,null,null,null,null,null,null,null,null,null,null,null,null,null,null,null,null,null,null,null,null,null,null,null,null,null,null,null,null,null,null,"Prostituée 9",null,null,null,"Unité des prostituées",null,"Peut compter sur l'aide de ses consoeurs (-frères)",null,null,null,null,null,null,null,null,null,null,null,null,null,null,null,null,null,2,null,null,null,null,4]
[null,null,null,null,null,null,null,null,null,null,null,null,null,null,null,null,null,null,null,null,null,null,null,null,null,null,null,null,null,null,null,null,null,null,null,null,null,null,null,null,null,null,null,null,null,null,null,null,null,null,null,null,null,null,null,null,null,null,null,null,null,null,null,null,null,null,null,null,null,"Scientifique/Ingénieur 1",null,null,null,"Attribut augmenté",null,".",null,null,null,null,null,null,null,null,null,null,null,null,null,1]
[null,null,null,null,null,null,null,null,null,null,null,null,null,null,null,null,null,null,null,null,null,null,null,null,null,null,null,null,null,null,null,null,null,null,null,null,null,null,null,null,null,null,null,null,null,null,null,null,null,null,null,null,null,null,null,null,null,null,null,null,null,null,null,null,null,null,null,null,null,"Scientifique/Ingénieur 4",null,null,null,"Sombre secret",null,"A découvert plans de recherche génants",null,null,null,null,null,null,null,6,null,null,null,null,null,null,null,null,null,1,null,3,null,6,4,null,null,null,6]
[null,null,null,null,null,null,null,null,null,null,null,null,null,null,null,null,null,null,null,null,null,null,null,null,null,null,null,null,null,null,null,null,null,null,null,null,null,null,null,null,null,null,null,null,null,null,null,null,null,null,null,null,null,null,null,null,null,null,null,null,null,null,null,null,null,null,null,null,null,"Scientifique/Ingénieur 8",null,null,null,"Cabine privée",null,"Suite à des recherches utiles pour communauté",null,null,null,null,null,null,null,null,null,null,null,null,null,null,null,null,null,null,null,null,null,null,null,null,null,null,null,null,6]
[null,null,null,null,null,null,null,null,null,null,null,null,null,null,null,null,null,null,null,null,null,null,null,null,null,null,null,null,null,null,null,null,null,null,null,null,null,null,null,null,null,null,null,null,null,null,null,null,null,null,null,null,null,null,null,null,null,null,null,null,null,null,null,null,null,null,null,null,null,"Soldat/Milicien 2",null,null,null,"Bataille",null,"A participé à une bataille",null,null,null,null,null,null,null,2,null,null,null,null,null,null,null,null,null,null,null,null,null,2,null,null,null,null,null,null,null,null,null,null,null,null,null,1]
[null,null,null,null,null,null,null,null,null,null,null,null,null,null,null,null,null,null,null,null,null,null,null,null,null,null,null,null,null,null,null,null,null,null,null,null,null,null,null,null,null,null,null,null,null,null,null,null,null,null,null,null,null,null,null,null,null,null,null,null,null,null,null,null,null,null,null,null,null,"Soldat/Milicien 5",null,null,null,"Elite",null,"A intégré un groupe d'élite suite à une bataille",null,null,null,null,1,null,null,6,null,null,null,null,null,null,null,null,null,null,null,null,null,6,null,null,null,null,null,null,null,null,null,null,null,null,null,4]
[null,null,null,null,null,null,null,null,null,null,null,null,null,null,null,null,null,null,null,null,null,null,null,null,null,null,null,null,null,null,null,null,null,null,null,null,null,null,null,null,null,null,null,null,null,null,null,null,null,null,null,null,null,null,null,null,null,null,null,null,null,null,null,null,null,null,null,null,null,"Soldat/Milicien 7",null,null,null,"Formation",null,"A eu accès à une formation",null,null,null,null,null,null,1,2,null,null,null,null,null,null,null,null,null,null,null,null,null,null,1]
[null,null,null,null,null,null,null,null,null,null,null,null,null,null,null,null,null,null,null,null,null,null,null,null,null,null,null,null,null,null,null,null,null,null,null,null,null,null,null,null,null,null,null,null,null,null,null,null,null,null,null,null,null,null,null,null,null,null,null,null,null,null,null,null,null,null,null,null,null,"Soldat/Milicien 10",null,null,null,"Au choix ou 7 Pts Av."]
[null,null,null,null,null,null,null,null,null,null,null,null,null,null,null,null,null,null,null,null,null,null,null,null,null,null,null,null,null,null,null,null,null,null,null,null,null,null,null,null,null,null,null,null,null,null,null,null,null,null,null,null,null,null,null,null,null,null,null,null,null,null,null,null,null,null,null,null,null,"Soldat d'élite (Commandos marin) 3",null,null,null,"Distinction",null,"S'est distingué au combat",null,null,null,1,null,null,null,3,null,null,null,null,null,null,null,null,null,null,null,null,null,3,null,null,null,null,null,null,null,null,null,null,null,null,null,2]
[null,null,null,null,null,null,null,null,null,null,null,null,null,null,null,null,null,null,null,null,null,null,null,null,null,null,null,null,null,null,null,null,null,null,null,null,null,null,null,null,null,null,null,null,null,null,null,null,null,null,null,null,null,null,null,null,null,null,null,null,null,null,null,null,null,null,null,null,null,"Soldat d'élite (Commandos marin) 6",null,null,null,"Prestation",null,"A été remarqué par sa hiérarchie",null,null,null,null,null,null,null,1,null,null,null,null,null,null,null,null,null,null,null,null,null,1]
[null,null,null,null,null,null,null,null,null,null,null,null,null,null,null,null,null,null,null,null,null,null,null,null,null,null,null,null,null,null,null,null,null,null,null,null,null,null,null,null,null,null,null,null,null,null,null,null,null,null,null,null,null,null,null,null,null,null,null,null,null,null,null,null,null,null,null,null,null,"Soldat d'élite (Commandos souterrains) 1",null,null,null,"Attribut augmenté",null,".",null,null,null,null,null,null,null,null,null,null,null,null,null,null,1]
[null,null,null,null,null,null,null,null,null,null,null,null,null,null,null,null,null,null,null,null,null,null,null,null,null,null,null,null,null,null,null,null,null,null,null,null,null,null,null,null,null,null,null,null,null,null,null,null,null,null,null,null,null,null,null,null,null,null,null,null,null,null,null,null,null,null,null,null,null,"Soldat d'élite (Commandos souterrains) 4",null,null,null,"Héros",null,"A participé à une bataille et a eu une distinction",null,null,null,2,null,null,null,4,null,null,null,null,null,null,null,null,null,null,null,null,null,4,null,null,null,null,null,null,null,null,null,null,null,null,null,3]
[null,null,null,null,null,null,null,null,null,null,null,null,null,null,null,null,null,null,null,null,null,null,null,null,null,null,null,null,null,null,null,null,null,null,null,null,null,null,null,null,null,null,null,null,null,null,null,null,null,null,null,null,null,null,null,null,null,null,null,null,null,null,null,null,null,null,null,null,null,"Soldat d'élite (Commandos souterrains) 9",null,null,null,"Mercenaires/Milice priv.",null,"Peut faire appel à un groupe d'anciens camarades",null,null,null,null,null,null,null,null,null,null,null,null,null,null,null,null,null,2,null,null,null,null,4]
[null,null,null,null,null,null,null,null,null,null,null,null,null,null,null,null,null,null,null,null,null,null,null,null,null,null,null,null,null,null,null,null,null,null,null,null,null,null,null,null,null,null,null,null,null,null,null,null,null,null,null,null,null,null,null,null,null,null,null,null,null,null,null,null,null,null,null,null,null,"Soldat d'élite (Commandos de surface) 2",null,null,null,"Bataille",null,"A participé à une bataille",null,null,null,null,null,null,null,2,null,null,null,null,null,null,null,null,null,null,null,null,null,2,null,null,null,null,null,null,null,null,null,null,null,null,null,1]
[null,null,null,null,null,null,null,null,null,null,null,null,null,null,null,null,null,null,null,null,null,null,null,null,null,null,null,null,null,null,null,null,null,null,null,null,null,null,null,null,null,null,null,null,null,null,null,null,null,null,null,null,null,null,null,null,null,null,null,null,null,null,null,null,null,null,null,null,null,"Soldat d'élite (Commandos de surface) 3",null,null,null,"Distinction",null,"S'est distingué au combat",null,null,null,1,null,null,null,3,null,null,null,null,null,null,null,null,null,null,null,null,null,3,null,null,null,null,null,null,null,null,null,null,null,null,null,2]
[null,null,null,null,null,null,null,null,null,null,null,null,null,null,null,null,null,null,null,null,null,null,null,null,null,null,null,null,null,null,null,null,null,null,null,null,null,null,null,null,null,null,null,null,null,null,null,null,null,null,null,null,null,null,null,null,null,null,null,null,null,null,null,null,null,null,null,null,null,"Soldat d'élite (Commandos de surface) 8",null,null,null,"Camarades de combat",null,"Peut compter sur l'aide de camarades",null,null,null,null,null,null,null,null,null,null,null,null,null,null,null,null,null,1,null,null,null,null,2]
[null,null,null,null,null,null,null,null,null,null,null,null,null,null,null,null,null,null,null,null,null,null,null,null,null,null,null,null,null,null,null,null,null,null,null,null,null,null,null,null,null,null,null,null,null,null,null,null,null,null,null,null,null,null,null,null,null,null,null,null,null,null,null,null,null,null,null,null,null,"Soldat d'élite (Commandos de surface) 10",null,null,null,"Au choix ou 7 Pts Av."]
[null,null,null,null,null,null,null,null,null,null,null,null,null,null,null,null,null,null,null,null,null,null,null,null,null,null,null,null,null,null,null,null,null,null,null,null,null,null,null,null,null,null,null,null,null,null,null,null,null,null,null,null,null,null,null,null,null,null,null,null,null,null,null,null,null,null,null,null,null,"Soldat d'élite (Forces spéciales) 3",null,null,null,"Distinction",null,"S'est distingué au combat",null,null,null,1,null,null,null,3,null,null,null,null,null,null,null,null,null,null,null,null,null,3,null,null,null,null,null,null,null,null,null,null,null,null,null,2]
[null,null,null,null,null,null,null,null,null,null,null,null,null,null,null,null,null,null,null,null,null,null,null,null,null,null,null,null,null,null,null,null,null,null,null,null,null,null,null,null,null,null,null,null,null,null,null,null,null,null,null,null,null,null,null,null,null,null,null,null,null,null,null,null,null,null,null,null,null,"Soldat d'élite (Forces spéciales) 8",null,null,null,"Camarades de combat",null,"Peut compter sur l'aide de camarades",null,null,null,null,null,null,null,null,null,null,null,null,null,null,null,null,null,1,null,null,null,null,2]
[null,null,null,null,null,null,null,null,null,null,null,null,null,null,null,null,null,null,null,null,null,null,null,null,null,null,null,null,null,null,null,null,null,null,null,null,null,null,null,null,null,null,null,null,null,null,null,null,null,null,null,null,null,null,null,null,null,null,null,null,null,null,null,null,null,null,null,null,null,"Sous-marinier 2",null,null,null,"Prestation",null,"Travail particulièrement remarqué",null,null,null,null,null,null,null,2,null,null,null,null,null,null,null,null,null,null,null,null,null,2,null,null,null,null,null,null,null,null,null,null,null,null,null,1]
[null,null,null,null,null,null,null,null,null,null,null,null,null,null,null,null,null,null,null,null,null,null,null,null,null,null,null,null,null,null,null,null,null,null,null,null,null,null,null,null,null,null,null,null,null,null,null,null,null,null,null,null,null,null,null,null,null,null,null,null,null,null,null,null,null,null,null,null,null,"Sous-marinier 5",null,null,null,"Guilde",null,"Remarqué et engagé par guilde marins/pêcheurs",null,null,null,null,0.1,null,null,null,null,null,null,null,null,null,null,null,null,null,null,null,null,3,2]
[null,null,null,null,null,null,null,null,null,null,null,null,null,null,null,null,null,null,null,null,null,null,null,null,null,null,null,null,null,null,null,null,null,null,null,null,null,null,null,null,null,null,null,null,null,null,null,null,null,null,null,null,null,null,null,null,null,null,null,null,null,null,null,null,null,null,null,null,null,"Sous-marinier 8",null,null,null,"Trafic",null,"Accepte transporter marchandises pour une orga.",null,null,null,null,0.2,null,null,null,null,null,null,null,null,null,null,null,null,1,null,null,null,null,3,null,null,null,null,null,null,null,null,null,null,null,null,2]
[null,null,null,null,null,null,null,null,null,null,null,null,null,null,null,null,null,null,null,null,null,null,null,null,null,null,null,null,null,null,null,null,null,null,null,null,null,null,null,null,null,null,null,null,null,null,null,null,null,null,null,null,null,null,null,null,null,null,null,null,null,null,null,null,null,null,null,null,null,"Sous-marinier 9",null,null,null,"Des amis ds chaque port",null,"Connaît des personnes dans de nombreux ports",null,null,null,null,null,null,null,null,null,null,null,null,null,null,null,null,null,3,null,null,null,null,6]
[null,null,null,null,null,null,null,null,null,null,null,null,null,null,null,null,null,null,null,null,null,null,null,null,null,null,null,null,null,null,null,null,null,null,null,null,null,null,null,null,null,null,null,null,null,null,null,null,null,null,null,null,null,null,null,null,null,null,null,null,null,null,null,null,null,null,null,null,null,"Technicien/Mécanicien 4",null,null,null,"Œuvre",null,"A participé à l'élaboration d'une œuvre importante",null,null,null,null,null,null,null,4,null,null,null,null,null,null,null,null,null,null,null,null,null,4,null,null,4,4,null,null,null,null,null,null,null,null,null,4]
[null,null,null,null,null,null,null,null,null,null,null,null,null,null,null,null,null,null,null,null,null,null,null,null,null,null,null,null,null,null,null,null,null,null,null,null,null,null,null,null,null,null,null,null,null,null,null,null,null,null,null,null,null,null,null,null,null,null,null,null,null,null,null,null,null,null,null,null,null,"Technicien/Mécanicien 5 Refus",null,null,null,"Contact",null,"(R) Refuse de rejoindre une gde société",null,null,null,null,null,null,null,null,null,null,null,null,null,null,null,null,null,null,null,null,null,null,null,null,null,null,null,null,null,null,null,null,null,null,null,null,null,null,null,null,null,null,null,null,1]
[null,null,null,null,null,null,null,null,null,null,null,null,null,null,null,null,null,null,null,null,null,null,null,null,null,null,null,null,null,null,null,null,null,null,null,null,null,null,null,null,null,null,null,null,null,null,null,null,null,null,null,null,null,null,null,null,null,null,null,null,null,null,null,null,null,null,null,null,null,"Technicien/Mécanicien 9",null,null,null,"Contrebandiers/Pirates",null,"aide ponctuellement contrebandiers ou pirates",null,null,null,null,0.1,null,null,null,null,null,null,null,null,null,null,null,null,2,null,null,null,null,4,null,null,4,null,null,null,null,null,null,null,null,null,4]
[null,null,null,null,null,null,null,null,null,null,null,null,null,null,null,null,null,null,null,null,null,null,null,null,null,null,null,null,null,null,null,null,null,null,null,null,null,null,null,null,null,null,null,null,null,null,null,null,null,null,null,null,null,null,null,null,null,null,null,null,null,null,null,null,null,null,null,null,null,"Techno-Hybride 2",null,null,null,"Bataille",null,"A participé à une bataille",null,null,null,null,null,null,null,2,null,null,null,null,null,null,null,null,null,null,null,null,null,2,null,null,null,null,null,null,null,null,null,null,null,null,null,1]
[null,null,null,null,null,null,null,null,null,null,null,null,null,null,null,null,null,null,null,null,null,null,null,null,null,null,null,null,null,null,null,null,null,null,null,null,null,null,null,null,null,null,null,null,null,null,null,null,null,null,null,null,null,null,null,null,null,null,null,null,null,null,null,null,null,null,null,null,null,"Techno-Hybride 7",null,null,null,"Formation",null,"A eu accès à une formation",null,null,null,null,null,null,1,2,null,null,null,null,null,null,null,null,null,null,null,null,null,null,1]
[null,null,null,null,null,null,null,null,null,null,null,null,null,null,null,null,null,null,null,null,null,null,null,null,null,null,null,null,null,null,null,null,null,null,null,null,null,null,null,null,null,null,null,null,null,null,null,null,null,null,null,null,null,null,null,null,null,null,null,null,null,null,null,null,null,null,null,null,null,"Techno-Hybride 10",null,null,null,"Au choix ou 7 Pts Av."]
[null,null,null,null,null,null,null,null,null,null,null,null,null,null,null,null,null,null,null,null,null,null,null,null,null,null,null,null,null,null,null,null,null,null,null,null,null,null,null,null,null,null,null,null,null,null,null,null,null,null,null,null,null,null,null,null,null,null,null,null,null,null,null,null,null,null,null,null,null,"Veilleur 1",null,null,null,"Attribut augmenté",null,".",null,null,null,null,null,null,null,null,null,null,null,null,null,null,1]
[null,null,null,null,null,null,null,null,null,null,null,null,null,null,null,null,null,null,null,null,null,null,null,null,null,null,null,null,null,null,null,null,null,null,null,null,null,null,null,null,null,null,null,null,null,null,null,null,null,null,null,null,null,null,null,null,null,null,null,null,null,null,null,null,null,null,null,null,null,"Veilleur 5",null,null,null,"Elite",null,"A été intégré à un groupe d'élite",null,null,null,null,1,null,null,6,null,null,null,null,null,null,null,null,null,null,null,null,null,6,null,null,null,null,null,null,null,null,null,null,null,null,null,4]
[null,null,null,null,null,null,null,null,null,null,null,null,null,null,null,null,null,null,null,null,null,null,null,null,null,null,null,null,null,null,null,null,null,null,null,null,null,null,null,null,null,null,null,null,null,null,null,null,null,null,null,null,null,null,null,null,null,null,null,null,null,null,null,null,null,null,null,null,null,"Veilleur 8",null,null,null,"Formation",null,"A eu accès à une formation",null,null,null,null,null,null,1,2,null,null,null,null,null,null,null,null,null,null,null,null,null,null,1]
[null,null,null,null,null,null,null,null,null,null,null,null,null,null,null,null,null,null,null,null,null,null,null,null,null,null,null,null,null,null,null,null,null,null,null,null,null,null,null,null,null,null,null,null,null,null,null,null,null,null,null,null,null,null,null,null,null,null,null,null,null,null,null,null,null,null,null,null,null,"Voleur/Criminel 4",null,null,null,"Réseau",null,"A créé un réseau",null,null,null,null,0.1,null,null,2,null,null,null,null,null,null,null,null,null,null,null,null,null,2,null,null,null,null,null,null,null,null,null,null,null,null,null,4,null,null,null,4]
[null,null,null,null,null,null,null,null,null,null,null,null,null,null,null,null,null,null,null,null,null,null,null,null,null,null,null,null,null,null,null,null,null,null,null,null,null,null,null,null,null,null,null,null,null,null,null,null,null,null,null,null,null,null,null,null,null,null,null,null,null,null,null,null,null,null,null,null,null,"Voleur/Criminel 6",null,null,null,"Année faste",null,"Bonne année",null,null,null,1,null,null,null,null,null,null,null,null,null,null,null,null,null,null,null,null,null,null,null,null,null,null,null,null,null,null,null,null,null,null,null,4]
[null,null,null,null,null,null,null,null,null,null,null,null,null,null,null,null,null,null,null,null,null,null,null,null,null,null,null,null,null,null,null,null,null,null,null,null,null,null,null,null,null,null,null,null,null,null,null,null,null,null,null,null,null,null,null,null,null,null,null,null,null,null,null,null,null,null,null,null,null,"Voleur/Criminel 9",null,null,null,"Petit confort",null,".",null,null,null,null,null,null,null,null,null,null,null,null,null,null,null,null,null,null,null,null,null,null,null,null,null,null,null,null,null,null,null,null,null,null,null,4,null,null,4]
[null,null,null,null,null,null,null,null,null,null,null,null,null,null,null,null,null,null,null,null,null,null,null,null,null,null,null,null,null,null,null,null,null,null,null,null,null,null,null,null,null,null,null,null,null,null,null,null,null,null,null,null,null,null,null,null,null,null,null,null,null,null,null,null,null,null,null,null,null,"Voie des altérés 3",null,null,null,"Marqué par l'oeil",null," +5% de chance d'être ignoré des engins Généticiens"]
[null,null,null,null,null,null,null,null,null,null,null,null,null,null,null,null,null,null,null,null,null,null,null,null,null,null,null,null,null,null,null,null,null,null,null,null,null,null,null,null,null,null,null,null,null,null,null,null,null,null,null,null,null,null,null,null,null,null,null,null,null,null,null,null,null,null,null,null,null,"Voie des altérés 7",null,null,null,"Communauté",null,"Connaît une communauté qui le reconnait et l'accepte"]
[null,null,null,null,null,null,null,null,null,null,null,null,null,null,null,null,null,null,null,null,null,null,null,null,null,null,null,null,null,null,null,null,null,null,null,null,null,null,null,null,null,null,null,null,null,null,null,null,null,null,null,null,null,null,null,null,null,null,null,null,null,null,null,null,null,null,null,null,null,"Voie des altérés 10",null,null,null,"Au choix ou 7 Pts Av."]
[null,null,null,null,null,null,null,null,null,null,null,null,null,null,null,null,null,null,null,null,null,null,null,null,null,null,null,null,null,null,null,null,null,null,null,null,null,null,null,null,null,null,null,null,null,null,null,null,null,null,null,null,null,null,null,null,null,null,null,null,null,null,null,null,null,null,null,null,null,"Voie de la connaissance et du spirituel 2",null,null,null,"Prestation",null,"Travail particulièrement remarqué",null,null,null,null,null,null,null,2,null,null,null,null,null,null,null,null,null,null,null,null,null,3,null,null,null,null,null,null,null,null,null,null,null,null,null,null,null,null,null,null,null,null,null,null,null,null,2]
[null,null,null,null,null,null,null,null,null,null,null,null,null,null,null,null,null,null,null,null,null,null,null,null,null,null,null,null,null,null,null,null,null,null,null,null,null,null,null,null,null,null,null,null,null,null,null,null,null,null,null,null,null,null,null,null,null,null,null,null,null,null,null,null,null,null,null,null,null,"Voie de la connaissance et du spirituel 5",null,null,null,"Mécène sous-marin",null,"Recherches financées par un mécène des fonds marins",null,null,null,10,null,null,null,2,null,null,null,null,null,null,null,null,null,1,null,null,null,2]
[null,null,null,null,null,null,null,null,null,null,null,null,null,null,null,null,null,null,null,null,null,null,null,null,null,null,null,null,null,null,null,null,null,null,null,null,null,null,null,null,null,null,null,null,null,null,null,null,null,null,null,null,null,null,null,null,null,null,null,null,null,null,null,null,null,null,null,null,null,"Voie de la connaissance et du spirituel 9",null,null,null,"Symbiote",null,"Acquiert un symbiote"]
[null,null,null,null,null,null,null,null,null,null,null,null,null,null,null,null,null,null,null,null,null,null,null,null,null,null,null,null,null,null,null,null,null,null,null,null,null,null,null,null,null,null,null,null,null,null,null,null,null,null,null,null,null,null,null,null,null,null,null,null,null,null,null,null,null,null,null,null,null,"Voie de la chasse et du combat 1",null,null,null,"Attribut augmenté",null,".",null,null,null,null,null,null,null,null,null,null,null,null,null,null,null,null,null,null,null,null,null,null,null,null,null,null,null,null,null,null,null,null,null,null,null,null,null,null,null,null,null,null,null,null,null,null,null,null,null,null,null,null,null,null,null,null,1]
[null,null,null,null,null,null,null,null,null,null,null,null,null,null,null,null,null,null,null,null,null,null,null,null,null,null,null,null,null,null,null,null,null,null,null,null,null,null,null,null,null,null,null,null,null,null,null,null,null,null,null,null,null,null,null,null,null,null,null,null,null,null,null,null,null,null,null,null,null,"Voie de la chasse et du combat 6",null,null,null,"Gibier",null," +1 aux tests contre un gibier précis (qui lui a -1 aux tests)"]
[null,null,null,null,null,null,null,null,null,null,null,null,null,null,null,null,null,null,null,null,null,null,null,null,null,null,null,null,null,null,null,null,null,null,null,null,null,null,null,null,null,null,null,null,null,null,null,null,null,null,null,null,null,null,null,null,null,null,null,null,null,null,null,null,null,null,null,null,null,"Voie de la chasse et du combat 10",null,null,null,"Au choix ou 7 Pts Av."]
[null,null,null,null,null,null,null,null,null,null,null,null,null,null,null,null,null,null,null,null,null,null,null,null,null,null,null,null,null,null,null,null,null,null,null,null,null,null,null,null,null,null,null,null,null,null,null,null,null,null,null,null,null,null,null,null,null,null,null,null,null,null,null,null,null,null,null,null,null,"Voie de l'errance et du commerce 4",null,null,null,"Communautés sous-marines",null,"Connaît une communauté sous-marine",null,null,null,null,null,null,null,null,null,null,null,null,null,null,null,null,null,1,null,null,null,2,1]
[null,null,null,null,null,null,null,null,null,null,null,null,null,null,null,null,null,null,null,null,null,null,null,null,null,null,null,null,null,null,null,null,null,null,null,null,null,null,null,null,null,null,null,null,null,null,null,null,null,null,null,null,null,null,null,null,null,null,null,null,null,null,null,null,null,null,null,null,null,"Voie de l'errance et du commerce 7",null,null,null,"Adaptation",null,".",null,null,null,null,null,null,null,null,null,null,null,null,null,null,null,null,null,null,null,null,null,null,null,null,null,null,null,null,null,null,null,null,null,null,null,null,null,null,null,null,null,null,null,null,null,1]
[null,null,null,null,null,null,null,null,null,null,null,null,null,null,null,null,null,null,null,null,null,null,null,null,null,null,null,null,null,null,null,null,null,null,null,null,null,null,null,null,null,null,null,null,null,null,null,null,null,null,null,null,null,null,null,null,null,null,null,null,null,null,null,null,null,null,null,null,null,"Voie de l'errance et du commerce 9",null,null,null,"Symbiote",null,"Acquiert un symbiote"]
[null,null,null,null,null,null,null,null,null,null,null,null,null,null,null,null,null,null,null,null,null,null,null,null,null,null,null,null,null,null,null,null,null,null,null,null,null,null,null,null,null,null,null,null,null,null,null,null,null,null,null,null,null,null,null,null,null,null,null,null,null,null,null,null,null,null,null,null,null,"Voie de la technologie 2",null,null,null,"Pillards",null,"En relation avec pillards/contrebandiers/pirates",null,null,null,null,null,null,null,2,null,null,null,null,null,null,null,null,null,null,null,null,null,3,null,null,2,4,null,null,null,null,null,null,null,null,null,4]
[null,null,null,null,null,null,null,null,null,null,null,null,null,null,null,null,null,null,null,null,null,null,null,null,null,null,null,null,null,null,null,null,null,null,null,null,null,null,null,null,null,null,null,null,null,null,null,null,null,null,null,null,null,null,null,null,null,null,null,null,null,null,null,null,null,null,null,null,null,"Voie de la technologie 6",null,null,null,"Pièces détachées",null,"Obtient du matériel",null,null,null,null,null,null,null,null,null,null,null,null,null,null,null,null,null,null,null,null,null,null,null,null,1,null,null,null,null,null,null,null,null,null,null,6]
[null,null,null,null,null,null,null,null,null,null,null,null,null,null,null,null,null,null,null,null,null,null,null,null,null,null,null,null,null,null,null,null,null,null,null,null,null,null,null,null,null,null,null,null,null,null,null,null,null,null,null,null,null,null,null,null,null,null,null,null,null,null,null,null,null,null,null,null,null,"Voie de la technologie 8",null,null,null,"Nouveau filon",null,"A découvert un nouveau filon"]
[null,null,null,null,null,null,null,null,null,null,null,null,null,null,null,null,null,null,null,null,null,null,null,null,null,null,null,null,null,null,null,null,null,null,null,null,null,null,null,null,null,null,null,null,null,null,null,null,null,null,null,null,null,null,null,null,null,null,null,null,null,null,null,null,null,null,null,null,null,"Voie de la nature et de l'artisanat 3",null,null,null,"Amazonia",null,"A été contacté par des représentants d'Amazonia",null,null,null,null,0.2,null,null,null,null,null,null,null,null,null,null,null,null,1,null,null,null,4,null,6]
[null,null,null,null,null,null,null,null,null,null,null,null,null,null,null,null,null,null,null,null,null,null,null,null,null,null,null,null,null,null,null,null,null,null,null,null,null,null,null,null,null,null,null,null,null,null,null,null,null,null,null,null,null,null,null,null,null,null,null,null,null,null,null,null,null,null,null,null,null,"Voie de la nature et de l'artisanat 7",null,null,null,"Réserve",null,"A une réserve de drogues, poisons, médicaments…",null,null,null,null,null,null,null,null,null,null,null,null,null,null,null,null,null,null,null,null,null,null,null,null,null,null,null,null,null,null,null,null,null,null,null,null,null,10]
[null,null,null,null,null,null,null,null,null,null,null,null,null,null,null,null,null,null,null,null,null,null,null,null,null,null,null,null,null,null,null,null,null,null,null,null,null,null,null,null,null,null,null,null,null,null,null,null,null,null,null,null,null,null,null,null,null,null,null,null,null,null,null,null,null,null,null,null,null,"Prêtre/Prêtresse du Corail 1",null,null,null,"Attribut augmenté",null,".",null,null,null,null,null,null,null,null,null,null,null,null,null,null,1]
[null,null,null,null,null,null,null,null,null,null,null,null,null,null,null,null,null,null,null,null,null,null,null,null,null,null,null,null,null,null,null,null,null,null,null,null,null,null,null,null,null,null,null,null,null,null,null,null,null,null,null,null,null,null,null,null,null,null,null,null,null,null,null,null,null,null,null,null,null,"Prêtre/Prêtresse du Corail 2",null,null,null,"Prestation",null,"Travail particulièrement remarqué",null,null,null,null,null,null,null,2,null,null,null,null,null,null,null,null,null,null,null,null,null,2]
[null,null,null,null,null,null,null,null,null,null,null,null,null,null,null,null,null,null,null,null,null,null,null,null,null,null,null,null,null,null,null,null,null,null,null,null,null,null,null,null,null,null,null,null,null,null,null,null,null,null,null,null,null,null,null,null,null,null,null,null,null,null,null,null,null,null,null,null,null,"Prêtre/Prêtresse du Corail 5",null,null,null,"Discipline",null,".",null,null,null,null,null,null,null,null,null,null,null,null,null,null,null,null,null,null,null,null,null,null,null,null,null,null,null,null,null,null,null,null,null,null,null,null,null,null,null,null,null,null,null,null,null,null,null,null,null,null,null,null,null,null,null,null,null,null,null,1]
[null,null,null,null,null,null,null,null,null,null,null,null,null,null,null,null,null,null,null,null,null,null,null,null,null,null,null,null,null,null,null,null,null,null,null,null,null,null,null,null,null,null,null,null,null,null,null,null,null,null,null,null,null,null,null,null,null,null,null,null,null,null,null,null,null,null,null,null,null,"Prêtre/Prêtresse du Corail 9",null,null,null,"Récompense",null,"Excellent travail récompensé par ses supérieurs",null,null,null,null,null,null,null,2,null,null,null,null,null,null,null,null,null,null,null,null,null,null,null,null,null,null,null,null,null,null,null,null,null,null,null,4]
[null,null,null,null,null,null,null,null,null,null,null,null,null,null,null,null,null,null,null,null,null,null,null,null,null,null,null,null,null,null,null,null,null,null,null,null,null,null,null,null,null,null,null,null,null,null,null,null,null,null,null,null,null,null,null,null,null,null,null,null,null,null,null,null,null,null,null,null,null,"Empathe adjoint aux patrouilles de sécurité 2",null,null,null,"Prestation",null,"Travail particulièrement remarqué",null,null,null,null,null,null,null,2,null,null,null,null,null,null,null,null,null,null,null,null,null,2]
[null,null,null,null,null,null,null,null,null,null,null,null,null,null,null,null,null,null,null,null,null,null,null,null,null,null,null,null,null,null,null,null,null,null,null,null,null,null,null,null,null,null,null,null,null,null,null,null,null,null,null,null,null,null,null,null,null,null,null,null,null,null,null,null,null,null,null,null,null,"Empathe adjoint aux patrouilles de sécurité 5",null,null,null,"Discipline",null,".",null,null,null,null,null,null,null,null,null,null,null,null,null,null,null,null,null,null,null,null,null,null,null,null,null,null,null,null,null,null,null,null,null,null,null,null,null,null,null,null,null,null,null,null,null,null,null,null,null,null,null,null,null,null,null,null,null,null,null,1]
[null,null,null,null,null,null,null,null,null,null,null,null,null,null,null,null,null,null,null,null,null,null,null,null,null,null,null,null,null,null,null,null,null,null,null,null,null,null,null,null,null,null,null,null,null,null,null,null,null,null,null,null,null,null,null,null,null,null,null,null,null,null,null,null,null,null,null,null,null,"Empathe adjoint aux patrouilles de sécurité 7",null,null,null,"Réseau d'informateurs en RC",null,"Bénéficie d'aide d'informateurs dans une grande ville de la république",null,null,null,null,null,null,null,null,null,null,null,null,null,null,null,null,null,null,null,null,null,null,6]
[null,null,null,null,null,null,null,null,null,null,null,null,null,null,null,null,null,null,null,null,null,null,null,null,null,null,null,null,null,null,null,null,null,null,null,null,null,null,null,null,null,null,null,null,null,null,null,null,null,null,null,null,null,null,null,null,null,null,null,null,null,null,null,null,null,null,null,null,null,"Empathe courtisane 2",null,null,null,"Prestation",null,"Travail particulièrement remarqué",null,null,null,null,null,null,null,2,null,null,null,null,null,null,null,null,null,null,null,null,null,2]
[null,null,null,null,null,null,null,null,null,null,null,null,null,null,null,null,null,null,null,null,null,null,null,null,null,null,null,null,null,null,null,null,null,null,null,null,null,null,null,null,null,null,null,null,null,null,null,null,null,null,null,null,null,null,null,null,null,null,null,null,null,null,null,null,null,null,null,null,null,"Empathe courtisane 5",null,null,null,"Discipline",null,".",null,null,null,null,null,null,null,null,null,null,null,null,null,null,null,null,null,null,null,null,null,null,null,null,null,null,null,null,null,null,null,null,null,null,null,null,null,null,null,null,null,null,null,null,null,null,null,null,null,null,null,null,null,null,null,null,null,null,null,1]
[null,null,null,null,null,null,null,null,null,null,null,null,null,null,null,null,null,null,null,null,null,null,null,null,null,null,null,null,null,null,null,null,null,null,null,null,null,null,null,null,null,null,null,null,null,null,null,null,null,null,null,null,null,null,null,null,null,null,null,null,null,null,null,null,null,null,null,null,null,"Empathe courtisane 6",null,null,null,"Empathe rebelle",null,"(A) Recruté par les empathes rebelles",null,null,null,null,1,null,null,null,null,null,null,null,null,null,null,null,null,null,null,null,null,null,null,null,null,null,null,null,null,null,null,null,null,null,null,4,null,null,null,null,null,null,null,null,1]
[null,null,null,null,null,null,null,null,null,null,null,null,null,null,null,null,null,null,null,null,null,null,null,null,null,null,null,null,null,null,null,null,null,null,null,null,null,null,null,null,null,null,null,null,null,null,null,null,null,null,null,null,null,null,null,null,null,null,null,null,null,null,null,null,null,null,null,null,null,"Empathe courtisane 9",null,null,null,"Récompense",null,"Excellent travail récompensé par ses supérieurs",null,null,null,null,null,null,null,2,null,null,null,null,null,null,null,null,null,null,null,null,null,null,null,null,null,null,null,null,null,null,null,null,null,null,null,4]
[null,null,null,null,null,null,null,null,null,null,null,null,null,null,null,null,null,null,null,null,null,null,null,null,null,null,null,null,null,null,null,null,null,null,null,null,null,null,null,null,null,null,null,null,null,null,null,null,null,null,null,null,null,null,null,null,null,null,null,null,null,null,null,null,null,null,null,null,null,"Empathe administratif 2",null,null,null,"Prestation",null,"Travail particulièrement remarqué",null,null,null,null,null,null,null,2,null,null,null,null,null,null,null,null,null,null,null,null,null,2]
[null,null,null,null,null,null,null,null,null,null,null,null,null,null,null,null,null,null,null,null,null,null,null,null,null,null,null,null,null,null,null,null,null,null,null,null,null,null,null,null,null,null,null,null,null,null,null,null,null,null,null,null,null,null,null,null,null,null,null,null,null,null,null,null,null,null,null,null,null,"Empathe administratif 7",null,null,null,"Réseau d'informateurs en RC",null,"Bénéficie d'aide d'informateurs dans une grande ville de la république",null,null,null,null,null,null,null,null,null,null,null,null,null,null,null,null,null,null,null,null,null,null,6]
[null,null,null,null,null,null,null,null,null,null,null,null,null,null,null,null,null,null,null,null,null,null,null,null,null,null,null,null,null,null,null,null,null,null,null,null,null,null,null,null,null,null,null,null,null,null,null,null,null,null,null,null,null,null,null,null,null,null,null,null,null,null,null,null,null,null,null,null,null,"Empathe administratif 9",null,null,null,"Récompense",null,"Excellent travail récompensé par ses supérieurs",null,null,null,null,null,null,null,2,null,null,null,null,null,null,null,null,null,null,null,null,null,null,null,null,null,null,null,null,null,null,null,null,null,null,null,4]
[null,null,null,null,null,null,null,null,null,null,null,null,null,null,null,null,null,null,null,null,null,null,null,null,null,null,null,null,null,null,null,null,null,null,null,null,null,null,null,null,null,null,null,null,null,null,null,null,null,null,null,null,null,null,null,null,null,null,null,null,null,null,null,null,null,null,null,null,null,"Empathe médecin 3",null,null,null,"Empathie",null,".",null,null,null,null,null,null,null,null,null,null,null,null,null,null,null,null,null,null,null,null,null,null,null,null,null,null,null,null,null,null,null,null,null,null,null,null,null,null,null,null,null,null,null,null,null,null,null,null,null,null,null,null,null,null,null,null,null,null,1]
[null,null,null,null,null,null,null,null,null,null,null,null,null,null,null,null,null,null,null,null,null,null,null,null,null,null,null,null,null,null,null,null,null,null,null,null,null,null,null,null,null,null,null,null,null,null,null,null,null,null,null,null,null,null,null,null,null,null,null,null,null,null,null,null,null,null,null,null,null,"Empathe médecin 6",null,null,null,"Empathe rebelle",null,"(A) Recruté par les empathes rebelles",null,null,null,null,1,null,null,null,null,null,null,null,null,null,null,null,null,null,null,null,null,null,null,null,null,null,null,null,null,null,null,null,null,null,null,4,null,null,null,null,null,null,null,null,1]
[null,null,null,null,null,null,null,null,null,null,null,null,null,null,null,null,null,null,null,null,null,null,null,null,null,null,null,null,null,null,null,null,null,null,null,null,null,null,null,null,null,null,null,null,null,null,null,null,null,null,null,null,null,null,null,null,null,null,null,null,null,null,null,null,null,null,null,null,null,"Empathe médecin 9",null,null,null,"Récompense",null,"Excellent travail récompensé par ses supérieurs",null,null,null,null,null,null,null,2,null,null,null,null,null,null,null,null,null,null,null,null,null,null,null,null,null,null,null,null,null,null,null,null,null,null,null,4]
[null,null,null,null,null,null,null,null,null,null,null,null,null,null,null,null,null,null,null,null,null,null,null,null,null,null,null,null,null,null,null,null,null,null,null,null,null,null,null,null,null,null,null,null,null,null,null,null,null,null,null,null,null,null,null,null,null,null,null,null,null,null,null,null,null,null,null,null,null,"Empathe médecin 10",null,null,null,"Au choix ou 7 Pts Av."]
[null,null,null,null,null,null,null,null,null,null,null,null,null,null,null,null,null,null,null,null,null,null,null,null,null,null,null,null,null,null,null,null,null,null,null,null,null,null,null,null,null,null,null,null,null,null,null,null,null,null,null,null,null,null,null,null,null,null,null,null,null,null,null,null,null,null,null,null,null,"Empathe combattante 4",null,null,null,"Implant",null,"Acquiert un implant de corail (sauf Noir et Iséristis)"]
[null,null,null,null,null,null,null,null,null,null,null,null,null,null,null,null,null,null,null,null,null,null,null,null,null,null,null,null,null,null,null,null,null,null,null,null,null,null,null,null,null,null,null,null,null,null,null,null,null,null,null,null,null,null,null,null,null,null,null,null,null,null,null,null,null,null,null,null,null,"Empathe combattante 6 Refus",null,null,null,"Empathe rebelle",null,"(R) Gagne confiance de ses supérieurs",null,null,null,1,null,null,null,null,null,null,null,null,null,null,null,null,null,1,null,null,1,null,2,null,null,null,null,null,2,null,null,null,null,null,null,null,null,null,null,null,null,null,null,null,1]
[null,null,null,null,null,null,null,null,null,null,null,null,null,null,null,null,null,null,null,null,null,null,null,null,null,null,null,null,null,null,null,null,null,null,null,null,null,null,null,null,null,null,null,null,null,null,null,null,null,null,null,null,null,null,null,null,null,null,null,null,null,null,null,null,null,null,null,null,null,"Empathe combattante 10",null,null,null,"Au choix ou 7 Pts Av."]
[null,null,null,null,null,null,null,null,null,null,null,null,null,null,null,null,null,null,null,null,null,null,null,null,null,null,null,null,null,null,null,null,null,null,null,null,null,null,null,null,null,null,null,null,null,null,null,null,null,null,null,null,null,null,null,null,null,null,null,null,null,null,null,null,null,null,null,null,null,"Travailleur hybride indépendant 2",null,null,null,"Prestation",null,"Travail particulièrement remarqué",null,null,null,null,null,null,null,2,null,null,null,null,null,null,null,null,null,null,null,null,null,2,null,null,null,null,null,null,null,null,null,null,null,null,null,null,1]
[null,null,null,null,null,null,null,null,null,null,null,null,null,null,null,null,null,null,null,null,null,null,null,null,null,null,null,null,null,null,null,null,null,null,null,null,null,null,null,null,null,null,null,null,null,null,null,null,null,null,null,null,null,null,null,null,null,null,null,null,null,null,null,null,null,null,null,null,null,"Travailleur hybride indépendant 8",null,null,null,"Association",null,"S'est associé à un cultivateur ou mécanicien",null,null,null,null,0.1,null,null,null,null,null,null,null,null,null,null,null,null,1,null,null,null,null,2]
[null,null,null,null,null,null,null,null,null,null,null,null,null,null,null,null,null,null,null,null,null,null,null,null,null,null,null,null,null,null,null,null,null,null,null,null,null,null,null,null,null,null,null,null,null,null,null,null,null,null,null,null,null,null,null,null,null,null,null,null,null,null,null,null,null,null,null,null,null,"Profession 14 1"]
[null,null,null,null,null,null,null,null,null,null,null,null,null,null,null,null,null,null,null,null,null,null,null,null,null,null,null,null,null,null,null,null,null,null,null,null,null,null,null,null,null,null,null,null,null,null,null,null,null,null,null,null,null,null,null,null,null,null,null,null,null,null,null,null,null,null,null,null,null,"Profession 14 5"]
[null,null,null,null,null,null,null,null,null,null,null,null,null,null,null,null,null,null,null,null,null,null,null,null,null,null,null,null,null,null,null,null,null,null,null,null,null,null,null,null,null,null,null,null,null,null,null,null,null,null,null,null,null,null,null,null,null,null,null,null,null,null,null,null,null,null,null,null,null,"Profession 14 6"]
[null,null,null,null,null,null,null,null,null,null,null,null,null,null,null,null,null,null,null,null,null,null,null,null,null,null,null,null,null,null,null,null,null,null,null,null,null,null,null,null,null,null,null,null,null,null,null,null,null,null,null,null,null,null,null,null,null,null,null,null,null,null,null,null,null,null,null,null,null,"Profession 14 10"]
[null,null,null,null,null,null,null,null,null,null,null,null,null,null,null,null,null,null,null,null,null,null,null,null,null,null,null,null,null,null,null,null,null,null,null,null,null,null,null,null,null,null,null,null,null,null,null,null,null,null,null,null,null,null,null,null,null,null,null,null,null,null,null,null,null,null,null,null,null,"Profession 15 3"]
[null,null,null,null,null,null,null,null,null,null,null,null,null,null,null,null,null,null,null,null,null,null,null,null,null,null,null,null,null,null,null,null,null,null,null,null,null,null,null,null,null,null,null,null,null,null,null,null,null,null,null,null,null,null,null,null,null,null,null,null,null,null,null,null,null,null,null,null,null,"Profession 15 7"]
[null,null,null,null,null,null,null,null,null,null,null,null,null,null,null,null,null,null,null,null,null,null,null,null,null,null,null,null,null,null,null,null,null,null,null,null,null,null,null,null,null,null,null,null,null,null,null,null,null,null,null,null,null,null,null,null,null,null,null,null,null,null,null,null,null,null,null,null,null,"Profession 15 9"]
[null,null,null,null,null,null,null,null,null,null,null,null,null,null,null,null,null,null,null,null,null,null,null,null,null,null,null,null,null,null,null,null,null,null,null,null,null,null,null,null,null,null,null,null,null,null,null,null,null,null,null,null,null,null,null,null,null,null,null,null,null,null,null,null,null,null,null,null,null,"Profession 16 5"]
[null,null,null,null,null,null,null,null,null,null,null,null,null,null,null,null,null,null,null,null,null,null,null,null,null,null,null,null,null,null,null,null,null,null,null,null,null,null,null,null,null,null,null,null,null,null,null,null,null,null,null,null,null,null,null,null,null,null,null,null,null,null,null,null,null,null,null,null,null,"Profession 16 8"]
[null,null,null,null,null,null,null,null,null,null,null,null,null,null,null,null,null,null,null,null,null,null,null,null,null,null,null,null,null,null,null,null,null,null,null,null,null,null,null,null,null,null,null,null,null,null,null,null,null,null,null,null,null,null,null,null,null,null,null,null,null,null,null,null,null,null,null,null,null,"Profession 17 2"]
[null,null,null,null,null,null,null,null,null,null,null,null,null,null,null,null,null,null,null,null,null,null,null,null,null,null,null,null,null,null,null,null,null,null,null,null,null,null,null,null,null,null,null,null,null,null,null,null,null,null,null,null,null,null,null,null,null,null,null,null,null,null,null,null,null,null,null,null,null,"Profession 17 3"]
[null,null,null,null,null,null,null,null,null,null,null,null,null,null,null,null,null,null,null,null,null,null,null,null,null,null,null,null,null,null,null,null,null,null,null,null,null,null,null,null,null,null,null,null,null,null,null,null,null,null,null,null,null,null,null,null,null,null,null,null,null,null,null,null,null,null,null,null,null,"Profession 17 6"]
[null,null,null,null,null,null,null,null,null,null,null,null,null,null,null,null,null,null,null,null,null,null,null,null,null,null,null,null,null,null,null,null,null,null,null,null,null,null,null,null,null,null,null,null,null,null,null,null,null,null,null,null,null,null,null,null,null,null,null,null,null,null,null,null,null,null,null,null,null,"Profession 18 1"]
[null,null,null,null,null,null,null,null,null,null,null,null,null,null,null,null,null,null,null,null,null,null,null,null,null,null,null,null,null,null,null,null,null,null,null,null,null,null,null,null,null,null,null,null,null,null,null,null,null,null,null,null,null,null,null,null,null,null,null,null,null,null,null,null,null,null,null,null,null,"Profession 18 4"]
[null,null,null,null,null,null,null,null,null,null,null,null,null,null,null,null,null,null,null,null,null,null,null,null,null,null,null,null,null,null,null,null,null,null,null,null,null,null,null,null,null,null,null,null,null,null,null,null,null,null,null,null,null,null,null,null,null,null,null,null,null,null,null,null,null,null,null,null,null,"Profession 18 7"]
[null,null,null,null,null,null,null,null,null,null,null,null,null,null,null,null,null,null,null,null,null,null,null,null,null,null,null,null,null,null,null,null,null,null,null,null,null,null,null,null,null,null,null,null,null,null,null,null,null,null,null,null,null,null,null,null,null,null,null,null,null,null,null,null,null,null,null,null,null,"Profession 18 10"]
[null,null,null,null,null,null,null,null,null,null,null,null,null,null,null,null,null,null,null,null,null,null,null,null,null,null,null,null,null,null,null,null,null,null,null,null,null,null,null,null,null,null,null,null,null,null,null,null,null,null,null,null,null,null,null,null,null,null,null,null,null,null,null,null,null,null,null,null,null,"Profession 19 5"]
[null,null,null,null,null,null,null,null,null,null,null,null,null,null,null,null,null,null,null,null,null,null,null,null,null,null,null,null,null,null,null,null,null,null,null,null,null,null,null,null,null,null,null,null,null,null,null,null,null,null,null,null,null,null,null,null,null,null,null,null,null,null,null,null,null,null,null,null,null,"Profession 19 8"]
[null,null,null,null,null,null,null,null,null,null,null,null,null,null,null,null,null,null,null,null,null,null,null,null,null,null,null,null,null,null,null,null,null,null,null,null,null,null,null,null,null,null,null,null,null,null,null,null,null,null,null,null,null,null,null,null,null,null,null,null,null,null,null,null,null,null,null,null,null,"Profession 19 9"]
[null,null,null,null,null,null,null,null,null,null,null,null,null,null,null,null,null,null,null,null,null,null,null,null,null,null,null,null,null,null,null,null,null,null,null,null,null,null,null,null,null,null,null,null,null,null,null,null,null,null,null,null,null,null,null,null,null,null,null,null,null,null,null,null,null,null,null,null,null,"Profession 20 3"]
[null,null,null,null,null,null,null,null,null,null,null,null,null,null,null,null,null,null,null,null,null,null,null,null,null,null,null,null,null,null,null,null,null,null,null,null,null,null,null,null,null,null,null,null,null,null,null,null,null,null,null,null,null,null,null,null,null,null,null,null,null,null,null,null,null,null,null,null,null,"Profession 20 7"]
[null,null,null,null,null,null,null,null,null,null,null,null,null,null,null,null,null,null,null,null,null,null,null,null,null,null,null,null,null,null,null,null,null,null,null,null,null,null,null,null,null,null,null,null,null,null,null,null,null,null,null,null,null,null,null,null,null,null,null,null,null,null,null,null,null,null,null,null,null,"Profession 21 2"]
[null,null,null,null,null,null,null,null,null,null,null,null,null,null,null,null,null,null,null,null,null,null,null,null,null,null,null,null,null,null,null,null,null,null,null,null,null,null,null,null,null,null,null,null,null,null,null,null,null,null,null,null,null,null,null,null,null,null,null,null,null,null,null,null,null,null,null,null,null,"Profession 21 4"]
[null,null,null,null,null,null,null,null,null,null,null,null,null,null,null,null,null,null,null,null,null,null,null,null,null,null,null,null,null,null,null,null,null,null,null,null,null,null,null,null,null,null,null,null,null,null,null,null,null,null,null,null,null,null,null,null,null,null,null,null,null,null,null,null,null,null,null,null,null,"Profession 21 8"]
[null,null,null,null,null,null,null,null,null,null,null,null,null,null,null,null,null,null,null,null,null,null,null,null,null,null,null,null,null,null,null,null,null,null,null,null,null,null,null,null,null,null,null,null,null,null,null,null,null,null,null,null,null,null,null,null,null,null,null,null,null,null,null,null,null,null,null,null,null,"Profession 22 1"]
[null,null,null,null,null,null,null,null,null,null,null,null,null,null,null,null,null,null,null,null,null,null,null,null,null,null,null,null,null,null,null,null,null,null,null,null,null,null,null,null,null,null,null,null,null,null,null,null,null,null,null,null,null,null,null,null,null,null,null,null,null,null,null,null,null,null,null,null,null,"Profession 22 5"]
[null,null,null,null,null,null,null,null,null,null,null,null,null,null,null,null,null,null,null,null,null,null,null,null,null,null,null,null,null,null,null,null,null,null,null,null,null,null,null,null,null,null,null,null,null,null,null,null,null,null,null,null,null,null,null,null,null,null,null,null,null,null,null,null,null,null,null,null,null,"Profession 22 6"]
[null,null,null,null,null,null,null,null,null,null,null,null,null,null,null,null,null,null,null,null,null,null,null,null,null,null,null,null,null,null,null,null,null,null,null,null,null,null,null,null,null,null,null,null,null,null,null,null,null,null,null,null,null,null,null,null,null,null,null,null,null,null,null,null,null,null,null,null,null,"Profession 22 10"]
[null,null,null,null,null,null,null,null,null,null,null,null,null,null,null,null,null,null,null,null,null,null,null,null,null,null,null,null,null,null,null,null,null,null,null,null,null,null,null,null,null,null,null,null,null,null,null,null,null,null,null,null,null,null,null,null,null,null,null,null,null,null,null,null,null,null,null,null,null,"Profession 23 4"]
[null,null,null,null,null,null,null,null,null,null,null,null,null,null,null,null,null,null,null,null,null,null,null,null,null,null,null,null,null,null,null,null,null,null,null,null,null,null,null,null,null,null,null,null,null,null,null,null,null,null,null,null,null,null,null,null,null,null,null,null,null,null,null,null,null,null,null,null,null,"Profession 23 7"]
[null,null,null,null,null,null,null,null,null,null,null,null,null,null,null,null,null,null,null,null,null,null,null,null,null,null,null,null,null,null,null,null,null,null,null,null,null,null,null,null,null,null,null,null,null,null,null,null,null,null,null,null,null,null,null,null,null,null,null,null,null,null,null,null,null,null,null,null,null,"Profession 23 9"]
[null,null,null,null,null,null,null,null,null,null,null,null,null,null,null,null,null,null,null,null,null,null,null,null,null,null,null,null,null,null,null,null,null,null,null,null,null,null,null,null,null,null,null,null,null,null,null,null,null,null,null,null,null,null,null,null,null,null,null,null,null,null,null,null,null,null,null,null,null,"Profession 24 5"]
[null,null,null,null,null,null,null,null,null,null,null,null,null,null,null,null,null,null,null,null,null,null,null,null,null,null,null,null,null,null,null,null,null,null,null,null,null,null,null,null,null,null,null,null,null,null,null,null,null,null,null,null,null,null,null,null,null,null,null,null,null,null,null,null,null,null,null,null,null,"Profession 24 8"]
[null,null,null,null,null,null,null,null,null,null,null,null,null,null,null,null,null,null,null,null,null,null,null,null,null,null,null,null,null,null,null,null,null,null,null,null,null,null,null,null,null,null,null,null,null,null,null,null,null,null,null,null,null,null,null,null,null,null,null,null,null,null,null,null,null,null,null,null,null,"Profession 25 2"]
[null,null,null,null,null,null,null,null,null,null,null,null,null,null,null,null,null,null,null,null,null,null,null,null,null,null,null,null,null,null,null,null,null,null,null,null,null,null,null,null,null,null,null,null,null,null,null,null,null,null,null,null,null,null,null,null,null,null,null,null,null,null,null,null,null,null,null,null,null,"Profession 25 3"]
[null,null,null,null,null,null,null,null,null,null,null,null,null,null,null,null,null,null,null,null,null,null,null,null,null,null,null,null,null,null,null,null,null,null,null,null,null,null,null,null,null,null,null,null,null,null,null,null,null,null,null,null,null,null,null,null,null,null,null,null,null,null,null,null,null,null,null,null,null,"Profession 25 7"]
[null,null,null,null,null,null,null,null,null,null,null,null,null,null,null,null,null,null,null,null,null,null,null,null,null,null,null,null,null,null,null,null,null,null,null,null,null,null,null,null,null,null,null,null,null,null,null,null,null,null,null,null,null,null,null,null,null,null,null,null,null,null,null,null,null,null,null,null,null,"Profession 26 1"]
[null,null,null,null,null,null,null,null,null,null,null,null,null,null,null,null,null,null,null,null,null,null,null,null,null,null,null,null,null,null,null,null,null,null,null,null,null,null,null,null,null,null,null,null,null,null,null,null,null,null,null,null,null,null,null,null,null,null,null,null,null,null,null,null,null,null,null,null,null,"Profession 26 4"]
[null,null,null,null,null,null,null,null,null,null,null,null,null,null,null,null,null,null,null,null,null,null,null,null,null,null,null,null,null,null,null,null,null,null,null,null,null,null,null,null,null,null,null,null,null,null,null,null,null,null,null,null,null,null,null,null,null,null,null,null,null,null,null,null,null,null,null,null,null,"Profession 26 6"]
[null,null,null,null,null,null,null,null,null,null,null,null,null,null,null,null,null,null,null,null,null,null,null,null,null,null,null,null,null,null,null,null,null,null,null,null,null,null,null,null,null,null,null,null,null,null,null,null,null,null,null,null,null,null,null,null,null,null,null,null,null,null,null,null,null,null,null,null,null,"Profession 27 2"]
[null,null,null,null,null,null,null,null,null,null,null,null,null,null,null,null,null,null,null,null,null,null,null,null,null,null,null,null,null,null,null,null,null,null,null,null,null,null,null,null,null,null,null,null,null,null,null,null,null,null,null,null,null,null,null,null,null,null,null,null,null,null,null,null,null,null,null,null,null,"Profession 27 5"]
[null,null,null,null,null,null,null,null,null,null,null,null,null,null,null,null,null,null,null,null,null,null,null,null,null,null,null,null,null,null,null,null,null,null,null,null,null,null,null,null,null,null,null,null,null,null,null,null,null,null,null,null,null,null,null,null,null,null,null,null,null,null,null,null,null,null,null,null,null,"Profession 27 9"]
[null,null,null,null,null,null,null,null,null,null,null,null,null,null,null,null,null,null,null,null,null,null,null,null,null,null,null,null,null,null,null,null,null,null,null,null,null,null,null,null,null,null,null,null,null,null,null,null,null,null,null,null,null,null,null,null,null,null,null,null,null,null,null,null,null,null,null,null,null,"Profession 27 10"]
[null,null,null,null,null,null,null,null,null,null,null,null,null,null,null,null,null,null,null,null,null,null,null,null,null,null,null,null,null,null,null,null,null,null,null,null,null,null,null,null,null,null,null,null,null,null,null,null,null,null,null,null,null,null,null,null,null,null,null,null,null,null,null,null,null,null,null,null,null,"Profession 28 3"]
[null,null,null,null,null,null,null,null,null,null,null,null,null,null,null,null,null,null,null,null,null,null,null,null,null,null,null,null,null,null,null,null,null,null,null,null,null,null,null,null,null,null,null,null,null,null,null,null,null,null,null,null,null,null,null,null,null,null,null,null,null,null,null,null,null,null,null,null,null,"Profession 28 8"]
[null,null,null,null,null,null,null,null,null,null,null,null,null,null,null,null,null,null,null,null,null,null,null,null,null,null,null,null,null,null,null,null,null,null,null,null,null,null,null,null,null,null,null,null,null,null,null,null,null,null,null,null,null,null,null,null,null,null,null,null,null,null,null,null,null,null,null,null,null,"Profession 29 1"]
[null,null,null,null,null,null,null,null,null,null,null,null,null,null,null,null,null,null,null,null,null,null,null,null,null,null,null,null,null,null,null,null,null,null,null,null,null,null,null,null,null,null,null,null,null,null,null,null,null,null,null,null,null,null,null,null,null,null,null,null,null,null,null,null,null,null,null,null,null,"Profession 29 5"]
[null,null,null,null,null,null,null,null,null,null,null,null,null,null,null,null,null,null,null,null,null,null,null,null,null,null,null,null,null,null,null,null,null,null,null,null,null,null,null,null,null,null,null,null,null,null,null,null,null,null,null,null,null,null,null,null,null,null,null,null,null,null,null,null,null,null,null,null,null,"Profession 29 7"]
[null,null,null,null,null,null,null,null,null,null,null,null,null,null,null,null,null,null,null,null,null,null,null,null,null,null,null,null,null,null,null,null,null,null,null,null,null,null,null,null,null,null,null,null,null,null,null,null,null,null,null,null,null,null,null,null,null,null,null,null,null,null,null,null,null,null,null,null,null,"Profession 30 2"]
[null,null,null,null,null,null,null,null,null,null,null,null,null,null,null,null,null,null,null,null,null,null,null,null,null,null,null,null,null,null,null,null,null,null,null,null,null,null,null,null,null,null,null,null,null,null,null,null,null,null,null,null,null,null,null,null,null,null,null,null,null,null,null,null,null,null,null,null,null,"Profession 30 3"]
[null,null,null,null,null,null,null,null,null,null,null,null,null,null,null,null,null,null,null,null,null,null,null,null,null,null,null,null,null,null,null,null,null,null,null,null,null,null,null,null,null,null,null,null,null,null,null,null,null,null,null,null,null,null,null,null,null,null,null,null,null,null,null,null,null,null,null,null,null,"Profession 30 6"]
[null,null,null,null,null,null,null,null,null,null,null,null,null,null,null,null,null,null,null,null,null,null,null,null,null,null,null,null,null,null,null,null,null,null,null,null,null,null,null,null,null,null,null,null,null,null,null,null,null,null,null,null,null,null,null,null,null,null,null,null,null,null,null,null,null,null,null,null,null,"Profession 30 10"]
[null,null,null,null,null,null,null,null,null,null,null,null,null,null,null,null,null,null,null,null,null,null,null,null,null,null,null,null,null,null,null,null,null,null,null,null,null,null,null,null,null,null,null,null,null,null,null,null,null,null,null,null,null,null,null,null,null,null,null,null,null,null,null,null,null,null,null,null,null,"Profession 31 4"]
[null,null,null,null,null,null,null,null,null,null,null,null,null,null,null,null,null,null,null,null,null,null,null,null,null,null,null,null,null,null,null,null,null,null,null,null,null,null,null,null,null,null,null,null,null,null,null,null,null,null,null,null,null,null,null,null,null,null,null,null,null,null,null,null,null,null,null,null,null,"Profession 31 9"]
[null,null,null,null,null,null,null,null,null,null,null,null,null,null,null,null,null,null,null,null,null,null,null,null,null,null,null,null,null,null,null,null,null,null,null,null,null,null,null,null,null,null,null,null,null,null,null,null,null,null,null,null,null,null,null,null,null,null,null,null,null,null,null,null,null,null,null,null,null,"Profession 32 2"]
[null,null,null,null,null,null,null,null,null,null,null,null,null,null,null,null,null,null,null,null,null,null,null,null,null,null,null,null,null,null,null,null,null,null,null,null,null,null,null,null,null,null,null,null,null,null,null,null,null,null,null,null,null,null,null,null,null,null,null,null,null,null,null,null,null,null,null,null,null,"Profession 32 5"]
[null,null,null,null,null,null,null,null,null,null,null,null,null,null,null,null,null,null,null,null,null,null,null,null,null,null,null,null,null,null,null,null,null,null,null,null,null,null,null,null,null,null,null,null,null,null,null,null,null,null,null,null,null,null,null,null,null,null,null,null,null,null,null,null,null,null,null,null,null,"Profession 32 8"]
[null,null,null,null,null,null,null,null,null,null,null,null,null,null,null,null,null,null,null,null,null,null,null,null,null,null,null,null,null,null,null,null,null,null,null,null,null,null,null,null,null,null,null,null,null,null,null,null,null,null,null,null,null,null,null,null,null,null,null,null,null,null,null,null,null,null,null,null,null,"Profession 32 10"]
[null,null,null,null,null,null,null,null,null,null,null,null,null,null,null,null,null,null,null,null,null,null,null,null,null,null,null,null,null,null,null,null,null,null,null,null,null,null,null,null,null,null,null,null,null,null,null,null,null,null,null,null,null,null,null,null,null,null,null,null,null,null,null,null,null,null,null,null,null,"Profession 33 3"]
[null,null,null,null,null,null,null,null,null,null,null,null,null,null,null,null,null,null,null,null,null,null,null,null,null,null,null,null,null,null,null,null,null,null,null,null,null,null,null,null,null,null,null,null,null,null,null,null,null,null,null,null,null,null,null,null,null,null,null,null,null,null,null,null,null,null,null,null,null,"Profession 33 7"]
[null,null,null,null,null,null,null,null,null,null,null,null,null,null,null,null,null,null,null,null,null,null,null,null,null,null,null,null,null,null,null,null,null,null,null,null,null,null,null,null,null,null,null,null,null,null,null,null,null,null,null,null,null,null,null,null,null,null,null,null,null,null,null,null,null,null,null,null,null,"Profession 34 1"]
[null,null,null,null,null,null,null,null,null,null,null,null,null,null,null,null,null,null,null,null,null,null,null,null,null,null,null,null,null,null,null,null,null,null,null,null,null,null,null,null,null,null,null,null,null,null,null,null,null,null,null,null,null,null,null,null,null,null,null,null,null,null,null,null,null,null,null,null,null,"Profession 34 4"]
[null,null,null,null,null,null,null,null,null,null,null,null,null,null,null,null,null,null,null,null,null,null,null,null,null,null,null,null,null,null,null,null,null,null,null,null,null,null,null,null,null,null,null,null,null,null,null,null,null,null,null,null,null,null,null,null,null,null,null,null,null,null,null,null,null,null,null,null,null,"Profession 34 6"]
[null,null,null,null,null,null,null,null,null,null,null,null,null,null,null,null,null,null,null,null,null,null,null,null,null,null,null,null,null,null,null,null,null,null,null,null,null,null,null,null,null,null,null,null,null,null,null,null,null,null,null,null,null,null,null,null,null,null,null,null,null,null,null,null,null,null,null,null,null,"Profession 35 2"]
[null,null,null,null,null,null,null,null,null,null,null,null,null,null,null,null,null,null,null,null,null,null,null,null,null,null,null,null,null,null,null,null,null,null,null,null,null,null,null,null,null,null,null,null,null,null,null,null,null,null,null,null,null,null,null,null,null,null,null,null,null,null,null,null,null,null,null,null,null,"Profession 35 5"]
[null,null,null,null,null,null,null,null,null,null,null,null,null,null,null,null,null,null,null,null,null,null,null,null,null,null,null,null,null,null,null,null,null,null,null,null,null,null,null,null,null,null,null,null,null,null,null,null,null,null,null,null,null,null,null,null,null,null,null,null,null,null,null,null,null,null,null,null,null,"Profession 35 9"]
[null,null,null,null,null,null,null,null,null,null,null,null,null,null,null,null,null,null,null,null,null,null,null,null,null,null,null,null,null,null,null,null,null,null,null,null,null,null,null,null,null,null,null,null,null,null,null,null,null,null,null,null,null,null,null,null,null,null,null,null,null,null,null,null,null,null,null,null,null,"Profession 35 10"]
[null,null,null,null,null,null,null,null,null,null,null,null,null,null,null,null,null,null,null,null,null,null,null,null,null,null,null,null,null,null,null,null,null,null,null,null,null,null,null,null,null,null,null,null,null,null,null,null,null,null,null,null,null,null,null,null,null,null,null,null,null,null,null,null,null,null,null,null,null,"Profession 36 4"]
[null,null,null,null,null,null,null,null,null,null,null,null,null,null,null,null,null,null,null,null,null,null,null,null,null,null,null,null,null,null,null,null,null,null,null,null,null,null,null,null,null,null,null,null,null,null,null,null,null,null,null,null,null,null,null,null,null,null,null,null,null,null,null,null,null,null,null,null,null,"Profession 36 8"]
[null,null,null,null,null,null,null,null,null,null,null,null,null,null,null,null,null,null,null,null,null,null,null,null,null,null,null,null,null,null,null,null,null,null,null,null,null,null,null,null,null,null,null,null,null,null,null,null,null,null,null,null,null,null,null,null,null,null,null,null,null,null,null,null,null,null,null,null,null,"Profession 37 1"]
[null,null,null,null,null,null,null,null,null,null,null,null,null,null,null,null,null,null,null,null,null,null,null,null,null,null,null,null,null,null,null,null,null,null,null,null,null,null,null,null,null,null,null,null,null,null,null,null,null,null,null,null,null,null,null,null,null,null,null,null,null,null,null,null,null,null,null,null,null,"Profession 37 3"]
[null,null,null,null,null,null,null,null,null,null,null,null,null,null,null,null,null,null,null,null,null,null,null,null,null,null,null,null,null,null,null,null,null,null,null,null,null,null,null,null,null,null,null,null,null,null,null,null,null,null,null,null,null,null,null,null,null,null,null,null,null,null,null,null,null,null,null,null,null,"Profession 37 9"]
[null,null,null,null,null,null,null,null,null,null,null,null,null,null,null,null,null,null,null,null,null,null,null,null,null,null,null,null,null,null,null,null,null,null,null,null,null,null,null,null,null,null,null,null,null,null,null,null,null,null,null,null,null,null,null,null,null,null,null,null,null,null,null,null,null,null,null,null,null,"Profession 38 2"]
[null,null,null,null,null,null,null,null,null,null,null,null,null,null,null,null,null,null,null,null,null,null,null,null,null,null,null,null,null,null,null,null,null,null,null,null,null,null,null,null,null,null,null,null,null,null,null,null,null,null,null,null,null,null,null,null,null,null,null,null,null,null,null,null,null,null,null,null,null,"Profession 38 6"]
[null,null,null,null,null,null,null,null,null,null,null,null,null,null,null,null,null,null,null,null,null,null,null,null,null,null,null,null,null,null,null,null,null,null,null,null,null,null,null,null,null,null,null,null,null,null,null,null,null,null,null,null,null,null,null,null,null,null,null,null,null,null,null,null,null,null,null,null,null,"Profession 38 7"]
[null,null,null,null,null,null,null,null,null,null,null,null,null,null,null,null,null,null,null,null,null,null,null,null,null,null,null,null,null,null,null,null,null,null,null,null,null,null,null,null,null,null,null,null,null,null,null,null,null,null,null,null,null,null,null,null,null,null,null,null,null,null,null,null,null,null,null,null,null,"Profession 39 1"]
[null,null,null,null,null,null,null,null,null,null,null,null,null,null,null,null,null,null,null,null,null,null,null,null,null,null,null,null,null,null,null,null,null,null,null,null,null,null,null,null,null,null,null,null,null,null,null,null,null,null,null,null,null,null,null,null,null,null,null,null,null,null,null,null,null,null,null,null,null,"Profession 39 5"]
[null,null,null,null,null,null,null,null,null,null,null,null,null,null,null,null,null,null,null,null,null,null,null,null,null,null,null,null,null,null,null,null,null,null,null,null,null,null,null,null,null,null,null,null,null,null,null,null,null,null,null,null,null,null,null,null,null,null,null,null,null,null,null,null,null,null,null,null,null,"Profession 39 8"]
[null,null,null,null,null,null,null,null,null,null,null,null,null,null,null,null,null,null,null,null,null,null,null,null,null,null,null,null,null,null,null,null,null,null,null,null,null,null,null,null,null,null,null,null,null,null,null,null,null,null,null,null,null,null,null,null,null,null,null,null,null,null,null,null,null,null,null,null,null,"Profession 40 2"]
[null,null,null,null,null,null,null,null,null,null,null,null,null,null,null,null,null,null,null,null,null,null,null,null,null,null,null,null,null,null,null,null,null,null,null,null,null,null,null,null,null,null,null,null,null,null,null,null,null,null,null,null,null,null,null,null,null,null,null,null,null,null,null,null,null,null,null,null,null,"Profession 40 4"]
[null,null,null,null,null,null,null,null,null,null,null,null,null,null,null,null,null,null,null,null,null,null,null,null,null,null,null,null,null,null,null,null,null,null,null,null,null,null,null,null,null,null,null,null,null,null,null,null,null,null,null,null,null,null,null,null,null,null,null,null,null,null,null,null,null,null,null,null,null,"Profession 40 9"]
[null,null,null,null,null,null,null,null,null,null,null,null,null,null,null,null,null,null,null,null,null,null,null,null,null,null,null,null,null,null,null,null,null,null,null,null,null,null,null,null,null,null,null,null,null,null,null,null,null,null,null,null,null,null,null,null,null,null,null,null,null,null,null,null,null,null,null,null,null,"Profession 40 10"]
[null,null,null,null,null,null,null,null,null,null,null,null,null,null,null,null,null,null,null,null,null,null,null,null,null,null,null,null,null,null,null,null,null,null,null,null,null,null,null,null,null,null,null,null,null,null,null,null,null,null,null,null,null,null,null,null,null,null,null,null,null,null,null,null,null,null,null,null,null,1,null,null,null,null,null,null,null,null,null,"Bonus salaire","Modif. salaire","Valeur objets","Nvlle comp.","Pts comp.","FOR","CON","COO","ADA","PER","INT","VOL","PRE","Contacts","Alliés","Allié améliorable : Groupe/Gang","Opposants","Ennemis","Célébrité (points)","Relations","Art/Artisanat","Ateliers","Assemblage","Base de données (points)","Bar","Cabine privée (points)","Cabinets médicaux","Concession minières","Corruption/Chantage (points)","Etal/Boutique","Falsification (points)","Fausses identités (points)","Matériel","Parcelles d'élevage/cultures","Pharmacie personnelle (points)","Planque/cache (points)","Réseau de contrebande (points)","Stock de marchandises (points)","Acrobatie/Equilibre","Combat corps à corps","Empathie",null,"Adaptation extérieure","Artefacts (points)","Conscience du Flux (points)","Evolution (points)","Larves de connaissance (points)","Larves de vision (points)","Lien espèce (points)","Murmure du monde (points)","Protection de la surface (points)","Renforcement du lien animal (points)","FOR/CON/ADA/COO","FOR/ADA","ADA/PRE","Empathie","Discipline"]
[null,null,null,null,null,null,null,null,null,null,null,null,null,null,null,null,null,null,null,null,null,null,null,null,null,null,null,null,null,null,null,null,null,null,null,null,null,null,null,null,null,null,null,null,null,null,null,null,null,null,null,null,null,null,null,null,null,null,null,null,null,null,null,null,null,null,null,null,null,6,null,null,"Pas d'avantage aléatoire",null,null,null,null,null,null,0,0,0,0,0,0,0,0,0,0,0,0,0,0,0,0,0,0,0,0,0,0,0,0,0,0,0,0,0,0,0,0,0,0,0,0,0,0,0,0,0,null,0,0,0,0,0,0,0,0,0,0,0,0,0,0,0]
[null,null,null,null,null,null,null,null,null,null,null,null,null,null,null,null,null,null,null,null,null,null,null,null,null,null,null,null,null,null,null,null,null,null,null,null,null,null,null,null,null,null,null,null,null,null,null,null,null,null,null,null,null,null,null,null,null,null,null,null,null,null,null,null,null,null,null,null,null,9,null,null,"Pas d'avantage aléatoire",null,null,null,null,null,null,0,0,0,0,0,0,0,0,0,0,0,0,0,0,0,0,0,0,0,0,0,0,0,0,0,0,0,0,0,0,0,0,0,0,0,0,0,0,0,0,0,null,0,0,0,0,0,0,0,0,0,0,0,0,0,0,0]
[null,null,null,null,null,null,null,null,null,null,null,null,null,null,null,null,null,null,null,null,null,null,null,null,null,null,null,null,null,null,null,null,null,null,null,null,null,null,null,null,null,null,null,null,null,null,null,null,null,null,null,null,null,null,null,null,null,null,null,null,null,null,null,null,null,null,null,null,null,14,null,null,"Pas d'avantage aléatoire",null,null,null,null,null,null,0,0,0,0,0,0,0,0,0,0,0,0,0,0,0,0,0,0,0,0,0,0,0,0,0,0,0,0,0,0,0,0,0,0,0,0,0,0,0,0,0,null,0,0,0,0,0,0,0,0,0,0,0,0,0,0,0]
[null,null,null,null,null,null,null,null,null,null,null,null,null,null,null,null,null,null,null,null,null,null,null,null,null,null,null,null,null,null,null,null,null,null,null,null,null,null,null,null,null,null,null,null,null,null,null,null,null,null,null,null,null,null,null,null,null,null,null,null,null,null,null,null,null,null,null,null,null,17,null,null,"Pas d'avantage aléatoire",null,null,null,null,null,null,0,0,0,0,0,0,0,0,0,0,0,0,0,0,0,0,0,0,0,0,0,0,0,0,0,0,0,0,0,0,0,0,0,0,0,0,0,0,0,0,0,null,0,0,0,0,0,0,0,0,0,0,0,0,0,0,0]
[null,null,null,null,null,null,null,null,null,null,null,null,null,null,null,null,null,null,null,null,null,null,null,null,null,null,null,null,null,null,null,null,null,null,null,null,null,null,null,null,null,null,null,null,null,null,null,null,null,null,null,null,null,null,null,null,null,null,null,null,null,null,null,null,null,null,null,null,null,20,null,null,"Pas d'avantage aléatoire",null,null,null,null,null,null,0,0,0,0,0,0,0,0,0,0,0,0,0,0,0,0,0,0,0,0,0,0,0,0,0,0,0,0,0,0,0,0,0,0,0,0,0,0,0,0,0,null,0,0,0,0,0,0,0,0,0,0,0,0,0,0,0]
[null,null,null,null,null,null,null,null,null,null,null,null,null,null,null,null,null,null,null,null,null,null,null,null,null,null,null,null,null,null,null,null,null,null,null,null,null,null,null,null,null,null,null,null,null,null,null,null,null,null,null,null,null,null,null,null,null,null,null,null,null,null,null,null,null,null,null,null,null,23,null,null,"Pas d'avantage aléatoire",null,null,null,null,null,null,0,0,0,0,0,0,0,0,0,0,0,0,0,0,0,0,0,0,0,0,0,0,0,0,0,0,0,0,0,0,0,0,0,0,0,0,0,0,0,0,0,null,0,0,0,0,0,0,0,0,0,0,0,0,0,0,0]
[null,null,null,null,null,null,null,null,null,null,null,null,null,null,null,null,null,null,null,null,null,null,null,null,null,null,null,null,null,null,null,null,null,null,null,null,null,null,null,null,null,null,null,null,null,null,null,null,null,null,null,null,null,null,null,null,null,null,null,null,null,null,null,null,null,null,null,null,null,25,null,null,"Pas d'avantage aléatoire",null,null,null,null,null,null,0,0,0,0,0,0,0,0,0,0,0,0,0,0,0,0,0,0,0,0,0,0,0,0,0,0,0,0,0,0,0,0,0,0,0,0,0,0,0,0,0,null,0,0,0,0,0,0,0,0,0,0,0,0,0,0,0]
[null,null,null,null,null,null,null,null,null,null,null,null,null,null,null,null,null,null,null,null,null,null,null,null,null,null,null,null,null,null,null,null,null,null,null,null,null,null,null,null,null,null,null,null,null,null,null,null,null,null,null,null,null,null,null,null,null,null,null,null,null,null,null,null,null,null,null,null,null,28,null,null,"TOTAL 1",null,null,null,null,null,null,null,null,{"$f":"SUM(CD1037:CD1062)","v":0},{"$f":"SUM(CE1037:CE1062)","v":0},{"$f":"SUM(CF1037:CF1062)","v":0},0,0,0,0,0,0,0,0,0,0,0,0,0,0,0,0,0,0,0,0,0,0,0,0,0,0,0,0,0,0,0,0,0,0,0,0,null,0,0,0,0,0,0,0,0,0,0,0,0,0,{"$f":"SUM(EE1037:EE1062)","v":0},{"$f":"SUM(EF1037:EF1062)","v":0}]
[null,null,null,null,null,null,null,null,null,null,null,null,null,null,null,null,null,null,null,null,null,null,null,null,null,null,null,null,null,null,null,null,null,null,null,null,null,null,null,null,null,null,null,null,null,null,null,null,null,null,null,null,null,null,null,null,null,null,null,null,null,null,null,null,null,null,null,null,null,32,null,null,"Pas d'avantage aléatoire",null,null,null,null,null,null,0,0,0,0,0,0,0,0,0,0,0,0,0,0,0,0,0,0,0,0,0,0,0,0,0,0,0,0,0,0,0,0,0,0,0,0,0,0,0,0,0,null,0,0,0,0,0,0,0,0,0,0,0,0,0,0,0]
[null,null,null,null,null,null,null,null,null,null,null,null,null,null,null,null,null,null,null,null,null,null,null,null,null,null,null,null,null,null,null,null,null,null,null,null,null,null,null,null,null,null,null,null,null,null,null,null,null,null,null,null,null,null,null,null,null,null,null,null,null,null,null,null,null,null,null,null,null,36,null,null,"Pas d'avantage aléatoire",null,null,null,null,null,null,0,0,0,0,0,0,0,0,0,0,0,0,0,0,0,0,0,0,0,0,0,0,0,0,0,0,0,0,0,0,0,0,0,0,0,0,0,0,0,0,0,null,0,0,0,0,0,0,0,0,0,0,0,0,0,0,0]
[null,null,null,null,null,null,null,null,null,null,null,null,null,null,null,null,null,null,null,null,null,null,null,null,null,null,null,null,null,null,null,null,null,null,null,null,null,null,null,null,null,null,null,null,null,null,null,null,null,null,null,null,null,null,null,null,null,null,null,null,null,null,null,null,null,null,null,null,null,39,null,null,"Pas d'avantage aléatoire",null,null,null,null,null,null,0,0,0,0,0,0,0,0,0,0,0,0,0,0,0,0,0,0,0,0,0,0,0,0,0,0,0,0,0,0,0,0,0,0,0,0,0,0,0,0,0,null,{"$f":"VLOOKUP($BU1074,$BR$246:$EC$1034,DR$1035,)","v":0},0,0,0,0,0,0,0,0,0,0,0,0,0,0]
[null,null,null,null,null,null,null,null,null,null,null,null,null,null,null,null,null,null,null,null,null,null,null,null,null,null,null,null,null,null,null,null,null,null,null,null,null,null,null,null,null,null,null,null,null,null,null,null,null,null,null,null,null,null,null,null,null,null,null,null,null,null,null,null,null,null,null,null,null,41,null,null,"Pas d'avantage aléatoire",null,null,null,null,null,null,0,0,0,0,0,0,0,0,0,0,0,0,0,0,0,0,0,0,0,0,0,0,0,0,0,0,0,0,0,0,0,0,0,0,0,0,0,0,0,0,0,null,0,0,0,0,0,0,0,0,0,0,0,0,0,0,0]
[null,null,null,null,null,null,null,null,null,null,null,null,null,null,null,null,null,null,null,null,null,null,null,null,null,null,null,null,null,null,null,null,null,null,null,null,null,null,null,null,null,null,null,null,null,null,null,null,null,null,null,null,null,null,null,null,null,null,null,null,null,null,null,null,null,null,null,null,null,47,null,null,"Pas d'avantage aléatoire",null,null,null,null,null,null,0,0,0,0,0,0,0,0,0,0,0,0,0,0,0,0,0,0,0,0,0,0,0,0,0,0,0,0,0,0,0,0,0,0,0,0,0,0,0,0,0,null,0,0,0,0,0,0,0,0,0,0,0,0,0,0,0]
[null,null,null,null,null,null,null,null,null,null,null,null,null,null,null,null,null,null,null,null,null,null,null,null,null,null,null,null,null,null,null,null,null,null,null,null,null,null,null,null,null,null,null,null,null,null,null,null,null,null,null,null,null,null,null,null,null,null,null,null,null,null,null,null,null,null,null,null,null,50,null,null,"Pas d'avantage aléatoire",null,null,null,null,null,null,0,0,0,0,0,0,0,0,0,0,0,0,0,0,0,0,0,0,0,0,0,0,0,0,0,0,0,0,0,0,0,0,0,0,0,0,0,0,0,0,0,null,0,0,0,0,0,0,0,0,0,0,0,0,0,0,0]
[null,null,null,null,null,null,null,null,null,null,null,null,null,null,null,null,null,null,null,null,null,null,null,null,null,null,null,null,null,null,null,null,null,null,null,null,null,null,null,null,null,null,null,null,null,null,null,null,null,null,null,null,null,null,null,null,null,null,null,null,null,null,null,null,null,null,null,null,null,52,null,null,"Pas d'avantage aléatoire",null,null,null,null,null,null,0,0,0,0,0,0,0,0,0,0,0,0,0,0,0,0,0,0,0,0,0,0,0,0,0,0,0,0,0,0,0,0,0,0,0,0,0,0,0,0,0,null,0,0,0,0,0,0,0,0,0,0,0,0,0,0,0]
[null,null,null,null,null,null,null,null,null,null,null,null,null,null,null,null,null,null,null,null,null,null,null,null,null,null,null,null,null,null,null,null,null,null,null,null,null,null,null,null,null,null,null,null,null,null,null,null,null,null,null,null,null,null,null,null,null,null,null,null,null,null,null,null,null,null,null,null,null,53,null,null,"Pas d'avantage aléatoire",null,null,null,null,null,null,0,0,0,0,0,0,0,0,0,0,0,0,0,0,0,0,0,0,0,0,0,0,0,0,0,0,0,0,0,0,0,0,0,0,0,0,0,0,0,0,0,null,0,0,0,0,0,0,0,0,0,0,0,0,0,0,0]
[null,null,null,null,null,null,null,null,null,null,null,null,null,null,null,null,null,null,null,null,null,null,null,null,null,null,null,null,null,null,null,null,null,null,null,null,null,null,null,null,null,null,null,null,null,null,null,null,null,null,null,null,null,null,null,null,null,null,null,null,null,null,null,null,null,null,null,null,null,54,null,null,"Pas d'avantage aléatoire",null,null,null,null,null,null,0,0,0,0,0,0,0,0,0,0,0,0,0,0,0,0,0,0,0,0,0,0,0,0,0,0,0,0,0,0,0,0,0,0,0,0,0,0,0,0,0,null,0,0,0,0,0,0,0,0,0,0,0,0,0,0,0]
[null,null,null,null,null,null,null,null,null,null,null,null,null,null,null,null,null,null,null,null,null,null,null,null,null,null,null,null,null,null,null,null,null,null,null,null,null,null,null,null,null,null,null,null,null,null,null,null,null,null,null,null,null,null,null,null,null,null,null,null,null,null,null,null,null,null,null,null,null,55,null,null,"TOTAL 2",null,null,null,null,null,null,null,null,{"$f":"SUM(CD1064:CD1089)","v":0},0,0,0,0,0,0,0,0,0,0,0,0,0,0,0,0,0,0,0,0,0,0,0,0,0,0,0,0,0,0,0,0,0,0,0,0,0,0,null,0,0,0,0,0,0,0,0,0,0,0,0,0,{"$f":"SUM(EE1064:EE1089)","v":0},0]
[null,null,null,null,null,null,null,null,null,null,null,null,null,null,null,null,null,null,null,null,null,null,null,null,null,null,null,null,null,null,null,null,null,null,null,null,null,null,null,null,null,null,null,null,null,null,null,null,null,null,null,null,null,null,null,null,null,null,null,null,null,null,null,null,null,null,null,null,null,56,null,null,{"$f":"IF(D26=3,IF(AND(O26=\"Oui\",MOD(J26,5)=0),CONCATENATE(E26,\" \",P26,X26),\"Pas d'avantage aléatoire\"),\"Pas d'avantage aléatoire\")","v":"Pas d'avantage aléatoire"},null,null,null,null,null,null,{"$f":"VLOOKUP($BU1091,$BR$246:$DP$1034,CB$1035,)","v":0},0,0,0,0,0,0,0,0,0,0,0,0,0,0,0,0,0,0,0,0,0,0,0,0,0,0,0,0,0,0,0,0,0,0,0,0,0,0,0,0,null,{"$f":"VLOOKUP($BU1091,$BR$246:$EC$1034,DR$1035,)","v":0},0,0,0,0,0,0,0,0,0,{"$f":"VLOOKUP($BU1091,$BR$246:$ED$1034,EB$1035,)","v":0},{"$f":"VLOOKUP($BU1091,$BR$246:$ED$1034,EC$1035,)","v":0},0,{"$f":"VLOOKUP($BU1091,$BR$246:$EE$1034,EE$1035,)","v":0},{"$f":"VLOOKUP($BU1091,$BR$246:$EF$1034,EF$1035,)","v":0}]
[null,null,null,null,null,null,null,null,null,null,null,null,null,null,null,null,null,null,null,null,null,null,null,null,null,null,null,null,null,null,null,null,null,null,null,null,null,null,null,null,null,null,null,null,null,null,null,null,null,null,null,null,null,null,null,null,null,null,null,null,null,null,null,null,null,null,null,null,null,57,null,null,"Pas d'avantage aléatoire",null,null,null,null,null,null,{"$f":"VLOOKUP($BU1092,$BR$246:$DP$1034,CB$1035,)","v":0},{"$f":"IF(D27=3,IF((VLOOKUP($BU1092,$BR$246:$DP$1034,CC$1035,)+CC1091)>1,1,VLOOKUP($BU1092,$BR$246:$DP$1034,CC$1035,)+CC1091),0)","v":0},{"$f":"VLOOKUP($BU1092,$BR$246:$DP$1034,CD$1035,)","v":0},0,0,0,0,0,0,0,0,0,{"$f":"VLOOKUP($BU1092,$BR$246:$DP$1034,CN$1035,)","v":0},0,0,0,0,0,0,0,0,0,{"$f":"VLOOKUP($BU1092,$BR$246:$DP$1034,CX$1035,)","v":0},0,0,0,0,0,0,0,0,0,{"$f":"VLOOKUP($BU1092,$BR$246:$DP$1034,DH$1035,)","v":0},0,0,0,0,0,0,0,0,null,0,0,0,0,0,0,0,0,0,0,{"$f":"VLOOKUP($BU1092,$BR$246:$ED$1034,EB$1035,)","v":0},0,0,0,0]
[null,null,null,null,null,null,null,null,null,null,null,null,null,null,null,null,null,null,null,null,null,null,null,null,null,null,null,null,null,null,null,null,null,null,null,null,null,null,null,null,null,null,null,null,null,null,null,null,null,null,null,null,null,null,null,null,null,null,null,null,null,null,null,null,null,null,null,null,null,58,null,null,"Pas d'avantage aléatoire",null,null,null,null,null,null,0,0,0,0,0,0,0,0,0,0,0,0,0,0,0,0,0,0,0,0,0,0,0,0,0,0,0,0,0,0,0,0,0,0,0,0,0,0,0,0,0,null,0,0,0,0,0,0,0,0,0,0,0,0,0,0,0]
[null,null,null,null,null,null,null,null,null,null,null,null,null,null,null,null,null,null,null,null,null,null,null,null,null,null,null,null,null,null,null,null,null,null,null,null,null,null,null,null,null,null,null,null,null,null,null,null,null,null,null,null,null,null,null,null,null,null,null,null,null,null,null,null,null,null,null,null,null,59,null,null,"Pas d'avantage aléatoire",null,null,null,null,null,null,0,0,0,0,0,0,0,0,0,0,0,0,0,0,0,0,0,0,0,0,0,0,0,0,0,0,0,0,0,0,0,0,0,0,0,0,0,0,0,0,0,null,0,0,0,0,0,0,0,0,0,0,0,0,0,0,0]
[null,null,null,null,null,null,null,null,null,null,null,null,null,null,null,null,null,null,null,null,null,null,null,null,null,null,null,null,null,null,null,null,null,null,null,null,null,null,null,null,null,null,null,null,null,null,null,null,null,null,null,null,null,null,null,null,null,null,null,null,null,null,null,null,null,null,null,null,null,60,null,null,"Pas d'avantage aléatoire",null,null,null,null,null,null,0,0,0,0,0,0,0,0,0,0,0,0,0,0,0,0,0,0,0,0,0,0,0,0,0,0,0,0,0,0,0,0,0,0,0,0,0,0,0,0,0,null,0,0,0,0,0,0,0,0,0,0,0,0,0,0,0]
[null,null,null,null,null,null,null,null,null,null,null,null,null,null,null,null,null,null,null,null,null,null,null,null,null,null,null,null,null,null,null,null,null,null,null,null,null,null,null,null,null,null,null,null,null,null,null,null,null,null,null,null,null,null,null,null,null,null,null,null,null,null,null,null,null,null,null,null,null,61,null,null,"Pas d'avantage aléatoire",null,null,null,null,null,null,0,0,0,0,0,0,0,0,0,0,0,0,0,0,0,0,0,0,0,0,0,0,0,0,0,0,0,0,0,0,0,0,0,0,0,0,0,0,0,0,0,null,0,0,0,0,0,0,0,0,0,0,0,0,0,0,0]
[null,null,null,null,null,null,null,null,null,null,null,null,null,null,null,null,null,null,null,null,null,null,null,null,null,null,null,null,null,null,null,null,null,null,null,null,null,null,null,null,null,null,null,null,null,null,null,null,null,null,null,null,null,null,null,null,null,null,null,null,null,null,null,null,null,null,null,null,null,62,null,null,"Pas d'avantage aléatoire",null,null,null,null,null,null,0,0,0,0,0,0,0,0,0,0,0,0,0,0,0,0,0,0,0,0,0,0,0,0,0,0,0,0,0,0,0,0,0,0,0,0,0,0,0,0,0,null,0,0,0,0,0,0,0,0,0,0,0,0,0,0,0]
[null,null,null,null,null,null,null,null,null,null,null,null,null,null,null,null,null,null,null,null,null,null,null,null,null,null,null,null,null,null,null,null,null,null,null,null,null,null,null,null,null,null,null,null,null,null,null,null,null,null,null,null,null,null,null,null,null,null,null,null,null,null,null,null,null,null,null,null,null,63,null,null,"Pas d'avantage aléatoire",null,null,null,null,null,null,0,0,0,0,0,0,0,0,0,0,0,0,0,0,0,0,0,0,0,0,0,0,0,0,0,0,0,0,0,0,0,0,0,0,0,0,0,0,0,0,0,null,0,0,0,0,0,0,0,0,0,0,0,0,0,0,0]
[null,null,null,null,null,null,null,null,null,null,null,null,null,null,null,null,null,null,null,null,null,null,null,null,null,null,null,null,null,null,null,null,null,null,null,null,null,null,null,null,null,null,null,null,null,null,null,null,null,null,null,null,null,null,null,null,null,null,null,null,null,null,null,null,null,null,null,null,null,64,null,null,"Pas d'avantage aléatoire",null,null,null,null,null,null,0,0,0,0,0,0,0,0,0,0,0,0,0,0,0,0,0,0,0,0,0,0,0,0,0,0,0,0,0,0,0,0,0,0,0,0,0,0,0,0,0,null,0,0,0,0,0,0,0,0,0,0,0,0,0,0,0]
[null,null,null,null,null,null,null,null,null,null,null,null,null,null,null,null,null,null,null,null,null,null,null,null,null,null,null,null,null,null,null,null,null,null,null,null,null,null,null,null,null,null,null,null,null,null,null,null,null,null,null,null,null,null,null,null,null,null,null,null,null,null,null,null,null,null,null,null,null,65,null,null,"Pas d'avantage aléatoire",null,null,null,null,null,null,0,0,0,0,0,0,0,0,0,0,0,0,0,0,0,0,0,0,0,0,0,0,0,0,0,0,0,0,0,0,0,0,0,0,0,0,0,0,0,0,0,null,0,0,0,0,0,0,0,0,0,0,0,0,0,0,0]
[null,null,null,null,null,null,null,null,null,null,null,null,null,null,null,null,null,null,null,null,null,null,null,null,null,null,null,null,null,null,null,null,null,null,null,null,null,null,null,null,null,null,null,null,null,null,null,null,null,null,null,null,null,null,null,null,null,null,null,null,null,null,null,null,null,null,null,null,null,66,null,null,"Pas d'avantage aléatoire",null,null,null,null,null,null,0,0,0,0,0,0,0,0,0,0,0,0,0,0,0,0,0,0,0,0,0,0,0,0,0,0,0,0,0,0,0,0,0,0,0,0,0,0,0,0,0,null,{"$f":"VLOOKUP($BU1101,$BR$246:$EC$1034,DR$1035,)","v":0},0,0,0,0,0,0,0,0,0,0,0,0,0,0]
[null,null,null,null,null,null,null,null,null,null,null,null,null,null,null,null,null,null,null,null,null,null,null,null,null,null,null,null,null,null,null,null,null,null,null,null,null,null,null,null,null,null,null,null,null,null,null,null,null,null,null,null,null,null,null,null,null,null,null,null,null,null,null,null,null,null,null,null,null,67,null,null,"Pas d'avantage aléatoire",null,null,null,null,null,null,0,0,{"$f":"VLOOKUP($BU1102,$BR$246:$DP$1034,CD$1035,)","v":0},0,0,0,0,0,0,0,0,0,{"$f":"VLOOKUP($BU1102,$BR$246:$DP$1034,CN$1035,)","v":0},0,0,0,0,0,0,0,0,0,{"$f":"VLOOKUP($BU1102,$BR$246:$DP$1034,CX$1035,)","v":0},0,0,0,0,0,0,0,0,0,{"$f":"VLOOKUP($BU1102,$BR$246:$DP$1034,DH$1035,)","v":0},0,0,0,0,0,0,0,0,null,0,0,0,0,0,0,0,0,0,0,0,0,0,0,0]
[null,null,null,null,null,null,null,null,null,null,null,null,null,null,null,null,null,null,null,null,null,null,null,null,null,null,null,null,null,null,null,null,null,null,null,null,null,null,null,null,null,null,null,null,null,null,null,null,null,null,null,null,null,null,null,null,null,null,null,null,null,null,null,null,null,null,null,null,null,68,null,null,"Pas d'avantage aléatoire",null,null,null,null,null,null,0,0,0,0,0,0,0,0,0,0,0,0,0,0,0,0,0,0,0,0,0,0,0,0,0,0,0,0,0,0,0,0,0,0,0,0,0,0,0,0,0,null,0,0,0,0,0,0,0,0,0,0,0,0,0,0,0]
[null,null,null,null,null,null,null,null,null,null,null,null,null,null,null,null,null,null,null,null,null,null,null,null,null,null,null,null,null,null,null,null,null,null,null,null,null,null,null,null,null,null,null,null,null,null,null,null,null,null,null,null,null,null,null,null,null,null,null,null,null,null,null,null,null,null,null,null,null,69,null,null,"Pas d'avantage aléatoire",null,null,null,null,null,null,0,0,0,0,0,0,0,0,0,0,0,0,0,0,0,0,0,0,0,0,0,0,0,0,0,0,0,0,0,0,0,0,0,0,0,0,0,0,0,0,0,null,0,0,0,0,0,0,0,0,0,0,0,0,0,0,0]
[null,null,null,null,null,null,null,null,null,null,null,null,null,null,null,null,null,null,null,null,null,null,null,null,null,null,null,null,null,null,null,null,null,null,null,null,null,null,null,null,null,null,null,null,null,null,null,null,null,null,null,null,null,null,null,null,null,null,null,null,null,null,null,null,null,null,null,null,null,70,null,null,"Pas d'avantage aléatoire",null,null,null,null,null,null,0,0,0,0,0,0,0,0,0,0,0,0,0,0,0,0,0,0,0,0,0,0,0,0,0,0,0,0,0,0,0,0,0,0,0,0,0,0,0,0,0,null,0,0,0,0,0,0,0,0,0,0,0,0,0,0,0]
[null,null,null,null,null,null,null,null,null,null,null,null,null,null,null,null,null,null,null,null,null,null,null,null,null,null,null,null,null,null,null,null,null,null,null,null,null,null,null,null,null,null,null,null,null,null,null,null,null,null,null,null,null,null,null,null,null,null,null,null,null,null,null,null,null,null,null,null,null,71,null,null,"Pas d'avantage aléatoire",null,null,null,null,null,null,0,0,0,0,0,0,0,0,0,0,0,0,0,0,0,0,0,0,0,0,0,0,0,0,0,0,0,0,0,0,0,0,0,0,0,0,0,0,0,0,0,null,0,0,0,0,0,0,0,0,0,0,0,0,0,0,0]
[null,null,null,null,null,null,null,null,null,null,null,null,null,null,null,null,null,null,null,null,null,null,null,null,null,null,null,null,null,null,null,null,null,null,null,null,null,null,null,null,null,null,null,null,null,null,null,null,null,null,null,null,null,null,null,null,null,null,null,null,null,null,null,null,null,null,null,null,null,72,null,null,"Pas d'avantage aléatoire",null,null,null,null,null,null,0,0,0,0,0,0,0,0,0,0,0,0,0,0,0,0,0,0,0,0,0,0,0,0,0,0,0,0,0,0,0,0,0,0,0,0,0,0,0,0,0,null,0,0,0,0,0,0,0,0,0,0,0,0,0,0,0]
[null,null,null,null,null,null,null,null,null,null,null,null,null,null,null,null,null,null,null,null,null,null,null,null,null,null,null,null,null,null,null,null,null,null,null,null,null,null,null,null,null,null,null,null,null,null,null,null,null,null,null,null,null,null,null,null,null,null,null,null,null,null,null,null,null,null,null,null,null,73,null,null,"Pas d'avantage aléatoire",null,null,null,null,null,null,0,0,0,0,0,0,0,0,0,0,0,0,0,0,0,0,0,0,0,0,0,0,0,0,0,0,0,0,0,0,0,0,0,0,0,0,0,0,0,0,0,null,0,0,0,0,0,0,0,0,0,0,0,0,0,0,0]
[null,null,null,null,null,null,null,null,null,null,null,null,null,null,null,null,null,null,null,null,null,null,null,null,null,null,null,null,null,null,null,null,null,null,null,null,null,null,null,null,null,null,null,null,null,null,null,null,null,null,null,null,null,null,null,null,null,null,null,null,null,null,null,null,null,null,null,null,null,74,null,null,"Pas d'avantage aléatoire",null,null,null,null,null,null,0,0,0,0,0,0,0,0,0,0,0,0,0,0,0,0,0,0,0,0,0,0,0,0,0,0,0,0,0,0,0,0,0,0,0,0,0,0,0,0,0,null,0,0,0,0,0,0,0,0,0,0,0,0,0,0,0]
[null,null,null,null,null,null,null,null,null,null,null,null,null,null,null,null,null,null,null,null,null,null,null,null,null,null,null,null,null,null,null,null,null,null,null,null,null,null,null,null,null,null,null,null,null,null,null,null,null,null,null,null,null,null,null,null,null,null,null,null,null,null,null,null,null,null,null,null,null,75,null,null,"Pas d'avantage aléatoire",null,null,null,null,null,null,0,0,0,0,0,0,0,0,0,0,0,0,0,0,0,0,0,0,0,0,0,0,0,0,0,0,0,0,0,0,0,0,0,0,0,0,0,0,0,0,0,null,0,0,0,0,0,0,0,0,0,0,0,0,0,0,0]
[null,null,null,null,null,null,null,null,null,null,null,null,null,null,null,null,null,null,null,null,null,null,null,null,null,null,null,null,null,null,null,null,null,null,null,null,null,null,null,null,null,null,null,null,null,null,null,null,null,null,null,null,null,null,null,null,null,null,null,null,null,null,null,null,null,null,null,null,null,76,null,null,"Pas d'avantage aléatoire",null,null,null,null,null,null,0,0,0,0,0,0,0,0,0,0,0,0,0,0,0,0,0,0,0,0,0,0,0,0,0,0,0,0,0,0,0,0,0,0,0,0,0,0,0,0,0,null,{"$f":"VLOOKUP($BU1111,$BR$246:$EC$1034,DR$1035,)","v":0},0,0,0,0,0,0,0,0,0,0,0,0,0,0]
[null,null,null,null,null,null,null,null,null,null,null,null,null,null,null,null,null,null,null,null,null,null,null,null,null,null,null,null,null,null,null,null,null,null,null,null,null,null,null,null,null,null,null,null,null,null,null,null,null,null,null,null,null,null,null,null,null,null,null,null,null,null,null,null,null,null,null,null,null,77,null,null,"Pas d'avantage aléatoire",null,null,null,null,null,null,0,0,0,0,0,0,0,0,0,0,0,0,0,0,0,0,0,0,0,0,0,0,0,0,0,0,0,0,0,0,0,0,0,0,0,0,0,0,0,0,0,null,0,0,0,0,0,0,0,0,0,0,0,0,0,0,0]
[null,null,null,null,null,null,null,null,null,null,null,null,null,null,null,null,null,null,null,null,null,null,null,null,null,null,null,null,null,null,null,null,null,null,null,null,null,null,null,null,null,null,null,null,null,null,null,null,null,null,null,null,null,null,null,null,null,null,null,null,null,null,null,null,null,null,null,null,null,78,null,null,"Pas d'avantage aléatoire",null,null,null,null,null,null,0,0,0,0,0,0,0,0,0,0,0,0,0,0,0,0,0,0,0,0,0,0,0,0,0,0,0,0,0,0,0,0,0,0,0,0,0,0,0,0,0,null,0,0,0,0,0,0,0,0,0,0,0,0,0,0,0]
[null,null,null,null,null,null,null,null,null,null,null,null,null,null,null,null,null,null,null,null,null,null,null,null,null,null,null,null,null,null,null,null,null,null,null,null,null,null,null,null,null,null,null,null,null,null,null,null,null,null,null,null,null,null,null,null,null,null,null,null,null,null,null,null,null,null,null,null,null,79,null,null,"Pas d'avantage aléatoire",null,null,null,null,null,null,0,0,0,0,0,0,0,0,0,0,0,0,0,0,0,0,0,0,0,0,0,0,0,0,0,0,0,0,0,0,0,0,0,0,0,0,0,0,0,0,0,null,0,0,0,0,0,0,0,0,0,0,0,0,0,0,0]
[null,null,null,null,null,null,null,null,null,null,null,null,null,null,null,null,null,null,null,null,null,null,null,null,null,null,null,null,null,null,null,null,null,null,null,null,null,null,null,null,null,null,null,null,null,null,null,null,null,null,null,null,null,null,null,null,null,null,null,null,null,null,null,null,null,null,null,null,null,80,null,null,"Pas d'avantage aléatoire",null,null,null,null,null,null,0,0,0,0,0,0,0,0,0,0,0,0,0,0,0,0,0,0,0,0,0,0,0,0,0,0,0,0,0,0,0,0,0,0,0,0,0,0,0,0,0,null,0,0,0,0,0,0,0,0,0,0,0,0,0,0,0]
[null,null,null,null,null,null,null,null,null,null,null,null,null,null,null,null,null,null,null,null,null,null,null,null,null,null,null,null,null,null,null,null,null,null,null,null,null,null,null,null,null,null,null,null,null,null,null,null,null,null,null,null,null,null,null,null,null,null,null,null,null,null,null,null,null,null,null,null,null,81,null,null,"Pas d'avantage aléatoire",null,null,null,null,null,null,0,0,0,0,0,0,0,0,0,0,0,0,0,0,0,0,0,0,0,0,0,0,0,0,0,0,0,0,0,0,0,0,0,0,0,0,0,0,0,0,0,null,0,0,0,0,0,0,0,0,0,0,0,0,0,0,0]
[null,null,null,null,null,null,null,null,null,null,null,null,null,null,null,null,null,null,null,null,null,null,null,null,null,null,null,null,null,null,null,null,null,null,null,null,null,null,null,null,null,null,null,null,null,null,null,null,null,null,null,null,null,null,null,null,null,null,null,null,null,null,null,null,null,null,null,null,null,82,null,null,"TOTAL 3",null,null,null,null,null,null,null,null,{"$f":"SUM(CD1091:CD1116)","v":0},0,0,0,0,0,0,0,0,0,0,0,0,0,0,0,0,0,0,0,0,0,0,0,0,0,0,0,0,0,0,0,0,0,0,0,0,0,0,null,0,0,0,0,0,0,0,0,0,0,0,0,0,{"$f":"SUM(EE1091:EE1116)","v":0},0]
[null,null,null,null,null,null,null,null,null,null,null,null,null,null,null,null,null,null,null,null,null,null,null,null,null,null,null,null,null,null,null,null,null,null,null,null,null,null,null,null,null,null,null,null,null,null,null,null,null,null,null,null,null,null,null,null,null,null,null,null,null,null,null,null,null,null,null,null,null,83,null,null,{"$f":"IF(D26=4,IF(AND(O26=\"Oui\",MOD(J26,5)=0),CONCATENATE(E26,\" \",P26,X26),\"Pas d'avantage aléatoire\"),\"Pas d'avantage aléatoire\")","v":"Pas d'avantage aléatoire"},null,null,null,null,null,null,{"$f":"VLOOKUP($BU1118,$BR$246:$DP$1034,CB$1035,)","v":0},0,0,0,0,0,0,0,0,0,0,0,0,0,0,0,0,0,0,0,0,0,0,0,0,0,0,0,0,0,0,0,0,0,0,0,0,0,0,0,0,null,{"$f":"VLOOKUP($BU1118,$BR$246:$EC$1034,DR$1035,)","v":0},0,0,0,0,0,0,0,0,0,{"$f":"VLOOKUP($BU1118,$BR$246:$ED$1034,EB$1035,)","v":0},{"$f":"VLOOKUP($BU1118,$BR$246:$ED$1034,EC$1035,)","v":0},0,{"$f":"VLOOKUP($BU1118,$BR$246:$EE$1034,EE$1035,)","v":0},{"$f":"VLOOKUP($BU1118,$BR$246:$EF$1034,EF$1035,)","v":0}]
[null,null,null,null,null,null,null,null,null,null,null,null,null,null,null,null,null,null,null,null,null,null,null,null,null,null,null,null,null,null,null,null,null,null,null,null,null,null,null,null,null,null,null,null,null,null,null,null,null,null,null,null,null,null,null,null,null,null,null,null,null,null,null,null,null,null,null,null,null,84,null,null,"Pas d'avantage aléatoire",null,null,null,null,null,null,{"$f":"VLOOKUP($BU1119,$BR$246:$DP$1034,CB$1035,)","v":0},{"$f":"IF(D27=4,IF((VLOOKUP($BU1119,$BR$246:$DP$1034,CC$1035,)+CC1118)>1,1,VLOOKUP($BU1119,$BR$246:$DP$1034,CC$1035,)+CC1118),0)","v":0},{"$f":"VLOOKUP($BU1119,$BR$246:$DP$1034,CD$1035,)","v":0},0,0,0,0,0,0,0,0,0,{"$f":"VLOOKUP($BU1119,$BR$246:$DP$1034,CN$1035,)","v":0},0,0,0,0,0,0,0,0,0,{"$f":"VLOOKUP($BU1119,$BR$246:$DP$1034,CX$1035,)","v":0},0,0,0,0,0,0,0,0,0,{"$f":"VLOOKUP($BU1119,$BR$246:$DP$1034,DH$1035,)","v":0},0,0,0,0,0,0,0,0,null,0,0,0,0,0,0,0,0,0,0,{"$f":"VLOOKUP($BU1119,$BR$246:$ED$1034,EB$1035,)","v":0},0,0,0,0]
[null,null,null,null,null,null,null,null,null,null,null,null,null,null,null,null,null,null,null,null,null,null,null,null,null,null,null,null,null,null,null,null,null,null,null,null,null,null,null,null,null,null,null,null,null,null,null,null,null,null,null,null,null,null,null,null,null,null,null,null,null,null,null,null,null,null,null,null,null,85,null,null,"Pas d'avantage aléatoire",null,null,null,null,null,null,0,0,0,0,0,0,0,0,0,0,0,0,0,0,0,0,0,0,0,0,0,0,0,0,0,0,0,0,0,0,0,0,0,0,0,0,0,0,0,0,0,null,0,0,0,0,0,0,0,0,0,0,0,0,0,0,0]
[null,null,null,null,null,null,null,null,null,null,null,null,null,null,null,null,null,null,null,null,null,null,null,null,null,null,null,null,null,null,null,null,null,null,null,null,null,null,null,null,null,null,null,null,null,null,null,null,null,null,null,null,null,null,null,null,null,null,null,null,null,null,null,null,null,null,null,null,null,86,null,null,"Pas d'avantage aléatoire",null,null,null,null,null,null,0,0,0,0,0,0,0,0,0,0,0,0,0,0,0,0,0,0,0,0,0,0,0,0,0,0,0,0,0,0,0,0,0,0,0,0,0,0,0,0,0,null,0,0,0,0,0,0,0,0,0,0,0,0,0,0,0]
[null,null,null,null,null,null,null,null,null,null,null,null,null,null,null,null,null,null,null,null,null,null,null,null,null,null,null,null,null,null,null,null,null,null,null,null,null,null,null,null,null,null,null,null,null,null,null,null,null,null,null,null,null,null,null,null,null,null,null,null,null,null,null,null,null,null,null,null,null,87,null,null,"Pas d'avantage aléatoire",null,null,null,null,null,null,0,0,0,0,0,0,0,0,0,0,0,0,0,0,0,0,0,0,0,0,0,0,0,0,0,0,0,0,0,0,0,0,0,0,0,0,0,0,0,0,0,null,0,0,0,0,0,0,0,0,0,0,0,0,0,0,0]
[null,null,null,null,null,null,null,null,null,null,null,null,null,null,null,null,null,null,null,null,null,null,null,null,null,null,null,null,null,null,null,null,null,null,null,null,null,null,null,null,null,null,null,null,null,null,null,null,null,null,null,null,null,null,null,null,null,null,null,null,null,null,null,null,null,null,null,null,null,88,null,null,"Pas d'avantage aléatoire",null,null,null,null,null,null,0,0,0,0,0,0,0,0,0,0,0,0,0,0,0,0,0,0,0,0,0,0,0,0,0,0,0,0,0,0,0,0,0,0,0,0,0,0,0,0,0,null,0,0,0,0,0,0,0,0,0,0,0,0,0,0,0]
[null,null,null,null,null,null,null,null,null,null,null,null,null,null,null,null,null,null,null,null,null,null,null,null,null,null,null,null,null,null,null,null,null,null,null,null,null,null,null,null,null,null,null,null,null,null,null,null,null,null,null,null,null,null,null,null,null,null,null,null,null,null,null,null,null,null,null,null,null,89,null,null,"Pas d'avantage aléatoire",null,null,null,null,null,null,0,0,0,0,0,0,0,0,0,0,0,0,0,0,0,0,0,0,0,0,0,0,0,0,0,0,0,0,0,0,0,0,0,0,0,0,0,0,0,0,0,null,0,0,0,0,0,0,0,0,0,0,0,0,0,0,0]
[null,null,null,null,null,null,null,null,null,null,null,null,null,null,null,null,null,null,null,null,null,null,null,null,null,null,null,null,null,null,null,null,null,null,null,null,null,null,null,null,null,null,null,null,null,null,null,null,null,null,null,null,null,null,null,null,null,null,null,null,null,null,null,null,null,null,null,null,null,90,null,null,"Pas d'avantage aléatoire",null,null,null,null,null,null,0,0,0,0,0,0,0,0,0,0,0,0,0,0,0,0,0,0,0,0,0,0,0,0,0,0,0,0,0,0,0,0,0,0,0,0,0,0,0,0,0,null,0,0,0,0,0,0,0,0,0,0,0,0,0,0,0]
[null,null,null,null,null,null,null,null,null,null,null,null,null,null,null,null,null,null,null,null,null,null,null,null,null,null,null,null,null,null,null,null,null,null,null,null,null,null,null,null,null,null,null,null,null,null,null,null,null,null,null,null,null,null,null,null,null,null,null,null,null,null,null,null,null,null,null,null,null,91,null,null,"Pas d'avantage aléatoire",null,null,null,null,null,null,0,0,0,0,0,0,0,0,0,0,0,0,0,0,0,0,0,0,0,0,0,0,0,0,0,0,0,0,0,0,0,0,0,0,0,0,0,0,0,0,0,null,0,0,0,0,0,0,0,0,0,0,0,0,0,0,0]
[null,null,null,null,null,null,null,null,null,null,null,null,null,null,null,null,null,null,null,null,null,null,null,null,null,null,null,null,null,null,null,null,null,null,null,null,null,null,null,null,null,null,null,null,null,null,null,null,null,null,null,null,null,null,null,null,null,null,null,null,null,null,null,null,null,null,null,null,null,92,null,null,"Pas d'avantage aléatoire",null,null,null,null,null,null,0,0,0,0,0,0,0,0,0,0,0,0,0,0,0,0,0,0,0,0,0,0,0,0,0,0,0,0,0,0,0,0,0,0,0,0,0,0,0,0,0,null,0,0,0,0,0,0,0,0,0,0,0,0,0,0,0]
[null,null,null,null,null,null,null,null,null,null,null,null,null,null,null,null,null,null,null,null,null,null,null,null,null,null,null,null,null,null,null,null,null,null,null,null,null,null,null,null,null,null,null,null,null,null,null,null,null,null,null,null,null,null,null,null,null,null,null,null,null,null,null,null,null,null,null,null,null,93,null,null,"Pas d'avantage aléatoire",null,null,null,null,null,null,0,0,0,0,0,0,0,0,0,0,0,0,0,0,0,0,0,0,0,0,0,0,0,0,0,0,0,0,0,0,0,0,0,0,0,0,0,0,0,0,0,null,{"$f":"VLOOKUP($BU1128,$BR$246:$EC$1034,DR$1035,)","v":0},0,0,0,0,0,0,0,0,0,0,0,0,0,0]
[null,null,null,null,null,null,null,null,null,null,null,null,null,null,null,null,null,null,null,null,null,null,null,null,null,null,null,null,null,null,null,null,null,null,null,null,null,null,null,null,null,null,null,null,null,null,null,null,null,null,null,null,null,null,null,null,null,null,null,null,null,null,null,null,null,null,null,null,null,94,null,null,"Pas d'avantage aléatoire",null,null,null,null,null,null,0,0,{"$f":"VLOOKUP($BU1129,$BR$246:$DP$1034,CD$1035,)","v":0},0,0,0,0,0,0,0,0,0,{"$f":"VLOOKUP($BU1129,$BR$246:$DP$1034,CN$1035,)","v":0},0,0,0,0,0,0,0,0,0,{"$f":"VLOOKUP($BU1129,$BR$246:$DP$1034,CX$1035,)","v":0},0,0,0,0,0,0,0,0,0,{"$f":"VLOOKUP($BU1129,$BR$246:$DP$1034,DH$1035,)","v":0},0,0,0,0,0,0,0,0,null,0,0,0,0,0,0,0,0,0,0,0,0,0,0,0]
[null,null,null,null,null,null,null,null,null,null,null,null,null,null,null,null,null,null,null,null,null,null,null,null,null,null,null,null,null,null,null,null,null,null,null,null,null,null,null,null,null,null,null,null,null,null,null,null,null,null,null,null,null,null,null,null,null,null,null,null,null,null,null,null,null,null,null,null,null,95,null,null,"Pas d'avantage aléatoire",null,null,null,null,null,null,0,0,0,0,0,0,0,0,0,0,0,0,0,0,0,0,0,0,0,0,0,0,0,0,0,0,0,0,0,0,0,0,0,0,0,0,0,0,0,0,0,null,0,0,0,0,0,0,0,0,0,0,0,0,0,0,0]
[null,null,null,null,null,null,null,null,null,null,null,null,null,null,null,null,null,null,null,null,null,null,null,null,null,null,null,null,null,null,null,null,null,null,null,null,null,null,null,null,null,null,null,null,null,null,null,null,null,null,null,null,null,null,null,null,null,null,null,null,null,null,null,null,null,null,null,null,null,96,null,null,"Pas d'avantage aléatoire",null,null,null,null,null,null,0,0,0,0,0,0,0,0,0,0,0,0,0,0,0,0,0,0,0,0,0,0,0,0,0,0,0,0,0,0,0,0,0,0,0,0,0,0,0,0,0,null,0,0,0,0,0,0,0,0,0,0,0,0,0,0,0]
[null,null,null,null,null,null,null,null,null,null,null,null,null,null,null,null,null,null,null,null,null,null,null,null,null,null,null,null,null,null,null,null,null,null,null,null,null,null,null,null,null,null,null,null,null,null,null,null,null,null,null,null,null,null,null,null,null,null,null,null,null,null,null,null,null,null,null,null,null,97,null,null,"Pas d'avantage aléatoire",null,null,null,null,null,null,0,0,0,0,0,0,0,0,0,0,0,0,0,0,0,0,0,0,0,0,0,0,0,0,0,0,0,0,0,0,0,0,0,0,0,0,0,0,0,0,0,null,0,0,0,0,0,0,0,0,0,0,0,0,0,0,0]
[null,null,null,null,null,null,null,null,null,null,null,null,null,null,null,null,null,null,null,null,null,null,null,null,null,null,null,null,null,null,null,null,null,null,null,null,null,null,null,null,null,null,null,null,null,null,null,null,null,null,null,null,null,null,null,null,null,null,null,null,null,null,null,null,null,null,null,null,null,98,null,null,"Pas d'avantage aléatoire",null,null,null,null,null,null,0,0,0,0,0,0,0,0,0,0,0,0,0,0,0,0,0,0,0,0,0,0,0,0,0,0,0,0,0,0,0,0,0,0,0,0,0,0,0,0,0,null,0,0,0,0,0,0,0,0,0,0,0,0,0,0,0]
[null,null,null,null,null,null,null,null,null,null,null,null,null,null,null,null,null,null,null,null,null,null,null,null,null,null,null,null,null,null,null,null,null,null,null,null,null,null,null,null,null,null,null,null,null,null,null,null,null,null,null,null,null,null,null,null,null,null,null,null,null,null,null,null,null,null,null,null,null,99,null,null,"Pas d'avantage aléatoire",null,null,null,null,null,null,0,0,0,0,0,0,0,0,0,0,0,0,0,0,0,0,0,0,0,0,0,0,0,0,0,0,0,0,0,0,0,0,0,0,0,0,0,0,0,0,0,null,0,0,0,0,0,0,0,0,0,0,0,0,0,0,0]
[null,null,null,null,null,null,null,null,null,null,null,null,null,null,null,null,null,null,null,null,null,null,null,null,null,null,null,null,null,null,null,null,null,null,null,null,null,null,null,null,null,null,null,null,null,null,null,null,null,null,null,null,null,null,null,null,null,null,null,null,null,null,null,null,null,null,null,null,null,100,null,null,"Pas d'avantage aléatoire",null,null,null,null,null,null,0,0,0,0,0,0,0,0,0,0,0,0,0,0,0,0,0,0,0,0,0,0,0,0,0,0,0,0,0,0,0,0,0,0,0,0,0,0,0,0,0,null,0,0,0,0,0,0,0,0,0,0,0,0,0,0,0]
[null,null,null,null,null,null,null,null,null,null,null,null,null,null,null,null,null,null,null,null,null,null,null,null,null,null,null,null,null,null,null,null,null,null,null,null,null,null,null,null,null,null,null,null,null,null,null,null,null,null,null,null,null,null,null,null,null,null,null,null,null,null,null,null,null,null,null,null,null,101,null,null,"Pas d'avantage aléatoire",null,null,null,null,null,null,0,0,0,0,0,0,0,0,0,0,0,0,0,0,0,0,0,0,0,0,0,0,0,0,0,0,0,0,0,0,0,0,0,0,0,0,0,0,0,0,0,null,0,0,0,0,0,0,0,0,0,0,0,0,0,0,0]
[null,null,null,null,null,null,null,null,null,null,null,null,null,null,null,null,null,null,null,null,null,null,null,null,null,null,null,null,null,null,null,null,null,null,null,null,null,null,null,null,null,null,null,null,null,null,null,null,null,null,null,null,null,null,null,null,null,null,null,null,null,null,null,null,null,null,null,null,null,102,null,null,"Pas d'avantage aléatoire",null,null,null,null,null,null,0,0,0,0,0,0,0,0,0,0,0,0,0,0,0,0,0,0,0,0,0,0,0,0,0,0,0,0,0,0,0,0,0,0,0,0,0,0,0,0,0,null,0,0,0,0,0,0,0,0,0,0,0,0,0,0,0]
[null,null,null,null,null,null,null,null,null,null,null,null,null,null,null,null,null,null,null,null,null,null,null,null,null,null,null,null,null,null,null,null,null,null,null,null,null,null,null,null,null,null,null,null,null,null,null,null,null,null,null,null,null,null,null,null,null,null,null,null,null,null,null,null,null,null,null,null,null,103,null,null,"Pas d'avantage aléatoire",null,null,null,null,null,null,0,0,0,0,0,0,0,0,0,0,0,0,0,0,0,0,0,0,0,0,0,0,0,0,0,0,0,0,0,0,0,0,0,0,0,0,0,0,0,0,0,null,{"$f":"VLOOKUP($BU1138,$BR$246:$EC$1034,DR$1035,)","v":0},0,0,0,0,0,0,0,0,0,0,0,0,0,0]
[null,null,null,null,null,null,null,null,null,null,null,null,null,null,null,null,null,null,null,null,null,null,null,null,null,null,null,null,null,null,null,null,null,null,null,null,null,null,null,null,null,null,null,null,null,null,null,null,null,null,null,null,null,null,null,null,null,null,null,null,null,null,null,null,null,null,null,null,null,104,null,null,"Pas d'avantage aléatoire",null,null,null,null,null,null,0,0,0,0,0,0,0,0,0,0,0,0,0,0,0,0,0,0,0,0,0,0,0,0,0,0,0,0,0,0,0,0,0,0,0,0,0,0,0,0,0,null,0,0,0,0,0,0,0,0,0,0,0,0,0,0,0]
[null,null,null,null,null,null,null,null,null,null,null,null,null,null,null,null,null,null,null,null,null,null,null,null,null,null,null,null,null,null,null,null,null,null,null,null,null,null,null,null,null,null,null,null,null,null,null,null,null,null,null,null,null,null,null,null,null,null,null,null,null,null,null,null,null,null,null,null,null,105,null,null,"Pas d'avantage aléatoire",null,null,null,null,null,null,0,0,0,0,0,0,0,0,0,0,0,0,0,0,0,0,0,0,0,0,0,0,0,0,0,0,0,0,0,0,0,0,0,0,0,0,0,0,0,0,0,null,0,0,0,0,0,0,0,0,0,0,0,0,0,0,0]
[null,null,null,null,null,null,null,null,null,null,null,null,null,null,null,null,null,null,null,null,null,null,null,null,null,null,null,null,null,null,null,null,null,null,null,null,null,null,null,null,null,null,null,null,null,null,null,null,null,null,null,null,null,null,null,null,null,null,null,null,null,null,null,null,null,null,null,null,null,106,null,null,"Pas d'avantage aléatoire",null,null,null,null,null,null,0,0,0,0,0,0,0,0,0,0,0,0,0,0,0,0,0,0,0,0,0,0,0,0,0,0,0,0,0,0,0,0,0,0,0,0,0,0,0,0,0,null,0,0,0,0,0,0,0,0,0,0,0,0,0,0,0]
[null,null,null,null,null,null,null,null,null,null,null,null,null,null,null,null,null,null,null,null,null,null,null,null,null,null,null,null,null,null,null,null,null,null,null,null,null,null,null,null,null,null,null,null,null,null,null,null,null,null,null,null,null,null,null,null,null,null,null,null,null,null,null,null,null,null,null,null,null,107,null,null,"Pas d'avantage aléatoire",null,null,null,null,null,null,0,0,0,0,0,0,0,0,0,0,0,0,0,0,0,0,0,0,0,0,0,0,0,0,0,0,0,0,0,0,0,0,0,0,0,0,0,0,0,0,0,null,0,0,0,0,0,0,0,0,0,0,0,0,0,0,0]
[null,null,null,null,null,null,null,null,null,null,null,null,null,null,null,null,null,null,null,null,null,null,null,null,null,null,null,null,null,null,null,null,null,null,null,null,null,null,null,null,null,null,null,null,null,null,null,null,null,null,null,null,null,null,null,null,null,null,null,null,null,null,null,null,null,null,null,null,null,108,null,null,"Pas d'avantage aléatoire",null,null,null,null,null,null,0,0,0,0,0,0,0,0,0,0,0,0,0,0,0,0,0,0,0,0,0,0,0,0,0,0,0,0,0,0,0,0,0,0,0,0,0,0,0,0,0,null,0,0,0,0,0,0,0,0,0,0,0,0,0,0,0]
[null,null,null,null,null,null,null,null,null,null,null,null,null,null,null,null,null,null,null,null,null,null,null,null,null,null,null,null,null,null,null,null,null,null,null,null,null,null,null,null,null,null,null,null,null,null,null,null,null,null,null,null,null,null,null,null,null,null,null,null,null,null,null,null,null,null,null,null,null,109,null,null,"TOTAL 4",null,null,null,null,null,null,null,null,{"$f":"SUM(CD1118:CD1143)","v":0},0,0,0,0,0,0,0,0,0,0,0,0,0,0,0,0,0,0,0,0,0,0,0,0,0,0,0,0,0,0,0,0,0,0,0,0,0,0,null,0,0,0,0,0,0,0,0,0,0,0,0,0,{"$f":"SUM(EE1118:EE1143)","v":0},{"$f":"SUM(EF1118:EF1143)","v":0}]
[null,null,null,null,null,null,null,null,null,null,null,null,null,null,null,null,null,null,null,null,null,null,null,null,null,null,null,null,null,null,null,null,null,null,null,null,null,null,null,null,null,null,null,null,null,null,null,null,null,null,null,null,null,null,null,null,null,null,null,null,null,null,null,null,null,null,null,null,null,110,null,null,null,null,null,null,null,null,null,"Bonus salaire","Modif. salaire","Valeur objets","Nvlle comp.","Pts comp.","FOR","CON","COO","ADA","PER","INT","VOL","PRE","Contacts","Alliés","Allié améliorable : Groupe/Gang","Opposants","Ennemis","Célébrité (points)","Relations","Art/Artisanat","Ateliers","Assemblage","Base de données (points)","Bar","Cabine privée (points)","Cabinets médicaux","Concession minières","Corruption/Chantage (points)","Etal/Boutique","Falsification (points)","Fausses identités (points)","Matériel","Parcelles d'élevage/cultures","Pharmacie personnelle (points)","Planque/cache (points)","Réseau de contrebande (points)","Stock de marchandises (points)","Acrobatie/Equilibre","Combat corps à corps","Empathie",null,"Adaptation extérieure","Artefacts (points)","Conscience du Flux (points)","Evolution (points)","Larves de connaissance (points)","Larves de vision (points)","Lien espèce (points)","Murmure du monde (points)","Protection de la surface (points)","Renforcement du lien animal (points)","FOR/CON/ADA/COO","FOR/ADA","ADA/PRE","Empathie","Discipline"]
[null,null,null,null,null,null,null,null,null,null,null,null,null,null,null,null,null,null,null,null,null,null,null,null,null,null,null,null,null,null,null,null,null,null,null,null,null,null,null,null,null,null,null,null,null,null,null,null,null,null,null,null,null,null,null,null,null,null,null,null,null,null,null,null,null,null,null,null,null,111,null,null,"TOTAL FINAL",null,null,null,null,null,null,null,null,{"$f":"CD1063+CD1090+CD1117+CD1144","v":0},{"$f":"CE1063+CE1090+CE1117+CE1144","v":0},0,{"$f":"CG1063+CG1090+CG1117+CG1144+V60","v":0},{"$f":"CH1063+CH1090+CH1117+CH1144+W60","v":0},0,0,0,0,0,0,0,0,0,0,0,0,0,0,0,0,0,0,0,0,0,0,0,0,0,0,0,0,0,0,0,0,{"$f":"DO1063+DO1090+DO1117+DO1144","v":0},{"$f":"DP1063+DP1090+DP1117+DP1144","v":0},null,{"$f":"DR1063+DR1090+DR1117+DR1144","v":0},0,0,0,0,0,0,0,0,0,{"$f":"EB1063+EB1090+EB1117+EB1144","v":0},0,0,{"$f":"EE1063+EE1090+EE1117+EE1144","v":0},{"$f":"EF1063+EF1090+EF1117+EF1144","v":0}]
[null,null,null,null,null,null,null,null,null,null,null,null,null,null,null,null,null,null,null,null,null,null,null,null,null,null,null,null,null,null,null,null,null,null,null,null,null,null,null,null,null,null,null,null,null,null,null,null,null,null,null,null,null,null,null,null,null,null,null,null,null,null,null,null,null,null,null,null,null,null,null,null,null,null,null,null,null,null,null,null,null,null,null,null,"Choix Attribut à faire",null,null,null,null,null,null,null,null,null,null,null,null,null,null,null,null,null,null,null,null,null,null,null,null,null,null,null,null,null,null,null,null,null,null,"Acquisition",null,null,null,null,null,null,null,null,null,null,null,null,null,null,"Bonus de +"]
[null,null,null,null,null,null,null,null,null,null,null,null,null,null,null,null,null,null,null,null,null,null,null,null,null,null,null,null,null,null,null,null,null,null,null,null,null,null,null,null,null,null,null,null,null,null,null,null,null,null,null,null,null,null,null,null,null,null,null,null,null,null,null,null,null,null,null,null,null,null,null,null,null,null,null,null,null,null,null,null,null,null,null,null,null,null,null,null,null,null,null,null,null,null,null,null,null,null,null,null,null,null,null,null,null,null,null,null,null,null,null,null,null,null,null,null,null,null,null,"Empathie"]

{"sheet":"ACHATS","index":8,"n_rows":303,"n_cols":64,"rows_kept":303,"cut":false,"hidden":false,"merged":[[21,59,40,61],[45,59,64,61],[68,59,83,61],[88,59,99,61],[21,63,109,66],[108,59,108,61],[104,59,104,61],[106,59,106,61],[16,1,18,1],[130,1,132,1],[218,1,220,1],[301,27,301,28],[301,31,301,32],[301,33,301,34],[11,15,11,16],[14,20,14,21],[12,20,12,21],[11,20,11,21],[11,26,11,27],[12,26,12,27],[13,26,13,27],[14,26,14,27],[15,26,15,27],[16,26,16,27],[13,15,13,16],[14,15,14,16],[12,15,12,16],[234,14,234,15],[235,14,235,15],[236,14,236,15],[237,14,237,15],[298,33,298,34],[17,20,17,21],[16,20,16,21],[301,4,301,7],[301,8,301,9],[301,10,301,11],[301,12,301,13],[301,14,301,15],[301,20,301,21],[301,22,301,23],[301,24,301,25],[295,4,295,7],[295,8,295,9],[295,10,295,11],[295,13,295,15],[295,18,295,19],[295,21,295,22],[295,23,295,24],[298,14,298,15],[298,20,298,21],[298,22,298,23],[298,24,298,25],[208,21,208,22],[208,23,208,24],[202,4,202,7],[202,8,202,9],[203,8,203,9],[86,16,86,17],[222,21,222,22],[222,25,222,29],[223,4,223,7],[223,8,223,9],[203,10,203,11],[299,33,299,34],[300,4,300,7],[300,8,300,9],[300,10,300,11],[300,12,300,13],[300,14,300,15],[300,20,300,21],[300,22,300,23],[300,24,300,25],[300,27,300,28],[300,31,300,32],[300,33,300,34],[295,27,295,28],[295,29,295,31],[298,4,298,7],[298,8,298,9],[298,10,298,11],[299,27,299,28],[298,12,298,13],[298,27,298,28],[299,22,299,23],[299,24,299,25],[299,4,299,7],[299,8,299,9],[299,10,299,11],[299,12,299,13],[299,14,299,15],[299,20,299,21],[298,31,298,32],[299,31,299,32],[212,29,212,31],[213,29,213,31],[230,14,230,15],[230,16,230,17],[230,18,230,19],[222,4,222,7],[222,8,222,9],[222,10,222,11],[222,12,222,13],[235,4,235,5],[235,6,235,7],[235,8,235,9],[233,16,233,17],[222,14,222,15],[223,16,223,17],[223,18,223,19],[223,21,223,22],[223,25,223,29],[213,4,213,7],[213,8,213,9],[213,10,213,11],[213,13,213,15],[213,18,213,19],[213,21,213,22],[213,23,213,24],[213,27,213,28],[211,4,211,7],[211,8,211,9],[211,10,211,11],[211,13,211,15],[211,18,211,19],[211,21,211,22],[211,23,211,24],[211,27,211,28],[211,29,211,31],[224,25,224,29],[225,25,225,29],[226,4,226,5],[226,6,226,7],[226,8,226,9],[226,10,226,12],[226,13,226,14],[226,15,226,16],[226,25,226,29],[223,12,223,13],[223,10,223,11],[223,14,223,15],[212,4,212,7],[212,8,212,9],[212,10,212,11],[212,13,212,15],[212,18,212,19],[212,21,212,22],[212,23,212,24],[212,27,212,28],[214,21,214,22],[222,16,222,17],[222,18,222,19],[210,4,210,7],[210,8,210,9],[210,10,210,11],[210,13,210,15],[210,18,210,19],[210,21,210,22],[210,23,210,24],[210,27,210,28],[210,29,210,31],[208,27,208,28],[208,29,208,31],[209,4,209,7],[209,8,209,9],[209,10,209,11],[209,13,209,15],[209,18,209,19],[209,21,209,22],[209,23,209,24],[209,27,209,28],[209,29,209,31],[204,4,204,7],[204,8,204,9],[204,10,204,11],[204,12,204,13],[204,16,204,17],[204,18,204,19],[205,8,205,9],[208,4,208,7],[208,8,208,9],[208,10,208,11],[208,13,208,15],[208,18,208,19],[203,12,203,13],[203,16,203,17],[203,18,203,19],[200,4,200,7],[200,8,200,9],[200,10,200,11],[200,12,200,13],[200,16,200,17],[200,18,200,19],[201,4,201,7],[201,8,201,9],[201,10,201,11],[201,12,201,13],[201,16,201,17],[201,18,201,19],[202,10,202,11],[202,12,202,13],[202,16,202,17],[202,18,202,19],[203,4,203,7],[198,4,198,7],[198,8,198,9],[198,10,198,11],[198,12,198,13],[198,16,198,17],[198,18,198,19],[199,4,199,7],[199,8,199,9],[199,10,199,11],[199,12,199,13],[199,16,199,17],[199,18,199,19],[196,4,196,7],[196,8,196,9],[196,10,196,11],[196,12,196,13],[196,16,196,17],[196,18,196,19],[197,4,197,7],[197,8,197,9],[197,10,197,11],[197,12,197,13],[197,16,197,17],[197,18,197,19],[194,4,194,7],[194,8,194,9],[194,10,194,11],[194,12,194,13],[194,16,194,17],[194,18,194,19],[195,4,195,7],[195,8,195,9],[195,10,195,11],[195,12,195,13],[195,16,195,17],[195,18,195,19],[192,4,192,7],[192,8,192,9],[192,10,192,11],[192,12,192,13],[192,16,192,17],[192,18,192,19],[193,4,193,7],[193,8,193,9],[193,10,193,11],[193,12,193,13],[193,16,193,17],[193,18,193,19],[190,4,190,7],[190,8,190,9],[190,10,190,11],[190,12,190,13],[190,14,190,15],[190,16,190,17],[190,18,190,19],[190,20,190,21],[190,25,190,26],[189,4,189,7],[189,8,189,9],[189,10,189,11],[189,12,189,13],[189,14,189,15],[189,16,189,17],[189,18,189,19],[189,20,189,21],[189,25,189,26],[185,4,185,7],[185,8,185,9],[185,10,185,11],[185,12,185,13],[185,16,185,17],[185,18,185,20],[183,4,183,7],[183,8,183,9],[183,10,183,11],[183,12,183,13],[183,16,183,17],[183,18,183,20],[184,4,184,7],[184,8,184,9],[184,10,184,11],[184,12,184,13],[184,16,184,17],[184,18,184,20],[181,4,181,7],[181,8,181,9],[181,10,181,11],[181,12,181,13],[181,16,181,17],[181,18,181,20],[182,4,182,7],[182,8,182,9],[182,10,182,11],[182,12,182,13],[182,16,182,17],[182,18,182,20],[179,4,179,7],[179,8,179,9],[179,10,179,11],[179,12,179,13],[179,16,179,17],[179,18,179,20],[180,4,180,7],[180,8,180,9],[180,10,180,11],[180,12,180,13],[180,16,180,17],[180,18,180,20],[177,4,177,7],[177,8,177,9],[177,10,177,11],[177,12,177,13],[177,16,177,17],[177,18,177,20],[178,4,178,7],[178,8,178,9],[178,10,178,11],[178,12,178,13],[178,16,178,17],[178,18,178,20],[175,4,175,7],[175,8,175,9],[175,10,175,11],[175,12,175,13],[175,16,175,17],[175,18,175,20],[176,4,176,7],[176,8,176,9],[176,10,176,11],[176,12,176,13],[176,16,176,17],[176,18,176,20],[173,4,173,7],[173,8,173,9],[173,10,173,11],[173,12,173,13],[173,16,173,17],[173,18,173,20],[174,4,174,7],[174,8,174,9],[174,10,174,11],[174,12,174,13],[174,16,174,17],[174,18,174,20],[171,4,171,7],[171,8,171,9],[171,10,171,11],[171,12,171,13],[171,16,171,17],[171,18,171,20],[172,4,172,7],[172,8,172,9],[172,10,172,11],[172,12,172,13],[172,16,172,17],[172,18,172,20],[169,4,169,7],[169,8,169,9],[169,10,169,11],[169,12,169,13],[169,16,169,17],[169,18,169,20],[170,4,170,7],[170,8,170,9],[170,10,170,11],[170,12,170,13],[170,16,170,17],[170,18,170,20],[167,4,167,7],[167,8,167,9],[167,10,167,11],[167,12,167,13],[167,16,167,17],[167,18,167,20],[168,4,168,7],[168,8,168,9],[168,10,168,11],[168,12,168,13],[168,16,168,17],[168,18,168,20],[165,4,165,7],[165,8,165,9],[165,10,165,11],[165,12,165,13],[165,16,165,17],[165,18,165,20],[166,4,166,7],[166,8,166,9],[166,10,166,11],[166,12,166,13],[166,16,166,17],[166,18,166,20],[163,4,163,7],[163,8,163,9],[163,10,163,11],[163,12,163,13],[163,16,163,17],[163,18,163,20],[164,4,164,7],[164,8,164,9],[164,10,164,11],[164,12,164,13],[164,16,164,17],[164,18,164,20],[161,4,161,7],[161,8,161,9],[161,10,161,11],[161,12,161,13],[161,16,161,17],[161,18,161,20],[162,4,162,7],[162,8,162,9],[162,10,162,11],[162,12,162,13],[162,16,162,17],[162,18,162,20],[160,4,160,7],[160,8,160,9],[160,12,160,13],[160,16,160,17],[160,18,160,20],[160,10,160,11],[159,10,159,11],[157,4,157,7],[157,8,157,9],[157,10,157,11],[157,12,157,13],[157,16,157,17],[157,18,157,20],[158,4,158,7],[158,8,158,9],[158,10,158,11],[158,12,158,13],[158,16,158,17],[158,18,158,20],[154,4,154,7],[154,8,154,9],[154,10,154,11],[154,12,154,13],[154,16,154,17],[154,18,154,20],[155,4,155,7],[155,8,155,9],[155,10,155,11],[155,12,155,13],[155,16,155,17],[155,18,155,20],[156,4,156,7],[156,8,156,9],[156,10,156,11],[156,18,156,20],[159,4,159,7],[159,8,159,9],[159,12,159,13],[159,16,159,17],[159,18,159,20],[147,10,147,11],[146,12,146,13],[147,12,147,13],[149,10,149,11],[153,4,153,7],[153,8,153,9],[156,12,156,13],[148,4,148,5],[149,4,149,5],[149,6,149,7],[147,20,147,21],[148,20,148,21],[149,20,149,21],[156,16,156,17],[149,14,149,15],[146,14,146,15],[147,14,147,15],[146,16,146,17],[147,16,147,17],[148,16,148,17],[149,16,149,17],[146,18,146,19],[147,18,147,19],[148,18,148,19],[149,18,149,19],[146,20,146,21],[147,8,147,9],[148,8,148,9],[153,10,153,11],[153,12,153,13],[153,16,153,17],[153,18,153,20],[135,21,135,25],[136,21,136,25],[137,21,137,25],[138,21,138,25],[142,22,142,23],[142,20,142,21],[146,22,146,23],[147,22,147,23],[148,22,148,23],[149,22,149,23],[143,10,143,11],[143,12,143,13],[143,14,143,15],[143,16,143,17],[143,18,143,19],[142,4,142,5],[142,6,142,7],[143,6,143,7],[142,8,142,9],[146,6,146,7],[142,10,142,11],[147,6,147,7],[142,12,142,13],[148,6,148,7],[142,14,142,15],[142,16,142,17],[142,18,142,19],[148,14,148,15],[148,10,148,11],[146,4,146,5],[147,4,147,5],[146,8,146,9],[108,10,108,11],[109,10,109,11],[110,10,110,11],[108,12,108,13],[109,12,109,13],[110,12,110,13],[111,4,111,7],[111,8,111,9],[111,10,111,11],[111,12,111,13],[106,4,106,7],[107,4,107,7],[106,8,106,9],[108,4,108,7],[109,4,109,7],[110,4,110,7],[134,21,134,25],[112,12,112,13],[113,12,113,13],[106,12,106,13],[107,12,107,13],[123,10,123,11],[111,18,111,19],[107,8,107,9],[108,8,108,9],[109,8,109,9],[110,8,110,9],[106,10,106,11],[107,10,107,11],[114,4,114,7],[114,8,114,9],[114,10,114,11],[103,20,103,21],[103,25,103,26],[104,4,104,7],[104,8,104,9],[104,10,104,11],[104,20,104,21],[104,25,104,26],[103,12,103,13],[104,12,104,13],[103,14,103,15],[104,14,104,15],[103,18,103,19],[104,16,104,17],[103,16,103,17],[104,18,104,19],[12,5,12,6],[13,5,13,6],[14,5,14,6],[94,26,94,28],[93,4,93,7],[93,16,93,17],[93,20,93,21],[93,24,93,25],[95,18,95,19],[96,18,96,19],[93,18,93,19],[94,18,94,19],[97,18,97,19],[91,26,91,28],[92,4,92,7],[92,16,92,17],[92,20,92,21],[11,10,11,11],[13,10,13,11],[14,10,14,11],[99,26,99,28],[99,4,99,7],[99,16,99,17],[99,20,99,21],[99,24,99,25],[97,26,97,28],[98,4,98,7],[98,16,98,17],[98,20,98,21],[98,24,98,25],[98,26,98,28],[97,16,97,17],[97,20,97,21],[97,24,97,25],[95,26,95,28],[96,4,96,7],[96,16,96,17],[96,20,96,21],[96,24,96,25],[96,26,96,28],[95,4,95,7],[95,16,95,17],[95,20,95,21],[95,24,95,25],[93,26,93,28],[94,4,94,7],[94,16,94,17],[94,20,94,21],[94,24,94,25],[92,24,92,25],[92,26,92,28],[91,4,91,7],[91,16,91,17],[91,20,91,21],[91,24,91,25],[87,26,87,28],[88,4,88,7],[88,16,88,17],[88,20,88,21],[88,24,88,25],[88,26,88,28],[87,4,87,7],[87,16,87,17],[87,20,87,21],[87,24,87,25],[89,26,89,28],[90,4,90,7],[90,16,90,17],[90,20,90,21],[90,24,90,25],[90,26,90,28],[89,4,89,7],[89,16,89,17],[89,20,89,21],[89,24,89,25],[91,18,91,19],[92,18,92,19],[83,20,83,22],[83,4,83,7],[83,8,83,9],[83,10,83,11],[83,14,83,15],[83,18,83,19],[81,20,81,22],[82,4,82,7],[82,8,82,9],[82,10,82,11],[82,14,82,15],[82,18,82,19],[82,20,82,22],[81,4,81,7],[81,8,81,9],[81,10,81,11],[81,14,81,15],[81,18,81,19],[79,20,79,22],[80,4,80,7],[80,8,80,9],[80,10,80,11],[80,14,80,15],[80,18,80,19],[80,20,80,22],[79,4,79,7],[79,8,79,9],[79,10,79,11],[79,14,79,15],[79,18,79,19],[77,20,77,22],[78,4,78,7],[78,8,78,9],[78,10,78,11],[78,14,78,15],[78,18,78,19],[78,20,78,22],[77,4,77,7],[77,8,77,9],[77,10,77,11],[77,14,77,15],[77,18,77,19],[79,12,79,13],[75,20,75,22],[76,4,76,7],[76,8,76,9],[76,10,76,11],[76,14,76,15],[76,18,76,19],[76,20,76,22],[75,4,75,7],[75,8,75,9],[75,10,75,11],[75,14,75,15],[75,18,75,19],[73,20,73,22],[74,4,74,7],[74,8,74,9],[74,10,74,11],[74,14,74,15],[74,18,74,19],[74,20,74,22],[73,4,73,7],[73,8,73,9],[73,10,73,11],[73,14,73,15],[73,18,73,19],[71,20,71,22],[72,4,72,7],[72,8,72,9],[72,10,72,11],[72,14,72,15],[72,18,72,19],[72,20,72,22],[71,4,71,7],[71,8,71,9],[71,10,71,11],[71,14,71,15],[71,18,71,19],[69,20,69,22],[70,4,70,7],[70,8,70,9],[70,10,70,11],[70,14,70,15],[70,18,70,19],[70,20,70,22],[69,4,69,7],[69,8,69,9],[69,10,69,11],[69,14,69,15],[69,18,69,19],[67,20,67,22],[68,4,68,7],[68,8,68,9],[68,10,68,11],[68,14,68,15],[68,18,68,19],[68,20,68,22],[67,4,67,7],[67,8,67,9],[67,10,67,11],[67,14,67,15],[67,18,67,19],[62,20,62,22],[63,10,63,11],[63,14,63,15],[63,18,63,19],[63,20,63,22],[62,10,62,11],[62,14,62,15],[63,8,63,9],[62,12,62,13],[63,12,63,13],[62,18,62,19],[55,14,55,15],[55,18,55,19],[55,20,55,22],[58,20,58,22],[58,10,58,11],[58,14,58,15],[52,18,52,19],[52,20,52,22],[53,10,53,11],[53,14,53,15],[53,18,53,19],[53,20,53,22],[53,12,53,13],[59,10,59,11],[59,14,59,15],[59,18,59,19],[59,20,59,22],[51,18,51,19],[51,20,51,22],[59,12,59,13],[60,10,60,11],[60,14,60,15],[60,18,60,19],[60,20,60,22],[61,10,61,11],[61,14,61,15],[61,18,61,19],[61,20,61,22],[60,12,60,13],[61,12,61,13],[48,18,48,19],[48,20,48,22],[49,10,49,11],[49,14,49,15],[49,18,49,19],[49,20,49,22],[56,10,56,11],[56,14,56,15],[56,18,56,19],[56,20,56,22],[57,10,57,11],[57,14,57,15],[57,18,57,19],[57,20,57,22],[56,12,56,13],[57,12,57,13],[58,12,58,13],[54,20,54,22],[55,10,55,11],[44,20,44,22],[45,20,45,22],[46,20,46,22],[47,20,47,22],[37,25,37,27],[33,22,33,23],[33,24,33,25],[44,18,44,19],[45,18,45,19],[46,18,46,19],[63,4,63,7],[44,14,44,15],[45,14,45,15],[46,14,46,15],[47,14,47,15],[44,10,44,11],[45,10,45,11],[46,10,46,11],[47,10,47,11],[48,10,48,11],[48,14,48,15],[50,10,50,11],[50,14,50,15],[52,10,52,11],[52,14,52,15],[54,10,54,11],[54,14,54,15],[54,12,54,13],[55,12,55,13],[50,20,50,22],[51,10,51,11],[51,14,51,15],[39,25,39,27],[40,4,40,7],[40,8,40,9],[40,10,40,11],[40,19,40,20],[40,25,40,27],[39,12,39,13],[40,12,40,13],[39,14,39,15],[40,14,40,15],[39,4,39,7],[39,8,39,9],[39,10,39,11],[39,19,39,20],[39,23,39,24],[40,23,40,24],[39,17,39,18],[40,17,40,18],[30,28,30,29],[38,19,38,20],[38,25,38,27],[37,12,37,13],[38,12,38,13],[37,14,37,15],[38,14,38,15],[37,4,37,7],[37,8,37,9],[37,10,37,11],[37,19,37,20],[37,23,37,24],[38,23,38,24],[32,8,32,9],[32,10,32,11],[33,8,33,9],[33,10,33,11],[31,28,31,29],[37,17,37,18],[38,17,38,18],[23,8,23,9],[27,8,27,9],[31,8,31,9],[21,4,21,7],[22,4,22,7],[23,4,23,7],[27,4,27,7],[28,4,28,7],[29,4,29,7],[33,30,33,32],[27,22,27,23],[27,24,27,25],[28,22,28,23],[28,24,28,25],[29,22,29,23],[29,24,29,25],[30,22,30,23],[30,24,30,25],[31,24,31,25],[27,30,27,32],[28,30,28,32],[29,30,29,32],[30,30,30,32],[31,30,31,32],[32,30,32,32],[32,28,32,29],[33,28,33,29],[31,22,31,23],[32,22,32,23],[32,24,32,25],[27,28,27,29],[28,28,28,29],[20,27,20,29],[21,27,21,29],[22,27,22,29],[23,27,23,29],[20,19,20,20],[27,19,27,20],[28,19,28,20],[29,19,29,20],[32,13,32,15],[33,13,33,15],[30,19,30,20],[31,19,31,20],[32,19,32,20],[33,19,33,20],[20,16,20,17],[20,25,20,26],[21,25,21,26],[22,25,22,26],[23,25,23,26],[21,19,21,20],[22,19,22,20],[23,19,23,20],[20,21,20,22],[21,21,21,22],[22,21,22,22],[23,21,23,22],[27,13,27,15],[28,13,28,15],[29,13,29,15],[30,13,30,15],[31,13,31,15],[29,28,29,29],[3,0,3,2],[4,11,6,11],[11,5,11,6],[13,20,13,21],[38,4,38,7],[38,8,38,9],[38,10,38,11],[29,8,29,9],[29,10,29,11],[30,8,30,9],[30,10,30,11],[21,16,21,17],[22,16,22,17],[23,16,23,17],[17,3,17,7],[12,10,12,11],[32,4,32,7],[33,4,33,7],[20,8,20,9],[21,8,21,9],[22,8,22,9],[20,4,20,7],[21,10,21,11],[22,10,22,11],[23,10,23,11],[30,4,30,7],[31,4,31,7],[20,10,20,11],[31,10,31,11],[27,10,27,11],[28,8,28,9],[28,10,28,11],[45,4,45,7],[46,4,46,7],[47,4,47,7],[44,8,44,9],[45,8,45,9],[46,8,46,9],[47,8,47,9],[44,4,44,7],[48,4,48,7],[117,4,117,7],[117,8,117,9],[117,10,117,11],[61,4,61,7],[62,4,62,7],[58,8,58,9],[59,8,59,9],[60,8,60,9],[61,8,61,9],[62,8,62,9],[53,8,53,9],[54,8,54,9],[55,8,55,9],[56,8,56,9]],"merged_total":1544,"flags":["merged_cut"]}
[]
[null,null,null,null,null,null,null,null,null,null,null,"<< Légende _"]
[]
["TROISIEME EDITION",null,null,null,null,null,null,null,null,null,null,null,"Cellules à compléter / Sélection à faire dans le menu déroulant"]
[]
[null,null,null,null,null,null,null,null,null,null,null,null,"Passer la souris au dessus de ce symbole pour afficher un commentaire"]
[]
[]
[]
[]
[null,null,null,null,null,null,"*",null,null,null,{"$f":"IF(AVANTAGES_PROFESSIONNELS!O71<0,AVANTAGES_PROFESSIONNELS!O71,0)","v":0},"*",null,null,null,null,"*"]
[null,null,null,"Economies",null,{"$f":"IF(AVANTAGES_PROFESSIONNELS!O71<0,0,AVANTAGES_PROFESSIONNELS!O71)+MJ_EXPERIENCE!E121","v":0},null,"sols","Achats à crédit",null,{"$f":"C25+C35+C42+C65+C85+C101+C106+C120+C128+C137+C187+C192+C206+C216+C225+C268+C273+C287+C297+C303+MJ_EXPERIENCE!E122","v":0},null,"sols","Avantage Matériel",null,{"$f":"AVANTAGES_PROFESSIONNELS!Y99+MJ_EXPERIENCE!E123","v":0},null,"sols","Autres valeurs",null,{"$f":"U13+U14+U15","v":0},null,"sols",null,"Bénéfices mensuels",null,{"$f":"AA13+AA14+AA15+AA16+AA17","v":0},null,"sols"]
[null,null,null,"Achats",null,{"$f":"D25+D35+D42+D65+D85+D101+D106+D120+D128+D137+D187+D192+D206+D216+D225+D268+D273+D287+D297+D303","v":0},null,"sols","Reduc. endettement",null,{"$f":"AVANTAGES_PROFESSIONNELS!O79","v":0},null,"%","Matériel obtenu",null,{"$f":"B25+B35+B42+B65+B85+B101+B106+B120+B128+B137+B187+B192+B206+B216+B225+B268+B273+B287+B297+B303","v":0},null,"sols","Valeur d'art",null,{"$f":"AVANTAGES_PROFESSIONNELS!S71","v":0},null,"sols",null,"Atelier",null,{"$f":"AVANTAGES_PROFESSIONNELS!Y74","v":0},null,"sols"]
[null,null,null,"Eco. Restantes",null,{"$f":"F12-F13","v":0},null,"sols","Dette",null,{"$f":"(K12-(K12*K13/100))-K11","v":0},null,"sols","Tout doit disparaître !",null,{"$f":"P12-P13","v":0},null,"sols","Valeur reliques / butin",null,{"$f":"AVANTAGES_PROFESSIONNELS!O75","v":0},null,"sols",null,"Bar",null,{"$f":"AVANTAGES_PROFESSIONNELS!AN70","v":0},null,"sols"]
[null,null,null,null,null,{"$f":"IF(F14<0,\"ERREUR\",\"\")","v":""},null,null,null,null,{"$f":"IF(K14<0,\"ERREUR\",\"\")","v":""},null,null,null,null,{"$f":"IF(P14<0,\"ERREUR\",\"\")","v":""},null,null,"Valeur stock",null,{"$f":"AVANTAGES_PROFESSIONNELS!BC99+AVANTAGES_PROFESSIONNELS!BC107+AVANTAGES_PROFESSIONNELS!BC115+AVANTAGES_PROFESSIONNELS!BC123+AVANTAGES_PROFESSIONNELS!BC131","v":0},null,"sols",null,"Cabinet médical",null,{"$f":"AVANTAGES_PROFESSIONNELS!AW70","v":0},null,"sols"]
[null,null,null,null,null,null,null,null,null,null,null,null,null,null,null,null,null,null,null,null,null,null,null,null,"Concession minière",null,{"$f":"AVANTAGES_PROFESSIONNELS!BC75+AVANTAGES_PROFESSIONNELS!BC81","v":0},null,"sols"]
[null,null,null,null,null,null,null,null,null,null,null,null,null,null,null,null,null,null,"Parts : matériel/mois",null,{"$f":"AVANTAGES_PROFESSIONNELS!Y103","v":0},null,"sols",null,"Parcelle d'élév./cult.",null,{"$f":"AVANTAGES_PROFESSIONNELS!AI97+AVANTAGES_PROFESSIONNELS!AI103","v":0},null,"sols"]
[null,null,null,"EQUIPEMENT PERSONNEL",null,null,null,null,null,null,null,null,null,null,null,null,null,null,"Rente mensuelle",null,{"$f":"AVANTAGES_PROFESSIONNELS!O77","v":0},null,"sols"]
[]
[null,null,null,null,"Armes de contact"]
[null,"Matériel","Crédit","Achat","Modèle",null,null,null,"Dom.",null,"Choc",null,"Pén.","FOR","Ini.","All.","Coût indicatif",null,"Charges","Cap. charg. (coût)",null,"DIS (M. noir)",null,"Poids (kg)","NT","Fabricant",null,"Notes",null,null,"ITG*",null,null,null,null,null,null,null,null,null,null,null,null,null,null,null,null,null,null,null,null,null,null,null,null,null,null,null,null,"Armes/protections"]
[null,null,null,null,null,null,null,null,null,null,null,null,null,null,null,null,null,null,null,null,null,null,null,null,null,null,null,null,null,null,null,null,null,null,null,null,null,null,null,null,null,null,null,null,null,null,null,null,null,null,null,null,null,null,null,null,null,{"$f":"IF(E22=\"\",\"\",CONCATENATE(E22,\" (\",I22,\"), \"))","v":""},null,{"$f":"CONCATENATE(BF22,BF23,BF24,BF29,BF30,BF31,BF32,BF33,BF34,BF39,BF40,BF41)","v":""},null,null,null,{"$f":"CONCATENATE(BH22,BH107,BH109,BH105,BH89,BH46,BH69)","v":""}]
[null,null,null,null,null,null,null,null,null,null,null,null,null,null,null,null,null,null,null,null,null,null,null,null,null,null,null,null,null,null,null,null,null,null,null,null,null,null,null,null,null,null,null,null,null,null,null,null,null,null,null,null,null,null,null,null,null,{"$f":"IF(E23=\"\",\"\",CONCATENATE(E23,\" (\",I23,\"), \"))","v":""}]
[null,null,null,null,null,null,null,null,null,null,null,null,null,null,null,null,null,null,null,null,null,null,null,null,null,null,null,null,null,null,null,null,null,null,null,null,null,null,null,null,null,null,null,null,null,null,null,null,null,null,null,null,null,null,null,null,null,""]
[null,{"$f":"SUM(B22:B24)","v":0},{"$f":"SUM(C22:C24)","v":0},0,null,null,null,null,null,null,null,null,null,null,null,null,null,null,null,null,null,null,null,null,null,null,null,null,null,null,"*occas. 2D6+6, neuf 20 (m.n.)"]
[]
[null,null,null,null,"Armes de tir"]
[null,"Matériel","Crédit","Achat","Modèle",null,null,null,"Dom.",null,"Choc",null,"Pén.","Portée",null,null,"FOR","Ini.","Mode tir","Coût indicatif",null,"Mun.","Cap. charg. (coût)",null,"DIS (M. noir)",null,"Poids (kg)","NT","Fabricant",null,"Notes",null,null,"ITG*"]
[null,null,null,null,null,null,null,null,null,null,null,null,null,null,null,null,null,null,null,null,null,null,null,null,null,null,null,null,null,null,null,null,null,null,null,null,null,null,null,null,null,null,null,null,null,null,null,null,null,null,null,null,null,null,null,null,null,{"$f":"IF(E29=\"\",\"\",CONCATENATE(E29,\" (\",I29,\"), \"))","v":""}]
[null,null,null,null,null,null,null,null,null,null,null,null,null,null,null,null,null,null,null,null,null,null,null,null,null,null,null,null,null,null,null,null,null,null,null,null,null,null,null,null,null,null,null,null,null,null,null,null,null,null,null,null,null,null,null,null,null,""]
[null,null,null,null,null,null,null,null,null,null,null,null,null,null,null,null,null,null,null,null,null,null,null,null,null,null,null,null,null,null,null,null,null,null,null,null,null,null,null,null,null,null,null,null,null,null,null,null,null,null,null,null,null,null,null,null,null,""]
[null,null,null,null,null,null,null,null,null,null,null,null,null,null,null,null,null,null,null,null,null,null,null,null,null,null,null,null,null,null,null,null,null,null,null,null,null,null,null,null,null,null,null,null,null,null,null,null,null,null,null,null,null,null,null,null,null,""]
[null,null,null,null,null,null,null,null,null,null,null,null,null,null,null,null,null,null,null,null,null,null,null,null,null,null,null,null,null,null,null,null,null,null,null,null,null,null,null,null,null,null,null,null,null,null,null,null,null,null,null,null,null,null,null,null,null,""]
[null,null,null,null,null,null,null,null,null,null,null,null,null,null,null,null,null,null,null,null,null,null,null,null,null,null,null,null,null,null,null,null,null,null,null,null,null,null,null,null,null,null,null,null,null,null,null,null,null,null,null,null,null,null,null,null,null,""]
[null,{"$f":"SUM(B29:B34)","v":0},{"$f":"SUM(C29:C34)","v":0},0,null,null,null,null,null,null,null,null,null,null,null,null,null,null,null,null,null,null,null,null,null,null,null,null,null,null,null,null,null,"*occas. 2D6+6, neuf 20 (m.n.)"]
[]
[null,null,null,null,"Protections (armures simples, boucliers, champs de force portatifs)"]
[null,"Matériel","Crédit","Achat","Modèle",null,null,null,"Protection",null,"Choc",null,"Localisations",null,"Catégorie",null,"FOR","Coût indicatif",null,"DIS (M. noir)",null,"Poids (kg)","NT","Fabricant",null,"Notes",null,null,"ITG*"]
[null,null,null,null,null,null,null,null,null,null,null,null,null,null,null,null,null,null,null,null,null,null,null,null,null,null,null,null,null,null,null,null,null,null,null,null,null,null,null,null,null,null,null,null,null,null,null,null,null,null,null,null,null,null,null,null,null,{"$f":"IF(E39=\"\",\"\",CONCATENATE(E39,\" (\",I39,\"), \"))","v":""}]
[null,null,null,null,null,null,null,null,null,null,null,null,null,null,null,null,null,null,null,null,null,null,null,null,null,null,null,null,null,null,null,null,null,null,null,null,null,null,null,null,null,null,null,null,null,null,null,null,null,null,null,null,null,null,null,null,null,""]
[null,null,null,null,null,null,null,null,null,null,null,null,null,null,null,null,null,null,null,null,null,null,null,null,null,null,null,null,null,null,null,null,null,null,null,null,null,null,null,null,null,null,null,null,null,null,null,null,null,null,null,null,null,null,null,null,null,""]
[null,{"$f":"SUM(B39:B41)","v":0},{"$f":"SUM(C39:C41)","v":0},0,null,null,null,null,null,null,null,null,null,null,null,null,null,null,null,null,null,null,null,null,null,null,null,null,"*occas. 2D6+6, neuf 20 (m.n.)"]
[]
[null,null,null,null,"Equipement porté"]
[null,"Matériel","Crédit","Achat","Modèle",null,null,null,"Niv. / Bonus",null,"Emplacement",null,"Coût indicatif",null,"DIS (M. noir)",null,"Poids (kg)","NT","Fabricant",null,"Notes",null,null,"ITG*",null,null,null,null,null,null,null,null,null,null,null,null,null,null,null,null,null,null,null,null,null,null,null,null,null,null,null,null,null,null,null,null,null,null,null,"Equipement porté"]
[null,null,null,null,null,null,null,null,null,null,null,null,null,null,null,null,null,null,null,null,null,null,null,null,null,null,null,null,null,null,null,null,null,null,null,null,null,null,null,null,null,null,null,null,null,null,null,null,null,null,null,null,null,null,null,null,{"$f":"IF(I46=\"\",\", \",CONCATENATE(\" (\",I46,\"), \"))","v":", "},{"$f":"IF(E46=\"\",\"\",CONCATENATE(E46,BE46))","v":""},null,{"$f":"CONCATENATE(BF46,BF47,BF48,BF49,BF50,BF51,BF52,BF53,BF54,BF55,BF56,BF57,BF58,BF59,BF60,BF61,BF62,BF63,BF64)","v":""}]
[null,null,null,null,null,null,null,null,null,null,null,null,null,null,null,null,null,null,null,null,null,null,null,null,null,null,null,null,null,null,null,null,null,null,null,null,null,null,null,null,null,null,null,null,null,null,null,null,null,null,null,null,null,null,null,null,{"$f":"IF(I47=\"\",\", \",CONCATENATE(\" (\",I47,\"), \"))","v":", "},{"$f":"IF(E47=\"\",\"\",CONCATENATE(E47,BE47))","v":""}]
[null,null,null,null,null,null,null,null,null,null,null,null,null,null,null,null,null,null,null,null,null,null,null,null,null,null,null,null,null,null,null,null,null,null,null,null,null,null,null,null,null,null,null,null,null,null,null,null,null,null,null,null,null,null,null,null,", ",""]
[null,null,null,null,null,null,null,null,null,null,null,null,null,null,null,null,null,null,null,null,null,null,null,null,null,null,null,null,null,null,null,null,null,null,null,null,null,null,null,null,null,null,null,null,null,null,null,null,null,null,null,null,null,null,null,null,", ",""]
[null,null,null,null,null,null,null,null,null,null,null,null,null,null,null,null,null,null,null,null,null,null,null,null,null,null,null,null,null,null,null,null,null,null,null,null,null,null,null,null,null,null,null,null,null,null,null,null,null,null,null,null,null,null,null,null,", ",""]
[null,null,null,null,null,null,null,null,null,null,null,null,null,null,null,null,null,null,null,null,null,null,null,null,null,null,null,null,null,null,null,null,null,null,null,null,null,null,null,null,null,null,null,null,null,null,null,null,null,null,null,null,null,null,null,null,", ",""]
[null,null,null,null,null,null,null,null,null,null,null,null,null,null,null,null,null,null,null,null,null,null,null,null,null,null,null,null,null,null,null,null,null,null,null,null,null,null,null,null,null,null,null,null,null,null,null,null,null,null,null,null,null,null,null,null,", ",""]
[null,null,null,null,null,null,null,null,null,null,null,null,null,null,null,null,null,null,null,null,null,null,null,null,null,null,null,null,null,null,null,null,null,null,null,null,null,null,null,null,null,null,null,null,null,null,null,null,null,null,null,null,null,null,null,null,", ",""]
[null,null,null,null,null,null,null,null,null,null,null,null,null,null,null,null,null,null,null,null,null,null,null,null,null,null,null,null,null,null,null,null,null,null,null,null,null,null,null,null,null,null,null,null,null,null,null,null,null,null,null,null,null,null,null,null,", ",""]
[null,null,null,null,null,null,null,null,null,null,null,null,null,null,null,null,null,null,null,null,null,null,null,null,null,null,null,null,null,null,null,null,null,null,null,null,null,null,null,null,null,null,null,null,null,null,null,null,null,null,null,null,null,null,null,null,", ",""]
[null,null,null,null,null,null,null,null,null,null,null,null,null,null,null,null,null,null,null,null,null,null,null,null,null,null,null,null,null,null,null,null,null,null,null,null,null,null,null,null,null,null,null,null,null,null,null,null,null,null,null,null,null,null,null,null,", ",""]
[null,null,null,null,null,null,null,null,null,null,null,null,null,null,null,null,null,null,null,null,null,null,null,null,null,null,null,null,null,null,null,null,null,null,null,null,null,null,null,null,null,null,null,null,null,null,null,null,null,null,null,null,null,null,null,null,", ",""]
[null,null,null,null,null,null,null,null,null,null,null,null,null,null,null,null,null,null,null,null,null,null,null,null,null,null,null,null,null,null,null,null,null,null,null,null,null,null,null,null,null,null,null,null,null,null,null,null,null,null,null,null,null,null,null,null,", ",""]
[null,null,null,null,null,null,null,null,null,null,null,null,null,null,null,null,null,null,null,null,null,null,null,null,null,null,null,null,null,null,null,null,null,null,null,null,null,null,null,null,null,null,null,null,null,null,null,null,null,null,null,null,null,null,null,null,", ",""]
[null,null,null,null,null,null,null,null,null,null,null,null,null,null,null,null,null,null,null,null,null,null,null,null,null,null,null,null,null,null,null,null,null,null,null,null,null,null,null,null,null,null,null,null,null,null,null,null,null,null,null,null,null,null,null,null,", ",""]
[null,null,null,null,null,null,null,null,null,null,null,null,null,null,null,null,null,null,null,null,null,null,null,null,null,null,null,null,null,null,null,null,null,null,null,null,null,null,null,null,null,null,null,null,null,null,null,null,null,null,null,null,null,null,null,null,", ",""]
[null,null,null,null,null,null,null,null,null,null,null,null,null,null,null,null,null,null,null,null,null,null,null,null,null,null,null,null,null,null,null,null,null,null,null,null,null,null,null,null,null,null,null,null,null,null,null,null,null,null,null,null,null,null,null,null,", ",""]
[null,null,null,null,null,null,null,null,null,null,null,null,null,null,null,null,null,null,null,null,null,null,null,null,null,null,null,null,null,null,null,null,null,null,null,null,null,null,null,null,null,null,null,null,null,null,null,null,null,null,null,null,null,null,null,null,", ",""]
[null,null,null,null,null,null,null,null,null,null,null,null,null,null,null,null,null,null,null,null,null,null,null,null,null,null,null,null,null,null,null,null,null,null,null,null,null,null,null,null,null,null,null,null,null,null,null,null,null,null,null,null,null,null,null,null,", ",""]
[null,{"$f":"SUM(B46:B64)","v":0},{"$f":"SUM(C46:C64)","v":0},0,null,null,null,null,null,null,null,null,null,null,null,null,null,null,null,null,null,null,null,"*occas. 2D6+6, neuf 20 (m.n.)"]
[]
[null,null,null,null,"Equipement entreposé"]
[null,"Matériel","Crédit","Achat","Modèle",null,null,null,"Niv. / Bonus",null,"Emplacement",null,"Coût indicatif",null,"DIS (M. noir)",null,"Poids (kg)","NT","Fabricant",null,"Notes",null,null,"ITG*",null,null,null,null,null,null,null,null,null,null,null,null,null,null,null,null,null,null,null,null,null,null,null,null,null,null,null,null,null,null,null,null,null,null,null,"Equipement entroposé"]
[null,null,null,null,null,null,null,null,null,null,null,null,null,null,null,null,null,null,null,null,null,null,null,null,null,null,null,null,null,null,null,null,null,null,null,null,null,null,null,null,null,null,null,null,null,null,null,null,null,null,null,null,null,null,null,null,", ","",null,{"$f":"CONCATENATE(BF69,BF70,BF71,BF72,BF73,BF74,BF75,BF76,BF77,BF78,BF79,BF80,BF81,BF82,BF83,BF84)","v":""}]
[null,null,null,null,null,null,null,null,null,null,null,null,null,null,null,null,null,null,null,null,null,null,null,null,null,null,null,null,null,null,null,null,null,null,null,null,null,null,null,null,null,null,null,null,null,null,null,null,null,null,null,null,null,null,null,null,", ",""]
[null,null,null,null,null,null,null,null,null,null,null,null,null,null,null,null,null,null,null,null,null,null,null,null,null,null,null,null,null,null,null,null,null,null,null,null,null,null,null,null,null,null,null,null,null,null,null,null,null,null,null,null,null,null,null,null,", ",""]
[null,null,null,null,null,null,null,null,null,null,null,null,null,null,null,null,null,null,null,null,null,null,null,null,null,null,null,null,null,null,null,null,null,null,null,null,null,null,null,null,null,null,null,null,null,null,null,null,null,null,null,null,null,null,null,null,", ",""]
[null,null,null,null,null,null,null,null,null,null,null,null,null,null,null,null,null,null,null,null,null,null,null,null,null,null,null,null,null,null,null,null,null,null,null,null,null,null,null,null,null,null,null,null,null,null,null,null,null,null,null,null,null,null,null,null,", ",""]
[null,null,null,null,null,null,null,null,null,null,null,null,null,null,null,null,null,null,null,null,null,null,null,null,null,null,null,null,null,null,null,null,null,null,null,null,null,null,null,null,null,null,null,null,null,null,null,null,null,null,null,null,null,null,null,null,", ",""]
[null,null,null,null,null,null,null,null,null,null,null,null,null,null,null,null,null,null,null,null,null,null,null,null,null,null,null,null,null,null,null,null,null,null,null,null,null,null,null,null,null,null,null,null,null,null,null,null,null,null,null,null,null,null,null,null,", ",""]
[null,null,null,null,null,null,null,null,null,null,null,null,null,null,null,null,null,null,null,null,null,null,null,null,null,null,null,null,null,null,null,null,null,null,null,null,null,null,null,null,null,null,null,null,null,null,null,null,null,null,null,null,null,null,null,null,", ",""]
[null,null,null,null,null,null,null,null,null,null,null,null,null,null,null,null,null,null,null,null,null,null,null,null,null,null,null,null,null,null,null,null,null,null,null,null,null,null,null,null,null,null,null,null,null,null,null,null,null,null,null,null,null,null,null,null,", ",""]
[null,null,null,null,null,null,null,null,null,null,null,null,null,null,null,null,null,null,null,null,null,null,null,null,null,null,null,null,null,null,null,null,null,null,null,null,null,null,null,null,null,null,null,null,null,null,null,null,null,null,null,null,null,null,null,null,", ",""]
[null,null,null,null,null,null,null,null,null,null,null,null,null,null,null,null,null,null,null,null,null,null,null,null,null,null,null,null,null,null,null,null,null,null,null,null,null,null,null,null,null,null,null,null,null,null,null,null,null,null,null,null,null,null,null,null,", ",""]
[null,null,null,null,null,null,null,null,null,null,null,null,null,null,null,null,null,null,null,null,null,null,null,null,null,null,null,null,null,null,null,null,null,null,null,null,null,null,null,null,null,null,null,null,null,null,null,null,null,null,null,null,null,null,null,null,", ",""]
[null,null,null,null,null,null,null,null,null,null,null,null,null,null,null,null,null,null,null,null,null,null,null,null,null,null,null,null,null,null,null,null,null,null,null,null,null,null,null,null,null,null,null,null,"Poids total :",{"$f":"SUM(V39:V41)+SUM(Q46:Q64)+SUM(W89:W100)","v":0},null,null,null,null,null,null,null,null,null,null,", ",""]
[null,null,null,null,null,null,null,null,null,null,null,null,null,null,null,null,null,null,null,null,null,null,null,null,null,null,null,null,null,null,null,null,null,null,null,null,null,null,null,null,null,null,null,null,null,null,null,null,null,null,null,null,null,null,null,null,", ",""]
[null,null,null,null,null,null,null,null,null,null,null,null,null,null,null,null,null,null,null,null,null,null,null,null,null,null,null,null,null,null,null,null,null,null,null,null,null,null,null,null,null,null,null,null,{"$f":"ATTRIBUTS!J19","v":7},{"$f":"VLOOKUP(AS83,AS88:AT186,2)","v":12},null,null,null,null,null,null,null,null,null,null,", ",""]
[null,null,null,null,null,null,null,null,null,null,null,null,null,null,null,null,null,null,null,null,null,null,null,null,null,null,null,null,null,null,null,null,null,null,null,null,null,null,null,null,null,null,null,null,null,null,null,null,null,"Poids",null,null,null,null,null,null,", ",""]
[null,{"$f":"SUM(B69:B84)","v":0},{"$f":"SUM(C69:C84)","v":0},0,null,null,null,null,null,null,null,null,null,null,null,null,null,null,null,null,null,null,null,"*occas. 2D6+6, neuf 20 (m.n.)",null,null,null,null,null,null,null,null,null,null,null,null,null,null,"Bonus ATT","Bonus Res","ITG","NT","Gén.",null,"Force","Poids soulevable","modif deg","modif deg",null,"Gén \\ NT",1,2,3,4,5,6]
[null,null,null,null,null,null,null,null,null,null,null,null,null,null,null,null,null,null,null,null,null,null,null,null,null,null,null,null,null,null,null,null,null,null,null,null,null,null,null,null,null,null,null,null,null,null,"H","V-",null,1,5,0.5,0.125,2.1000000000000001E-2,2.5999999999999999E-3,2.9999999999999997E-4]
[null,null,null,null,"Implants cybernétiques et bilologiques / Symbiotes",null,null,null,null,null,null,null,null,null,null,null,"Emprise",null,null,null,null,null,null,"Indice invasif",null,null,null,null,null,null,null,null,null,null,null,null,null,null,null,null,null,null,null,null,null,null,null,null,null,2,10,1,0.25,4.2000000000000003E-2,5.1999999999999998E-3,5.0000000000000001E-4]
[null,"Matériel","Crédit","Achat","Modèle",null,null,null,"FOR","COO","PER","ADA","INT","VOL","PRE","Res. Dom.","Autre Niv. / Bonus",null,"Coût indicatif",null,"DIS (M. noir)",null,"Poids (kg)","NT","Fabricant",null,"Effets",null,null,"ITG*",null,null,null,null,null,null,null,null,0,0,null,null,null,null,0,0,"S.O.","S.O.",null,3,20,2,0.5,8.3000000000000004E-2,0.01,1E-3,null,null,null,"Implants/Symbiotes"]
[null,null,null,null,null,null,null,null,0,0,0,0,0,0,0,0,null,null,null,null,null,null,null,null,null,null,null,null,null,null,null,null,null,null,null,null,null,null,1,-1,0,"I","I",1,1,{"$f":"AS89*AS89/4","v":0.25},-6,"S.O.",null,4,40,4,1,0.16700000000000001,2.1000000000000001E-2,2.0999999999999999E-3,null,{"$f":"IF(E89=\"\",\"\",CONCATENATE(E89,\", \"))","v":""},null,{"$f":"CONCATENATE(BF89,BF90,BF91,BF92,BF93,BF94,BF95,BF96,BF97,BF98,BF99,BF100)","v":""}]
[null,null,null,null,null,null,null,null,0,0,0,0,0,0,0,0,null,null,null,null,null,null,null,null,null,null,null,null,null,null,null,null,null,null,null,null,null,null,2,-2,1,"II","II",2,2,{"$f":"ROUNDDOWN(AS90*AS90/4,0)","v":1},-6,"S.O.",null,5,80,8,2,0.33300000000000002,4.2000000000000003E-2,4.1999999999999997E-3,null,{"$f":"IF(E90=\"\",\"\",CONCATENATE(E90,\", \"))","v":""}]
[null,null,null,null,null,null,null,null,0,0,0,0,0,0,0,0,null,null,null,null,null,null,null,null,null,null,null,null,null,null,null,null,null,null,null,null,null,null,3,-3,2,"III","III",3,3,{"$f":"ROUNDDOWN(AS91*AS91/4,0)","v":2},-4,"S.O.",null,6,160,16,4,0.66700000000000004,8.3000000000000004E-2,8.3000000000000001E-3,null,""]
[null,null,null,null,null,null,null,null,0,0,0,0,0,0,0,0,null,null,null,null,null,null,null,null,null,null,null,null,null,null,null,null,null,null,null,null,null,null,4,-4,3,"IV","IV",4,4,{"$f":"ROUNDDOWN(AS92*AS92/4,0)","v":4},-4,"S.O.",null,7,320,32,8,1.3,0.16700000000000001,1.7000000000000001E-2,null,""]
[null,null,null,null,null,null,null,null,0,0,0,0,0,0,0,0,null,null,null,null,null,null,null,null,null,null,null,null,null,null,null,null,null,null,null,null,null,null,5,-5,4,"V","IX",9,5,6,-2,"S.O.",null,8,640,64,16,2.7,0.33300000000000002,3.3000000000000002E-2,null,""]
[null,null,null,null,null,null,null,null,0,0,0,0,0,0,0,0,null,null,null,null,null,null,null,null,null,null,null,null,null,null,null,null,null,null,null,null,null,null,null,null,5,"VI","V",5,6,9,-2,"S.O.",null,9,1280,128,32,5.3,0.66700000000000004,6.7000000000000004E-2,null,""]
[null,null,null,null,null,null,null,null,0,0,0,0,0,0,0,0,null,null,null,null,null,null,null,null,null,null,null,null,null,null,null,null,null,null,null,"Ordinateur",null,null,null,null,6,"VII","VI",6,7,12,-1,"S.O.",null,10,2560,256,64,11,1.3,0.13300000000000001,null,""]
[null,null,null,null,null,null,null,null,0,0,0,0,0,0,0,0,null,null,null,null,null,null,null,null,null,null,null,null,null,null,null,null,null,null,null,"Ordinateur malette",null,null,null,null,7,null,"VII",7,8,16,-1,"S.O.",null,null,null,null,null,null,null,null,null,""]
[null,null,null,null,null,null,null,null,0,0,0,0,0,0,0,0,null,null,null,null,null,null,null,null,null,null,null,null,null,null,null,null,null,null,null,"Ordinateur ceinture",null,null,null,null,8,null,"VIII",8,9,20,0,"S.O.",null,null,null,null,null,null,null,null,null,""]
[null,null,null,null,null,null,null,null,0,0,0,0,0,0,0,0,null,null,null,null,null,null,null,null,null,null,null,null,null,null,null,null,null,null,null,"Ordinateur bracelet",null,null,null,null,9,null,"X",10,10,25,0,"S.O.",null,"Disponibilité",null,null,null,null,null,null,null,""]
[null,null,null,null,null,null,null,null,0,0,0,0,0,0,0,0,null,null,null,null,null,null,null,null,null,null,null,null,null,null,null,null,null,null,null,"Assistant personnel",null,null,null,null,10,null,null,null,11,30,0,"S.O.",null,"Gén \\ NT",1,2,3,4,5,6,null,""]
[null,null,null,null,null,null,null,null,0,0,0,0,0,0,0,0,null,null,null,null,null,null,null,null,null,null,null,null,null,null,null,null,null,null,null,"Bloc de données rétinien",null,null,null,null,11,null,null,null,12,36,{"$f":"AU98+1","v":1},"S.O.",null,1,20,20,20,15,10,1,null,""]
[null,{"$f":"SUM(B89:B100)","v":0},{"$f":"SUM(C89:C100)","v":0},0,null,null,null,null,{"$f":"SUM(I89:I100)","v":0},{"$f":"SUM(J89:J100)","v":0},0,0,0,0,0,0,null,null,null,null,null,null,null,null,null,null,null,null,null,"*occas. 2D6+6, neuf 20 (m.n.)",null,null,null,null,null,null,null,null,null,null,12,null,null,null,13,42,{"$f":"AU99+1","v":1},"S.O.",null,2,20,15,15,10,10,1]
[null,null,null,null,null,null,null,null,null,null,null,null,null,null,null,null,null,null,null,null,null,null,null,null,null,null,null,null,null,null,null,null,null,null,null,"niv comp info",{"$f":"EXPERIENCE_PRELIMINAIRE!W292","v":-5},null,null,null,13,null,null,null,14,49,{"$f":"AU100+1","v":2},"S.O.",null,3,20,15,10,10,5,1]
[null,null,null,null,"Ordinateur",null,null,null,"Il convient de recopier l'ordinateur et les appareils électroniques de l'assistant personnel dans l'équipement porté ou entreposé pour la prise en compte du poids (ne pas copier le coût).",null,null,null,null,null,null,null,null,null,null,null,null,null,null,null,null,null,null,null,null,null,null,null,null,null,null,null,null,null,null,null,14,null,"I",null,15,56,2,"S.O.",null,4,20,15,10,5,5,1]
[null,"Matériel","Crédit","Achat","Modèle",null,null,null,"Type",null,"Coût indicatif",null,"Niv. Max. des prog.",null,"Gestion systèmes",null,"Potentiel",null,"Blindage IEM",null,"DIS (M. noir)",null,"Poids (kg)","NT","Gén.","Fabricant",null,"ITG*",null,null,null,null,null,null,null,"NT",{"$f":"X105","v":0},{"$f":"IF(AK104=0,0,VLOOKUP(AK104,AP89:AS95,4))","v":0},"Coût","Poids",15,null,"II",null,16,64,3,"S.O.",null,5,20,15,10,5,1,-5]
[null,null,null,null,null,null,null,null,"Ordinateur",null,{"$f":"AM105+(200*S105*S105)","v":0},null,{"$f":"IF(AL104=0,0,IF(AL105=0,0,((AL104+AL105)*2+ROUNDDOWN(AL105/2,0))))","v":0},null,{"$f":"IF(AL104=0,0,IF(AL105=0,0,(AL104*AL105*AL105*2)))","v":0},null,{"$f":"IF(AL104=0,0,IF(AL105=0,0,10+(AL104*AL105*AL104*AL105*5)))","v":0},null,0,null,{"$f":"IF(AL104=0,0,IF(AL105=0,0,VLOOKUP(AL105,AX99:BD109,AL104+1)))","v":0},null,{"$f":"AN105","v":0},null,null,null,null,null,null,null,null,null,null,null,null,"Gén.",{"$f":"Y105","v":0},{"$f":"IF(AK105=0,0,VLOOKUP(AK105,AQ89:AR98,2))","v":0},{"$f":"(500*AL104*AL105)*VLOOKUP(I105,AJ107:AM113,2)","v":0},{"$f":"IF(AL104=0,0,IF(AL105=0,0,VLOOKUP(AL105,AX85:BD95,AL104+1)*VLOOKUP(I105,AJ107:AM113,3)))","v":0},16,null,"III",null,17,72,3,"S.O.",null,6,15,15,10,5,1,-5,"Ordi",{"$f":"IF(E105=\"\",\"\",CONCATENATE(E105,\" (gén. \",Y105,\"/ NT \",X105,\"), \"))","v":""},null,{"$f":"BF105","v":""}]
[null,{"$f":"B105","v":0},{"$f":"C105","v":0},0,null,null,null,null,null,null,null,null,null,null,null,null,null,null,null,null,null,null,null,{"$f":"IF(AND(I105=AJ100,AL104<4),\"ERREUR\",\"\")","v":""},{"$f":"IF((AL105-AL104)>(VLOOKUP(I105,AJ107:AM113,4)-1),\"ERREUR\",\"\")","v":""},null,null,"*Gén. I - II : occas. 2D6+3, neuf 15 (m.n.)",null,null,null,null,null,null,null,{"$f":"IF(X105=\"\",\"\",IF(Y105=\"\",\"\",CONCATENATE(X105,\" / \",Y105)))","v":""},null,null,null,null,17,null,"IV",null,18,81,4,"S.O.",null,7,15,10,10,5,1,-10]
[null,"Matériel","Crédit","Achat","Programme",null,null,null,"Niveau",null,"Coût indicatif",null,"Coût de base",null,null,null,"Niv. fonct. auto",null,"Niv. fonct. opérateur",null,null,null,null,null,null,null,null,"Gén. III - VIII : occas. 2D6+8, neuf 20 (m.n.)",null,null,null,null,null,null,null,null,"Coût","Poids","NTI",null,18,null,"V",null,19,90,4,"S.O.",null,8,15,10,5,5,1,-10,"Armure",{"$f":"IF(E136=\"\",\"\",E136)","v":""},null,{"$f":"IF(BF107=\"\",\"\",CONCATENATE(\"Armure \",I136,\" \",BF107,\", \"))","v":""}]
[null,null,null,null,null,null,null,null,null,null,{"$f":"IF(I108=0,0,M108*VLOOKUP(I108,$AO$118:$AP$137,2))","v":0},null,null,null,{"$f":"IF(I108>$M$105,\"ERREUR\",\"\")","v":""},null,{"$f":"IF(I108=0,0,IF($AL$105=0,0,I108+ROUNDUP($AL$105/2,0)))","v":0},null,{"$f":"IF(I108=0,0,IF($AL$105=0,0,I108+ROUNDUP($AK$102/2,0)))","v":0},null,null,null,null,null,null,null,null,"Gén. IX - X : occas. 3D6+7, neuf 25 (m.n.)",null,null,null,null,null,null,null,"Assistant personnel",2,0.5,3,null,19,null,"VI",null,20,100,5,"S.O.",null,9,15,10,5,1,1,-10]
[null,null,null,null,null,null,null,null,null,null,0,null,null,null,{"$f":"IF(I109>$M$105,\"ERREUR\",\"\")","v":""},null,{"$f":"IF(I109=0,0,IF($AL$105=0,0,I109+ROUNDUP($AL$105/2,0)))","v":0},null,{"$f":"IF(I109=0,0,IF($AL$105=0,0,I109+ROUNDUP($AK$102/2,0)))","v":0},null,null,null,null,null,null,null,null,null,null,null,null,null,null,null,null,"Bloc de données rétinien",20,0,-2,null,20,null,"VII",null,21,110,5,"S.O.",null,10,15,10,1,1,-5,-10,"Navire",{"$f":"IF(E224=\"\",\"\",E224)","v":""},{"$f":"IF(AVANTAGES_PROFESSIONNELS!AL52=0,\"\",AVANTAGES_PROFESSIONNELS!AL52)","v":""},{"$f":"IF(BF109=\"\",\"\",IF(BG109=\"\",CONCATENATE(BF109,\", \"),CONCATENATE(BF109,\" (payé à \",BG109,\"%), \")))","v":""}]
[null,null,null,null,null,null,null,null,null,null,0,null,null,null,"",null,0,null,0,null,null,null,null,null,null,null,null,null,null,null,null,null,null,null,null,"Ordinateur",1,1,10,null,21,null,"VIII",null,22,121,6,"S.O."]
[null,null,null,null,null,null,null,null,null,null,0,null,null,null,"",null,0,null,0,null,null,null,null,null,null,null,null,null,null,null,null,null,null,null,null,"Ordinateur bracelet",3,0.25,1,null,22,null,"IX",null,23,132,6,"S.O."]
[null,null,null,null,null,null,null,null,null,null,0,null,null,null,"",null,0,null,0,null,null,null,null,null,null,null,null,null,null,null,null,null,null,null,null,"Ordinateur ceinture",2,0.5,2,null,23,null,"X",null,24,144,7,"S.O."]
[null,null,null,null,null,null,null,null,null,null,0,null,null,null,"",null,0,null,0,null,null,null,null,null,null,null,null,null,null,null,null,null,null,null,null,"Ordinateur malette",1.5,0.75,4,null,24,null,null,null,25,156,7,"S.O."]
[null,null,null,null,null,null,null,null,null,null,0,null,null,null,"",null,0,null,0,null,null,null,null,null,null,null,null,null,null,null,null,null,null,null,null,null,null,null,null,null,25,null,null,null,26,169,8,"S.O."]
[null,null,null,null,null,null,null,null,null,null,0,null,null,null,"",null,0,null,0,null,null,null,null,null,null,null,null,null,null,null,null,null,null,null,null,{"$f":"CONCATENATE(E108,\" \",I108,\"   \",E109,\" \",I109,\"   \",E110,\" \",I110,\"   \",E111,\" \",I111)","v":"             "},null,null,null,null,null,null,null,null,27,182,8,"S.O."]
[null,null,null,null,null,null,null,null,null,null,0,null,null,null,"",null,0,null,0,null,null,null,null,null,null,null,null,null,null,null,null,null,null,null,null,{"$f":"CONCATENATE(E112,\" \",I112,\"   \",E113,\" \",I113,\"   \",E114,\" \",I114,\"   \",E115,\" \",I115)","v":"             "},null,null,null,null,"niveau prog","cout base",null,null,28,196,9,"S.O."]
[null,null,null,null,null,null,null,null,null,null,0,null,null,null,"",null,0,null,0,null,null,null,null,null,null,null,null,null,null,null,null,null,null,null,null,{"$f":"CONCATENATE(E116,\" \",I116,\"   \",E117,\" \",I117,\"   \",E118,\" \",I118,\"   \",E119,\" \",I119)","v":"             "},null,null,null,null,null,null,null,null,29,210,9,"S.O."]
[null,null,null,null,null,null,null,null,null,null,0,null,null,null,"",null,0,null,0,null,null,null,null,null,null,null,null,null,null,null,null,null,null,null,null,null,null,null,null,null,1,1,null,null,30,225,10,"S.O."]
[null,null,null,null,null,null,null,null,null,null,0,null,null,null,"",null,0,null,0,null,null,null,null,null,null,null,null,null,null,null,null,null,null,null,null,null,null,null,null,null,2,{"$f":"AO119+AP118","v":3},null,null,31,240,10,"S.O."]
[null,{"$f":"SUM(B108:B119)","v":0},{"$f":"SUM(C108:C119)","v":0},0,null,null,null,null,{"$f":"IF(SUM(I108:J119)>Q105,\"ERREUR\",\"\")","v":""},null,null,null,null,null,null,null,null,null,null,null,null,null,null,null,null,null,null,null,null,null,null,null,null,null,null,null,null,null,null,null,3,{"$f":"AO120+AP119","v":6},null,null,32,256,11,"S.O."]
[null,"Matériel","Crédit","Achat","Appareil électronique pour assistant personnel",null,null,null,"Niv. / Bonus",null,"Coût ind. * 2",null,"Poids / 2","NT","Fabricant",null,"Notes",null,null,"ITG*",null,null,null,null,null,null,null,null,null,null,null,null,null,null,null,"Catégorie","Dom. au","Malus de","Armure",null,4,10,null,null,33,272,11,"S.O."]
[null,null,null,null,null,null,null,null,null,null,null,null,null,null,null,null,null,null,null,null,{"$f":"IF(AND($I$105=$AJ$99,$AL$104>0),1,0)","v":0},null,null,null,null,null,null,null,null,null,null,null,null,null,null,null,"contact","saisie","à terre",null,5,15,null,null,34,289,12,"S.O."]
[null,null,null,null,null,null,null,null,null,null,null,null,null,null,null,null,null,null,null,null,{"$f":"IF(AND($I$105=$AJ$99,$AL$104>1),1,0)","v":0},null,null,null,null,null,null,null,null,null,null,null,null,null,null,"Exo-0","1D6","S.O.","S.O.",null,6,21,null,null,35,306,12,"S.O."]
[null,null,null,null,null,null,null,null,null,null,null,null,null,null,null,null,null,null,null,null,{"$f":"IF(AND($I$105=$AJ$99,$AL$104>2),1,0)","v":0},null,null,null,null,null,null,null,null,null,null,null,null,null,null,"Exo-1","1D10","S.O.",5,null,7,28,null,null,36,324,13,"S.O."]
[null,null,null,null,null,null,null,null,null,null,null,null,null,null,null,null,null,null,null,null,{"$f":"IF(AND($I$105=$AJ$99,$AL$104>3),1,0)","v":0},null,null,null,null,null,null,null,null,null,null,null,null,null,null,"Exo-2","1D10+1",-3,3,null,8,36,null,null,37,342,13,"S.O."]
[null,null,null,null,null,null,null,null,null,null,null,null,null,null,null,null,null,null,null,null,{"$f":"IF(AND($I$105=$AJ$99,$AL$104>4),1,0)","v":0},null,null,null,null,null,null,null,null,null,null,null,null,null,null,"Exo-3","1D10+3",-3,0,null,9,45,null,null,38,361,14,"S.O."]
[null,null,null,null,null,null,null,null,null,null,null,null,null,null,null,null,null,null,null,null,{"$f":"IF(AND($I$105=$AJ$99,$AL$104>5),1,0)","v":0},null,null,null,null,null,null,null,null,null,null,null,null,null,null,"Exo-4","2D10+1",-5,-3,null,10,55,null,null,39,380,14,"S.O."]
[null,{"$f":"SUM(B122:B127)","v":0},{"$f":"SUM(C122:C127)","v":0},0,null,null,null,null,null,null,null,null,null,null,null,null,null,null,null,"*occas. 2D6+6, neuf 20 (m.n.)",null,null,null,null,null,null,null,null,null,null,null,null,null,null,null,"Exo-5","3D10",-7,-5,null,11,66,null,null,40,400,15,"S.O."]
[null,null,null,null,null,null,null,null,null,null,null,null,null,null,null,null,null,null,null,null,null,null,null,null,null,null,null,null,null,null,null,null,null,null,null,"Exo-6","4D10",-7,-7,null,12,78,null,null,41,420,15,"S.O."]
[null,null,null,null,null,null,null,null,null,null,null,null,null,null,null,null,null,null,null,null,null,null,null,null,null,null,null,null,null,null,null,null,null,null,null,"Exo-alpha","1","S.O.","S.O.",null,13,91,null,null,42,441,16,"S.O."]
[null,null,null,null,null,null,null,null,null,null,null,null,null,null,null,null,null,null,null,null,null,null,null,null,null,null,null,null,null,null,null,null,null,null,null,"Exo-oméga","4D10+2",-10,-10,null,14,105,null,null,43,462,16,"S.O."]
[null,null,null,"ARMURE MECANISEE",null,null,null,null,null,null,null,null,null,null,null,null,null,null,null,null,null,null,null,null,null,null,null,null,null,null,null,null,null,null,null,null,null,null,null,null,15,120,null,null,44,484,17,"S.O."]
[null,null,null,null,null,null,null,null,null,null,null,null,null,null,null,null,null,null,null,null,null,null,null,null,null,null,null,null,null,null,null,null,null,null,null,null,null,null,null,null,16,136,null,null,45,506,17,"S.O."]
[null,null,null,null,"Armure",null,null,null,null,null,null,null,null,null,null,null,null,null,null,null,null,null,null,null,null,null,null,null,null,null,null,null,null,null,null,"Exo-alpha",null,null,null,null,17,153,null,null,46,529,18,"S.O."]
[null,"Matériel","Crédit","Achat","Modèle",null,null,null,"Catégorie",null,"Echelle / Taille",null,"Coût indicatif",null,"DIS (M. noir)",null,"Poids (kg)",null,"NT","Fabricant",null,"Notes (architecture, matériaux, GP…)",null,null,null,null,null,null,null,null,null,null,null,null,null,"Exo-0",null,null,null,null,18,171,null,null,47,552,18,"S.O."]
[null,null,null,null,null,null,null,null,null,null,null,null,null,null,null,null,null,null,null,null,null,null,null,null,null,null,null,null,null,null,null,null,null,null,null,"Exo-1",null,null,null,null,19,190,null,null,48,576,19,-6]
[null,{"$f":"B136","v":0},{"$f":"C136","v":0},{"$f":"D136","v":0},null,null,null,null,null,null,null,null,null,null,null,null,null,null,null,null,null,null,null,null,null,null,null,null,null,null,null,null,null,null,null,"Exo-2",null,null,null,null,20,210,null,null,49,600,19,-6]
[null,null,null,null,null,null,null,null,null,null,null,null,null,null,null,null,null,null,null,null,null,null,null,null,null,null,null,null,null,null,null,null,null,null,null,"Exo-3",null,null,null,null,null,null,null,null,50,625,20,-6]
[null,null,null,null,"Prof. Optimale",null,"Prof. Limite",null,"Prof. Écrasement",null,"Autonomie",null,null,"Malus saisie",null,"Armure à terre",null,null,null,null,null,null,null,null,null,null,null,null,null,null,null,null,null,null,null,"Exo-4",null,null,null,null,null,null,null,null,51,650,20,-6]
[null,null,null,null,null,null,null,null,null,null,null,null,null,{"$f":"IF(I136=\"\",\"\",VLOOKUP(I136,AJ123:AM131,3))","v":""},null,{"$f":"IF(I136=\"\",\"\",VLOOKUP(I136,AJ123:AM131,4))","v":""},null,null,null,null,null,null,null,null,null,null,null,null,null,null,null,null,null,null,null,"Exo-5",null,null,null,null,null,null,null,null,52,676,21,-6]
[null,null,null,null,null,null,null,null,null,null,null,null,null,null,null,null,null,null,null,null,null,null,null,null,null,null,null,null,null,null,null,null,null,null,null,"Exo-6",null,null,null,null,null,null,null,null,53,702,21,-4]
[null,null,null,null,null,null,null,null,null,null,null,null,null,null,null,null,null,null,null,null,null,null,null,null,null,null,null,null,null,null,null,null,null,null,null,"Exo-oméga",null,null,null,null,null,null,null,null,54,729,22,-4]
[null,null,null,null,"Résistance aux dom.",null,"Modif. test d'intégrité",null,"Blindage",null,"Blindage visière (volet)",null,"Exo-Force",null,"Poids soulevable",null,"Modif. de dom. H",null,"Modif. de dom. V-",null,"Bonus au contact H",null,"\"Mains nues\"",null,null,null,null,null,null,null,null,null,null,null,null,null,null,null,null,null,null,null,null,null,55,756,22,-4]
[null,null,null,null,null,null,null,null,null,null,null,null,null,null,{"$f":"IF(M144=\"\",\"\",VLOOKUP(M144,AS88:AT288,2))","v":""},null,{"$f":"IF(M144=\"\",\"\",VLOOKUP(M144,AS88:AV288,3))","v":""},null,{"$f":"IF(M144=\"\",\"\",VLOOKUP(M144,AS88:AV288,4))","v":""},null,{"$f":"IF(I136=\"\",\"\",VLOOKUP(I136,AJ123:AM131,2))","v":""},null,{"$f":"IF(I136=\"\",\"\",IF(I136=\"Exo-alpha\",\"1D6\",\"1D6+2\"))","v":""},null,null,null,null,null,null,null,null,null,null,null,null,null,null,null,null,null,null,null,null,null,56,784,23,-4]
[null,null,null,null,null,null,null,null,null,null,null,null,null,null,null,null,null,null,null,null,null,null,null,null,null,null,null,null,null,null,null,null,null,null,null,"CONCATENER ITG et modif provisoire ITG",null,null,null,null,null,null,null,null,57,812,23,-4]
[null,null,null,null,null,null,null,null,null,null,null,null,null,null,null,null,null,null,null,null,null,null,null,null,null,null,null,null,null,null,null,null,null,null,null,null,null,null,null,null,null,null,null,null,58,841,24,-2]
[null,null,null,null,"Type de déplacement",null,"Type de déplacement",null,"Type de déplacement",null,"Milieu d'évolution",null,"Milieu d'évolution",null,"ITG Structure*",null,"ITG Exosquelette*",null,"ITG Générateur*",null,"ITG Syst. Aux.",null,"ITG Armements",null,null,null,null,null,null,null,null,null,null,null,null,{"$f":"IF(O148=\"\",\"\",O148)","v":""},null,{"$f":"IF(Q148=\"\",\"\",Q148)","v":""},null,{"$f":"IF(S148=\"\",\"\",S148)","v":""},null,{"$f":"IF(U148=\"\",\"\",U148)","v":""},null,{"$f":"IF(W148=\"\",\"\",W148)","v":""},59,870,24,-2]
[null,null,null,null,null,null,null,null,null,null,null,null,null,null,null,null,null,null,null,null,null,null,null,null,null,null,null,null,null,null,null,null,null,null,null,null,null,null,null,null,null,null,null,null,60,900,25,-2]
[null,null,null,null,"Vitesse / VIT (PM)",null,"Vitesse / VIT (PM)",null,"Vitesse / VIT (PM)",null,"Malus d'initiative",null,"Malus d'initiative",null,"Modif tempo. ITG",null,"Modif tempo. ITG",null,"Modif tempo. ITG",null,"Modif tempo. ITG",null,"Modif tempo. ITG",null,null,null,null,null,null,null,null,null,null,null,null,{"$f":"IF(O150=\"\",\"\",CONCATENATE(\" (\",O150,\")\"))","v":""},null,{"$f":"IF(Q150=\"\",\"\",CONCATENATE(\" (\",Q150,\")\"))","v":""},null,{"$f":"IF(S150=\"\",\"\",CONCATENATE(\" (\",S150,\")\"))","v":""},null,{"$f":"IF(U150=\"\",\"\",CONCATENATE(\" (\",U150,\")\"))","v":""},null,{"$f":"IF(W150=\"\",\"\",CONCATENATE(\" (\",W150,\")\"))","v":""},61,930,25,-2]
[null,null,null,null,null,null,null,null,null,null,null,null,null,null,null,null,null,null,null,null,null,null,null,null,null,null,null,null,null,null,null,null,null,null,null,null,null,null,null,null,null,null,null,null,62,961,26,-2]
[null,null,null,null,null,null,null,null,null,null,null,null,null,null,null,null,null,null,null,null,null,null,null,"*occas. 2D6+6, neuf 20 (m.n.), ou intégrité moyenne du guide d'acquisition p310 du GT",null,null,null,null,null,null,null,null,null,null,null,{"$f":"CONCATENATE(AJ147,AJ149)","v":""},null,{"$f":"CONCATENATE(AL147,AL149)","v":""},null,{"$f":"CONCATENATE(AN147,AN149)","v":""},null,{"$f":"CONCATENATE(AP147,AP149)","v":""},null,{"$f":"CONCATENATE(AR147,AR149)","v":""},63,992,26,-1]
[null,null,null,null,null,null,null,null,null,null,null,null,null,null,null,null,null,null,null,null,null,null,null,null,null,null,null,null,null,null,null,null,null,null,null,null,null,null,null,null,null,null,null,null,64,1024,27,-1]
[null,null,null,null,"Systèmes auxiliaires",null,null,null,null,null,null,null,null,null,null,null,null,null,null,null,null,null,null,null,null,null,null,null,null,null,null,null,null,null,null,null,null,null,null,null,null,null,null,null,65,1056,27,-1]
[null,"Matériel","Crédit","Achat","Modèle",null,null,null,"Niv. / Bonus",null,"Coût indicatif",null,"DIS (M. noir)",null,"Poids (kg)","NT","Fabricant",null,"Description (capacité, cibles…)",null,null,"ITG*",null,null,null,null,null,null,null,null,null,null,null,null,null,null,null,null,null,null,null,null,null,null,66,{"$f":"ROUNDDOWN(AS154*AS154/4,0)","v":1089},28,-1]
[null,null,null,null,null,null,null,null,null,null,null,null,null,null,null,null,null,null,null,null,null,null,null,null,null,null,null,null,null,null,null,null,null,null,null,null,null,null,null,null,null,null,null,null,67,1122,28,-1]
[null,null,null,null,null,null,null,null,null,null,null,null,null,null,null,null,null,null,null,null,null,null,null,null,null,null,null,null,null,null,null,null,null,null,null,null,null,null,null,null,null,null,null,null,68,1156,29,0]
[null,null,null,null,null,null,null,null,null,null,null,null,null,null,null,null,null,null,null,null,null,null,null,null,null,null,null,null,null,null,null,null,null,null,null,null,null,null,null,null,null,null,null,null,69,1190,29,0]
[null,null,null,null,null,null,null,null,null,null,null,null,null,null,null,null,null,null,null,null,null,null,null,null,null,null,null,null,null,null,null,null,null,null,null,null,null,null,null,null,null,null,null,null,70,1225,30,0]
[null,null,null,null,null,null,null,null,null,null,null,null,null,null,null,null,null,null,null,null,null,null,null,null,null,null,null,null,null,null,null,null,null,null,null,null,null,null,null,null,null,null,null,null,71,1260,30,0]
[null,null,null,null,null,null,null,null,null,null,null,null,null,null,null,null,null,null,null,null,null,null,null,null,null,null,null,null,null,null,null,null,null,null,null,null,null,null,null,null,null,null,null,null,72,1296,31,0]
[null,null,null,null,null,null,null,null,null,null,null,null,null,null,null,null,null,null,null,null,null,null,null,null,null,null,null,null,null,null,null,null,null,null,null,null,null,null,null,null,null,null,null,null,73,1332,31,{"$f":"AV156+1","v":1}]
[null,null,null,null,null,null,null,null,null,null,null,null,null,null,null,null,null,null,null,null,null,null,null,null,null,null,null,null,null,null,null,null,null,null,null,null,null,null,null,null,null,null,null,null,74,1369,32,{"$f":"AV157+1","v":1}]
[null,null,null,null,null,null,null,null,null,null,null,null,null,null,null,null,null,null,null,null,null,null,null,null,null,null,null,null,null,null,null,null,null,null,null,null,null,null,null,null,null,null,null,null,75,1406,32,1]
[null,null,null,null,null,null,null,null,null,null,null,null,null,null,null,null,null,null,null,null,null,null,null,null,null,null,null,null,null,null,null,null,null,null,null,null,null,null,null,null,null,null,null,null,76,1444,33,1]
[null,null,null,null,null,null,null,null,null,null,null,null,null,null,null,null,null,null,null,null,null,null,null,null,null,null,null,null,null,null,null,null,null,null,null,null,null,null,null,null,null,null,null,null,77,1482,33,1]
[null,null,null,null,null,null,null,null,null,null,null,null,null,null,null,null,null,null,null,null,null,null,null,null,null,null,null,null,null,null,null,null,null,null,null,null,null,null,null,null,null,null,null,null,78,1521,{"$f":"AU164+1","v":34},2]
[null,null,null,null,null,null,null,null,null,null,null,null,null,null,null,null,null,null,null,null,null,null,null,null,null,null,null,null,null,null,null,null,null,null,null,null,null,null,null,null,null,null,null,null,79,1560,34,2]
[null,null,null,null,null,null,null,null,null,null,null,null,null,null,null,null,null,null,null,null,null,null,null,null,null,null,null,null,null,null,null,null,null,null,null,null,null,null,null,null,null,null,null,null,80,1600,35,2]
[null,null,null,null,null,null,null,null,null,null,null,null,null,null,null,null,null,null,null,null,null,null,null,null,null,null,null,null,null,null,null,null,null,null,null,null,null,null,null,null,null,null,null,null,81,1640,35,2]
[null,null,null,null,null,null,null,null,null,null,null,null,null,null,null,null,null,null,null,null,null,null,null,null,null,null,null,null,null,null,null,null,null,null,null,null,null,null,null,null,null,null,null,null,82,1681,36,2]
[null,null,null,null,null,null,null,null,null,null,null,null,null,null,null,null,null,null,null,null,null,null,null,null,null,null,null,null,null,null,null,null,null,null,null,null,null,null,null,null,null,null,null,null,83,1722,36,3]
[null,null,null,null,null,null,null,null,null,null,null,null,null,null,null,null,null,null,null,null,null,null,null,null,null,null,null,null,null,null,null,null,null,null,null,null,null,null,null,null,null,null,null,null,84,1764,37,3]
[null,null,null,null,null,null,null,null,null,null,null,null,null,null,null,null,null,null,null,null,null,null,null,null,null,null,null,null,null,null,null,null,null,null,null,null,null,null,null,null,null,null,null,null,85,1806,37,3]
[null,null,null,null,null,null,null,null,null,null,null,null,null,null,null,null,null,null,null,null,null,null,null,null,null,null,null,null,null,null,null,null,null,null,null,null,null,null,null,null,null,null,null,null,86,1849,38,3]
[null,null,null,null,null,null,null,null,null,null,null,null,null,null,null,null,null,null,null,null,null,null,null,null,null,null,null,null,null,null,null,null,null,null,null,null,null,null,null,null,null,null,null,null,87,1892,38,3]
[null,null,null,null,null,null,null,null,null,null,null,null,null,null,null,null,null,null,null,null,null,null,null,null,null,null,null,null,null,null,null,null,null,null,null,null,null,null,null,null,null,null,null,null,88,1936,39,4]
[null,null,null,null,null,null,null,null,null,null,null,null,null,null,null,null,null,null,null,null,null,null,null,null,null,null,null,null,null,null,null,null,null,null,null,null,null,null,null,null,null,null,null,null,89,1980,39,4]
[null,null,null,null,null,null,null,null,null,null,null,null,null,null,null,null,null,null,null,null,null,null,null,null,null,null,null,null,null,null,null,null,null,null,null,null,null,null,null,null,null,null,null,null,90,2025,40,4]
[null,null,null,null,null,null,null,null,null,null,null,null,null,null,null,null,null,null,null,null,null,null,null,null,null,null,null,null,null,null,null,null,null,null,null,null,null,null,null,null,null,null,null,null,91,2070,40,4]
[null,null,null,null,null,null,null,null,null,null,null,null,null,null,null,null,null,null,null,null,null,null,null,null,null,null,null,null,null,null,null,null,null,null,null,null,null,null,null,null,null,null,null,null,92,2116,41,4]
[null,null,null,null,null,null,null,null,null,null,null,null,null,null,null,null,null,null,null,null,null,null,null,null,null,null,null,null,null,null,null,null,null,null,null,null,null,null,null,null,null,null,null,null,93,2162,41,5]
[null,null,null,null,null,null,null,null,null,null,null,null,null,null,null,null,null,null,null,null,null,null,null,null,null,null,null,null,null,null,null,null,null,null,null,null,null,null,null,null,null,null,null,null,94,2209,42,5]
[null,null,null,null,null,null,null,null,null,null,null,null,null,null,null,null,null,null,null,null,null,null,null,null,null,null,null,null,null,null,null,null,null,null,null,null,null,null,null,null,null,null,null,null,95,2256,42,5]
[null,null,null,null,null,null,null,null,null,null,null,null,null,null,null,null,null,null,null,null,null,null,null,null,null,null,null,null,null,null,null,null,null,null,null,null,null,null,null,null,null,null,null,null,96,2304,43,5]
[null,null,null,null,null,null,null,null,null,null,null,null,null,null,null,null,null,null,null,null,null,null,null,null,null,null,null,null,null,null,null,null,null,null,null,null,null,null,null,null,null,null,null,null,97,2352,43,5]
[null,null,null,null,null,null,null,null,null,null,null,null,null,null,null,null,null,null,null,null,null,null,null,null,null,null,null,null,null,null,null,null,null,null,null,null,null,null,null,null,null,null,null,null,98,2401,44,6]
[null,{"$f":"SUM(B155:B186)","v":0},{"$f":"SUM(C155:C186)","v":0},0,null,null,null,null,null,null,null,null,null,null,null,null,null,null,null,null,null,"*occas. 2D6+6, neuf 20 (m.n.), ou intégrité moyenne du guide d'acquisition p310 du GT",null,null,null,null,null,null,null,null,null,null,null,null,null,null,null,null,null,null,null,null,null,null,99,{"$f":"ROUNDDOWN(AS187*AS187/4,0)","v":2450},44,6]
[null,null,null,null,null,null,null,null,null,null,null,null,null,null,null,null,null,null,null,null,null,null,null,null,null,null,null,null,null,null,null,null,null,null,null,null,null,null,null,null,null,null,null,null,100,2500,45,6]
[null,null,null,null,"Ordinateur",null,null,null,"Il convient de recopier l'ordinateur dans la liste des systèmes auxiliaires (ne pas copier le coût).",null,null,null,null,null,null,null,null,null,null,null,null,null,null,null,null,null,null,null,null,null,null,null,null,null,null,null,null,null,null,null,null,null,null,null,101,2550,45,6]
[null,"Matériel","Crédit","Achat","Modèle",null,null,null,"Type",null,"Coût indicatif",null,"Niv. Max. des prog.",null,"Gestion systèmes",null,"Potentiel",null,"Blindage IEM",null,"DIS (M. noir)",null,"Poids (kg)","NT","Gén.","Fabricant",null,"ITG*",null,null,null,null,null,null,null,"NT",{"$f":"X191","v":0},{"$f":"IF(AK190=0,0,VLOOKUP(AK190,AP89:AS95,4))","v":0},"Coût","Poids",null,null,null,null,102,2601,46,6]
[null,null,null,null,null,null,null,null,"Ordinateur embarqué",null,{"$f":"AM191+(200*S191*S191)","v":0},null,{"$f":"IF(AL190=0,0,IF(AL191=0,0,((AL190+AL191)*2+ROUNDDOWN(AL191/2,0))))","v":0},null,{"$f":"IF(AL190=0,0,IF(AL191=0,0,(AL190*AL191*AL191*2)))","v":0},null,{"$f":"IF(AL190=0,0,IF(AL191=0,0,10+(AL190*AL191*AL190*AL191*5)))","v":0},null,0,null,{"$f":"IF(AL190=0,0,IF(AL191=0,0,VLOOKUP(AL191,AX100:BD109,AL190+1)))","v":0},null,{"$f":"IF(W193=\"Oui\",0,AN191)","v":0},null,null,null,null,null,null,null,null,null,null,null,null,"Gén.",{"$f":"Y191","v":0},{"$f":"IF(AK191=0,0,VLOOKUP(AK191,AQ89:AR98,2))","v":0},{"$f":"(500*AL190*AL191)","v":0},{"$f":"IF(AL190=0,0,IF(AL191=0,0,VLOOKUP(AL191,AX86:BD95,AL190+1)))","v":0},null,null,null,null,103,2652,46,7]
[null,{"$f":"B191","v":0},{"$f":"C191","v":0},{"$f":"D191","v":0},null,null,null,null,null,null,null,null,null,null,null,null,null,null,null,null,null,null,"Intégré ?",{"$f":"IF(AND(I191=AJ186,AL190<4),\"ERREUR\",\"\")","v":""},null,null,null,"*Gén. I - II : occas. 2D6+3, neuf 15 (m.n.)",null,null,null,null,null,null,null,{"$f":"IF(X191=\"\",\"\",IF(Y191=\"\",\"\",CONCATENATE(X191,\" / \",Y191)))","v":""},null,null,null,null,null,null,null,null,104,2704,47,7]
[null,"Matériel","Crédit","Achat","Programme",null,null,null,"Niveau",null,"Coût indicatif",null,"Coût de base",null,null,null,"Niv. fonct. auto",null,"Niv. fonct. opérateur",null,null,null,"Oui",null,null,null,null,"Gén. III - VIII : occas. 2D6+8, neuf 20 (m.n.)",null,null,null,null,null,null,null,"Oui",null,null,null,null,null,null,null,null,105,2756,47,7]
[null,null,null,null,null,null,null,null,null,null,{"$f":"IF(I194=0,0,M194*VLOOKUP(I194,$AO$118:$AP$137,2))","v":0},null,null,null,{"$f":"IF(I194>$M$191,\"ERREUR\",\"\")","v":""},null,{"$f":"IF(I194=0,0,IF($AL$191=0,0,I194+ROUNDUP($AL$191/2,0)))","v":0},null,{"$f":"IF(I194=0,0,IF($AL$105=0,0,I194+ROUNDUP($AK$102/2,0)))","v":0},null,null,null,null,null,null,null,null,"Gén. IX - X : occas. 3D6+7, neuf 25 (m.n.)",null,null,null,null,null,null,null,"Non",null,null,null,null,null,null,null,null,106,2809,48,7]
[null,null,null,null,null,null,null,null,null,null,0,null,null,null,{"$f":"IF(I195>$M$191,\"ERREUR\",\"\")","v":""},null,{"$f":"IF(I195=0,0,IF($AL$191=0,0,I195+ROUNDUP($AL$191/2,0)))","v":0},null,{"$f":"IF(I195=0,0,IF($AL$105=0,0,I195+ROUNDUP($AK$102/2,0)))","v":0},null,null,null,null,null,null,null,null,null,null,null,null,null,null,null,null,null,null,null,null,null,null,null,null,null,107,2862,48,7]
[null,null,null,null,null,null,null,null,null,null,0,null,null,null,"",null,0,null,0,null,null,null,null,null,null,null,null,null,null,null,null,null,null,null,null,null,null,null,null,null,null,null,null,null,108,2916,49,8]
[null,null,null,null,null,null,null,null,null,null,0,null,null,null,"",null,0,null,0,null,null,null,null,null,null,null,null,null,null,null,null,null,null,null,null,null,null,null,null,null,null,null,null,null,109,2970,49,8]
[null,null,null,null,null,null,null,null,null,null,0,null,null,null,"",null,0,null,0,null,null,null,null,null,null,null,null,null,null,null,null,null,null,null,null,null,null,null,null,null,null,null,null,null,110,3025,50,8]
[null,null,null,null,null,null,null,null,null,null,0,null,null,null,"",null,0,null,0,null,null,null,null,null,null,null,null,null,null,null,null,null,null,null,null,null,null,null,null,null,null,null,null,null,111,3080,50,8]
[null,null,null,null,null,null,null,null,null,null,0,null,null,null,"",null,0,null,0,null,null,null,null,null,null,null,null,null,null,null,null,null,null,null,null,{"$f":"CONCATENATE(E194,\" \",I194,\"   \",E195,\" \",I195,\"   \",E196,\" \",I196,\"   \",E197,\" \",I197)","v":"             "},null,null,null,null,null,null,null,null,112,3136,51,8]
[null,null,null,null,null,null,null,null,null,null,0,null,null,null,"",null,0,null,0,null,null,null,null,null,null,null,null,null,null,null,null,null,null,null,null,{"$f":"CONCATENATE(E198,\" \",I198,\"   \",E199,\" \",I199,\"   \",E200,\" \",I200,\"   \",E201,\" \",I201)","v":"             "},null,null,null,null,null,null,null,null,113,3192,51,9]
[null,null,null,null,null,null,null,null,null,null,0,null,null,null,"",null,0,null,0,null,null,null,null,null,null,null,null,null,null,null,null,null,null,null,null,{"$f":"CONCATENATE(E202,\" \",I202,\"   \",E203,\" \",I203,\"   \",E204,\" \",I204,\"   \",E205,\" \",I205)","v":"             "},null,null,null,null,null,null,null,null,114,3249,52,9]
[null,null,null,null,null,null,null,null,null,null,0,null,null,null,"",null,0,null,0,null,null,null,null,null,null,null,null,null,null,null,null,null,null,null,null,null,null,null,null,null,null,null,null,null,115,3306,52,9]
[null,null,null,null,null,null,null,null,null,null,0,null,null,null,"",null,0,null,0,null,null,null,null,null,null,null,null,null,null,null,null,null,null,null,null,null,null,null,null,null,null,null,null,null,116,3364,53,9]
[null,null,null,null,null,null,null,null,null,null,0,null,null,null,"",null,0,null,0,null,null,null,null,null,null,null,null,null,null,null,null,null,null,null,null,null,null,null,null,null,null,null,null,null,117,3422,53,9]
[null,{"$f":"SUM(B194:B205)","v":0},{"$f":"SUM(C194:C205)","v":0},0,null,null,null,null,{"$f":"IF(SUM(I194:J205)>Q191,\"ERREUR\",\"\")","v":""},null,null,null,null,null,null,null,null,null,null,null,null,null,null,null,null,null,null,null,null,null,null,null,null,null,null,null,null,null,null,null,null,null,null,null,118,3481,54,10]
[null,null,null,null,null,null,null,null,null,null,null,null,null,null,null,null,null,null,null,null,null,null,null,null,null,null,null,null,null,null,null,null,null,null,null,null,null,null,null,null,null,null,null,null,119,3540,54,10]
[null,null,null,null,"Armement",null,null,null,null,null,null,null,null,null,null,null,null,null,null,null,null,null,null,null,null,null,null,null,null,null,null,null,null,null,null,null,null,null,null,null,null,null,null,null,120,3600,55,10]
[null,"Matériel","Crédit","Achat","Modèle",null,null,null,"Dom.",null,"Choc",null,"Pén.","Portée",null,null,"Ini.","Mode tir","Coût indicatif**",null,"Mun.","Cap. charg. (coût)",null,"DIS (M. noir)",null,"Poids** (kg)","NT","Fabricant",null,"Notes",null,null,"ITG*",null,null,null,null,null,null,null,null,null,null,null,121,3660,55,10]
[null,null,null,null,null,null,null,null,null,null,null,null,null,null,null,null,null,null,null,null,null,null,null,null,null,null,null,null,null,null,null,null,null,null,null,null,null,null,null,null,null,null,null,null,122,3721,56,10]
[null,null,null,null,null,null,null,null,null,null,null,null,null,null,null,null,null,null,null,null,null,null,null,null,null,null,null,null,null,null,null,null,null,null,null,null,null,null,null,null,null,null,null,null,123,3782,56,11]
[null,null,null,null,null,null,null,null,null,null,null,null,null,null,null,null,null,null,null,null,null,null,null,null,null,null,null,null,null,null,null,null,null,null,null,null,null,null,null,null,null,null,null,null,124,3844,57,11]
[null,null,null,null,null,null,null,null,null,null,null,null,null,null,null,null,null,null,null,null,null,null,null,null,null,null,null,null,null,null,null,null,null,null,null,null,null,null,null,null,null,null,null,null,125,3906,57,11]
[null,null,null,null,null,null,null,null,null,null,null,null,null,null,null,null,null,null,null,null,null,null,null,null,null,null,null,null,null,null,null,null,null,null,null,null,null,null,null,null,null,null,null,null,126,3969,58,11]
[null,null,null,null,null,null,null,null,null,null,null,null,null,null,null,null,null,null,null,null,null,null,null,null,null,null,null,null,null,null,null,null,null,null,null,null,null,null,null,null,null,null,null,null,127,4032,58,11]
[null,{"$f":"SUM(B210:B215)","v":0},{"$f":"SUM(C210:C215)","v":0},0,null,null,null,null,null,null,null,null,null,null,null,null,null,null,null,null,null,null,null,null,null,null,null,null,null,null,null,null,"*occas. 2D6+6, neuf 20 (m.n.), ou intégrité moyenne du guide d'acquisition p310 du GT",null,null,null,null,null,null,null,null,null,null,null,128,4096,59,12]
[null,null,null,null,null,null,null,null,null,null,null,null,null,null,null,null,null,null,null,null,null,null,null,null,null,null,null,null,null,null,null,null,"**Si ajout ou remplacement d'armes de contact, bien prendre les multiplicateurs de poids, de prix et de pénétration p 76 du GT",null,null,null,null,null,null,null,null,null,null,null,129,4160,59,12]
[null,null,null,null,null,null,null,null,null,null,null,null,null,null,null,null,null,null,null,null,null,null,null,null,null,null,null,null,null,null,null,null,null,null,null,null,null,null,null,null,null,null,null,null,130,4225,60,12]
[null,null,null,null,null,null,null,null,null,null,null,null,null,null,null,null,null,null,null,null,null,null,null,null,null,null,null,null,null,null,null,null,null,null,null,null,null,null,null,null,null,null,null,null,131,4290,60,12]
[null,null,null,"NAVIRE / VEHICULE",null,null,null,null,null,null,null,null,null,null,null,null,null,null,null,null,null,null,null,null,null,null,null,null,null,null,null,null,null,null,null,null,null,null,null,null,null,null,null,null,132,4356,61,12]
[null,null,null,null,null,null,null,null,null,null,null,null,null,null,null,null,null,null,null,null,null,null,null,null,null,null,null,null,null,null,null,null,null,null,null,null,null,null,null,null,null,null,null,null,133,4422,61,13]
[null,null,null,null,"Navire/Véhicule",null,null,null,null,null,null,null,null,null,null,null,null,null,null,null,null,null,null,null,null,null,null,null,null,null,null,null,null,null,null,null,null,null,null,null,null,null,null,null,134,4489,62,13]
[null,"Matériel","Crédit","Achat","Modèle",null,null,null,"Catégorie",null,"Gabarit",null,"Echelle",null,"Coût indicatif",null,"DIS (M. noir)",null,"Poids (kg)",null,"NT","Fabricant",null,"Nation(s)",null,"Notes (architecture, matériaux, GP, soute…)",null,null,null,null,null,null,null,null,null,"Nation ?",null,null,null,null,null,null,null,null,135,4556,62,13]
[null,null,null,null,null,null,null,null,null,null,null,null,null,null,null,null,null,null,null,null,null,null,null,null,null,null,null,null,null,null,null,null,null,null,null,{"$f":"IF(X224=\"\",\"\",CONCATENATE(\"   (\",X224,\")\"))","v":""},null,null,null,null,null,null,null,null,136,4624,63,13]
[null,{"$f":"B224","v":0},{"$f":"C224","v":0},{"$f":"D224","v":0},null,null,null,null,null,null,null,null,null,null,null,null,null,null,null,null,null,null,null,null,null,null,null,null,null,null,null,null,null,null,null,{"$f":"CONCATENATE(V224,AJ224)","v":""},null,null,null,null,null,null,null,null,137,4692,63,13]
[null,null,null,null,null,null,null,null,null,null,null,null,null,null,null,null,null,null,null,null,null,null,null,null,null,null,null,null,null,null,null,null,null,null,null,null,null,null,null,null,null,null,null,null,138,4761,64,{"$f":"AV221+1","v":14}]
[null,null,null,null,"Prof. Optimale",null,"Prof. Limite",null,"Prof. Écrasement",null,"Autonomie (source)",null,null,"Equipage",null,"Passagers",null,"Fret",null,null,null,null,null,null,null,null,null,null,null,null,null,null,null,null,null,null,null,null,null,null,null,null,null,null,139,4830,64,14]
[null,null,null,null,null,null,null,null,null,null,null,null,null,null,null,null,null,null,null,null,null,null,null,null,null,null,null,null,null,null,null,null,null,null,null,null,null,null,null,null,null,null,null,null,140,4900,65,14]
[null,null,null,null,null,null,null,null,null,null,null,null,null,null,null,null,null,null,null,null,null,null,null,null,null,null,null,null,null,null,null,null,null,null,null,null,null,null,null,null,null,null,null,null,141,4970,65,14]
[null,null,null,null,null,null,null,null,null,null,null,null,null,null,null,null,null,null,null,null,null,null,null,null,null,null,null,null,null,null,null,null,null,null,null,null,null,null,null,null,null,null,null,null,142,5041,{"$f":"AU228+1","v":66},14]
[null,null,null,null,"Résistance aux dom.",null,"Résist. aux dom. (MA,MS…)",null,"Modif. test d'intégrité",null,"Blindage",null,"Blindage (MA, MS…)",null,"Blindage hublot (volet)",null,"Tranche",null,"Tranche",null,"Tranche",null,null,null,null,null,null,null,null,null,null,null,null,null,null,null,null,null,null,null,null,null,null,null,143,5112,66,15]
[null,null,null,null,null,null,null,null,null,null,null,null,null,null,null,null,null,null,null,null,null,null,null,null,null,null,null,null,null,null,null,null,null,null,null,null,null,null,null,null,null,null,null,null,144,5184,67,15]
[null,null,null,null,null,null,null,null,null,null,null,null,null,null,null,null,"Tranche",null,"Tranche",null,"Tranche",null,null,null,null,null,null,null,null,null,null,null,null,null,null,null,null,null,null,null,null,null,null,null,145,5256,67,15]
[null,null,null,null,null,null,null,null,null,null,null,null,null,null,null,null,null,null,null,null,null,null,null,null,null,null,null,null,null,null,null,null,null,null,null,null,null,null,null,null,null,null,null,null,146,5329,68,15]
[null,null,null,null,"Longueur",null,"Diamètre",null,"Manoeuvrabilité",null,"Type de déplacement",null,"Type de déplacement",null,"Type de déplacement",null,"Tranche",null,"Tranche",null,"Tranche",null,null,null,null,null,null,null,null,null,null,null,null,null,null,null,null,null,null,null,null,null,null,null,147,5402,68,15]
[null,null,null,null,null,null,null,null,null,null,null,null,null,null,null,null,null,null,null,null,null,null,null,null,null,null,null,null,null,null,null,null,null,null,null,null,null,null,null,null,null,null,null,null,148,5476,69,16]
[null,null,null,null,"Largeur",null,"Hauteur",null,"Accélération",null,"Vitesse / VIT (PM)",null,"Vitesse / VIT (PM)",null,"Vitesse / VIT (PM)",null,"Gros navires : Nombre de tranches, ponts, passerelles, cloisons…",null,null,null,null,null,null,null,null,null,null,null,null,null,null,null,null,null,null,null,null,null,null,null,null,null,null,null,149,5550,69,16]
[null,null,null,null,null,null,null,null,null,null,null,null,null,null,null,null,null,null,null,null,null,null,null,null,null,null,null,null,null,null,null,null,null,null,null,null,null,null,null,null,null,null,null,null,150,5625,70,16]
[null,null,null,null,null,null,null,null,null,null,null,null,null,null,null,null,null,null,null,null,null,null,null,null,null,null,null,null,null,null,null,null,null,null,null,null,null,null,null,null,null,null,null,null,151,5700,70,16]
[null,null,null,null,null,null,null,null,null,null,null,null,null,null,null,null,null,null,null,null,null,null,null,null,null,null,null,null,null,null,null,null,null,null,null,null,null,null,null,null,null,null,null,null,152,5776,71,16]
[null,null,null,null,"Systèmes auxiliaires",null,null,null,null,null,null,null,null,null,null,null,null,null,null,null,null,null,null,null,null,null,null,null,null,null,null,null,null,null,null,null,null,null,null,null,null,null,null,null,153,5852,71,17]
[null,"Matériel","Crédit","Achat","Modèle",null,null,null,"Niv. / Bonus",null,"Coût indicatif",null,"DIS (M. noir)",null,"Poids (kg)","NT","Fabricant",null,"Description (capacité, cibles…)",null,null,"ITG*",null,null,null,null,null,null,null,null,null,null,null,null,null,null,null,null,null,null,null,null,null,null,154,5929,72,17]
[null,null,null,null,null,null,null,null,null,null,null,null,null,null,null,null,null,null,null,null,null,null,null,null,null,null,null,null,null,null,null,null,null,null,null,null,null,null,null,null,null,null,null,null,155,6006,72,17]
[null,null,null,null,null,null,null,null,null,null,null,null,null,null,null,null,null,null,null,null,null,null,null,null,null,null,null,null,null,null,null,null,null,null,null,null,null,null,null,null,null,null,null,null,156,6084,73,17]
[null,null,null,null,null,null,null,null,null,null,null,null,null,null,null,null,null,null,null,null,null,null,null,null,null,null,null,null,null,null,null,null,null,null,null,null,null,null,null,null,null,null,null,null,157,6162,73,17]
[null,null,null,null,null,null,null,null,null,null,null,null,null,null,null,null,null,null,null,null,null,null,null,null,null,null,null,null,null,null,null,null,null,null,null,null,null,null,null,null,null,null,null,null,158,6241,74,18]
[null,null,null,null,null,null,null,null,null,null,null,null,null,null,null,null,null,null,null,null,null,null,null,null,null,null,null,null,null,null,null,null,null,null,null,null,null,null,null,null,null,null,null,null,159,6320,74,18]
[null,null,null,null,null,null,null,null,null,null,null,null,null,null,null,null,null,null,null,null,null,null,null,null,null,null,null,null,null,null,null,null,null,null,null,null,null,null,null,null,null,null,null,null,160,6400,75,18]
[null,null,null,null,null,null,null,null,null,null,null,null,null,null,null,null,null,null,null,null,null,null,null,null,null,null,null,null,null,null,null,null,null,null,null,null,null,null,null,null,null,null,null,null,161,6480,75,18]
[null,null,null,null,null,null,null,null,null,null,null,null,null,null,null,null,null,null,null,null,null,null,null,null,null,null,null,null,null,null,null,null,null,null,null,null,null,null,null,null,null,null,null,null,162,6561,76,18]
[null,null,null,null,null,null,null,null,null,null,null,null,null,null,null,null,null,null,null,null,null,null,null,null,null,null,null,null,null,null,null,null,null,null,null,null,null,null,null,null,null,null,null,null,163,{"$f":"ROUNDDOWN(AS251*AS251/4,0)","v":6642},76,19]
[null,null,null,null,null,null,null,null,null,null,null,null,null,null,null,null,null,null,null,null,null,null,null,null,null,null,null,null,null,null,null,null,null,null,null,null,null,null,null,null,null,null,null,null,164,6724,77,19]
[null,null,null,null,null,null,null,null,null,null,null,null,null,null,null,null,null,null,null,null,null,null,null,null,null,null,null,null,null,null,null,null,null,null,null,null,null,null,null,null,null,null,null,null,165,6806,77,19]
[null,null,null,null,null,null,null,null,null,null,null,null,null,null,null,null,null,null,null,null,null,null,null,null,null,null,null,null,null,null,null,null,null,null,null,null,null,null,null,null,null,null,null,null,166,6889,78,19]
[null,null,null,null,null,null,null,null,null,null,null,null,null,null,null,null,null,null,null,null,null,null,null,null,null,null,null,null,null,null,null,null,null,null,null,null,null,null,null,null,null,null,null,null,167,6972,78,19]
[null,null,null,null,null,null,null,null,null,null,null,null,null,null,null,null,null,null,null,null,null,null,null,null,null,null,null,null,null,null,null,null,null,null,null,null,null,null,null,null,null,null,null,null,168,7056,79,20]
[null,null,null,null,null,null,null,null,null,null,null,null,null,null,null,null,null,null,null,null,null,null,null,null,null,null,null,null,null,null,null,null,null,null,null,null,null,null,null,null,null,null,null,null,169,7140,79,20]
[null,null,null,null,null,null,null,null,null,null,null,null,null,null,null,null,null,null,null,null,null,null,null,null,null,null,null,null,null,null,null,null,null,null,null,null,null,null,null,null,null,null,null,null,170,7225,80,20]
[null,null,null,null,null,null,null,null,null,null,null,null,null,null,null,null,null,null,null,null,null,null,null,null,null,null,null,null,null,null,null,null,null,null,null,null,null,null,null,null,null,null,null,null,171,7310,80,20]
[null,null,null,null,null,null,null,null,null,null,null,null,null,null,null,null,null,null,null,null,null,null,null,null,null,null,null,null,null,null,null,null,null,null,null,null,null,null,null,null,null,null,null,null,172,7396,81,20]
[null,null,null,null,null,null,null,null,null,null,null,null,null,null,null,null,null,null,null,null,null,null,null,null,null,null,null,null,null,null,null,null,null,null,null,null,null,null,null,null,null,null,null,null,173,7482,81,21]
[null,null,null,null,null,null,null,null,null,null,null,null,null,null,null,null,null,null,null,null,null,null,null,null,null,null,null,null,null,null,null,null,null,null,null,null,null,null,null,null,null,null,null,null,174,7569,82,21]
[null,null,null,null,null,null,null,null,null,null,null,null,null,null,null,null,null,null,null,null,null,null,null,null,null,null,null,null,null,null,null,null,null,null,null,null,null,null,null,null,null,null,null,null,175,7656,82,21]
[null,null,null,null,null,null,null,null,null,null,null,null,null,null,null,null,null,null,null,null,null,null,null,null,null,null,null,null,null,null,null,null,null,null,null,null,null,null,null,null,null,null,null,null,176,7744,83,21]
[null,null,null,null,null,null,null,null,null,null,null,null,null,null,null,null,null,null,null,null,null,null,null,null,null,null,null,null,null,null,null,null,null,null,null,null,null,null,null,null,null,null,null,null,177,7832,83,21]
[null,null,null,null,null,null,null,null,null,null,null,null,null,null,null,null,null,null,null,null,null,null,null,null,null,null,null,null,null,null,null,null,null,null,null,null,null,null,null,null,null,null,null,null,178,7921,84,22]
[null,null,null,null,null,null,null,null,null,null,null,null,null,null,null,null,null,null,null,null,null,null,null,null,null,null,null,null,null,null,null,null,null,null,null,null,null,null,null,null,null,null,null,null,179,8010,84,22]
[null,{"$f":"SUM(B243:B267)","v":0},{"$f":"SUM(C243:C267)","v":0},0,null,null,null,null,null,null,null,null,null,null,null,null,null,null,null,null,null,"*occas. 2D6+6, neuf 20 (m.n.), ou intégrité moyenne du guide d'acquisition p310 du GT",null,null,null,null,null,null,null,null,null,null,null,null,null,null,null,null,null,null,null,null,null,null,180,8100,85,22]
[null,null,null,null,null,null,null,null,null,null,null,null,null,null,null,null,null,null,null,null,null,null,null,null,null,null,null,null,null,null,null,null,null,null,null,null,null,null,null,null,null,null,null,null,181,8190,85,22]
[null,null,null,null,"Ordinateur",null,null,null,"Il convient de recopier l'ordinateur dans la liste des systèmes auxiliaires (ne pas copier le coût).",null,null,null,null,null,null,null,null,null,null,null,null,null,null,null,null,null,null,null,null,null,null,null,null,null,null,null,null,null,null,null,null,null,null,null,182,8281,86,22]
[null,"Matériel","Crédit","Achat","Modèle",null,null,null,"Type",null,"Coût indicatif",null,"Niv. Max. des prog.",null,"Gestion systèmes",null,"Potentiel",null,"Blindage IEM",null,"DIS (M. noir)",null,"Poids (kg)","NT","Gén.","Fabricant",null,"ITG*",null,null,null,null,null,null,null,"NT",{"$f":"X272","v":0},{"$f":"IF(AK271=0,0,VLOOKUP(AK271,AP89:AS95,4))","v":0},"Coût","Poids",null,null,null,null,183,8372,86,23]
[null,null,null,null,null,null,null,null,"Ordinateur embarqué",null,{"$f":"AM272+(200*S272*S272)","v":0},null,{"$f":"IF(AL271=0,0,IF(AL272=0,0,((AL271+AL272)*2+ROUNDDOWN(AL272/2,0))))","v":0},null,{"$f":"IF(AL271=0,0,IF(AL272=0,0,(AL271*AL272*AL272*2)))","v":0},null,{"$f":"IF(AL271=0,0,IF(AL272=0,0,10+(AL271*AL272*AL271*AL272*5)))","v":0},null,0,null,{"$f":"IF(AL271=0,0,IF(AL272=0,0,VLOOKUP(AL272,AX100:BD109,AL271+1)))","v":0},null,{"$f":"IF(W274=\"Oui\",0,AN272)","v":0},null,null,null,null,null,null,null,null,null,null,null,null,"Gén.",{"$f":"Y272","v":0},{"$f":"IF(AK272=0,0,VLOOKUP(AK272,AQ89:AR98,2))","v":0},{"$f":"(500*AL271*AL272)","v":0},{"$f":"IF(AL271=0,0,IF(AL272=0,0,VLOOKUP(AL272,AX86:BD95,AL271+1)))","v":0},null,null,null,null,184,8464,87,23]
[null,{"$f":"B272","v":0},{"$f":"C272","v":0},{"$f":"D272","v":0},null,null,null,null,null,null,null,null,null,null,null,null,null,null,null,null,null,null,"Intégré ?",{"$f":"IF(AND(I272=AJ270,AL274<4),\"ERREUR\",\"\")","v":""},null,null,null,"*Gén. I - II : occas. 2D6+3, neuf 15 (m.n.)",null,null,null,null,null,null,null,{"$f":"IF(X272=\"\",\"\",IF(Y272=\"\",\"\",CONCATENATE(X272,\" / \",Y272)))","v":""},null,null,null,null,null,null,null,null,185,8556,87,23]
[null,"Matériel","Crédit","Achat","Programme",null,null,null,"Niveau",null,"Coût indicatif",null,"Coût de base",null,null,null,"Niv. fonct. auto",null,"Niv. fonct. opérateur",null,null,null,"Oui",null,null,null,null,"Gén. III - VIII : occas. 2D6+8, neuf 20 (m.n.)",null,null,null,null,null,null,null,"Oui",null,null,null,null,null,null,null,null,186,8649,88,23]
[null,null,null,null,null,null,null,null,null,null,{"$f":"IF(I275=0,0,M275*VLOOKUP(I275,$AO$118:$AP$137,2))","v":0},null,null,null,{"$f":"IF(I275>$M$191,\"ERREUR\",\"\")","v":""},null,{"$f":"IF(I275=0,0,IF($AL$272=0,0,I275+ROUNDUP($AL$272/2,0)))","v":0},null,{"$f":"IF(I275=0,0,IF($AL$105=0,0,I275+ROUNDUP($AK$102/2,0)))","v":0},null,null,null,null,null,null,null,null,"Gén. IX - X : occas. 3D6+7, neuf 25 (m.n.)",null,null,null,null,null,null,null,"Non",null,null,null,null,null,null,null,null,187,8742,88,23]
[null,null,null,null,null,null,null,null,null,null,0,null,null,null,{"$f":"IF(I276>$M$191,\"ERREUR\",\"\")","v":""},null,0,null,{"$f":"IF(I276=0,0,IF($AL$105=0,0,I276+ROUNDUP($AK$102/2,0)))","v":0},null,null,null,null,null,null,null,null,null,null,null,null,null,null,null,null,null,null,null,null,null,null,null,null,null,188,8836,89,24]
[null,null,null,null,null,null,null,null,null,null,0,null,null,null,"",null,0,null,0,null,null,null,null,null,null,null,null,null,null,null,null,null,null,null,null,null,null,null,null,null,null,null,null,null,189,8930,89,24]
[null,null,null,null,null,null,null,null,null,null,0,null,null,null,"",null,0,null,0,null,null,null,null,null,null,null,null,null,null,null,null,null,null,null,null,null,null,null,null,null,null,null,null,null,190,9025,90,24]
[null,null,null,null,null,null,null,null,null,null,0,null,null,null,"",null,0,null,0,null,null,null,null,null,null,null,null,null,null,null,null,null,null,null,null,null,null,null,null,null,null,null,null,null,191,9120,90,24]
[null,null,null,null,null,null,null,null,null,null,0,null,null,null,"",null,0,null,0,null,null,null,null,null,null,null,null,null,null,null,null,null,null,null,null,null,null,null,null,null,null,null,null,null,192,9216,91,24]
[null,null,null,null,null,null,null,null,null,null,0,null,null,null,"",null,0,null,0,null,null,null,null,null,null,null,null,null,null,null,null,null,null,null,null,{"$f":"CONCATENATE(E275,\" \",I275,\"   \",E276,\" \",I276,\"   \",E277,\" \",I277,\"   \",E278,\" \",I278)","v":"             "},null,null,null,null,null,null,null,null,193,9312,91,25]
[null,null,null,null,null,null,null,null,null,null,0,null,null,null,"",null,0,null,0,null,null,null,null,null,null,null,null,null,null,null,null,null,null,null,null,{"$f":"CONCATENATE(E279,\" \",I279,\"   \",E280,\" \",I280,\"   \",E281,\" \",I281,\"   \",E282,\" \",I282)","v":"             "},null,null,null,null,null,null,null,null,194,9409,92,25]
[null,null,null,null,null,null,null,null,null,null,0,null,null,null,"",null,0,null,0,null,null,null,null,null,null,null,null,null,null,null,null,null,null,null,null,{"$f":"CONCATENATE(E283,\" \",I283,\"   \",E284,\" \",I284,\"   \",E285,\" \",I285,\"   \",E286,\" \",I286)","v":"             "},null,null,null,null,null,null,null,null,195,9506,92,25]
[null,null,null,null,null,null,null,null,null,null,0,null,null,null,"",null,0,null,0,null,null,null,null,null,null,null,null,null,null,null,null,null,null,null,null,null,null,null,null,null,null,null,null,null,196,9604,93,25]
[null,null,null,null,null,null,null,null,null,null,0,null,null,null,"",null,0,null,0,null,null,null,null,null,null,null,null,null,null,null,null,null,null,null,null,null,null,null,null,null,null,null,null,null,197,9702,93,25]
[null,null,null,null,null,null,null,null,null,null,0,null,null,null,"",null,0,null,0,null,null,null,null,null,null,null,null,null,null,null,null,null,null,null,null,null,null,null,null,null,null,null,null,null,198,9801,94,26]
[null,{"$f":"SUM(B275:B286)","v":0},{"$f":"SUM(C275:C286)","v":0},0,null,null,null,null,{"$f":"IF(SUM(I275:J286)>Q272,\"ERREUR\",\"\")","v":""},null,null,null,null,null,null,null,null,null,null,null,null,null,null,null,null,null,null,null,null,null,null,null,null,null,null,null,null,null,null,null,null,null,null,null,199,9900,94,26]
[null,null,null,null,null,null,null,null,null,null,null,null,null,null,null,null,null,null,null,null,null,null,null,null,null,null,null,null,null,null,null,null,null,null,null,null,null,null,null,null,null,null,null,null,200,10000,95,26]
[null,null,null,null,"Armement"]
[null,"Matériel","Crédit","Achat","Modèle (nombre)",null,null,null,"Dom.",null,"Choc",null,"Pén.","Portée",null,null,"Ini.","Mode tir","Coût indicatif",null,"Mun.","Cap. charg. (coût)",null,"DIS (M. noir)",null,"Poids (kg)","NT","Fabricant",null,"Notes",null,null,"ITG*"]
[]
[]
[]
[]
[]
[]
[null,{"$f":"SUM(B291:B296)","v":0},{"$f":"SUM(C291:C296)","v":0},0,null,null,null,null,null,null,null,null,null,null,null,null,null,null,null,null,null,null,null,null,null,null,null,null,null,null,null,null,"*occas. 2D6+6, neuf 20 (m.n.), ou intégrité moyenne du guide d'acquisition p310 du GT"]
[null,null,null,null,"Torpilles"]
[null,"Matériel","Crédit","Achat","Modèle",null,null,null,"Type",null,"Niveau",null,"Vitesse (VIT/PM)",null,"Prof. opérationnelle",null,"Ini.","Mode tir","Taille","Pén.","Dom.",null,"Autonomie (portée)",null,"Coût indicatif",null,"Mun.","DIS (M. noir)",null,"Poids (kg)","NT","Fabricant",null,"Spécial",null,null,"Type Niveau"]
[null,null,null,null,null,null,null,null,null,null,null,null,null,null,null,null,null,null,null,null,null,null,null,null,null,null,null,null,null,null,null,null,null,null,null,null,{"$f":"IF(K300=\"\",\"\",CONCATENATE(\" \",K300))","v":""},{"$f":"CONCATENATE(I300,AK300)","v":""}]
[null,null,null,null,null,null,null,null,null,null,null,null,null,null,null,null,null,null,null,null,null,null,null,null,null,null,null,null,null,null,null,null,null,null,null,null,{"$f":"IF(K301=\"\",\"\",CONCATENATE(\" \",K301))","v":""},{"$f":"CONCATENATE(I301,AK301)","v":""}]
[null,null,null,null,null,null,null,null,null,null,null,null,null,null,null,null,null,null,null,null,null,null,null,null,null,null,null,null,null,null,null,null,null,null,null,null,"",""]
[null,{"$f":"SUM(B300:B302)","v":0},{"$f":"SUM(C300:C302)","v":0},0]

{"sheet":"MJ_EXPERIENCE","index":9,"n_rows":185,"n_cols":28,"rows_kept":185,"cut":false,"hidden":false,"merged":[[178,1,180,1],[29,12,31,12],[29,7,31,7],[29,4,31,4],[10,1,12,1],[22,7,24,7],[120,4,120,5],[121,4,121,5],[122,4,122,5],[111,12,111,14],[112,12,112,14],[97,12,97,14],[98,12,98,14],[102,3,104,3],[109,3,111,3],[102,12,102,14],[103,12,103,14],[104,12,104,14],[105,12,105,14],[109,12,109,14],[110,12,110,14],[111,4,111,5],[98,4,98,5],[87,12,87,14],[88,12,88,14],[91,12,91,14],[92,12,92,14],[93,12,93,14],[94,12,94,14],[78,12,78,14],[79,12,79,14],[80,12,80,14],[81,12,81,14],[85,12,85,14],[86,12,86,14],[69,12,69,14],[70,12,70,14],[74,12,74,14],[75,12,75,14],[76,12,76,14],[77,12,77,14],[61,12,61,14],[62,12,62,14],[63,12,63,14],[64,12,64,14],[67,12,67,14],[68,12,68,14],[53,12,53,14],[56,12,56,14],[57,12,57,14],[58,12,58,14],[59,12,59,14],[60,12,60,14],[42,12,42,14],[43,12,43,14],[46,12,46,14],[47,12,47,14],[48,12,48,14],[49,12,49,14],[112,4,112,5],[111,7,111,10],[112,7,112,10],[34,12,34,14],[35,12,35,14],[36,12,36,14],[37,12,37,14],[40,12,40,14],[41,12,41,14],[104,4,104,5],[105,4,105,5],[104,7,104,10],[105,7,105,10],[109,4,109,5],[110,4,110,5],[102,7,102,10],[103,7,103,10],[109,7,109,10],[110,7,110,10],[102,4,102,5],[103,4,103,5],[94,4,94,5],[94,7,94,10],[97,4,97,5],[70,4,70,5],[70,7,70,10],[68,7,68,10],[57,7,57,10],[58,7,58,10],[97,7,97,10],[98,7,98,10],[91,4,91,5],[91,7,91,10],[92,4,92,5],[92,7,92,10],[93,4,93,5],[93,7,93,10],[85,4,85,5],[86,4,86,5],[87,4,87,5],[88,4,88,5],[85,7,85,10],[86,7,86,10],[87,7,87,10],[88,7,88,10],[78,7,78,10],[79,7,79,10],[80,7,80,10],[81,7,81,10],[74,4,74,5],[75,4,75,5],[76,4,76,5],[77,4,77,5],[78,4,78,5],[79,4,79,5],[80,4,80,5],[81,4,81,5],[74,7,74,10],[75,7,75,10],[76,7,76,10],[77,7,77,10],[60,7,60,10],[61,7,61,10],[63,7,63,10],[64,7,64,10],[67,4,67,5],[67,7,67,10],[63,4,63,5],[61,4,61,5],[22,4,22,5],[23,4,23,5],[24,4,24,5],[40,4,40,5],[42,4,42,5],[43,4,43,5],[34,7,34,10],[35,7,35,10],[36,7,36,10],[37,7,37,10],[40,7,40,10],[47,4,47,5],[53,4,53,5],[53,7,53,10],[69,4,69,5],[69,7,69,10],[64,4,64,5],[47,7,47,10],[48,4,48,5],[48,7,48,10],[49,4,49,5],[49,7,49,10],[41,7,41,10],[42,7,42,10],[43,7,43,10],[68,4,68,5],[56,4,56,5],[56,7,56,10],[59,4,59,5],[59,7,59,10],[62,4,62,5],[62,7,62,10],[57,4,57,5],[60,4,60,5],[58,4,58,5],[46,4,46,5],[46,7,46,10],[41,4,41,5],[3,0,3,2],[3,17,3,19],[34,4,34,5],[35,4,35,5],[36,4,36,5],[37,4,37,5],[25,4,25,5],[26,4,26,5],[25,1,25,2],[26,1,26,2],[22,1,22,2],[23,1,23,2],[24,1,24,2],[26,18,26,20],[27,18,27,20],[28,18,28,20],[29,18,29,20],[30,18,30,20],[21,18,21,20],[22,18,22,20],[23,18,23,20],[24,18,24,20],[25,18,25,20],[5,9,7,9],[126,4,126,5],[127,4,127,5],[128,4,128,5],[126,7,126,10],[127,7,127,10],[128,7,128,10],[129,7,129,10],[129,4,129,5],[130,4,130,5],[130,7,130,10],[155,7,155,10],[156,4,156,5],[132,4,132,5],[136,4,136,5],[136,7,136,10],[137,4,137,5],[137,7,137,10],[138,4,138,5],[138,7,138,10],[149,7,149,10],[131,7,131,10],[169,3,171,3],[169,4,169,5],[169,7,169,10],[170,4,170,5],[170,7,170,10],[171,4,171,5],[171,7,171,10],[164,3,166,3],[139,4,139,5],[139,7,139,10],[140,4,140,5],[140,7,140,10],[141,4,141,5],[141,7,141,10],[142,4,142,5],[142,7,142,10],[143,4,143,5],[143,7,143,10],[165,7,165,10],[154,4,154,5],[154,7,154,10],[161,4,161,5],[155,4,155,5],[172,4,172,5],[172,7,172,10],[165,4,165,5],[156,7,156,10],[144,4,144,5],[144,7,144,10],[39,20,39,21],[40,20,40,21],[41,20,41,21],[42,20,42,21],[43,20,43,21],[44,20,44,21],[45,20,45,21],[46,20,46,21],[48,20,48,21],[120,6,122,6],[120,12,122,12],[147,4,147,5],[147,7,147,10],[148,4,148,5],[148,7,148,10],[149,4,149,5],[50,20,50,21],[131,4,131,5],[51,20,51,21],[52,20,52,21],[150,4,150,5],[150,7,150,10],[183,4,183,5],[184,4,184,5],[120,7,120,10],[121,7,121,10],[122,7,122,10],[164,11,166,11],[102,6,104,6],[169,6,171,6],[164,6,166,6],[109,6,111,6],[126,6,128,6],[157,4,157,5],[157,7,157,10],[158,4,158,5],[158,7,158,10],[159,4,159,5],[159,7,159,10],[160,4,160,5],[160,7,160,10],[161,7,161,10]]}
[]
[null,null,null,null,null,null,null,null,null,"<< Légende _"]
[]
["TROISIEME EDITION",null,null,null,null,null,null,null,null,null,"Cellules à compléter / Sélection à faire dans le menu déroulant",null,null,null,null,null,null,"TROISIEME EDITION"]
[null,null,null,null,null,null,null,null,null,null,"Idem pour le MJ uniquement"]
[]
[null,null,null,null,null,null,null,null,null,null,"Passer la souris au dessus de ce symbole pour afficher un commentaire"]
[]
[]
[]
[null,null,"Pour éviter de compliquer la construction du fichier la plupart de ces modificateurs apparaîtrons directement dans les valeurs finales."]
[null,null,"De ce fait, il peut être plus difficile de suivre la construction du personnage pas à pas."]
[null,null,"C'est pour cela que ces cases sont reservées au MJ."]
[null,"*","Ce symbole discret vous permettra de voir sur les autres onglets les valeurs qui peuvent être influencées par cette page. "]
[null,null,"Une valeur orange à la place de cette petite étoile signifie qu'il y a une modification à faire manuellement."]
[]
[]
[]
[null,"GESTION DES REVERS ET DES INCIDENTS SCENARISTIQUES",null,null,null,null,null,null,null,null,null,null,null,null,null,null,null,null,"GAIN DES POINTS D'EXPERIENCE"]
[]
[null,null,null,null,null,null,null,null,null,null,null,null,null,null,null,null,null,null,"Campagne/scénario",null,null,"PE"]
[null,"Revers obtenus",null,null,"Revers obtenus",null,null,null,null,null,null,null,null,null,null,null,null,1,null,null,null,0]
[1,null,null,6,null,null,null,null,null,null,null,null,null,null,null,null,null,2,null,null,null,0]
[2,null,null,7,null,null,null,null,null,null,null,null,null,null,null,null,null,3,null,null,null,0]
[3,null,null,8,null,null,null,null,null,null,null,null,null,null,null,null,null,4,null,null,null,0]
[4,null,null,9,null,null,null,null,null,null,null,null,null,null,null,null,null,5,null,null,null,0]
[5,null,null,10,null,null,null,null,null,null,null,null,null,null,null,null,null,6,null,null,null,0]
[null,null,null,null,null,null,null,null,null,null,null,null,null,null,null,null,null,7,null,null,null,0]
[null,null,null,null,null,null,null,null,null,null,null,null,null,null,null,null,null,8,null,null,null,0]
[null,null,null,null,null,null,null,null,null,null,null,null,null,null,null,null,null,9,null,null,null,0]
[null,null,null,null,null,null,null,null,null,null,null,null,null,null,null,null,null,10,null,null,null,0]
[null,null,null,null,null,null,null,null,null,null,null,null,null,null,null,null,null,null,null,null,"TOTAL PE",{"$f":"SUM(V22:V31)","v":0}]
[null,null,null,null,null,null,null,null,null,null,null,null,null,null,null,null,null,null,null,null,"PE UTILISES",{"$f":"Z50","v":0}]
[null,"Perte de points de compétences",null,null,"(-)",null,null,"Notes",null,null,null,null,"Revers ou incidents de scénario",null,null,null,null,null,null,null,"PE RESTANTS",{"$f":"V32-V33","v":0}]
[null,"Profession 1",null,null,0,null,null,null,null,null,null,null,null,null,null,null,null,null,null,null,null,{"$f":"IF(V34<0,\"ERREUR\",\"\")","v":""}]
[null,"Profession 2",null,null,0]
[null,"Profession 3",null,null,0]
[null,"Profession 4",null,null,0,null,null,null,null,null,null,null,null,null,null,null,null,null,"DEPENSE DES POINTS D'EXPERIENCE"]
[]
[null,"Perte d'économie",null,null,"(-)",null,null,"Notes",null,null,null,null,"Revers ou incidents de scénario",null,null,null,null,null,"Force",null,0,null,{"$f":"U40+E155","v":0},null,null,{"$f":"U40*5","v":0},0,0]
[null,"Profession 1",null,null,0,null,null,null,null,null,null,null,null,null,null,null,null,null,"Constitution",null,0,null,{"$f":"U41+E156","v":0},null,null,0,1,1]
[null,"Profession 2",null,null,0,null,null,null,null,null,null,null,null,null,null,null,null,null,"Coordination",null,0,null,0,null,null,0,2,2]
[null,"Profession 3",null,null,0,null,null,null,null,null,null,null,null,null,null,null,null,null,"Adaptation",null,0,null,0,null,null,0,3,3]
[null,"Profession 4",null,null,0,null,null,null,null,null,null,null,null,null,null,null,null,null,"Perception",null,0,null,0,null,null,0,4,4]
[null,null,null,null,{"$f":"SUM(E41:F44)","v":0},null,null,null,null,null,null,null,null,null,null,null,null,null,"Intelligence",null,0,null,0,null,null,0,5,5]
[null,"Perte de points d'avantage",null,null,"(-)",null,null,"Notes",null,null,null,null,"Revers ou incidents de scénario",null,null,null,null,null,"Volonté",null,0,null,0,null,null,0,null,6]
[null,"Profession 1",null,null,0,null,null,null,null,null,null,null,null,null,null,null,null,null,"Présence",null,0,null,0,null,null,0,null,7]
[null,"Profession 2",null,null,0,null,null,null,null,null,null,null,null,null,null,null,null,null,null,null,null,null,null,null,null,null,null,8]
[null,"Profession 3",null,null,0,null,null,null,null,null,null,null,null,null,null,null,null,null,"Points de compétence",null,0,null,{"$f":"E133+U53","v":0},null,null,{"$f":"U49","v":0},null,9]
[null,"Profession 4",null,null,0,null,null,null,null,null,null,null,null,null,null,null,null,null,null,null,null,null,null,null,null,{"$f":"SUM(Z40:Z49)","v":0},null,10]
[null,null,null,null,null,null,null,null,null,null,null,null,null,null,null,null,null,null,"Technique combat 1",null,0,null,null,null,{"$f":"U51*2","v":0}]
[null,null,null,null,null,null,null,null,null,null,null,null,null,null,null,null,null,null,"Technique combat 2",null,0,null,null,null,{"$f":"U52*2","v":0}]
[null,"Perte de célébrité",null,null,"(-)",null,null,"Notes",null,null,null,null,"Revers ou incidents de scénario",null,null,null,null,null,"Points comp restant",null,{"$f":"U49-Y51-Y52","v":0}]
[null,"Célébrité",null,null,0]
[]
[null,"Perte de relations",null,null,"(-)",null,null,"Notes",null,null,null,null,"Revers ou incidents de scénario"]
[null,"Contact",null,null,0]
[null,"Contact influent",null,null,0]
[null,"Contact membre d'un groupe/gang",null,null,0]
[null,"Allié",null,null,0]
[null,"Allié influent",null,null,0]
[null,"Allié membre d'un groupe/gang",null,null,0]
[null,"Fournisseur",null,null,0]
[null,"Fournisseur influent",null,null,0]
[null,"Fournisseur membre groupe/gang",null,null,0]
[]
[null,"Gain d'ennemis",null,null,"(+)",null,null,"Notes",null,null,null,null,"Revers ou incidents de scénario"]
[null,"Opposant",null,null,0]
[null,"Ennemi",null,null,0]
[null,"Ennemi important",null,null,0]
[null,"Ennemi membre d'un groupe/gang",null,null,0]
[]
[]
[null,"Diminution d'attributs",null,null,"(-)",null,null,"Notes",null,null,null,null,"Revers ou incidents de scénario"]
[null,"Force",null,null,0]
[null,"Constitution",null,null,0]
[null,"Coordination",null,null,0]
[null,"Adaptation",null,null,0]
[null,"Perception",null,null,0]
[null,"Intelligence",null,null,0]
[null,"Volonté",null,null,0]
[null,"Présence",null,null,0]
[]
[]
[null,"Blessures et sequelles",null,null,"Nom",null,null,"Effets",null,null,null,null,"Revers ou incidents de scénario"]
[null,"Blessures, sequelles 1"]
[null,"Blessures, sequelles 2"]
[null,"Blessures, sequelles 3"]
[null,"Blessures, sequelles 4"]
[]
[null,"Maladie ou virus contractés",null,null,"Nom",null,null,"Effets",null,null,null,null,"Revers ou incidents de scénario"]
[null,"Maladie, virus 1"]
[null,"Maladie, virus 2"]
[null,"Maladie, virus 3"]
[null,"Maladie, virus 4"]
[]
[null,"Dommages reçus",null,null,"(+)",null,null,"Notes",null,null,null,null,"Revers ou incidents de scénario"]
[null,"Irradiation",null,null,0]
[null,"Narco-dommages",null,null,0]
[]
[]
[null,"Désavantages obtenus",null,null,"Modificateur de PC (+)",null,null,"Désavantages + effets",null,null,null,null,"Revers ou incidents de scénario"]
[null,"Désavantage 1",null," ",0,null," "]
[null,"Désavantage 2",null,null,0]
[null,"Désavantage 3",null,null,0]
[null,"Désavantage 4",null,null,0]
[null,null,null,null,{"$f":"SUM(E103:F106)","v":0}]
[]
[null,"Mutations obtenus",null,null,"Modificateur de PC (-)",null,null,"Mutations + effets",null,null,null,null,"Revers ou incidents de scénario"]
[null,"Mutation 1",null," ",0,null," "]
[null,"Mutation 2",null,null,0]
[null,"Mutation 3",null,null,0]
[null,"Mutation 4",null,null,0]
[null,null,null,null,{"$f":"SUM(E110:F113)","v":0}]
[]
[]
[null,"MODIFICATIONS SCENARISTIQUES DES PERSONNAGES"]
[]
[]
[null,"Modification des finances",null,null,"(+)",null,null,"Notes",null,null,null,null,"Espions"]
[null,"Economies (sols)",null,null,0,null," "]
[null,"Endettement (sols)",null,null,0]
[null,"Matériel (sols)",null,null,0]
[]
[]
[null,"Gain de compétences",null,null,"(+)",null,null,"Pour une compétence particulière ou à répartir ?"]
[null,"Points de compétence 1",null,null,0,null," "]
[null,"Points de compétence 2",null,null,0]
[null,"Points de compétence 3",null,null,0]
[null,"Points de compétence 4",null,null,0]
[null,"Points de compétence 5",null,null,0]
[null,"Points de compétence 6",null,null,0]
[null,null,null,"TOTAL",{"$f":"SUM(E127:F132)","v":0}]
[]
[]
[null,"Gain de relations",null,null,"(+)",null,null,"Notes"]
[null,"Contact",null,null,0]
[null,"Contact influent",null,null,0]
[null,"Contact membre d'un groupe/gang",null,null,0]
[null,"Allié",null,null,0]
[null,"Allié influent",null,null,0]
[null,"Allié membre d'un groupe/gang",null,null,0]
[null,"Fournisseur",null,null,0]
[null,"Fournisseur influent",null,null,0]
[null,"Fournisseur membre groupe/gang",null,null,0]
[]
[null,"Perte d'ennemis",null,null,"(-)",null,null,"Notes"]
[null,"Opposant",null,null,0]
[null,"Ennemi",null,null,0]
[null,"Ennemi important",null,null,0]
[null,"Ennemi membre d'un groupe/gang",null,null,0]
[]
[]
[null,"Amélioration d'attributs",null,null,"(+)",null,null,"Notes"]
[null,"Force",null,null,0]
[null,"Constitution",null,null,0]
[null,"Coordination",null,null,0]
[null,"Adaptation",null,null,0]
[null,"Perception",null,null,0]
[null,"Intelligence",null,null,0]
[null,"Volonté",null,null,0]
[null,"Présence",null,null,0]
[]
[]
[null,"Evolution génétique",null," ","Modificateur de PC (-)",null," ","Nouveau type génétique (autre qu'humain)",null,null,null," "]
[null,"(Humain seulement)",null,null,0]
[]
[]
[null,"Avantages obtenus",null,null,"Modificateur de PC (-)",null,null,"Avantages + effets"]
[null,"Avantage 1",null," ",0,null," "]
[null,"Avantage 2",null,null,0]
[null,"Avantage 3",null,null,0]
[null,"Avantage 4",null,null,0]
[null,null,null,null,{"$f":"SUM(E170:F173)","v":0}]
[]
[]
[null,"MODIFICATIONS DU JEU"]
[]
[]
[null,null,"La modification de ces valeurs peut entraîner des messages d'erreur dans la construction du personnage."]
[]
[]
[null,null,null,null,"(+)"]
[null,"Points d'Attributs supplémentaires",null,null,0]
[null,"Points de Création supplémentaires",null,null,0]

{"sheet":"INFORMATIONS_GENERALES","index":10,"n_rows":59,"n_cols":23,"rows_kept":59,"cut":false,"hidden":false,"merged":[[18,1,18,5],[18,9,18,14],[39,16,39,21],[40,16,40,21],[41,16,41,21],[34,16,34,21],[35,16,35,21],[36,16,36,21],[29,16,29,21],[30,16,30,21],[31,16,31,21],[33,16,33,21],[38,16,38,21],[23,16,23,21],[24,16,24,21],[25,16,25,21],[26,16,26,21],[28,16,28,21],[21,10,21,11],[19,4,19,5],[21,1,21,4],[21,5,21,7],[21,8,21,9],[19,7,19,14],[58,16,58,21],[53,16,53,21],[54,16,54,21],[49,16,49,21],[50,16,50,21],[43,16,43,21],[48,16,48,21],[52,16,52,21],[56,16,56,21],[57,16,57,21],[44,16,44,21],[45,16,45,21],[46,16,46,21],[0,0,2,0],[0,1,2,21],[0,22,2,22],[5,7,6,14],[16,1,16,5],[17,1,17,5],[12,17,12,19],[6,18,6,20],[9,13,9,14],[10,13,10,14],[11,13,11,14],[9,9,9,10],[10,9,10,10],[11,9,11,10],[14,7,14,14],[4,1,14,5],[13,11,13,14],[15,7,15,14],[16,7,16,14],[17,7,17,14],[25,1,25,4],[25,5,25,7],[25,8,25,9],[25,10,25,11],[26,1,26,4],[26,5,26,7],[26,8,26,9],[26,10,26,11],[27,1,27,4],[27,5,27,7],[22,1,22,4],[22,5,22,7],[22,8,22,9],[22,10,22,11],[23,1,23,4],[23,5,23,7],[23,8,23,9],[23,10,23,11],[24,1,24,4],[24,5,24,7],[24,8,24,9],[24,10,24,11],[30,1,30,4],[30,5,30,7],[30,8,30,9],[30,10,30,11],[36,1,36,14],[32,1,32,4],[32,5,32,7],[32,8,32,9],[32,10,32,11],[31,8,31,9],[31,10,31,11],[33,1,33,4],[33,5,33,7],[42,1,42,14],[35,1,35,14],[33,8,33,9],[33,10,33,11],[6,25,7,25],[55,1,55,14],[31,1,31,4],[31,5,31,7],[27,8,27,9],[27,10,27,11],[37,1,37,14],[38,1,38,14],[39,1,39,14],[40,1,40,14],[41,1,41,14],[28,1,28,4],[28,5,28,7],[28,8,28,9],[28,10,28,11],[29,1,29,4],[29,5,29,7],[29,8,29,9],[29,10,29,11],[54,1,54,14],[52,1,52,14],[53,1,53,14],[56,1,59,14],[43,1,43,14],[44,1,44,14],[45,1,45,14],[46,1,46,14],[47,1,47,14],[48,1,48,14],[49,1,49,14],[50,1,50,14],[51,1,51,14]]}
[null,"INFORMATIONS GENERALES_",null,null,null,null,null,null,null,null,null,null,null,null,null,null,null,null,null,null,null,null,1]
[]
[]
[]
[null,null,null,null,null,null,null,"NOM DU PERSONNAGE_"]
[null,null,null,null,null,null,null,"TEXTE",null,null,null,null,null,null,null,null,null,"INFORMATIONS_"]
[null,null,null,null,null,null,null,null,null,null,null,null,null,null,null,null,null,"Archétype :","TEXTE"]
[null,null,null,null,null,null,null,null,null,null,null,null,null,null,null,null,null,"Type génétique :",{"$f":"ATTRIBUTS!D12","v":"Humain"}]
[null,null,null,null,null,null,null,"DESCRIPTION PHYSIQUE_",null,null,null,null,null,null,null,null,null,"Age :",{"$f":"ATTRIBUTS!D37","v":16},"ans"]
[null,null,null,null,null,null,null,"Taille :",null,"TEXTE",null,null,"Poids :","TEXTE",null,null,null,"Sexe :",{"$f":"IF(ATTRIBUTS!D11=\"Homme\",\"■ Masculin\",\"□ Masculin\")","v":"■ Masculin"},null,{"$f":"IF(ATTRIBUTS!D11=\"Femme\",\"■ Féminin\",\"□ Féminin\")","v":"□ Féminin"}]
[null,null,null,null,null,null,null,"Peau :",null,"TEXTE",null,null,"Corpulence :","TEXTE",null,null,null,"Fécondité :",{"$f":"IF(AVANTAGES_DESAVANTAGES!AR170>0,\"■ Fécond\",\"□ Fécond\")","v":"□ Fécond"},null,{"$f":"IF(AVANTAGES_DESAVANTAGES!AR170=0,\"■ Stérile\",\"□ Stérile\")","v":"■ Stérile"}]
[null,null,null,null,null,null,null,"Cheveux :",null,"TEXTE",null,null,"Yeux :","TEXTE",null,null,null,"Origine géographique :",null,{"$f":"EXPERIENCE_PRELIMINAIRE!E37","v":"Navire nomade"}]
[null,null,null,null,null,null,null,{"$f":"IF(AVANTAGES_DESAVANTAGES!AQ170>0,\"Droitier □\",IF(AVANTAGES_DESAVANTAGES!M27=\"Droitier\",\"Droitier ■\",\"Droitier □\"))","v":"Droitier ■"},null,null,null,{"$f":"IF(AVANTAGES_DESAVANTAGES!AQ170>0,\"Gaucher □\",IF(AVANTAGES_DESAVANTAGES!M27=\"Gaucher\",\"Gaucher ■\",\"Gaucher □\"))","v":"Gaucher □"},null,{"$f":"IF(AVANTAGES_DESAVANTAGES!AQ170>0,\"Ambidextre ■\",\"Ambidextre □\")","v":"Ambidextre □"},null,null,null,"TEXTE",null,null,{"$f":"IF(EXPERIENCE_PRELIMINAIRE!E32=\"Autre I\",\"\",EXPERIENCE_PRELIMINAIRE!E32)","v":" "}]
[null,null,null,null,null,null,null,"Signes particuliers :",null,null,null,"TEXTE",null,null,null,null,null,"Origine sociale :",null,{"$f":"EXPERIENCE_PRELIMINAIRE!E38","v":"Bas-fonds"}]
[null,null,null,null,null,null,null,"TEXTE",null,null,null,null,null,null,null,null,null,"Formation de base :",null,{"$f":"EXPERIENCE_PRELIMINAIRE!E46","v":"Délinquance/Criminalité"}]
[null,null,null,null,null,null,null,"TEXTE",null,null,null,null,null,null,null,null,null,"Etudes supérieures :",null,{"$f":"EXPERIENCE_PRELIMINAIRE!E58","v":"Pas d'étude sup."}]
[null,"CELEBRITE_",null,null,null,null,null,"TEXTE",null,null,null,null,null,null,null,null,null,null,null,{"$f":"EXPERIENCE_PRELIMINAIRE!E93","v":"Pas d'étude sup."}]
[null,{"$f":"AVANTAGES_PROFESSIONNELS!L75","v":0},null,null,null,null,null,"TEXTE",null,null,null,null,null,null,null,null,null,null,null,{"$f":"EXPERIENCE_PRELIMINAIRE!E118","v":"Pas d'étude sup."}]
[null,"EXPERIENCE_",null,null,null,null,null,"Citation :",null,"TEXTE",null,null,null,null,null,null,null,null,null,{"$f":"EXPERIENCE_PRELIMINAIRE!E153","v":"Pas d'étude sup."}]
[null,"PE total:",{"$f":"MJ_EXPERIENCE!V32","v":0},"PE actuel:",{"$f":"MJ_EXPERIENCE!V34","v":0},null,null,"TEXTE"]
[]
[null,"PROFESSIONS_",null,null,null,"Années",null,null,"Points de comp.",null,"Contacts",null,"Alliés/fourn.","Opp.","En.",null,"PERSONNALITE_"]
[null,{"$f":"EXPERIENCE_PRELIMINAIRE!E184","v":"Sans profession"},null,null,null,{"$f":"EXPERIENCE_PRELIMINAIRE!E186","v":0},null,null,{"$f":"EXPERIENCE_PRELIMINAIRE!E187","v":0},null,{"$f":"AVANTAGES_PROFESSIONNELS!AW23","v":0},null,{"$f":"AVANTAGES_PROFESSIONNELS!AW24","v":0},{"$f":"AVANTAGES_PROFESSIONNELS!AW26","v":0},{"$f":"AVANTAGES_PROFESSIONNELS!AW27","v":0},null,"Aspect remarquable de la personnalité :"]
[null,{"$f":"EXPERIENCE_PRELIMINAIRE!E204","v":"Sans profession"},null,null,null,{"$f":"EXPERIENCE_PRELIMINAIRE!E206","v":0},null,null,{"$f":"EXPERIENCE_PRELIMINAIRE!E207","v":0},null,{"$f":"AVANTAGES_PROFESSIONNELS!BA23","v":0},null,{"$f":"AVANTAGES_PROFESSIONNELS!BA24","v":0},{"$f":"AVANTAGES_PROFESSIONNELS!BA26","v":0},{"$f":"AVANTAGES_PROFESSIONNELS!BA27","v":0},null,"TEXTE"]
[null,{"$f":"EXPERIENCE_PRELIMINAIRE!E235","v":"Sans profession"},null,null,null,{"$f":"EXPERIENCE_PRELIMINAIRE!E237","v":0},null,null,{"$f":"EXPERIENCE_PRELIMINAIRE!E238","v":0},null,{"$f":"AVANTAGES_PROFESSIONNELS!BE23","v":0},null,{"$f":"AVANTAGES_PROFESSIONNELS!BE24","v":0},{"$f":"AVANTAGES_PROFESSIONNELS!BE26","v":0},{"$f":"AVANTAGES_PROFESSIONNELS!BE27","v":0},null,"TEXTE"]
[null,{"$f":"EXPERIENCE_PRELIMINAIRE!E260","v":"Sans profession"},null,null,null,{"$f":"EXPERIENCE_PRELIMINAIRE!E262","v":0},null,null,{"$f":"EXPERIENCE_PRELIMINAIRE!E263","v":0},null,{"$f":"AVANTAGES_PROFESSIONNELS!BI23","v":0},null,{"$f":"AVANTAGES_PROFESSIONNELS!BI24","v":0},{"$f":"AVANTAGES_PROFESSIONNELS!BI26","v":0},{"$f":"AVANTAGES_PROFESSIONNELS!BI27","v":0},null,"TEXTE"]
[null,null,null,null,null,null,null,null,null,null,null,null,null,null,null,null,"TEXTE"]
[null,null,null,null,null,null,null,null,null,null,null,null,null,null,null,null,"Aspect caché de la personnalité :"]
[null,null,null,null,null,null,null,null,null,null,null,null,null,null,null,null,"TEXTE"]
[null,null,null,null,null,null,null,null,null,null,null,null,null,null,null,null,"TEXTE"]
[null,null,null,null,null,null,null,null,null,null,null,null,null,null,null,null,"TEXTE"]
[null,null,null,null,null,null,null,null,null,null,null,null,null,null,null,null,"TEXTE"]
[null,null,null,null,null,null,null,null,null,null,null,null,null,null,null,null,"Goûts et envies compulsives :"]
[null,null,null,null,null,null,null,null,null,null,null,null,null,null,null,null,"TEXTE"]
[null,null,null,null,null,null,null,null,null,null,null,null,null,null,null,null,"TEXTE"]
[null,"HISTORIQUE ET FAITS MARQUANTS_",null,null,null,null,null,null,null,null,null,null,null,null,null,null,"TEXTE"]
[null,"TEXTE",null,null,null,null,null,null,null,null,null,null,null,null,null,null,"TEXTE"]
[null,"TEXTE",null,null,null,null,null,null,null,null,null,null,null,null,null,null,"Dégoûts et phobies :"]
[null,"TEXTE",null,null,null,null,null,null,null,null,null,null,null,null,null,null,"TEXTE"]
[null,"TEXTE",null,null,null,null,null,null,null,null,null,null,null,null,null,null,"TEXTE"]
[null,"TEXTE",null,null,null,null,null,null,null,null,null,null,null,null,null,null,"TEXTE"]
[null,"TEXTE",null,null,null,null,null,null,null,null,null,null,null,null,null,null,"TEXTE"]
[null,"TEXTE",null,null,null,null,null,null,null,null,null,null,null,null,null,null,"Code morale ou règle de vie :"]
[null,"TEXTE",null,null,null,null,null,null,null,null,null,null,null,null,null,null,"TEXTE"]
[null,"TEXTE",null,null,null,null,null,null,null,null,null,null,null,null,null,null,"TEXTE"]
[null,"TEXTE",null,null,null,null,null,null,null,null,null,null,null,null,null,null,"TEXTE"]
[null,"TEXTE",null,null,null,null,null,null,null,null,null,null,null,null,null,null,"TEXTE"]
[null,"TEXTE",null,null,null,null,null,null,null,null,null,null,null,null,null,null,"Rapport à l'argent et au pouvoir :"]
[null,"TEXTE",null,null,null,null,null,null,null,null,null,null,null,null,null,null,"TEXTE"]
[null,"TEXTE",null,null,null,null,null,null,null,null,null,null,null,null,null,null,"TEXTE"]
[null,"TEXTE",null,null,null,null,null,null,null,null,null,null,null,null,null,null,"TEXTE"]
[null,"TEXTE",null,null,null,null,null,null,null,null,null,null,null,null,null,null,"Rapport à l'amitié/la trahison :"]
[null,"TEXTE",null,null,null,null,null,null,null,null,null,null,null,null,null,null,"TEXTE"]
[null,"TEXTE",null,null,null,null,null,null,null,null,null,null,null,null,null,null,"TEXTE"]
[null,"TEXTE",null,null,null,null,null,null,null,null,null,null,null,null,null,null,"TEXTE"]
[null,"TEXTE",null,null,null,null,null,null,null,null,null,null,null,null,null,null,"Rapport au polaris, culte :"]
[null,{"$f":"AVANTAGES_PROFESSIONNELS!DB32","v":"Faits marquants professionnels (Avantages pro. aléatoires) : "},null,null,null,null,null,null,null,null,null,null,null,null,null,null,"TEXTE"]
[null,null,null,null,null,null,null,null,null,null,null,null,null,null,null,null,"TEXTE"]
[null,null,null,null,null,null,null,null,null,null,null,null,null,null,null,null,"TEXTE"]

{"sheet":"RELATIONS","index":11,"n_rows":60,"n_cols":24,"rows_kept":60,"cut":false,"hidden":false,"merged":[[7,1,7,9],[7,11,7,13],[0,0,2,0],[0,2,2,13],[0,14,2,14],[6,1,6,9],[6,11,6,13],[4,11,4,13],[8,1,8,9],[8,11,8,13],[9,1,9,9],[9,11,9,13],[10,1,10,9],[10,11,10,13],[11,1,11,9],[11,11,11,13],[12,1,12,9],[12,11,12,13],[13,1,13,9],[13,11,13,13],[14,1,14,9],[14,11,14,13],[15,1,15,9],[15,11,15,13],[16,1,16,9],[16,11,16,13],[39,1,39,2],[28,1,28,2],[17,1,17,9],[17,11,17,13],[19,1,19,2],[20,1,20,2],[21,1,21,2],[22,1,22,2],[23,1,23,2],[24,1,24,2],[25,1,25,2],[26,1,26,2],[27,1,27,2],[34,1,34,2],[35,1,35,2],[36,1,36,2],[37,1,37,2],[38,1,38,2],[29,1,29,2],[30,1,30,2],[31,1,31,2],[32,1,32,2],[33,1,33,2],[48,1,48,2],[49,1,49,2],[50,1,50,2],[51,1,51,2],[40,1,40,2],[6,25,7,25],[59,1,59,2],[53,1,53,2],[54,1,54,2],[55,1,55,2],[56,1,56,2],[57,1,57,2],[58,1,58,2],[52,1,52,2],[41,1,41,2],[42,1,42,2],[43,1,43,2],[44,1,44,2],[45,1,45,2],[46,1,46,2],[47,1,47,2]]}
[null,null,"CONTACTS, ALLIES, FOURNISSEURS, OPPOSANTS ET ENNEMIS_",null,null,null,null,null,null,null,null,null,null,null,2]
[]
[]
[]
[]
[null,null,"GROUPES / FACTIONS AMIES ET RELATIONS PARTICULIERES_",null,null,null,null,null,null,null,null,null,"GROUPES / FACTIONS OPPOSES_"]
[null,"TEXTE",null,null,null,null,null,null,null,null,null,"TEXTE"]
[null,"TEXTE",null,null,null,null,null,null,null,null,null,"TEXTE"]
[null,"TEXTE",null,null,null,null,null,null,null,null,null,"TEXTE"]
[null,"TEXTE",null,null,null,null,null,null,null,null,null,"TEXTE"]
[null,"TEXTE",null,null,null,null,null,null,null,null,null,"TEXTE"]
[null,"TEXTE",null,null,null,null,null,null,null,null,null,"TEXTE"]
[null,"TEXTE",null,null,null,null,null,null,null,null,null,"TEXTE"]
[null,"TEXTE",null,null,null,null,null,null,null,null,null,"TEXTE"]
[null,"TEXTE",null,null,null,null,null,null,null,null,null,"TEXTE"]
[null,"TEXTE",null,null,null,null,null,null,null,null,null,"TEXTE"]
[null,"TEXTE",null,null,null,null,null,null,null,null,null,"TEXTE",null,null,null,null,null,null,null,"C","A","CAF","CAFO","CAFOE"]
[null,"TEXTE",null,null,null,null,null,null,null,null,null,"TEXTE",null,null,null,null,null,null,null,{"$f":"AVANTAGES_PROFESSIONNELS!B93","v":0},{"$f":"AVANTAGES_PROFESSIONNELS!B93+AVANTAGES_PROFESSIONNELS!F93","v":0},{"$f":"AVANTAGES_PROFESSIONNELS!B93+AVANTAGES_PROFESSIONNELS!F93+AVANTAGES_PROFESSIONNELS!I93","v":0},{"$f":"AVANTAGES_PROFESSIONNELS!B93+AVANTAGES_PROFESSIONNELS!F93+AVANTAGES_PROFESSIONNELS!I93+AVANTAGES_PROFESSIONNELS!F71","v":0},{"$f":"AVANTAGES_PROFESSIONNELS!B93+AVANTAGES_PROFESSIONNELS!F93+AVANTAGES_PROFESSIONNELS!I93+AVANTAGES_PROFESSIONNELS!F71+AVANTAGES_PROFESSIONNELS!F79","v":0}]
[]
[null,"NOM DES PNJ_",null,"Sexe","Age","Profession","Lieu","C","A","F","O","E","Célébrité","Notes",null,null," ",null,"n°"]
[null,"TEXTE",null," ","?","TEXTE","TEXTE",{"$f":"IF(T21=1,\"X\",\"\")","v":""},{"$f":"IF(U21=1,\"X\",\"\")","v":""},{"$f":"IF(V21=1,\"X\",\"\")","v":""},{"$f":"IF(W21=1,\"X\",\"\")","v":""},{"$f":"IF(X21=1,\"X\",\"\")","v":""},"?","TEXTE",null,null,"H",null,1,{"$f":"IF(T$18>=$S21,1,0)","v":0},{"$f":"IF(T21=1,0,IF(U$18>=$S21,1,0))","v":0},{"$f":"IF(T21+U21=1,0,IF(V$18>=$S21,1,0))","v":0},{"$f":"IF(T21+U21+V21=1,0,IF(W$18>=$S21,1,0))","v":0},{"$f":"IF(T21+U21+V21+W21=1,0,IF(X$18>=$S21,1,0))","v":0}]
[null,"TEXTE",null," ","?","TEXTE","TEXTE",{"$f":"IF(T22=1,\"X\",\"\")","v":""},{"$f":"IF(U22=1,\"X\",\"\")","v":""},{"$f":"IF(V22=1,\"X\",\"\")","v":""},{"$f":"IF(W22=1,\"X\",\"\")","v":""},{"$f":"IF(X22=1,\"X\",\"\")","v":""},"?","TEXTE",null,null,"F",null,2,{"$f":"IF(T$18>=$S22,1,0)","v":0},{"$f":"IF(T22=1,0,IF(U$18>=$S22,1,0))","v":0},{"$f":"IF(T22+U22=1,0,IF(V$18>=$S22,1,0))","v":0},{"$f":"IF(T22+U22+V22=1,0,IF(W$18>=$S22,1,0))","v":0},{"$f":"IF(T22+U22+V22+W22=1,0,IF(X$18>=$S22,1,0))","v":0}]
[null,"TEXTE",null," ","?","TEXTE","TEXTE","","","","","","?","TEXTE",null,null,"A",null,3,0,0,0,0,0]
[null,"TEXTE",null," ","?","TEXTE","TEXTE","","","","","","?","TEXTE",null,null,null,null,4,0,0,0,0,0]
[null,"TEXTE",null," ","?","TEXTE","TEXTE","","","","","","?","TEXTE",null,null,null,null,5,0,0,0,0,0]
[null,"TEXTE",null," ","?","TEXTE","TEXTE","","","","","","?","TEXTE",null,null,null,null,6,0,0,0,0,0]
[null,"TEXTE",null," ","?","TEXTE","TEXTE","","","","","","?","TEXTE",null,null,null,null,7,0,0,0,0,0]
[null,"TEXTE",null," ","?","TEXTE","TEXTE","","","","","","?","TEXTE",null,null,null,null,8,0,0,0,0,0]
[null,"TEXTE",null," ","?","TEXTE","TEXTE","","","","","","?","TEXTE",null,null,null,null,9,0,0,0,0,0]
[null,"TEXTE",null," ","?","TEXTE","TEXTE","","","","","","?","TEXTE",null,null,null,null,10,0,0,0,0,0]
[null,"TEXTE",null," ","?","TEXTE","TEXTE","","","","","","?","TEXTE",null,null,null,null,11,0,0,0,0,0]
[null,"TEXTE",null," ","?","TEXTE","TEXTE","","","","","","?","TEXTE",null,null,null,null,12,0,0,0,0,0]
[null,"TEXTE",null," ","?","TEXTE","TEXTE","","","","","","?","TEXTE",null,null,null,null,13,0,0,0,0,0]
[null,"TEXTE",null," ","?","TEXTE","TEXTE","","","","","","?","TEXTE",null,null,null,null,14,0,0,0,0,0]
[null,"TEXTE",null," ","?","TEXTE","TEXTE","","","","","","?","TEXTE",null,null,null,null,15,0,0,0,0,0]
[null,"TEXTE",null," ","?","TEXTE","TEXTE","","","","","","?","TEXTE",null,null,null,null,16,0,0,0,0,0]
[null,"TEXTE",null," ","?","TEXTE","TEXTE","","","","","","?","TEXTE",null,null,null,null,17,0,0,0,0,0]
[null,"TEXTE",null," ","?","TEXTE","TEXTE","","","","","","?","TEXTE",null,null,null,null,18,0,0,0,0,0]
[null,"TEXTE",null," ","?","TEXTE","TEXTE","","","","","","?","TEXTE",null,null,null,null,19,0,0,0,0,0]
[null,"TEXTE",null," ","?","TEXTE","TEXTE","","","","","","?","TEXTE",null,null,null,null,20,0,0,0,0,0]
[null,"TEXTE",null," ","?","TEXTE","TEXTE","","","","","","?","TEXTE",null,null,null,null,21,0,0,0,0,0]
[null,"TEXTE",null," ","?","TEXTE","TEXTE","","","","","","?","TEXTE",null,null,null,null,22,0,0,0,0,0]
[null,"TEXTE",null," ","?","TEXTE","TEXTE","","","","","","?","TEXTE",null,null,null,null,23,0,0,0,0,0]
[null,"TEXTE",null," ","?","TEXTE","TEXTE","","","","","","?","TEXTE",null,null,null,null,24,0,0,0,0,0]
[null,"TEXTE",null," ","?","TEXTE","TEXTE","","","","","","?","TEXTE",null,null,null,null,25,0,0,0,0,0]
[null,"TEXTE",null," ","?","TEXTE","TEXTE","","","","","","?","TEXTE",null,null,null,null,26,0,0,0,0,0]
[null,"TEXTE",null," ","?","TEXTE","TEXTE","","","","","","?","TEXTE",null,null,null,null,27,0,0,0,0,0]
[null,"TEXTE",null," ","?","TEXTE","TEXTE","","","","","","?","TEXTE",null,null,null,null,28,0,0,0,0,0]
[null,"TEXTE",null," ","?","TEXTE","TEXTE","","","","","","?","TEXTE",null,null,null,null,29,0,0,0,0,0]
[null,"TEXTE",null," ","?","TEXTE","TEXTE","","","","","","?","TEXTE",null,null,null,null,30,0,0,0,0,0]
[null,"TEXTE",null," ","?","TEXTE","TEXTE","","","","","","?","TEXTE",null,null,null,null,31,0,0,0,0,0]
[null,"TEXTE",null," ","?","TEXTE","TEXTE","","","","","","?","TEXTE",null,null,null,null,32,0,0,0,0,0]
[null,"TEXTE",null," ","?","TEXTE","TEXTE","","","","","","?","TEXTE",null,null,null,null,33,0,0,0,0,0]
[null,"TEXTE",null," ","?","TEXTE","TEXTE","","","","","","?","TEXTE",null,null,null,null,34,0,0,0,0,0]
[null,"TEXTE",null," ","?","TEXTE","TEXTE","","","","","","?","TEXTE",null,null,null,null,35,0,0,0,0,0]
[null,"TEXTE",null," ","?","TEXTE","TEXTE","","","","","","?","TEXTE",null,null,null,null,36,0,0,0,0,0]
[null,"TEXTE",null," ","?","TEXTE","TEXTE","","","","","","?","TEXTE",null,null,null,null,37,0,0,0,0,0]
[null,"TEXTE",null," ","?","TEXTE","TEXTE","","","","","","?","TEXTE",null,null,null,null,38,0,0,0,0,0]
[null,"TEXTE",null," ","?","TEXTE","TEXTE","","","","","","?","TEXTE",null,null,null,null,39,0,0,0,0,0]
[null,"TEXTE",null," ","?","TEXTE","TEXTE","","","","","","?","TEXTE",null,null,null,null,40,0,0,0,0,0]

{"sheet":"AVANTAGES_MUTATIONS","index":12,"n_rows":60,"n_cols":36,"rows_kept":60,"cut":false,"hidden":false,"merged":[[59,19,59,20],[59,22,59,24],[57,1,57,24],[58,4,58,6],[58,1,58,2],[58,7,58,8],[58,9,58,11],[58,12,58,15],[58,17,58,18],[58,19,58,20],[58,22,58,24],[59,1,59,2],[59,4,59,6],[59,7,59,8],[59,9,59,11],[59,12,59,15],[59,17,59,18],[40,15,40,17],[40,5,40,13],[46,2,46,5],[40,1,40,4],[29,15,29,17],[32,15,32,17],[33,15,33,17],[37,1,37,4],[38,1,38,4],[39,1,39,4],[39,5,39,13],[34,1,34,4],[35,1,35,4],[36,1,36,4],[34,5,34,13],[35,5,35,13],[36,5,36,13],[31,1,31,4],[32,1,32,4],[33,1,33,4],[31,5,31,13],[46,8,46,9],[46,11,46,12],[46,13,46,22],[0,25,2,25],[0,1,2,24],[4,1,4,3],[5,16,5,24],[12,15,12,24],[13,15,13,24],[14,15,14,24],[9,5,9,13],[10,1,10,4],[10,5,10,13],[11,1,11,4],[11,5,11,13],[12,1,12,4],[12,5,12,13],[13,1,13,4],[13,5,13,13],[14,1,14,4],[14,5,14,13],[5,1,5,4],[5,5,5,13],[6,1,6,4],[6,5,6,13],[9,1,9,4],[4,9,4,10],[4,12,4,13],[15,1,15,4],[15,5,15,13],[16,1,16,4],[16,5,16,13],[17,1,17,4],[17,5,17,13],[27,1,27,3],[27,9,27,10],[27,12,27,13],[19,1,25,13],[18,1,18,13],[24,15,24,24],[37,15,37,17],[37,20,37,23],[38,15,38,17],[38,20,38,23],[26,16,26,24],[37,5,37,13],[38,5,38,13],[29,20,29,23],[32,20,32,23],[33,20,33,23],[32,5,32,13],[33,5,33,13],[27,24,28,24],[28,1,28,4],[29,1,29,4],[30,1,30,4],[30,5,30,13],[39,15,39,17],[39,20,39,23],[34,15,34,17],[34,20,34,23],[35,15,35,17],[35,20,35,23],[36,15,36,17],[36,20,36,23],[30,15,30,17],[30,20,30,23],[31,15,31,17],[31,20,31,23],[27,18,28,18],[27,16,28,16],[27,19,28,19],[27,20,28,23],[4,15,4,24],[43,2,43,5],[42,1,42,6],[42,8,42,9],[42,11,42,12],[42,23,42,24],[42,13,42,22],[43,13,43,22],[43,23,43,24],[28,5,28,13],[29,5,29,13],[18,15,18,24],[19,15,19,24],[20,15,20,24],[21,15,21,24],[22,15,22,24],[6,15,6,24],[7,15,7,24],[8,15,8,24],[9,15,9,24],[10,15,10,24],[11,15,11,24],[23,15,23,24],[40,20,40,23],[44,23,44,24],[45,13,45,22],[45,23,45,24],[43,8,43,9],[43,11,43,12],[44,2,44,5],[44,8,44,9],[44,11,44,12],[44,13,44,22],[45,1,45,12],[46,23,46,24],[47,2,47,5],[47,8,47,9],[47,11,47,12],[47,13,47,22],[47,23,47,24],[48,8,48,9],[48,11,48,12],[48,13,48,22],[48,23,48,24],[49,2,49,5],[49,8,49,9],[49,11,49,12],[49,13,49,22],[49,23,49,24],[55,2,55,5],[55,8,55,9],[55,11,55,12],[55,13,55,22],[55,23,55,24],[52,2,52,5],[52,8,52,9],[52,11,52,12],[52,13,52,22],[52,23,52,24],[53,2,53,5],[53,8,53,9],[53,11,53,12],[53,13,53,22],[53,23,53,24],[6,28,7,28],[15,15,15,24],[16,15,16,24],[17,15,17,24],[7,1,7,4],[7,5,7,13],[8,1,8,4],[8,5,8,13],[54,2,54,5],[54,8,54,9],[54,11,54,12],[54,13,54,22],[54,23,54,24],[50,2,50,5],[50,8,50,9],[50,11,50,12],[50,13,50,22],[50,23,50,24],[51,2,51,5],[51,8,51,9],[51,11,51,12],[51,13,51,22],[51,23,51,24],[48,2,48,5]]}
[null,"AVANTAGES, MUTATIONS, POLARIS & IMPLANTS_",null,null,null,null,null,null,null,null,null,null,null,null,null,null,null,null,null,null,null,null,null,null,null,3]
[]
[]
[]
[null,"AVANTAGES_",null,null,null,"Effets"]
[null,{"$f":"AE11","v":" "},null,null,null,{"$f":"AF11","v":""},null,null,null,null,null,null,null,null,null,null,"MUTATIONS & EFFETS_"]
[null,{"$f":"AE12","v":" "},null,null,null,{"$f":"AF12","v":""},null,null,null,null,null,null,null,null,null,{"$f":"AE27","v":" "}]
[null," ",null,null,null,"",null,null,null,null,null,null,null,null,null,{"$f":"AE28","v":" "}]
[null," ",null,null,null,"",null,null,null,null,null,null,null,null,null,{"$f":"AE29","v":" "}]
[null," ",null,null,null,"",null,null,null,null,null,null,null,null,null," ",null,null,null,null,null,null,null,null,null,null,null,null,null,null,"AVEC TRI",null,null,null,"SANS TRI"]
[null," ",null,null,null,"",null,null,null,null,null,null,null,null,null," ",null,null,null,null,null,null,null,null,null,null,null,null,null,null,{"$f":"AVANTAGES_DESAVANTAGES!D24","v":" "},{"$f":"AVANTAGES_DESAVANTAGES!AR21","v":""},null,null,{"$f":"AVANTAGES_DESAVANTAGES!D20","v":" "},{"$f":"AVANTAGES_DESAVANTAGES!AR17","v":""}]
[null," ",null,null,null,{"$f":"AF17","v":""},null,null,null,null,null,null,null,null,null," ",null,null,null,null,null,null,null,null,null,null,null,null,null,null,{"$f":"AVANTAGES_DESAVANTAGES!D25","v":" "},{"$f":"AVANTAGES_DESAVANTAGES!AR22","v":""},null,null,{"$f":"AVANTAGES_DESAVANTAGES!D21","v":" "},{"$f":"AVANTAGES_DESAVANTAGES!AR18","v":""}]
[null,null,null,null,null,null,null,null,null,null,null,null,null,null,null," ",null,null,null,null,null,null,null,null,null,null,null,null,null,null,{"$f":"AVANTAGES_DESAVANTAGES!D23","v":" "},{"$f":"AVANTAGES_DESAVANTAGES!AR20","v":""},null,null,{"$f":"AVANTAGES_DESAVANTAGES!D22","v":" "},{"$f":"AVANTAGES_DESAVANTAGES!AR19","v":""}]
[null,null,null,null,null,null,null,null,null,null,null,null,null,null,null," ",null,null,null,null,null,null,null,null,null,null,null,null,null,null,{"$f":"AVANTAGES_DESAVANTAGES!D20","v":" "},{"$f":"AVANTAGES_DESAVANTAGES!AR17","v":""},null,null,{"$f":"AVANTAGES_DESAVANTAGES!D23","v":" "},{"$f":"AVANTAGES_DESAVANTAGES!AR20","v":""}]
[null,null,null,null,null,null,null,null,null,null,null,null,null,null,null," ",null,null,null,null,null,null,null,null,null,null,null,null,null,null,{"$f":"AVANTAGES_DESAVANTAGES!D27","v":" "},{"$f":"AVANTAGES_DESAVANTAGES!AR23","v":""},null,null,{"$f":"AVANTAGES_DESAVANTAGES!D24","v":" "},{"$f":"AVANTAGES_DESAVANTAGES!AR21","v":""}]
[null,null,null,null,null,null,null,null,null,null,null,null,null,null,null," ",null,null,null,null,null,null,null,null,null,null,null,null,null,null,{"$f":"AVANTAGES_DESAVANTAGES!D22","v":" "},{"$f":"AVANTAGES_DESAVANTAGES!AR19","v":""},null,null,{"$f":"AVANTAGES_DESAVANTAGES!D25","v":" "},{"$f":"AVANTAGES_DESAVANTAGES!AR22","v":""}]
[null,null,null,null,null,null,null,null,null,null,null,null,null,null,null," ",null,null,null,null,null,null,null,null,null,null,null,null,null,null,{"$f":"AVANTAGES_DESAVANTAGES!D21","v":" "},{"$f":"AVANTAGES_DESAVANTAGES!AR18","v":""},null,null,{"$f":"AVANTAGES_DESAVANTAGES!D27","v":" "},{"$f":"AVANTAGES_DESAVANTAGES!AR23","v":""}]
[null,null,null,null,null,null,null,null,null,null,null,null,null,null,null," "]
[null,"AVANTAGES / DESAVANTAGES DU TYPE GENETIQUE_",null,null,null,null,null,null,null,null,null,null,null,null,null," ",null,null,null,null,null,null,null,null,null,null,null,null,null,null,{"$f":"AVANTAGES_DESAVANTAGES!M22","v":" "},{"$f":"AVANTAGES_DESAVANTAGES!AT19","v":""},null,null,{"$f":"AVANTAGES_DESAVANTAGES!M20","v":" "},{"$f":"AVANTAGES_DESAVANTAGES!AT17","v":""}]
[null,{"$f":"TYPE_GENETIQUE!BX10","v":""},null,null,null,null,null,null,null,null,null,null,null,null,null," ",null,null,null,null,null,null,null,null,null,null,null,null,null,null,{"$f":"AVANTAGES_DESAVANTAGES!M25","v":" "},{"$f":"AVANTAGES_DESAVANTAGES!AT22","v":""},null,null,{"$f":"AVANTAGES_DESAVANTAGES!M21","v":" "},{"$f":"AVANTAGES_DESAVANTAGES!AT18","v":""}]
[null,null,null,null,null,null,null,null,null,null,null,null,null,null,null," ",null,null,null,null,null,null,null,null,null,null,null,null,null,null,{"$f":"AVANTAGES_DESAVANTAGES!M24","v":" "},{"$f":"AVANTAGES_DESAVANTAGES!AT21","v":""},null,null,{"$f":"AVANTAGES_DESAVANTAGES!M22","v":" "},{"$f":"AVANTAGES_DESAVANTAGES!AT19","v":""}]
[null,null,null,null,null,null,null,null,null,null,null,null,null,null,null," ",null,null,null,null,null,null,null,null,null,null,null,null,null,null,{"$f":"AVANTAGES_DESAVANTAGES!M23","v":" "},{"$f":"AVANTAGES_DESAVANTAGES!AT20","v":""},null,null,{"$f":"AVANTAGES_DESAVANTAGES!M23","v":" "},{"$f":"AVANTAGES_DESAVANTAGES!AT20","v":""}]
[null,null,null,null,null,null,null,null,null,null,null,null,null,null,null," ",null,null,null,null,null,null,null,null,null,null,null,null,null,null,{"$f":"AVANTAGES_DESAVANTAGES!M21","v":" "},{"$f":"AVANTAGES_DESAVANTAGES!AT18","v":""},null,null,{"$f":"AVANTAGES_DESAVANTAGES!M24","v":" "},{"$f":"AVANTAGES_DESAVANTAGES!AT21","v":""}]
[null,null,null,null,null,null,null,null,null,null,null,null,null,null,null,{"$f":"AE44","v":" "},null,null,null,null,null,null,null,null,null,null,null,null,null,null,{"$f":"AVANTAGES_DESAVANTAGES!M20","v":" "},{"$f":"AVANTAGES_DESAVANTAGES!AT17","v":""},null,null,{"$f":"AVANTAGES_DESAVANTAGES!M25","v":" "},{"$f":"AVANTAGES_DESAVANTAGES!AT22","v":""}]
[]
[]
[null,null,null,null,null,null,null,null,null,null,null,null,null,null,null,null,"IMPLANTS CYBERNETIQUES & BIOLOGIQUES   / SYMBIOTES",null,null,null,null,null,null,null,null,null,null,null,null,null,{"$f":"CONCATENATE(CAPACITES_SPECIALES!$AZ$23,CAPACITES_SPECIALES!$BF$23)","v":" "},{"$f":"AJ27","v":1},null,null,{"$f":"CONCATENATE(CAPACITES_SPECIALES!$AZ$22,CAPACITES_SPECIALES!$BF$22)","v":" "},1]
[null,"DESAVANTAGES_",null,null,null,"Effets",null,null,null,null,null,null,null,null,null,null,"MODELE_",null,"Niv / Bonus","NT","Effets",null,null,null,"ITG",null,null,null,null,null,{"$f":"CONCATENATE(CAPACITES_SPECIALES!$D$25,CAPACITES_SPECIALES!$BF$27)","v":" "},2,null,null,{"$f":"CONCATENATE(CAPACITES_SPECIALES!$AZ$23,CAPACITES_SPECIALES!$BF$23)","v":" "},2]
[null,{"$f":"AE19","v":" "},null,null,null,{"$f":"AF19","v":""},null,null,null,null,null,null,null,null,null,null,null,null,null,null,null,null,null,null,null,null,null,null,null,null,{"$f":"CONCATENATE(CAPACITES_SPECIALES!$D$23,CAPACITES_SPECIALES!$BF$25)","v":" "},3,null,null,{"$f":"CONCATENATE(CAPACITES_SPECIALES!$AZ$24,CAPACITES_SPECIALES!$BF$24)","v":" "},3]
[null,{"$f":"AE20","v":" "},null,null,null,{"$f":"AF20","v":""},null,null,null,null,null,null,null,null,null,{"$f":"IF(ACHATS!E89=\"\",\"\",ACHATS!E89)","v":""},null,null,{"$f":"IF(ACHATS!Q89=\"\",\"\",ACHATS!Q89)","v":""},{"$f":"IF(ACHATS!X89=\"\",\"\",ACHATS!X89)","v":""},{"$f":"IF(ACHATS!AA89=\"\",\"\",ACHATS!AA89)","v":""},null,null,null,{"$f":"IF(ACHATS!AD89=\"\",\"\",ACHATS!AD89)","v":""},null,null,null,null,null,{"$f":"CONCATENATE(CAPACITES_SPECIALES!$AZ$22,CAPACITES_SPECIALES!$BF$22)","v":" "},4,null,null,{"$f":"CONCATENATE(CAPACITES_SPECIALES!$D$23,CAPACITES_SPECIALES!$BF$25)","v":" "},4]
[null," ",null,null,null,"",null,null,null,null,null,null,null,null,null,{"$f":"IF(ACHATS!E90=\"\",\"\",ACHATS!E90)","v":""},null,null,{"$f":"IF(ACHATS!Q90=\"\",\"\",ACHATS!Q90)","v":""},{"$f":"IF(ACHATS!X90=\"\",\"\",ACHATS!X90)","v":""},{"$f":"IF(ACHATS!AA90=\"\",\"\",ACHATS!AA90)","v":""},null,null,null,{"$f":"IF(ACHATS!AD90=\"\",\"\",ACHATS!AD90)","v":""},null,null,null,null,null,{"$f":"CONCATENATE(CAPACITES_SPECIALES!$AZ$24,CAPACITES_SPECIALES!$BF$24)","v":" "},5,null,null,{"$f":"CONCATENATE(CAPACITES_SPECIALES!$D$24,CAPACITES_SPECIALES!$BF$26)","v":" "},5]
[null," ",null,null,null,"",null,null,null,null,null,null,null,null,null,{"$f":"IF(ACHATS!E91=\"\",\"\",ACHATS!E91)","v":""},null,null,{"$f":"IF(ACHATS!Q91=\"\",\"\",ACHATS!Q91)","v":""},{"$f":"IF(ACHATS!X91=\"\",\"\",ACHATS!X91)","v":""},{"$f":"IF(ACHATS!AA91=\"\",\"\",ACHATS!AA91)","v":""},null,null,null,{"$f":"IF(ACHATS!AD91=\"\",\"\",ACHATS!AD91)","v":""},null,null,null,null,null,{"$f":"CONCATENATE(CAPACITES_SPECIALES!$D$24,CAPACITES_SPECIALES!$BF$26)","v":" "},6,null,null,{"$f":"CONCATENATE(CAPACITES_SPECIALES!$D$25,CAPACITES_SPECIALES!$BF$27)","v":" "},6]
[null," ",null,null,null,"",null,null,null,null,null,null,null,null,null,{"$f":"IF(ACHATS!E92=\"\",\"\",ACHATS!E92)","v":""},null,null,{"$f":"IF(ACHATS!Q92=\"\",\"\",ACHATS!Q92)","v":""},{"$f":"IF(ACHATS!X92=\"\",\"\",ACHATS!X92)","v":""},{"$f":"IF(ACHATS!AA92=\"\",\"\",ACHATS!AA92)","v":""},null,null,null,{"$f":"IF(ACHATS!AD92=\"\",\"\",ACHATS!AD92)","v":""},null,null,null,null,null,{"$f":"CONCATENATE(CAPACITES_SPECIALES!$D$27,CAPACITES_SPECIALES!$BF$29)","v":" "},7,null,null,{"$f":"CONCATENATE(CAPACITES_SPECIALES!$D$27,CAPACITES_SPECIALES!$BF$29)","v":" "},7]
[null," ",null,null,null,{"$f":"AF24","v":""},null,null,null,null,null,null,null,null,null,{"$f":"IF(ACHATS!E93=\"\",\"\",ACHATS!E93)","v":""},null,null,{"$f":"IF(ACHATS!Q93=\"\",\"\",ACHATS!Q93)","v":""},{"$f":"IF(ACHATS!X93=\"\",\"\",ACHATS!X93)","v":""},{"$f":"IF(ACHATS!AA93=\"\",\"\",ACHATS!AA93)","v":""},null,null,null,{"$f":"IF(ACHATS!AD93=\"\",\"\",ACHATS!AD93)","v":""},null,null,null,null,null,{"$f":"CONCATENATE(CAPACITES_SPECIALES!$D$28,CAPACITES_SPECIALES!$BF$30)","v":" "},8,null,null,{"$f":"CONCATENATE(CAPACITES_SPECIALES!$D$28,CAPACITES_SPECIALES!$BF$30)","v":" "},8]
[null,null,null,null,null,null,null,null,null,null,null,null,null,null,null,{"$f":"IF(ACHATS!E94=\"\",\"\",ACHATS!E94)","v":""},null,null,{"$f":"IF(ACHATS!Q94=\"\",\"\",ACHATS!Q94)","v":""},{"$f":"IF(ACHATS!X94=\"\",\"\",ACHATS!X94)","v":""},{"$f":"IF(ACHATS!AA94=\"\",\"\",ACHATS!AA94)","v":""},null,null,null,{"$f":"IF(ACHATS!AD94=\"\",\"\",ACHATS!AD94)","v":""},null,null,null,null,null,{"$f":"CONCATENATE(CAPACITES_SPECIALES!$D$29,CAPACITES_SPECIALES!$BF$31)","v":" "},9,null,null,{"$f":"CONCATENATE(CAPACITES_SPECIALES!$D$29,CAPACITES_SPECIALES!$BF$31)","v":" "},9]
[null,null,null,null,null,null,null,null,null,null,null,null,null,null,null,{"$f":"IF(ACHATS!E95=\"\",\"\",ACHATS!E95)","v":""},null,null,{"$f":"IF(ACHATS!Q95=\"\",\"\",ACHATS!Q95)","v":""},{"$f":"IF(ACHATS!X95=\"\",\"\",ACHATS!X95)","v":""},{"$f":"IF(ACHATS!AA95=\"\",\"\",ACHATS!AA95)","v":""},null,null,null,{"$f":"IF(ACHATS!AD95=\"\",\"\",ACHATS!AD95)","v":""},null,null,null,null,null,{"$f":"CONCATENATE(CAPACITES_SPECIALES!$M$21,CAPACITES_SPECIALES!$BH$22)","v":" "},10,null,null,{"$f":"CONCATENATE(CAPACITES_SPECIALES!$M$21,CAPACITES_SPECIALES!$BH$22)","v":" "},10]
[null,null,null,null,null,null,null,null,null,null,null,null,null,null,null,{"$f":"IF(ACHATS!E96=\"\",\"\",ACHATS!E96)","v":""},null,null,{"$f":"IF(ACHATS!Q96=\"\",\"\",ACHATS!Q96)","v":""},{"$f":"IF(ACHATS!X96=\"\",\"\",ACHATS!X96)","v":""},{"$f":"IF(ACHATS!AA96=\"\",\"\",ACHATS!AA96)","v":""},null,null,null,{"$f":"IF(ACHATS!AD96=\"\",\"\",ACHATS!AD96)","v":""},null,null,null,null,null,{"$f":"CONCATENATE(CAPACITES_SPECIALES!$M$22,CAPACITES_SPECIALES!$BH$23)","v":" "},11,null,null,{"$f":"CONCATENATE(CAPACITES_SPECIALES!$M$22,CAPACITES_SPECIALES!$BH$23)","v":" "},11]
[null,null,null,null,null,null,null,null,null,null,null,null,null,null,null,{"$f":"IF(ACHATS!E97=\"\",\"\",ACHATS!E97)","v":""},null,null,{"$f":"IF(ACHATS!Q97=\"\",\"\",ACHATS!Q97)","v":""},{"$f":"IF(ACHATS!X97=\"\",\"\",ACHATS!X97)","v":""},{"$f":"IF(ACHATS!AA97=\"\",\"\",ACHATS!AA97)","v":""},null,null,null,{"$f":"IF(ACHATS!AD97=\"\",\"\",ACHATS!AD97)","v":""},null,null,null,null,null,{"$f":"CONCATENATE(CAPACITES_SPECIALES!$M$23,CAPACITES_SPECIALES!$BH$24)","v":" "},12,null,null,{"$f":"CONCATENATE(CAPACITES_SPECIALES!$M$23,CAPACITES_SPECIALES!$BH$24)","v":" "},12]
[null,null,null,null,null,null,null,null,null,null,null,null,null,null,null,{"$f":"IF(ACHATS!E98=\"\",\"\",ACHATS!E98)","v":""},null,null,{"$f":"IF(ACHATS!Q98=\"\",\"\",ACHATS!Q98)","v":""},{"$f":"IF(ACHATS!X98=\"\",\"\",ACHATS!X98)","v":""},{"$f":"IF(ACHATS!AA98=\"\",\"\",ACHATS!AA98)","v":""},null,null,null,{"$f":"IF(ACHATS!AD98=\"\",\"\",ACHATS!AD98)","v":""},null,null,null,null,null,{"$f":"CONCATENATE(CAPACITES_SPECIALES!$M$24,CAPACITES_SPECIALES!$BH$25)","v":" "},13,null,null,{"$f":"CONCATENATE(CAPACITES_SPECIALES!$M$24,CAPACITES_SPECIALES!$BH$25)","v":" "},13]
[null,null,null,null,null,null,null,null,null,null,null,null,null,null,null,{"$f":"IF(ACHATS!E99=\"\",\"\",ACHATS!E99)","v":""},null,null,{"$f":"IF(ACHATS!Q99=\"\",\"\",ACHATS!Q99)","v":""},{"$f":"IF(ACHATS!X99=\"\",\"\",ACHATS!X99)","v":""},{"$f":"IF(ACHATS!AA99=\"\",\"\",ACHATS!AA99)","v":""},null,null,null,{"$f":"IF(ACHATS!AD99=\"\",\"\",ACHATS!AD99)","v":""},null,null,null,null,null,{"$f":"CONCATENATE(CAPACITES_SPECIALES!$M$27,CAPACITES_SPECIALES!$BH$27)","v":" "},14,null,null,{"$f":"CONCATENATE(CAPACITES_SPECIALES!$M$27,CAPACITES_SPECIALES!$BH$27)","v":" "},14]
[null,null,null,null,null,null,null,null,null,null,null,null,null,null,null,{"$f":"IF(ACHATS!E100=\"\",\"\",ACHATS!E100)","v":""},null,null,{"$f":"IF(ACHATS!Q100=\"\",\"\",ACHATS!Q100)","v":""},{"$f":"IF(ACHATS!X100=\"\",\"\",ACHATS!X100)","v":""},{"$f":"IF(ACHATS!AA100=\"\",\"\",ACHATS!AA100)","v":""},null,null,null,{"$f":"IF(ACHATS!AD100=\"\",\"\",ACHATS!AD100)","v":""},null,null,null,null,null,{"$f":"CONCATENATE(CAPACITES_SPECIALES!$M$28,CAPACITES_SPECIALES!$BH$28)","v":" "},15,null,null,{"$f":"CONCATENATE(CAPACITES_SPECIALES!$M$28,CAPACITES_SPECIALES!$BH$28)","v":" "},15]
[null,null,null,null,null,null,null,null,null,null,null,null,null,null,null,"Symbiote :",null,null,"Emprise","Indice invasif",null,null,null,null,null,null,null,null,null,null,{"$f":"CONCATENATE(CAPACITES_SPECIALES!$M$29,CAPACITES_SPECIALES!$BH$29)","v":" "},16,null,null,{"$f":"CONCATENATE(CAPACITES_SPECIALES!$M$29,CAPACITES_SPECIALES!$BH$29)","v":" "},16]
[null,"COMPETENCES POLARIS_",null,null,null,null,null,"Attr.","Base",null,"Maît.","Glob.",null,"Descriptions",null,null,null,null,null,null,null,null,null,"Page ?",null,null,null,null,null,null,{"$f":"CONCATENATE(CAPACITES_SPECIALES!$M$30,CAPACITES_SPECIALES!$BH$30)","v":" "},17,null,null,{"$f":"CONCATENATE(CAPACITES_SPECIALES!$M$30,CAPACITES_SPECIALES!$BH$30)","v":" "},17]
[null,{"$f":"IF(EXPERIENCE_PRELIMINAIRE!V329=EXPERIENCE_PRELIMINAIRE!Q329,\"o\",\"n\")","v":"o"},"Maîtrise de la Force Polaris +",null,null,null,"(X)","VOL/VOL",{"$f":"EXPERIENCE_PRELIMINAIRE!U329","v":-2},null,{"$f":"EXPERIENCE_PRELIMINAIRE!V329","v":"X"},{"$f":"EXPERIENCE_PRELIMINAIRE!W329","v":"X"},null,"TEXTE",null,null,null,null,null,null,null,null,null,"?",null,null,null,null,null,null,{"$f":"CONCATENATE(CAPACITES_SPECIALES!$M$36,CAPACITES_SPECIALES!$BH$32)","v":" "},18,null,null,{"$f":"CONCATENATE(CAPACITES_SPECIALES!$M$36,CAPACITES_SPECIALES!$BH$32)","v":" "},18]
[null,{"$f":"IF(EXPERIENCE_PRELIMINAIRE!V328=EXPERIENCE_PRELIMINAIRE!Q328,\"o\",\"n\")","v":"o"},"Maîtrise de l'Echo Polaris +",null,null,null,"(X)","INT/VOL",{"$f":"EXPERIENCE_PRELIMINAIRE!U328","v":-2},null,{"$f":"EXPERIENCE_PRELIMINAIRE!V328","v":"X"},{"$f":"EXPERIENCE_PRELIMINAIRE!W328","v":"X"},null,"TEXTE",null,null,null,null,null,null,null,null,null,"?"]
[null,"Pouvoirs Polaris"]
[null,{"$f":"IF(EXPERIENCE_PRELIMINAIRE!V334=EXPERIENCE_PRELIMINAIRE!Q334,\"o\",\"n\")","v":"o"},{"$f":"EXPERIENCE_PRELIMINAIRE!P334","v":"Pouvoir Polaris I (……….) +"},null,null,null,"(X)","INT/VOL",{"$f":"EXPERIENCE_PRELIMINAIRE!U334","v":-2},null,{"$f":"EXPERIENCE_PRELIMINAIRE!V334","v":"X"},{"$f":"EXPERIENCE_PRELIMINAIRE!W334","v":"X"},null,"TEXTE",null,null,null,null,null,null,null,null,null,"?"]
[null,{"$f":"IF(EXPERIENCE_PRELIMINAIRE!V335=EXPERIENCE_PRELIMINAIRE!Q335,\"o\",\"n\")","v":"o"},{"$f":"EXPERIENCE_PRELIMINAIRE!P335","v":"Pouvoir Polaris II (……….) +"},null,null,null,"(X)","INT/VOL",{"$f":"EXPERIENCE_PRELIMINAIRE!U335","v":-2},null,{"$f":"EXPERIENCE_PRELIMINAIRE!V335","v":"X"},{"$f":"EXPERIENCE_PRELIMINAIRE!W335","v":"X"},null,"TEXTE",null,null,null,null,null,null,null,null,null,"?"]
[null,{"$f":"IF(EXPERIENCE_PRELIMINAIRE!V336=EXPERIENCE_PRELIMINAIRE!Q336,\"o\",\"n\")","v":"o"},{"$f":"EXPERIENCE_PRELIMINAIRE!P336","v":"Pouvoir Polaris III (……….) +"},null,null,null,"(X)","INT/VOL",{"$f":"EXPERIENCE_PRELIMINAIRE!U336","v":-2},null,{"$f":"EXPERIENCE_PRELIMINAIRE!V336","v":"X"},{"$f":"EXPERIENCE_PRELIMINAIRE!W336","v":"X"},null,"TEXTE",null,null,null,null,null,null,null,null,null,"?"]
[null,{"$f":"IF(EXPERIENCE_PRELIMINAIRE!V337=EXPERIENCE_PRELIMINAIRE!Q337,\"o\",\"n\")","v":"o"},{"$f":"EXPERIENCE_PRELIMINAIRE!P337","v":"Pouvoir Polaris IV (……….) +"},null,null,null,"(X)","INT/VOL",{"$f":"EXPERIENCE_PRELIMINAIRE!U337","v":-2},null,{"$f":"EXPERIENCE_PRELIMINAIRE!V337","v":"X"},{"$f":"EXPERIENCE_PRELIMINAIRE!W337","v":"X"},null,"TEXTE",null,null,null,null,null,null,null,null,null,"?"]
[null,{"$f":"IF(EXPERIENCE_PRELIMINAIRE!V338=EXPERIENCE_PRELIMINAIRE!Q338,\"o\",\"n\")","v":"o"},{"$f":"EXPERIENCE_PRELIMINAIRE!P338","v":"Pouvoir Polaris V (……….) +"},null,null,null,"(X)","INT/VOL",{"$f":"EXPERIENCE_PRELIMINAIRE!U338","v":-2},null,{"$f":"EXPERIENCE_PRELIMINAIRE!V338","v":"X"},{"$f":"EXPERIENCE_PRELIMINAIRE!W338","v":"X"},null,"TEXTE",null,null,null,null,null,null,null,null,null,"?"]
[null,{"$f":"IF(EXPERIENCE_PRELIMINAIRE!V339=EXPERIENCE_PRELIMINAIRE!Q339,\"o\",\"n\")","v":"o"},{"$f":"EXPERIENCE_PRELIMINAIRE!P339","v":"Pouvoir Polaris VI (……….) +"},null,null,null,"(X)","INT/VOL",{"$f":"EXPERIENCE_PRELIMINAIRE!U339","v":-2},null,{"$f":"EXPERIENCE_PRELIMINAIRE!V339","v":"X"},{"$f":"EXPERIENCE_PRELIMINAIRE!W339","v":"X"},null,"TEXTE",null,null,null,null,null,null,null,null,null,"?"]
[null,{"$f":"IF(EXPERIENCE_PRELIMINAIRE!V340=EXPERIENCE_PRELIMINAIRE!Q340,\"o\",\"n\")","v":"o"},{"$f":"EXPERIENCE_PRELIMINAIRE!P340","v":"Pouvoir Polaris VII (……….) +"},null,null,null,"(X)","INT/VOL",{"$f":"EXPERIENCE_PRELIMINAIRE!U340","v":-2},null,{"$f":"EXPERIENCE_PRELIMINAIRE!V340","v":"X"},{"$f":"EXPERIENCE_PRELIMINAIRE!W340","v":"X"},null,"TEXTE",null,null,null,null,null,null,null,null,null,"?"]
[null,"o"]
[null,"o"]
[null,"o"]
[]
[null,"TABLE DES MARGES DE REUSSITE ET D'ECHEC_"]
[null,"Marge",null,"1-2","3-4",null,null,"5-6",null,"7-9",null,null,"10-12",null,null,null,"13-14","15-19",null,"20-24",null,"25-34","35+"]
[null,"Modificateur",null,"+/- 0","+/- 1",null,null,"+/- 2",null,"+/- 3",null,null,"+/- 4",null,null,null,"+/- 5","+/- 6",null,"+/- 7",null,"+/- 8","+/- 9"]

{"sheet":"ATTRIBUTS_COMPETENCES","index":13,"n_rows":66,"n_cols":31,"rows_kept":66,"cut":false,"hidden":false,"merged":[[58,28,58,29],[58,26,58,27],[61,23,61,24],[61,15,61,21],[61,28,61,29],[61,26,61,27],[62,23,62,24],[62,15,62,21],[59,23,59,24],[59,15,59,21],[59,28,59,29],[59,26,59,27],[60,23,60,24],[60,15,60,21],[52,28,52,29],[52,26,52,27],[57,28,57,29],[57,26,57,27],[58,23,58,24],[58,15,58,21],[35,15,35,21],[34,28,34,29],[34,26,34,27],[36,23,36,24],[36,15,36,21],[37,28,37,29],[37,26,37,27],[37,23,37,24],[56,28,56,29],[56,26,56,27],[55,23,55,24],[55,15,55,21],[55,28,55,29],[55,26,55,27],[56,23,56,24],[56,15,56,21],[37,15,37,21],[36,28,36,29],[57,23,57,24],[57,15,57,21],[36,26,36,27],[38,23,38,24],[38,15,38,21],[39,28,39,29],[39,26,39,27],[39,23,39,24],[54,28,54,29],[54,26,54,27],[52,23,52,24],[52,15,52,21],[53,28,53,29],[53,26,53,27],[53,23,53,24],[53,15,53,21],[39,15,39,21],[38,28,38,29],[38,26,38,27],[40,23,40,24],[40,15,40,21],[41,28,41,29],[41,26,41,27],[41,23,41,24],[41,15,41,21],[40,28,40,29],[40,26,40,27],[42,23,42,24],[42,15,42,21],[43,28,43,29],[43,26,43,27],[43,23,43,24],[50,28,50,29],[50,26,50,27],[43,15,43,21],[42,28,42,29],[42,26,42,27],[44,23,44,24],[44,15,44,21],[45,28,45,29],[45,26,45,27],[45,23,45,24],[45,15,45,21],[49,28,49,29],[49,26,49,27],[49,23,49,24],[49,15,49,21],[48,28,48,29],[50,23,50,24],[50,15,50,21],[51,28,51,29],[51,26,51,27],[51,23,51,24],[51,15,51,21],[48,26,48,27],[48,23,48,24],[44,28,44,29],[44,26,44,27],[46,23,46,24],[46,15,46,21],[47,28,47,29],[47,26,47,27],[47,23,47,24],[47,15,47,21],[46,28,46,29],[46,26,46,27],[48,15,48,21],[58,2,58,4],[59,2,59,4],[60,2,60,4],[61,2,61,4],[63,2,63,4],[64,2,64,4],[48,2,48,4],[49,2,49,4],[50,2,50,4],[51,2,51,4],[52,2,52,4],[53,2,53,4],[54,2,54,4],[55,2,55,4],[56,2,56,4],[62,1,62,6],[64,5,64,6],[57,5,57,6],[59,5,59,6],[57,2,57,4],[9,24,9,26],[8,1,8,2],[8,3,8,5],[8,6,8,8],[8,9,8,11],[8,12,8,15],[8,16,8,18],[8,19,8,20],[12,19,12,20],[12,21,12,23],[12,24,12,26],[0,30,2,30],[0,1,2,29],[7,1,7,2],[7,3,7,5],[7,6,7,8],[7,9,7,11],[7,12,7,15],[7,16,7,18],[7,19,7,20],[7,21,7,23],[7,24,7,26],[6,3,6,5],[6,6,6,8],[6,9,6,11],[6,12,6,15],[6,16,6,18],[6,19,6,20],[6,21,6,23],[6,24,6,26],[4,19,4,20],[4,21,4,23],[4,24,4,26],[4,27,4,29],[5,1,5,2],[59,8,59,9],[59,11,59,12],[58,5,58,6],[58,8,58,9],[58,11,58,12],[64,8,64,9],[64,11,64,12],[61,5,61,6],[61,8,61,9],[61,11,61,12],[60,5,60,6],[60,8,60,9],[60,11,60,12],[63,5,63,6],[63,8,63,9],[63,11,63,12],[62,8,62,9],[62,11,62,12],[51,11,51,12],[50,8,50,9],[50,11,50,12],[53,5,53,6],[57,8,57,9],[57,11,57,12],[56,5,56,6],[56,8,56,9],[56,11,56,12],[53,8,53,9],[53,11,53,12],[52,5,52,6],[52,8,52,9],[52,11,52,12],[55,5,55,6],[55,8,55,9],[55,11,55,12],[54,5,54,6],[54,8,54,9],[54,11,54,12],[65,15,65,21],[65,23,65,24],[62,28,62,29],[45,2,45,4],[45,5,45,6],[45,8,45,9],[45,11,45,12],[44,2,44,4],[44,5,44,6],[44,8,44,9],[44,11,44,12],[64,26,64,27],[64,28,64,29],[47,8,47,9],[47,11,47,12],[46,2,46,4],[46,5,46,6],[46,8,46,9],[46,11,46,12],[49,5,49,6],[49,8,49,9],[49,11,49,12],[48,5,48,6],[50,5,50,6],[64,15,64,21],[64,23,64,24],[63,26,63,27],[63,28,63,29],[40,1,40,6],[40,8,40,9],[40,11,40,12],[63,15,63,21],[63,23,63,24],[62,26,62,27],[60,26,60,27],[60,28,60,29],[43,2,43,4],[43,5,43,6],[43,8,43,9],[43,11,43,12],[42,2,42,4],[42,5,42,6],[42,8,42,9],[42,11,42,12],[48,11,48,12],[51,5,51,6],[51,8,51,9],[48,8,48,9],[37,2,37,4],[37,5,37,6],[37,8,37,9],[37,11,37,12],[36,2,36,4],[36,5,36,6],[36,8,36,9],[36,11,36,12],[47,1,47,6],[39,2,39,4],[39,5,39,6],[39,8,39,9],[39,11,39,12],[38,2,38,4],[38,5,38,6],[38,8,38,9],[38,11,38,12],[41,2,41,4],[41,5,41,6],[41,8,41,9],[41,11,41,12],[35,2,35,4],[35,5,35,6],[35,8,35,9],[35,11,35,12],[34,2,34,4],[34,5,34,6],[34,8,34,9],[34,11,34,12],[33,2,33,4],[33,5,33,6],[33,8,33,9],[33,11,33,12],[32,2,32,4],[32,5,32,6],[32,8,32,9],[32,11,32,12],[31,2,31,4],[31,5,31,6],[31,8,31,9],[31,11,31,12],[30,26,30,27],[30,28,30,29],[31,15,31,21],[31,23,31,24],[31,26,31,27],[31,28,31,29],[30,15,30,21],[30,23,30,24],[30,2,30,4],[30,5,30,6],[30,8,30,9],[30,11,30,12],[35,23,35,24],[35,26,35,27],[35,28,35,29],[34,15,34,21],[34,23,34,24],[32,26,32,27],[32,28,32,29],[33,15,33,21],[33,23,33,24],[33,26,33,27],[33,28,33,29],[32,15,32,21],[32,23,32,24],[28,26,28,27],[28,28,28,29],[27,1,27,6],[27,8,27,9],[27,11,27,12],[29,2,29,4],[29,5,29,6],[29,8,29,9],[29,11,29,12],[28,2,28,4],[28,5,28,6],[28,8,28,9],[28,11,28,12],[28,15,28,21],[28,23,28,24],[27,23,27,24],[27,26,27,27],[27,28,27,29],[27,14,27,22],[29,15,29,21],[29,23,29,24],[29,26,29,27],[29,28,29,29],[24,28,24,29],[25,2,25,4],[25,5,25,6],[25,8,25,9],[25,11,25,12],[25,28,25,29],[26,15,26,21],[26,23,26,24],[26,26,26,27],[26,28,26,29],[25,15,25,21],[25,23,25,24],[25,26,25,27],[24,2,24,4],[24,5,24,6],[24,8,24,9],[24,11,24,12],[23,15,23,21],[23,23,23,24],[26,2,26,4],[26,5,26,6],[26,8,26,9],[26,11,26,12],[24,15,24,21],[24,23,24,24],[24,26,24,27],[19,23,19,24],[20,26,20,27],[20,28,20,29],[21,2,21,4],[21,5,21,6],[21,8,21,9],[21,11,21,12],[18,15,18,21],[18,23,18,24],[20,15,20,21],[21,26,21,27],[21,28,21,29],[20,23,20,24],[17,28,17,29],[20,2,20,4],[20,5,20,6],[20,8,20,9],[20,11,20,12],[17,15,17,21],[18,26,18,27],[18,28,18,29],[19,2,19,4],[19,5,19,6],[19,8,19,9],[19,11,19,12],[17,23,17,24],[18,2,18,4],[18,5,18,6],[18,8,18,9],[18,11,18,12],[17,2,17,4],[17,5,17,6],[17,8,17,9],[17,11,17,12],[19,26,19,27],[19,28,19,29],[19,15,19,21],[15,14,15,22],[15,23,15,24],[15,26,15,27],[13,3,13,5],[13,6,13,8],[13,9,13,11],[13,12,13,15],[13,16,13,18],[17,26,17,27],[4,1,4,2],[4,3,4,5],[4,6,4,8],[4,9,4,11],[4,12,4,15],[4,16,4,18],[10,1,10,2],[10,3,10,5],[10,6,10,8],[10,9,10,11],[10,12,10,15],[10,16,10,18],[9,1,9,2],[9,3,9,5],[9,6,9,8],[9,9,9,11],[9,12,9,15],[9,16,9,18],[5,19,5,20],[5,21,5,23],[5,24,5,26],[5,27,13,29],[6,1,6,2],[5,3,5,5],[5,6,5,8],[5,9,5,11],[5,12,5,15],[5,16,5,18],[10,19,10,20],[10,21,10,23],[10,24,10,26],[11,1,11,2],[11,3,11,5],[11,6,11,8],[11,9,11,11],[13,19,13,20],[13,21,13,23],[13,24,13,26],[8,21,8,23],[8,24,8,26],[9,19,9,20],[9,21,9,23],[6,33,7,33],[65,2,65,4],[65,5,65,6],[65,8,65,9],[65,11,65,12],[21,23,21,24],[21,15,21,21],[65,28,65,29],[65,26,65,27],[54,15,54,21],[54,23,54,24],[22,2,22,4],[22,5,22,6],[22,8,22,9],[22,11,22,12],[22,15,22,21],[22,23,22,24],[22,26,22,27],[12,1,12,2],[12,3,12,5],[12,6,12,8],[12,9,12,11],[12,12,12,15],[12,16,12,18],[22,28,22,29],[23,2,23,4],[23,5,23,6],[23,8,23,9],[23,11,23,12],[23,26,23,27],[11,12,11,15],[11,16,11,18],[11,19,11,20],[11,21,11,23],[11,24,11,26],[13,1,13,2],[23,28,23,29],[15,28,15,29],[16,1,16,6],[16,8,16,9],[16,11,16,12],[16,14,16,22],[16,23,16,24],[16,26,16,27],[16,28,16,29],[15,1,15,6],[15,8,15,9],[15,11,15,12]]}
[null,"ATTRIBUTS & COMPETENCES_",null,null,null,null,null,null,null,null,null,null,null,null,null,null,null,null,null,null,null,null,null,null,null,null,null,null,null,null,4]
[]
[]
[]
[null,"ATTRIBUTS_",null,"Force",null,null,"Constitution",null,null,"Coordination",null,null,"Adaptation",null,null,null,"Perception",null,null,"Intelligence",null,"Volonté",null,null,"Présence",null,null,"Chance"]
[null,"Niveau de base",null,{"$f":"ATTRIBUTS!J12","v":7},null,null,{"$f":"ATTRIBUTS!L12","v":7},null,null,{"$f":"ATTRIBUTS!N12","v":7},null,null,{"$f":"ATTRIBUTS!P12","v":7},null,null,null,{"$f":"ATTRIBUTS!R12","v":7},null,null,{"$f":"ATTRIBUTS!T12","v":7},null,{"$f":"ATTRIBUTS!V12","v":7},null,null,{"$f":"ATTRIBUTS!X12","v":7},null,null,{"$f":"ATTRIBUTS!L28","v":13}]
[null,"Modif. Type génétique  / Sexe",null,{"$f":"ATTRIBUTS!J13+ATTRIBUTS!J14","v":0},null,null,{"$f":"ATTRIBUTS!L13+ATTRIBUTS!L14","v":0},null,null,{"$f":"ATTRIBUTS!N13+ATTRIBUTS!N14","v":0},null,null,{"$f":"ATTRIBUTS!P13+ATTRIBUTS!P14","v":0},null,null,null,{"$f":"ATTRIBUTS!R13+ATTRIBUTS!R14","v":0},null,null,{"$f":"ATTRIBUTS!T13+ATTRIBUTS!T14","v":0},null,{"$f":"ATTRIBUTS!V13+ATTRIBUTS!V14","v":0},null,null,{"$f":"ATTRIBUTS!X13+ATTRIBUTS!X14","v":0}]
[null,"Modif. Points de Création (PC)",null,{"$f":"ATTRIBUTS!J15","v":0},null,null,{"$f":"ATTRIBUTS!L15","v":0},null,null,{"$f":"ATTRIBUTS!N15","v":0},null,null,{"$f":"ATTRIBUTS!P15","v":0},null,null,null,{"$f":"ATTRIBUTS!R15","v":0},null,null,{"$f":"ATTRIBUTS!T15","v":0},null,{"$f":"ATTRIBUTS!V15","v":0},null,null,{"$f":"ATTRIBUTS!X15","v":0}]
[null,"Modif. Age",null,{"$f":"ATTRIBUTS!J16","v":0},null,null,{"$f":"ATTRIBUTS!L16","v":0},null,null,{"$f":"ATTRIBUTS!N16","v":0},null,null,{"$f":"ATTRIBUTS!P16","v":0},null,null,null,{"$f":"ATTRIBUTS!R16","v":0},null,null,{"$f":"ATTRIBUTS!T16","v":0},null,{"$f":"ATTRIBUTS!V16","v":0},null,null,{"$f":"ATTRIBUTS!X16","v":0}]
[null,"Modif. Mutations / Implants",null,{"$f":"ATTRIBUTS!J17","v":0},null,null,{"$f":"ATTRIBUTS!L17","v":0},null,null,{"$f":"ATTRIBUTS!N17","v":0},null,null,{"$f":"ATTRIBUTS!P17","v":0},null,null,null,{"$f":"ATTRIBUTS!R17","v":0},null,null,{"$f":"ATTRIBUTS!T17","v":0},null,{"$f":"ATTRIBUTS!V17","v":0},null,null,{"$f":"ATTRIBUTS!X17","v":0}]
[null,"Modif. Avantages Pro.",null,{"$f":"ATTRIBUTS!J18","v":0},null,null,{"$f":"ATTRIBUTS!L18","v":0},null,null,{"$f":"ATTRIBUTS!N18","v":0},null,null,{"$f":"ATTRIBUTS!P18","v":0},null,null,null,{"$f":"ATTRIBUTS!R18","v":0},null,null,{"$f":"ATTRIBUTS!T18","v":0},null,{"$f":"ATTRIBUTS!V18","v":0},null,null,{"$f":"ATTRIBUTS!X18","v":0}]
[null,"Niveau actuel",null,{"$f":"ATTRIBUTS!J19","v":7},null,null,{"$f":"ATTRIBUTS!L19","v":7},null,null,{"$f":"ATTRIBUTS!N19","v":7},null,null,{"$f":"ATTRIBUTS!P19","v":7},null,null,null,{"$f":"ATTRIBUTS!R19","v":7},null,null,{"$f":"ATTRIBUTS!T19","v":7},null,{"$f":"ATTRIBUTS!V19","v":7},null,null,{"$f":"ATTRIBUTS!X19","v":7}]
[null,"Niveau temporaire"]
[null,"Aptitude naturelle",null,{"$f":"ATTRIBUTS!J20","v":-1},null,null,{"$f":"ATTRIBUTS!L20","v":-1},null,null,{"$f":"ATTRIBUTS!N20","v":-1},null,null,{"$f":"ATTRIBUTS!P20","v":-1},null,null,null,{"$f":"ATTRIBUTS!R20","v":-1},null,null,{"$f":"ATTRIBUTS!T20","v":-1},null,{"$f":"ATTRIBUTS!V20","v":-1},null,null,{"$f":"ATTRIBUTS!X20","v":-1}]
[]
[null,"COMPETENCES_",null,null,null,null,null,"Attr.","Base",null,"Maît.","Glob.",null,null,"COMPETENCES_",null,null,null,null,null,null,null,null,"Attr.",null,"Base","Maît",null,"Glob."]
[null,"Aptitudes physiques",null,null,null,null,null,null,null,null,null,null,null,null,"Survie/Extérieur"]
[null,{"$f":"IF(EXPERIENCE_PRELIMINAIRE!V19=EXPERIENCE_PRELIMINAIRE!Q19,\"o\",\"n\")","v":"o"},"Acrobatie/Equilibre *",null,null,null,null,"COO/COO",{"$f":"EXPERIENCE_PRELIMINAIRE!U19","v":-2},null,{"$f":"EXPERIENCE_PRELIMINAIRE!V19","v":0},{"$f":"EXPERIENCE_PRELIMINAIRE!W19","v":-2},null,null,{"$f":"IF(EXPERIENCE_PRELIMINAIRE!V255=EXPERIENCE_PRELIMINAIRE!Q255,\"o\",\"n\")","v":"o"},"Chant du monde II (……….) +",null,null,null,null,null,null,null,"ADA/ADA",null,{"$f":"EXPERIENCE_PRELIMINAIRE!U255","v":-2},{"$f":"EXPERIENCE_PRELIMINAIRE!V255","v":0},null,{"$f":"EXPERIENCE_PRELIMINAIRE!W255","v":-2}]
[null,{"$f":"IF(EXPERIENCE_PRELIMINAIRE!V20=EXPERIENCE_PRELIMINAIRE!Q20,\"o\",\"n\")","v":"o"},"Athlétisme",null,null,null,null,"FOR/COO",{"$f":"EXPERIENCE_PRELIMINAIRE!U20","v":-2},null,{"$f":"EXPERIENCE_PRELIMINAIRE!V20","v":0},{"$f":"EXPERIENCE_PRELIMINAIRE!W20","v":-2},null,null,{"$f":"IF(EXPERIENCE_PRELIMINAIRE!V256=EXPERIENCE_PRELIMINAIRE!Q256,\"o\",\"n\")","v":"o"},"Chasse/Pistage",null,null,null,null,null,null,"(X)","PER/ADA",null,{"$f":"EXPERIENCE_PRELIMINAIRE!U256","v":-2},{"$f":"EXPERIENCE_PRELIMINAIRE!V256","v":"X"},null,{"$f":"EXPERIENCE_PRELIMINAIRE!W256","v":"X"}]
[null,{"$f":"IF(EXPERIENCE_PRELIMINAIRE!V21=EXPERIENCE_PRELIMINAIRE!Q21,\"o\",\"n\")","v":"o"},"Contrôle COE",null,null,null,null,"COO/VOL",{"$f":"EXPERIENCE_PRELIMINAIRE!U21","v":-2},null,{"$f":"EXPERIENCE_PRELIMINAIRE!V21","v":0},{"$f":"EXPERIENCE_PRELIMINAIRE!W21","v":-2},null,null,{"$f":"IF(EXPERIENCE_PRELIMINAIRE!V257=EXPERIENCE_PRELIMINAIRE!Q257,\"o\",\"n\")","v":"n"},"Conn milieu naturel (Océans) *",null,null,null,null,null,null,"(-3)","INT/ADA",null,{"$f":"EXPERIENCE_PRELIMINAIRE!U257","v":-2},{"$f":"EXPERIENCE_PRELIMINAIRE!V257","v":-2},null,{"$f":"EXPERIENCE_PRELIMINAIRE!W257","v":-4}]
[null,{"$f":"IF(EXPERIENCE_PRELIMINAIRE!V22=EXPERIENCE_PRELIMINAIRE!Q22,\"o\",\"n\")","v":"o"},"Contrôle physique",null,null,null,null,"ADA/VOL",{"$f":"EXPERIENCE_PRELIMINAIRE!U22","v":-2},null,{"$f":"EXPERIENCE_PRELIMINAIRE!V22","v":0},{"$f":"EXPERIENCE_PRELIMINAIRE!W22","v":-2},null,null,{"$f":"IF(EXPERIENCE_PRELIMINAIRE!V258=EXPERIENCE_PRELIMINAIRE!Q258,\"o\",\"n\")","v":"o"},"Conn milieu naturel (Souterrains) *",null,null,null,null,null,null,"(-3)","INT/ADA",null,{"$f":"EXPERIENCE_PRELIMINAIRE!U258","v":-2},{"$f":"EXPERIENCE_PRELIMINAIRE!V258","v":-3},null,{"$f":"EXPERIENCE_PRELIMINAIRE!W258","v":-5}]
[null,{"$f":"IF(EXPERIENCE_PRELIMINAIRE!V23=EXPERIENCE_PRELIMINAIRE!Q23,\"o\",\"n\")","v":"o"},"Endurance *",null,null,null,null,"CON/VOL",{"$f":"EXPERIENCE_PRELIMINAIRE!U23","v":-2},null,{"$f":"EXPERIENCE_PRELIMINAIRE!V23","v":0},{"$f":"EXPERIENCE_PRELIMINAIRE!W23","v":-2},null,null,{"$f":"IF(EXPERIENCE_PRELIMINAIRE!V259=EXPERIENCE_PRELIMINAIRE!Q259,\"o\",\"n\")","v":"o"},"Conn milieu naturel (Surface) *",null,null,null,null,null,null,"(X)","INT/ADA",null,{"$f":"EXPERIENCE_PRELIMINAIRE!U259","v":-2},{"$f":"EXPERIENCE_PRELIMINAIRE!V259","v":"X"},null,{"$f":"EXPERIENCE_PRELIMINAIRE!W259","v":"X"}]
[null,{"$f":"IF(EXPERIENCE_PRELIMINAIRE!V24=EXPERIENCE_PRELIMINAIRE!Q24,\"o\",\"n\")","v":"o"},"Escalade",null,null,null,null,"FOR/COO",{"$f":"EXPERIENCE_PRELIMINAIRE!U24","v":-2},null,{"$f":"EXPERIENCE_PRELIMINAIRE!V24","v":0},{"$f":"EXPERIENCE_PRELIMINAIRE!W24","v":-2},null,null,{"$f":"IF(EXPERIENCE_PRELIMINAIRE!V260=EXPERIENCE_PRELIMINAIRE!Q260,\"o\",\"n\")","v":"o"},"Langage de la terre",null,null,null,null,null,null,null,"INT/PER",null,{"$f":"EXPERIENCE_PRELIMINAIRE!U260","v":-2},{"$f":"EXPERIENCE_PRELIMINAIRE!V260","v":0},null,{"$f":"EXPERIENCE_PRELIMINAIRE!W260","v":-2}]
[null,{"$f":"IF(EXPERIENCE_PRELIMINAIRE!V25=EXPERIENCE_PRELIMINAIRE!Q25,\"o\",\"n\")","v":"o"},"Manœuvres 0G *",null,null,null,null,"COO/ADA",{"$f":"EXPERIENCE_PRELIMINAIRE!U25","v":-2},null,{"$f":"EXPERIENCE_PRELIMINAIRE!V25","v":0},{"$f":"EXPERIENCE_PRELIMINAIRE!W25","v":-2},null,null,{"$f":"IF(EXPERIENCE_PRELIMINAIRE!V261=EXPERIENCE_PRELIMINAIRE!Q261,\"o\",\"n\")","v":"o"},"Observation",null,null,null,null,null,null,null,"PER/VOL",null,{"$f":"EXPERIENCE_PRELIMINAIRE!U261","v":-2},{"$f":"EXPERIENCE_PRELIMINAIRE!V261","v":0},null,{"$f":"EXPERIENCE_PRELIMINAIRE!W261","v":-2}]
[null,{"$f":"IF(EXPERIENCE_PRELIMINAIRE!V26=EXPERIENCE_PRELIMINAIRE!Q26,\"o\",\"n\")","v":"n"},"Manœuvres sous-marines *",null,null,null,null,"FOR/COO",{"$f":"EXPERIENCE_PRELIMINAIRE!U26","v":-2},null,{"$f":"EXPERIENCE_PRELIMINAIRE!V26","v":1},{"$f":"EXPERIENCE_PRELIMINAIRE!W26","v":-1},null,null,{"$f":"IF(EXPERIENCE_PRELIMINAIRE!V262=EXPERIENCE_PRELIMINAIRE!Q262,\"o\",\"n\")","v":"o"},"Orientation",null,null,null,null,null,null,null,"PER/ADA",null,{"$f":"EXPERIENCE_PRELIMINAIRE!U262","v":-2},{"$f":"EXPERIENCE_PRELIMINAIRE!V262","v":0},null,{"$f":"EXPERIENCE_PRELIMINAIRE!W262","v":-2}]
[null,{"$f":"IF(EXPERIENCE_PRELIMINAIRE!V27=EXPERIENCE_PRELIMINAIRE!Q27,\"o\",\"n\")","v":"o"},"Monture",null,null,null,null,"COO/VOL",{"$f":"EXPERIENCE_PRELIMINAIRE!U27","v":-2},null,{"$f":"EXPERIENCE_PRELIMINAIRE!V27","v":0},{"$f":"EXPERIENCE_PRELIMINAIRE!W27","v":-2},null,null,{"$f":"IF(EXPERIENCE_PRELIMINAIRE!V263=EXPERIENCE_PRELIMINAIRE!Q263,\"o\",\"n\")","v":"o"},"Sensation du Flux",null,null,null,null,null,null,null,"INT/PER",null,{"$f":"EXPERIENCE_PRELIMINAIRE!U263","v":-2},{"$f":"EXPERIENCE_PRELIMINAIRE!V263","v":0},null,{"$f":"EXPERIENCE_PRELIMINAIRE!W263","v":-2}]
[null,{"$f":"IF(EXPERIENCE_PRELIMINAIRE!V28=EXPERIENCE_PRELIMINAIRE!Q28,\"o\",\"n\")","v":"o"},"Respiration FOE",null,null,"(-3)",null,"CON/VOL",{"$f":"EXPERIENCE_PRELIMINAIRE!U28","v":-2},null,{"$f":"EXPERIENCE_PRELIMINAIRE!V28","v":0},{"$f":"EXPERIENCE_PRELIMINAIRE!W28","v":-2},null,null,{"$f":"IF(EXPERIENCE_PRELIMINAIRE!V265=EXPERIENCE_PRELIMINAIRE!Q265,\"o\",\"n\")","v":"o"},"Survie",null,null,null,null,null,null,"(X)","ADA/VOL",null,{"$f":"EXPERIENCE_PRELIMINAIRE!U265","v":-2},{"$f":"EXPERIENCE_PRELIMINAIRE!V265","v":"X"},null,{"$f":"EXPERIENCE_PRELIMINAIRE!W265","v":"X"}]
[null,"Communication/Relations sociales",null,null,null,null,null,null,null,null,null,null,null,null,"Techniques"]
[null,{"$f":"IF(EXPERIENCE_PRELIMINAIRE!V66=EXPERIENCE_PRELIMINAIRE!Q66,\"o\",\"n\")","v":"o"},"Analyse empathique",null,null,"(-3)",null,"INT/PER",{"$f":"EXPERIENCE_PRELIMINAIRE!U66","v":-2},null,{"$f":"EXPERIENCE_PRELIMINAIRE!V66","v":-3},{"$f":"EXPERIENCE_PRELIMINAIRE!W66","v":-5},null,null,{"$f":"IF(EXPERIENCE_PRELIMINAIRE!V267=EXPERIENCE_PRELIMINAIRE!Q267,\"o\",\"n\")","v":"o"},"Analyse sonscans",null,null,null,null,null,null,"(X)","INT/ADA",null,{"$f":"EXPERIENCE_PRELIMINAIRE!U267","v":-2},{"$f":"EXPERIENCE_PRELIMINAIRE!V267","v":"X"},null,{"$f":"EXPERIENCE_PRELIMINAIRE!W267","v":"X"}]
[null,{"$f":"IF(EXPERIENCE_PRELIMINAIRE!V67=EXPERIENCE_PRELIMINAIRE!Q67,\"o\",\"n\")","v":"o"},"Commandement",null,null,null,null,"VOL/PRE",{"$f":"EXPERIENCE_PRELIMINAIRE!U67","v":-2},null,{"$f":"EXPERIENCE_PRELIMINAIRE!V67","v":0},{"$f":"EXPERIENCE_PRELIMINAIRE!W67","v":-2},null,null,{"$f":"IF(EXPERIENCE_PRELIMINAIRE!V268=EXPERIENCE_PRELIMINAIRE!Q268,\"o\",\"n\")","v":"o"},"Armes embarquées/Artillerie",null,null,null,null,null,null,"(X)","INT/VOL",null,{"$f":"EXPERIENCE_PRELIMINAIRE!U268","v":-2},{"$f":"EXPERIENCE_PRELIMINAIRE!V268","v":"X"},null,{"$f":"EXPERIENCE_PRELIMINAIRE!W268","v":"X"}]
[null,{"$f":"IF(EXPERIENCE_PRELIMINAIRE!V68=EXPERIENCE_PRELIMINAIRE!Q68,\"o\",\"n\")","v":"o"},"Eloquence/Persuasion +",null,null,null,null,"INT/PRE",{"$f":"EXPERIENCE_PRELIMINAIRE!U68","v":-2},null,{"$f":"EXPERIENCE_PRELIMINAIRE!V68","v":0},{"$f":"EXPERIENCE_PRELIMINAIRE!W68","v":-2},null,null,{"$f":"IF(EXPERIENCE_PRELIMINAIRE!V269=EXPERIENCE_PRELIMINAIRE!Q269,\"o\",\"n\")","v":"o"},"Armurerie",null,null,null,null,null,null,"(X)","INT/COO",null,{"$f":"EXPERIENCE_PRELIMINAIRE!U269","v":-2},{"$f":"EXPERIENCE_PRELIMINAIRE!V269","v":"X"},null,{"$f":"EXPERIENCE_PRELIMINAIRE!W269","v":"X"}]
[null,{"$f":"IF(EXPERIENCE_PRELIMINAIRE!V69=EXPERIENCE_PRELIMINAIRE!Q69,\"o\",\"n\")","v":"o"},"Enseignement +",null,null,null,null,"INT/PER",{"$f":"EXPERIENCE_PRELIMINAIRE!U69","v":-2},null,{"$f":"EXPERIENCE_PRELIMINAIRE!V69","v":0},{"$f":"EXPERIENCE_PRELIMINAIRE!W69","v":-2},null,null,{"$f":"IF(EXPERIENCE_PRELIMINAIRE!V270=EXPERIENCE_PRELIMINAIRE!Q270,\"o\",\"n\")","v":"o"},"Aquaculture/Elevage",null,null,null,null,null,null,"(X)","INT/INT",null,{"$f":"EXPERIENCE_PRELIMINAIRE!U270","v":-2},{"$f":"EXPERIENCE_PRELIMINAIRE!V270","v":"X"},null,{"$f":"EXPERIENCE_PRELIMINAIRE!W270","v":"X"}]
[null,{"$f":"IF(EXPERIENCE_PRELIMINAIRE!V70=EXPERIENCE_PRELIMINAIRE!Q70,\"o\",\"n\")","v":"o"},"Entregent/Séduction",null,null,null,null,"PRE/PRE",{"$f":"EXPERIENCE_PRELIMINAIRE!U70","v":-2},null,{"$f":"EXPERIENCE_PRELIMINAIRE!V70","v":0},{"$f":"EXPERIENCE_PRELIMINAIRE!W70","v":-2},null,null,{"$f":"IF(EXPERIENCE_PRELIMINAIRE!V271=EXPERIENCE_PRELIMINAIRE!Q271,\"o\",\"n\")","v":"o"},"Art/Artisanat (Cuisine)",null,null,null,null,null,null,"(X)","INT/PER",null,{"$f":"EXPERIENCE_PRELIMINAIRE!U271","v":-2},{"$f":"EXPERIENCE_PRELIMINAIRE!V271","v":"X"},null,{"$f":"EXPERIENCE_PRELIMINAIRE!W271","v":"X"}]
[null,{"$f":"IF(EXPERIENCE_PRELIMINAIRE!V71=EXPERIENCE_PRELIMINAIRE!Q71,\"o\",\"n\")","v":"o"},"Expression artistique (Chant)",null,null,"(-3)",null,"INT/PRE",{"$f":"EXPERIENCE_PRELIMINAIRE!U71","v":-2},null,{"$f":"EXPERIENCE_PRELIMINAIRE!V71","v":-3},{"$f":"EXPERIENCE_PRELIMINAIRE!W71","v":-5},null,null,{"$f":"IF(EXPERIENCE_PRELIMINAIRE!V272=EXPERIENCE_PRELIMINAIRE!Q272,\"o\",\"n\")","v":"o"},"Art/Artisanat I (……….)",null,null,null,null,null,null,"(X)","INT/PER",null,{"$f":"EXPERIENCE_PRELIMINAIRE!U272","v":-2},{"$f":"EXPERIENCE_PRELIMINAIRE!V272","v":"X"},null,{"$f":"EXPERIENCE_PRELIMINAIRE!W272","v":"X"}]
[null,{"$f":"IF(EXPERIENCE_PRELIMINAIRE!V72=EXPERIENCE_PRELIMINAIRE!Q72,\"o\",\"n\")","v":"o"},"Expression artistique (Comédie/Conte)",null,null,"(-3)",null,"ADA/PRE",{"$f":"EXPERIENCE_PRELIMINAIRE!U72","v":-2},null,{"$f":"EXPERIENCE_PRELIMINAIRE!V72","v":-3},{"$f":"EXPERIENCE_PRELIMINAIRE!W72","v":-5},null,null,{"$f":"IF(EXPERIENCE_PRELIMINAIRE!V273=EXPERIENCE_PRELIMINAIRE!Q273,\"o\",\"n\")","v":"o"},"Art/Artisanat II (……….)",null,null,null,null,null,null,"(X)","INT/PER",null,{"$f":"EXPERIENCE_PRELIMINAIRE!U273","v":-2},{"$f":"EXPERIENCE_PRELIMINAIRE!V273","v":"X"},null,{"$f":"EXPERIENCE_PRELIMINAIRE!W273","v":"X"}]
[null,{"$f":"IF(EXPERIENCE_PRELIMINAIRE!V73=EXPERIENCE_PRELIMINAIRE!Q73,\"o\",\"n\")","v":"o"},"Expression artistique (Danse)",null,null,"(-3)",null,"COO/PRE",{"$f":"EXPERIENCE_PRELIMINAIRE!U73","v":-2},null,{"$f":"EXPERIENCE_PRELIMINAIRE!V73","v":-3},{"$f":"EXPERIENCE_PRELIMINAIRE!W73","v":-5},null,null,{"$f":"IF(EXPERIENCE_PRELIMINAIRE!V274=EXPERIENCE_PRELIMINAIRE!Q274,\"o\",\"n\")","v":"o"},"Art/Artisanat III (……….)",null,null,null,null,null,null,"(X)","INT/PER",null,{"$f":"EXPERIENCE_PRELIMINAIRE!U274","v":-2},{"$f":"EXPERIENCE_PRELIMINAIRE!V274","v":"X"},null,{"$f":"EXPERIENCE_PRELIMINAIRE!W274","v":"X"}]
[null,{"$f":"IF(EXPERIENCE_PRELIMINAIRE!V74=EXPERIENCE_PRELIMINAIRE!Q74,\"o\",\"n\")","v":"o"},"Expression artistique (Instr. de musique)",null,null,"(X)",null,"COO/PER",{"$f":"EXPERIENCE_PRELIMINAIRE!U74","v":-2},null,{"$f":"EXPERIENCE_PRELIMINAIRE!V74","v":"X"},{"$f":"EXPERIENCE_PRELIMINAIRE!W74","v":"X"},null,null,{"$f":"IF(EXPERIENCE_PRELIMINAIRE!V275=EXPERIENCE_PRELIMINAIRE!Q275,\"o\",\"n\")","v":"o"},"Art/Artisanat IV (……….)",null,null,null,null,null,null,"(X)","INT/PER",null,{"$f":"EXPERIENCE_PRELIMINAIRE!U275","v":-2},{"$f":"EXPERIENCE_PRELIMINAIRE!V275","v":"X"},null,{"$f":"EXPERIENCE_PRELIMINAIRE!W275","v":"X"}]
[null,{"$f":"IF(EXPERIENCE_PRELIMINAIRE!V75=EXPERIENCE_PRELIMINAIRE!Q75,\"o\",\"n\")","v":"o"},"Expression artistique I (……….)",null,null,"(-3)",null,{"$f":"CONCATENATE(EXPERIENCE_PRELIMINAIRE!R75,\"/\",EXPERIENCE_PRELIMINAIRE!S75)","v":" / "},{"$f":"EXPERIENCE_PRELIMINAIRE!U75","v":0},null,{"$f":"EXPERIENCE_PRELIMINAIRE!V75","v":-3},{"$f":"EXPERIENCE_PRELIMINAIRE!W75","v":-3},null,null,{"$f":"IF(EXPERIENCE_PRELIMINAIRE!V276=EXPERIENCE_PRELIMINAIRE!Q276,\"o\",\"n\")","v":"o"},"Chirurgie +",null,null,null,null,null,null,"(X)","INT/COO",null,{"$f":"EXPERIENCE_PRELIMINAIRE!U276","v":-2},{"$f":"EXPERIENCE_PRELIMINAIRE!V276","v":"X"},null,{"$f":"EXPERIENCE_PRELIMINAIRE!W276","v":"X"}]
[null,{"$f":"IF(EXPERIENCE_PRELIMINAIRE!V76=EXPERIENCE_PRELIMINAIRE!Q76,\"o\",\"n\")","v":"o"},"Expression artistique II (……….)",null,null,"(X)",null,{"$f":"CONCATENATE(EXPERIENCE_PRELIMINAIRE!R76,\"/\",EXPERIENCE_PRELIMINAIRE!S76)","v":" / "},{"$f":"EXPERIENCE_PRELIMINAIRE!U76","v":0},null,{"$f":"EXPERIENCE_PRELIMINAIRE!V76","v":"X"},{"$f":"EXPERIENCE_PRELIMINAIRE!W76","v":"X"},null,null,{"$f":"IF(EXPERIENCE_PRELIMINAIRE!V277=EXPERIENCE_PRELIMINAIRE!Q277,\"o\",\"n\")","v":"o"},"Dressage",null,null,null,null,null,null,"(-3)","VOL/PRE",null,{"$f":"EXPERIENCE_PRELIMINAIRE!U277","v":-2},{"$f":"EXPERIENCE_PRELIMINAIRE!V277","v":-3},null,{"$f":"EXPERIENCE_PRELIMINAIRE!W277","v":-5}]
[null,{"$f":"IF(EXPERIENCE_PRELIMINAIRE!V82=EXPERIENCE_PRELIMINAIRE!Q82,\"o\",\"n\")","v":"n"},"Intimidation",null,null,null,null,"VOL/PRE",{"$f":"EXPERIENCE_PRELIMINAIRE!U82","v":-2},null,{"$f":"EXPERIENCE_PRELIMINAIRE!V82","v":2},{"$f":"EXPERIENCE_PRELIMINAIRE!W82","v":0},null,null,{"$f":"IF(EXPERIENCE_PRELIMINAIRE!V278=EXPERIENCE_PRELIMINAIRE!Q278,\"o\",\"n\")","v":"o"},"Electronique +",null,null,null,null,null,null,"(X)","INT/INT",null,{"$f":"EXPERIENCE_PRELIMINAIRE!U278","v":-2},{"$f":"EXPERIENCE_PRELIMINAIRE!V278","v":"X"},null,{"$f":"EXPERIENCE_PRELIMINAIRE!W278","v":"X"}]
[null,"Furtivité /Subterfuge",null,null,null,null,null,null,null,null,null,null,null,null,{"$f":"IF(EXPERIENCE_PRELIMINAIRE!V279=EXPERIENCE_PRELIMINAIRE!Q279,\"o\",\"n\")","v":"o"},"Espionnage/Surveillance",null,null,null,null,null,null,"(X)","INT/PER",null,{"$f":"EXPERIENCE_PRELIMINAIRE!U279","v":-2},{"$f":"EXPERIENCE_PRELIMINAIRE!V279","v":"X"},null,{"$f":"EXPERIENCE_PRELIMINAIRE!W279","v":"X"}]
[null,{"$f":"IF(EXPERIENCE_PRELIMINAIRE!V162=EXPERIENCE_PRELIMINAIRE!Q162,\"o\",\"n\")","v":"n"},"Camouflage/Dissimulation",null,null,"(-3)",null,"PER/ADA",{"$f":"EXPERIENCE_PRELIMINAIRE!U162","v":-2},null,{"$f":"EXPERIENCE_PRELIMINAIRE!V162","v":-2},{"$f":"EXPERIENCE_PRELIMINAIRE!W162","v":-4},null,null,{"$f":"IF(EXPERIENCE_PRELIMINAIRE!V280=EXPERIENCE_PRELIMINAIRE!Q280,\"o\",\"n\")","v":"o"},"Explosifs",null,null,null,null,null,null,"(X)","INT/VOL",null,{"$f":"EXPERIENCE_PRELIMINAIRE!U280","v":-2},{"$f":"EXPERIENCE_PRELIMINAIRE!V280","v":"X"},null,{"$f":"EXPERIENCE_PRELIMINAIRE!W280","v":"X"}]
[null,{"$f":"IF(EXPERIENCE_PRELIMINAIRE!V163=EXPERIENCE_PRELIMINAIRE!Q163,\"o\",\"n\")","v":"o"},"Déguisement/Imitation",null,null,"(-3)",null,"ADA/PRE",{"$f":"EXPERIENCE_PRELIMINAIRE!U163","v":-2},null,{"$f":"EXPERIENCE_PRELIMINAIRE!V163","v":-3},{"$f":"EXPERIENCE_PRELIMINAIRE!W163","v":-5},null,null,{"$f":"IF(EXPERIENCE_PRELIMINAIRE!V281=EXPERIENCE_PRELIMINAIRE!Q281,\"o\",\"n\")","v":"o"},"Falsification +",null,null,null,null,null,null,"(X)","INT/PER",null,{"$f":"EXPERIENCE_PRELIMINAIRE!U281","v":-2},{"$f":"EXPERIENCE_PRELIMINAIRE!V281","v":"X"},null,{"$f":"EXPERIENCE_PRELIMINAIRE!W281","v":"X"}]
[null,{"$f":"IF(EXPERIENCE_PRELIMINAIRE!V164=EXPERIENCE_PRELIMINAIRE!Q164,\"o\",\"n\")","v":"o"},"Discrétion/Filature",null,null,null,null,"PER/ADA",{"$f":"EXPERIENCE_PRELIMINAIRE!U164","v":-2},null,{"$f":"EXPERIENCE_PRELIMINAIRE!V164","v":0},{"$f":"EXPERIENCE_PRELIMINAIRE!W164","v":-2},null,null,{"$f":"IF(EXPERIENCE_PRELIMINAIRE!V282=EXPERIENCE_PRELIMINAIRE!Q282,\"o\",\"n\")","v":"o"},"Génie tech. (Architecture/Génie civil) +",null,null,null,null,null,null,"(X)","INT/INT",null,{"$f":"EXPERIENCE_PRELIMINAIRE!U282","v":-2},{"$f":"EXPERIENCE_PRELIMINAIRE!V282","v":"X"},null,{"$f":"EXPERIENCE_PRELIMINAIRE!W282","v":"X"}]
[null,{"$f":"IF(EXPERIENCE_PRELIMINAIRE!V165=EXPERIENCE_PRELIMINAIRE!Q165,\"o\",\"n\")","v":"o"},"Evasion",null,null,"(X)",null,"COO/VOL",{"$f":"EXPERIENCE_PRELIMINAIRE!U165","v":-2},null,{"$f":"EXPERIENCE_PRELIMINAIRE!V165","v":"X"},{"$f":"EXPERIENCE_PRELIMINAIRE!W165","v":"X"},null,null,{"$f":"IF(EXPERIENCE_PRELIMINAIRE!V283=EXPERIENCE_PRELIMINAIRE!Q283,\"o\",\"n\")","v":"o"},"Génie tech. (Architecure navale) +",null,null,null,null,null,null,"(X)","INT/INT",null,{"$f":"EXPERIENCE_PRELIMINAIRE!U283","v":-2},{"$f":"EXPERIENCE_PRELIMINAIRE!V283","v":"X"},null,{"$f":"EXPERIENCE_PRELIMINAIRE!W283","v":"X"}]
[null,{"$f":"IF(EXPERIENCE_PRELIMINAIRE!V166=EXPERIENCE_PRELIMINAIRE!Q166,\"o\",\"n\")","v":"o"},"Furtivité/Déplacement silencieux *",null,null,null,null,"PER/ADA",{"$f":"EXPERIENCE_PRELIMINAIRE!U166","v":-2},null,{"$f":"EXPERIENCE_PRELIMINAIRE!V166","v":0},{"$f":"EXPERIENCE_PRELIMINAIRE!W166","v":-2},null,null,{"$f":"IF(EXPERIENCE_PRELIMINAIRE!V284=EXPERIENCE_PRELIMINAIRE!Q284,\"o\",\"n\")","v":"o"},"Génie tech. (Bionique/Cybertechnologie) +",null,null,null,null,null,null,"(X)","INT/INT",null,{"$f":"EXPERIENCE_PRELIMINAIRE!U284","v":-2},{"$f":"EXPERIENCE_PRELIMINAIRE!V284","v":"X"},null,{"$f":"EXPERIENCE_PRELIMINAIRE!W284","v":"X"}]
[null,{"$f":"IF(EXPERIENCE_PRELIMINAIRE!V172=EXPERIENCE_PRELIMINAIRE!Q172,\"o\",\"n\")","v":"n"},"Pickpocket",null,null,"(-3)",null,"COO/ADA",{"$f":"EXPERIENCE_PRELIMINAIRE!U172","v":-2},null,{"$f":"EXPERIENCE_PRELIMINAIRE!V172","v":0},{"$f":"EXPERIENCE_PRELIMINAIRE!W172","v":-2},null,null,{"$f":"IF(EXPERIENCE_PRELIMINAIRE!V285=EXPERIENCE_PRELIMINAIRE!Q285,\"o\",\"n\")","v":"o"},"Génie tech. (Biotechnologie/Génétique) +",null,null,null,null,null,null,"(X)","INT/INT",null,{"$f":"EXPERIENCE_PRELIMINAIRE!U285","v":-2},{"$f":"EXPERIENCE_PRELIMINAIRE!V285","v":"X"},null,{"$f":"EXPERIENCE_PRELIMINAIRE!W285","v":"X"}]
[null,"Pilotage",null,null,null,null,null,null,null,null,null,null,null,null,{"$f":"IF(EXPERIENCE_PRELIMINAIRE!V286=EXPERIENCE_PRELIMINAIRE!Q286,\"o\",\"n\")","v":"o"},"Génie tech. (Electronique/Informatique) +",null,null,null,null,null,null,"(X)","INT/INT",null,{"$f":"EXPERIENCE_PRELIMINAIRE!U286","v":-2},{"$f":"EXPERIENCE_PRELIMINAIRE!V286","v":"X"},null,{"$f":"EXPERIENCE_PRELIMINAIRE!W286","v":"X"}]
[null,{"$f":"IF(EXPERIENCE_PRELIMINAIRE!V232=EXPERIENCE_PRELIMINAIRE!Q232,\"o\",\"n\")","v":"o"},"Manœuvre d'armures (Atmosphériques) *",null,null,"(X)",null,"COO/ADA",{"$f":"EXPERIENCE_PRELIMINAIRE!U232","v":-2},null,{"$f":"EXPERIENCE_PRELIMINAIRE!V232","v":"X"},{"$f":"EXPERIENCE_PRELIMINAIRE!W232","v":"X"},null,null,{"$f":"IF(EXPERIENCE_PRELIMINAIRE!V287=EXPERIENCE_PRELIMINAIRE!Q287,\"o\",\"n\")","v":"o"},"Génie tech. (Logiciels) +",null,null,null,null,null,null,"(X)","INT/INT",null,{"$f":"EXPERIENCE_PRELIMINAIRE!U287","v":-2},{"$f":"EXPERIENCE_PRELIMINAIRE!V287","v":"X"},null,{"$f":"EXPERIENCE_PRELIMINAIRE!W287","v":"X"}]
[null,{"$f":"IF(EXPERIENCE_PRELIMINAIRE!V233=EXPERIENCE_PRELIMINAIRE!Q233,\"o\",\"n\")","v":"o"},"Manœuvre d'armures (Externes) *",null,null,null,null,"COO/ADA",{"$f":"EXPERIENCE_PRELIMINAIRE!U233","v":-2},null,{"$f":"EXPERIENCE_PRELIMINAIRE!V233","v":0},{"$f":"EXPERIENCE_PRELIMINAIRE!W233","v":-2},null,null,{"$f":"IF(EXPERIENCE_PRELIMINAIRE!V288=EXPERIENCE_PRELIMINAIRE!Q288,\"o\",\"n\")","v":"o"},"Génie tech. (Nanotechnologie) +",null,null,null,null,null,null,"(X)","INT/INT",null,{"$f":"EXPERIENCE_PRELIMINAIRE!U288","v":-2},{"$f":"EXPERIENCE_PRELIMINAIRE!V288","v":"X"},null,{"$f":"EXPERIENCE_PRELIMINAIRE!W288","v":"X"}]
[null,{"$f":"IF(EXPERIENCE_PRELIMINAIRE!V234=EXPERIENCE_PRELIMINAIRE!Q234,\"o\",\"n\")","v":"n"},"Manœuvre d'armures (Sous-marines) *",null,null,null,null,"COO/ADA",{"$f":"EXPERIENCE_PRELIMINAIRE!U234","v":-2},null,{"$f":"EXPERIENCE_PRELIMINAIRE!V234","v":1},{"$f":"EXPERIENCE_PRELIMINAIRE!W234","v":-1},null,null,{"$f":"IF(EXPERIENCE_PRELIMINAIRE!V289=EXPERIENCE_PRELIMINAIRE!Q289,\"o\",\"n\")","v":"o"},"Génie tech. (Robotique) +",null,null,null,null,null,null,"(X)","INT/INT",null,{"$f":"EXPERIENCE_PRELIMINAIRE!U289","v":-2},{"$f":"EXPERIENCE_PRELIMINAIRE!V289","v":"X"},null,{"$f":"EXPERIENCE_PRELIMINAIRE!W289","v":"X"}]
[null,{"$f":"IF(EXPERIENCE_PRELIMINAIRE!V235=EXPERIENCE_PRELIMINAIRE!Q235,\"o\",\"n\")","v":"o"},"Manœuvre d'armures (Spatiales) *",null,null,"(-3)",null,"COO/ADA",{"$f":"EXPERIENCE_PRELIMINAIRE!U235","v":-2},null,{"$f":"EXPERIENCE_PRELIMINAIRE!V235","v":-3},{"$f":"EXPERIENCE_PRELIMINAIRE!W235","v":-5},null,null,{"$f":"IF(EXPERIENCE_PRELIMINAIRE!V290=EXPERIENCE_PRELIMINAIRE!Q290,\"o\",\"n\")","v":"o"},"Génie tech. (Télécommunications) +",null,null,null,null,null,null,"(X)","INT/INT",null,{"$f":"EXPERIENCE_PRELIMINAIRE!U290","v":-2},{"$f":"EXPERIENCE_PRELIMINAIRE!V290","v":"X"},null,{"$f":"EXPERIENCE_PRELIMINAIRE!W290","v":"X"}]
[null,{"$f":"IF(EXPERIENCE_PRELIMINAIRE!V236=EXPERIENCE_PRELIMINAIRE!Q236,\"o\",\"n\")","v":"o"},"Pilotage (Chasseurs sous-marins) +",null,null,"(X)",null,"INT/ADA",{"$f":"EXPERIENCE_PRELIMINAIRE!U236","v":-2},null,{"$f":"EXPERIENCE_PRELIMINAIRE!V236","v":"X"},{"$f":"EXPERIENCE_PRELIMINAIRE!W236","v":"X"},null,null,{"$f":"IF(EXPERIENCE_PRELIMINAIRE!V291=EXPERIENCE_PRELIMINAIRE!Q291,\"o\",\"n\")","v":"o"},"Génie technique (……….) +",null,null,null,null,null,null,"(X)","INT/INT",null,{"$f":"EXPERIENCE_PRELIMINAIRE!U291","v":-2},{"$f":"EXPERIENCE_PRELIMINAIRE!V291","v":"X"},null,{"$f":"EXPERIENCE_PRELIMINAIRE!W291","v":"X"}]
[null,{"$f":"IF(EXPERIENCE_PRELIMINAIRE!V237=EXPERIENCE_PRELIMINAIRE!Q237,\"o\",\"n\")","v":"o"},"Pilotage (Chasseurs atmosphériques) +",null,null,"(X)",null,"INT/ADA",{"$f":"EXPERIENCE_PRELIMINAIRE!U237","v":-2},null,{"$f":"EXPERIENCE_PRELIMINAIRE!V237","v":"X"},{"$f":"EXPERIENCE_PRELIMINAIRE!W237","v":"X"},null,null,{"$f":"IF(EXPERIENCE_PRELIMINAIRE!V292=EXPERIENCE_PRELIMINAIRE!Q292,\"o\",\"n\")","v":"o"},"Informatique +",null,null,null,null,null,null,"(-3)","INT/INT",null,{"$f":"EXPERIENCE_PRELIMINAIRE!U292","v":-2},{"$f":"EXPERIENCE_PRELIMINAIRE!V292","v":-3},null,{"$f":"EXPERIENCE_PRELIMINAIRE!W292","v":-5}]
[null,{"$f":"IF(EXPERIENCE_PRELIMINAIRE!V238=EXPERIENCE_PRELIMINAIRE!Q238,\"o\",\"n\")","v":"n"},"Pilotage (Navires légers) +",null,null,"(X)",null,"INT/INT",{"$f":"EXPERIENCE_PRELIMINAIRE!U238","v":-2},null,{"$f":"EXPERIENCE_PRELIMINAIRE!V238","v":-3},{"$f":"EXPERIENCE_PRELIMINAIRE!W238","v":-5},null,null,{"$f":"IF(EXPERIENCE_PRELIMINAIRE!V293=EXPERIENCE_PRELIMINAIRE!Q293,\"o\",\"n\")","v":"o"},"Mécanique (Exo-armure) +",null,null,null,null,null,null,null,"INT/COO",null,{"$f":"EXPERIENCE_PRELIMINAIRE!U293","v":-2},{"$f":"EXPERIENCE_PRELIMINAIRE!V293","v":0},null,{"$f":"EXPERIENCE_PRELIMINAIRE!W293","v":-2}]
[null,{"$f":"IF(EXPERIENCE_PRELIMINAIRE!V239=EXPERIENCE_PRELIMINAIRE!Q239,\"o\",\"n\")","v":"o"},"Pilotage (Navires lourds) +",null,null,"(X)",null,"INT/INT",{"$f":"EXPERIENCE_PRELIMINAIRE!U239","v":-2},null,{"$f":"EXPERIENCE_PRELIMINAIRE!V239","v":"X"},{"$f":"EXPERIENCE_PRELIMINAIRE!W239","v":"X"},null,null,{"$f":"IF(EXPERIENCE_PRELIMINAIRE!V294=EXPERIENCE_PRELIMINAIRE!Q294,\"o\",\"n\")","v":"o"},"Mécanique (Chasseurs atmosph.) +",null,null,null,null,null,null,null,"INT/COO",null,{"$f":"EXPERIENCE_PRELIMINAIRE!U294","v":-2},{"$f":"EXPERIENCE_PRELIMINAIRE!V294","v":0},null,{"$f":"EXPERIENCE_PRELIMINAIRE!W294","v":-2}]
[null,{"$f":"IF(EXPERIENCE_PRELIMINAIRE!V240=EXPERIENCE_PRELIMINAIRE!Q240,\"o\",\"n\")","v":"o"},"Pilotage (Engins spatiaux) +",null,null,"(X)",null,"INT/INT",{"$f":"EXPERIENCE_PRELIMINAIRE!U240","v":-2},null,{"$f":"EXPERIENCE_PRELIMINAIRE!V240","v":"X"},{"$f":"EXPERIENCE_PRELIMINAIRE!W240","v":"X"},null,null,{"$f":"IF(EXPERIENCE_PRELIMINAIRE!V295=EXPERIENCE_PRELIMINAIRE!Q295,\"o\",\"n\")","v":"o"},"Mécanique (Générateurs/Syst. survie) +",null,null,null,null,null,null,null,"INT/COO",null,{"$f":"EXPERIENCE_PRELIMINAIRE!U295","v":-2},{"$f":"EXPERIENCE_PRELIMINAIRE!V295","v":0},null,{"$f":"EXPERIENCE_PRELIMINAIRE!W295","v":-2}]
[null,{"$f":"IF(EXPERIENCE_PRELIMINAIRE!V241=EXPERIENCE_PRELIMINAIRE!Q241,\"o\",\"n\")","v":"o"},"Pilotage (Véhicules souterrains)",null,null,null,null,"PER/ADA",{"$f":"EXPERIENCE_PRELIMINAIRE!U241","v":-2},null,{"$f":"EXPERIENCE_PRELIMINAIRE!V241","v":"X"},{"$f":"EXPERIENCE_PRELIMINAIRE!W241","v":"X"},null,null,{"$f":"IF(EXPERIENCE_PRELIMINAIRE!V296=EXPERIENCE_PRELIMINAIRE!Q296,\"o\",\"n\")","v":"o"},"Mécanique (Machines industrielles) +",null,null,null,null,null,null,null,"INT/COO",null,{"$f":"EXPERIENCE_PRELIMINAIRE!U296","v":-2},{"$f":"EXPERIENCE_PRELIMINAIRE!V296","v":0},null,{"$f":"EXPERIENCE_PRELIMINAIRE!W296","v":-2}]
[null,{"$f":"IF(EXPERIENCE_PRELIMINAIRE!V242=EXPERIENCE_PRELIMINAIRE!Q242,\"o\",\"n\")","v":"o"},"Pilotage (Véhicules de sol)",null,null,null,null,"PER/ADA",{"$f":"EXPERIENCE_PRELIMINAIRE!U242","v":-2},null,{"$f":"EXPERIENCE_PRELIMINAIRE!V242","v":0},{"$f":"EXPERIENCE_PRELIMINAIRE!W242","v":-2},null,null,{"$f":"IF(EXPERIENCE_PRELIMINAIRE!V297=EXPERIENCE_PRELIMINAIRE!Q297,\"o\",\"n\")","v":"n"},"Mécanique (Navires/Chasseurs sous-m.) +",null,null,null,null,null,null,null,"INT/COO",null,{"$f":"EXPERIENCE_PRELIMINAIRE!U297","v":-2},{"$f":"EXPERIENCE_PRELIMINAIRE!V297","v":1},null,{"$f":"EXPERIENCE_PRELIMINAIRE!W297","v":-1}]
[null,{"$f":"IF(EXPERIENCE_PRELIMINAIRE!V243=EXPERIENCE_PRELIMINAIRE!Q243,\"o\",\"n\")","v":"n"},"Pilotage (Scooters sous-marins)",null,null,"(X)",null,"INT/ADA",{"$f":"EXPERIENCE_PRELIMINAIRE!U243","v":-2},null,{"$f":"EXPERIENCE_PRELIMINAIRE!V243","v":2},{"$f":"EXPERIENCE_PRELIMINAIRE!W243","v":0},null,null,{"$f":"IF(EXPERIENCE_PRELIMINAIRE!V298=EXPERIENCE_PRELIMINAIRE!Q298,\"o\",\"n\")","v":"o"},"Mécanique (Véhicules de sol) +",null,null,null,null,null,null,null,"INT/COO",null,{"$f":"EXPERIENCE_PRELIMINAIRE!U298","v":-2},{"$f":"EXPERIENCE_PRELIMINAIRE!V298","v":0},null,{"$f":"EXPERIENCE_PRELIMINAIRE!W298","v":-2}]
[null,{"$f":"IF(EXPERIENCE_PRELIMINAIRE!V244=EXPERIENCE_PRELIMINAIRE!Q244,\"o\",\"n\")","v":"o"},"Pilotage (……….) +",null,null,"(X)",null,{"$f":"CONCATENATE(EXPERIENCE_PRELIMINAIRE!R244,\"/\",EXPERIENCE_PRELIMINAIRE!S244)","v":" / "},{"$f":"EXPERIENCE_PRELIMINAIRE!U244","v":0},null,{"$f":"EXPERIENCE_PRELIMINAIRE!V244","v":"X"},{"$f":"EXPERIENCE_PRELIMINAIRE!W244","v":"X"},null,null,{"$f":"IF(EXPERIENCE_PRELIMINAIRE!V299=EXPERIENCE_PRELIMINAIRE!Q299,\"o\",\"n\")","v":"o"},"Mécanique (Véhicules souterrains) +",null,null,null,null,null,null,null,"INT/COO",null,{"$f":"EXPERIENCE_PRELIMINAIRE!U299","v":-2},{"$f":"EXPERIENCE_PRELIMINAIRE!V299","v":0},null,{"$f":"EXPERIENCE_PRELIMINAIRE!W299","v":-2}]
[null,{"$f":"IF(EXPERIENCE_PRELIMINAIRE!V250=EXPERIENCE_PRELIMINAIRE!Q250,\"o\",\"n\")","v":"o"},"Télépilotage",null,null,"(-3)",null,"INT/ADA",{"$f":"EXPERIENCE_PRELIMINAIRE!U250","v":-2},null,{"$f":"EXPERIENCE_PRELIMINAIRE!V250","v":-3},{"$f":"EXPERIENCE_PRELIMINAIRE!W250","v":-5},null,null,{"$f":"IF(EXPERIENCE_PRELIMINAIRE!V300=EXPERIENCE_PRELIMINAIRE!Q300,\"o\",\"n\")","v":"o"},"Mécanique (……….) +",null,null,null,null,null,null,null,"INT/COO",null,{"$f":"EXPERIENCE_PRELIMINAIRE!U300","v":-2},{"$f":"EXPERIENCE_PRELIMINAIRE!V300","v":0},null,{"$f":"EXPERIENCE_PRELIMINAIRE!W300","v":-2}]
[null,"Survie/Extérieur",null,null,null,null,null,null,null,null,null,null,null,null,{"$f":"IF(EXPERIENCE_PRELIMINAIRE!V301=EXPERIENCE_PRELIMINAIRE!Q301,\"o\",\"n\")","v":"o"},"Pièges",null,null,null,null,null,null,"(-3)","PER/VOL",null,{"$f":"EXPERIENCE_PRELIMINAIRE!U301","v":-2},{"$f":"EXPERIENCE_PRELIMINAIRE!V301","v":-3},null,{"$f":"EXPERIENCE_PRELIMINAIRE!W301","v":-5}]
[null,{"$f":"IF(EXPERIENCE_PRELIMINAIRE!V252=EXPERIENCE_PRELIMINAIRE!Q252,\"o\",\"n\")","v":"o"},"Appel-Répulsion I (……….) +",null,null,null,null,"INT/PER",{"$f":"EXPERIENCE_PRELIMINAIRE!U252","v":-2},null,{"$f":"EXPERIENCE_PRELIMINAIRE!V252","v":0},{"$f":"EXPERIENCE_PRELIMINAIRE!W252","v":-2},null,null,{"$f":"IF(EXPERIENCE_PRELIMINAIRE!V302=EXPERIENCE_PRELIMINAIRE!Q302,\"o\",\"n\")","v":"o"},"Piratage informatique +",null,null,null,null,null,null,"(X)","INT/INT",null,{"$f":"EXPERIENCE_PRELIMINAIRE!U302","v":-2},{"$f":"EXPERIENCE_PRELIMINAIRE!V302","v":"X"},null,{"$f":"EXPERIENCE_PRELIMINAIRE!W302","v":"X"}]
[null,{"$f":"IF(EXPERIENCE_PRELIMINAIRE!V253=EXPERIENCE_PRELIMINAIRE!Q253,\"o\",\"n\")","v":"o"},"Appel-Répulsion II (……….) +",null,null,null,null,"INT/PER",{"$f":"EXPERIENCE_PRELIMINAIRE!U253","v":-2},null,{"$f":"EXPERIENCE_PRELIMINAIRE!V253","v":0},{"$f":"EXPERIENCE_PRELIMINAIRE!W253","v":-2},null,null,{"$f":"IF(EXPERIENCE_PRELIMINAIRE!V303=EXPERIENCE_PRELIMINAIRE!Q303,\"o\",\"n\")","v":"o"},"Premiers soins",null,null,null,null,null,null,"(-3)","INT/ADA",null,{"$f":"EXPERIENCE_PRELIMINAIRE!U303","v":-2},{"$f":"EXPERIENCE_PRELIMINAIRE!V303","v":-3},null,{"$f":"EXPERIENCE_PRELIMINAIRE!W303","v":-5}]
[null,{"$f":"IF(EXPERIENCE_PRELIMINAIRE!V254=EXPERIENCE_PRELIMINAIRE!Q254,\"o\",\"n\")","v":"o"},"Chant du monde I (……….) +",null,null,null,null,"ADA/ADA",{"$f":"EXPERIENCE_PRELIMINAIRE!U254","v":-2},null,{"$f":"EXPERIENCE_PRELIMINAIRE!V254","v":0},{"$f":"EXPERIENCE_PRELIMINAIRE!W254","v":-2},null,null,{"$f":"IF(EXPERIENCE_PRELIMINAIRE!V314=EXPERIENCE_PRELIMINAIRE!Q314,\"o\",\"n\")","v":"n"},"Systèmes de sécurité +",null,null,null,null,null,null,"(X)","INT/VOL",null,{"$f":"EXPERIENCE_PRELIMINAIRE!U314","v":-2},{"$f":"EXPERIENCE_PRELIMINAIRE!V314","v":-3},null,{"$f":"EXPERIENCE_PRELIMINAIRE!W314","v":-5}]

{"sheet":"CONNAISSANCES_LANGUES","index":14,"n_rows":63,"n_cols":31,"rows_kept":63,"cut":false,"hidden":false,"merged":[[10,15,10,21],[11,15,11,21],[12,15,12,21],[13,15,13,21],[14,15,14,21],[62,15,62,21],[62,23,62,24],[62,26,62,27],[62,28,62,29],[59,15,59,21],[59,23,59,24],[59,26,59,27],[59,28,59,29],[60,15,60,21],[60,23,60,24],[60,26,60,27],[60,28,60,29],[61,15,61,21],[61,23,61,24],[61,26,61,27],[61,28,61,29],[56,15,56,21],[56,23,56,24],[56,26,56,27],[56,28,56,29],[57,15,57,21],[57,23,57,24],[57,26,57,27],[57,28,57,29],[58,15,58,21],[58,23,58,24],[58,26,58,27],[58,28,58,29],[53,15,53,21],[53,23,53,24],[53,26,53,27],[53,28,53,29],[54,15,54,21],[54,23,54,24],[54,26,54,27],[54,28,54,29],[55,15,55,21],[55,23,55,24],[55,26,55,27],[55,28,55,29],[50,15,50,21],[50,23,50,24],[50,26,50,27],[50,28,50,29],[51,15,51,21],[51,23,51,24],[51,26,51,27],[51,28,51,29],[52,15,52,21],[52,23,52,24],[52,26,52,27],[52,28,52,29],[47,15,47,21],[47,23,47,24],[47,26,47,27],[47,28,47,29],[48,15,48,21],[48,23,48,24],[48,26,48,27],[48,28,48,29],[49,15,49,21],[49,23,49,24],[49,26,49,27],[49,28,49,29],[44,15,44,21],[44,23,44,24],[44,26,44,27],[44,28,44,29],[45,15,45,21],[45,23,45,24],[45,26,45,27],[45,28,45,29],[46,15,46,21],[46,23,46,24],[46,26,46,27],[46,28,46,29],[41,15,41,21],[41,23,41,24],[41,26,41,27],[41,28,41,29],[42,15,42,21],[42,23,42,24],[42,26,42,27],[42,28,42,29],[43,15,43,21],[43,23,43,24],[43,26,43,27],[43,28,43,29],[38,15,38,21],[38,23,38,24],[38,26,38,27],[38,28,38,29],[39,15,39,21],[39,23,39,24],[39,26,39,27],[39,28,39,29],[40,15,40,21],[40,23,40,24],[40,26,40,27],[40,28,40,29],[35,15,35,21],[35,23,35,24],[35,26,35,27],[35,28,35,29],[36,15,36,21],[36,23,36,24],[36,26,36,27],[36,28,36,29],[37,15,37,21],[37,23,37,24],[37,26,37,27],[37,28,37,29],[32,15,32,21],[32,23,32,24],[32,26,32,27],[32,28,32,29],[33,15,33,21],[33,23,33,24],[33,26,33,27],[33,28,33,29],[34,15,34,21],[34,23,34,24],[34,26,34,27],[34,28,34,29],[29,15,29,21],[29,23,29,24],[29,26,29,27],[29,28,29,29],[30,15,30,21],[30,23,30,24],[30,26,30,27],[30,28,30,29],[31,15,31,21],[31,23,31,24],[31,26,31,27],[31,28,31,29],[26,15,26,21],[26,23,26,24],[26,26,26,27],[26,28,26,29],[27,15,27,21],[27,23,27,24],[27,26,27,27],[27,28,27,29],[28,15,28,21],[28,23,28,24],[28,26,28,27],[28,28,28,29],[23,15,23,21],[23,23,23,24],[23,26,23,27],[23,28,23,29],[24,15,24,21],[24,23,24,24],[24,26,24,27],[24,28,24,29],[25,15,25,21],[25,23,25,24],[25,26,25,27],[25,28,25,29],[20,15,20,21],[20,23,20,24],[20,26,20,27],[20,28,20,29],[21,15,21,21],[21,23,21,24],[21,26,21,27],[21,28,21,29],[22,15,22,21],[22,23,22,24],[22,26,22,27],[22,28,22,29],[22,2,22,4],[23,2,23,4],[6,5,6,6],[7,5,7,6],[8,5,8,6],[9,5,9,6],[10,5,10,6],[11,5,11,6],[12,5,12,6],[13,5,13,6],[14,5,14,6],[15,5,15,6],[16,5,16,6],[17,5,17,6],[18,5,18,6],[19,5,19,6],[20,5,20,6],[21,5,21,6],[22,5,22,6],[23,5,23,6],[17,2,17,4],[16,2,16,4],[6,2,6,4],[17,28,17,29],[18,15,18,21],[18,23,18,24],[18,26,18,27],[18,28,18,29],[19,15,19,21],[19,23,19,24],[19,26,19,27],[7,2,7,4],[8,2,8,4],[9,2,9,4],[10,2,10,4],[11,2,11,4],[12,2,12,4],[13,2,13,4],[14,2,14,4],[15,2,15,4],[10,23,10,24],[11,23,11,24],[12,23,12,24],[13,23,13,24],[14,23,14,24],[7,15,7,21],[8,15,8,21],[14,26,14,27],[14,28,14,29],[15,23,15,24],[15,26,15,27],[15,28,15,29],[10,26,10,27],[10,28,10,29],[11,26,11,27],[11,28,11,29],[12,26,12,27],[12,28,12,29],[13,26,13,27],[13,28,13,29],[10,8,10,9],[10,11,10,12],[11,8,11,9],[11,11,11,12],[12,8,12,9],[12,11,12,12],[13,8,13,9],[13,11,13,12],[14,8,14,9],[14,11,14,12],[6,26,6,27],[6,28,6,29],[7,26,7,27],[7,28,7,29],[8,26,8,27],[8,28,8,29],[9,26,9,27],[9,28,9,29],[6,8,6,9],[6,11,6,12],[7,8,7,9],[7,11,7,12],[8,8,8,9],[8,11,8,12],[9,8,9,9],[9,11,9,12],[9,23,9,24],[6,15,6,21],[9,15,9,21],[19,28,19,29],[17,15,17,21],[17,23,17,24],[17,26,17,27],[15,15,15,21],[6,23,6,24],[7,23,7,24],[8,23,8,24],[62,2,62,4],[62,5,62,6],[62,8,62,9],[62,11,62,12],[59,2,59,4],[59,5,59,6],[59,8,59,9],[59,11,59,12],[58,2,58,4],[58,5,58,6],[58,8,58,9],[58,11,58,12],[61,2,61,4],[61,5,61,6],[61,8,61,9],[61,11,61,12],[17,8,17,9],[17,11,17,12],[20,8,20,9],[20,11,20,12],[18,8,18,9],[18,11,18,12],[19,8,19,9],[19,11,19,12],[60,2,60,4],[60,5,60,6],[60,8,60,9],[60,11,60,12],[57,2,57,4],[57,5,57,6],[57,8,57,9],[57,11,57,12],[56,2,56,4],[56,5,56,6],[56,8,56,9],[56,11,56,12],[18,2,18,4],[19,2,19,4],[20,2,20,4],[21,2,21,4],[53,2,53,4],[53,5,53,6],[53,8,53,9],[53,11,53,12],[52,2,52,4],[52,5,52,6],[52,8,52,9],[52,11,52,12],[55,2,55,4],[55,5,55,6],[55,8,55,9],[55,11,55,12],[54,8,54,9],[54,11,54,12],[54,2,54,4],[54,5,54,6],[49,2,49,4],[49,5,49,6],[49,8,49,9],[49,11,49,12],[48,2,48,4],[48,5,48,6],[48,8,48,9],[48,11,48,12],[51,2,51,4],[51,5,51,6],[51,8,51,9],[51,11,51,12],[50,2,50,4],[50,5,50,6],[50,8,50,9],[50,11,50,12],[45,2,45,4],[45,5,45,6],[45,8,45,9],[45,11,45,12],[44,2,44,4],[44,5,44,6],[44,8,44,9],[44,11,44,12],[47,2,47,4],[47,5,47,6],[47,8,47,9],[47,11,47,12],[46,2,46,4],[46,5,46,6],[46,8,46,9],[46,11,46,12],[36,2,36,4],[36,5,36,6],[43,2,43,4],[43,5,43,6],[43,8,43,9],[43,11,43,12],[42,2,42,4],[42,5,42,6],[42,8,42,9],[42,11,42,12],[30,2,30,4],[30,5,30,6],[34,2,34,4],[34,5,34,6],[34,8,34,9],[34,11,34,12],[41,2,41,4],[41,5,41,6],[41,8,41,9],[41,11,41,12],[40,8,40,9],[40,11,40,12],[39,2,39,4],[39,5,39,6],[39,8,39,9],[39,11,39,12],[38,2,38,4],[38,5,38,6],[38,8,38,9],[38,11,38,12],[37,2,37,4],[37,5,37,6],[37,8,37,9],[37,11,37,12],[33,11,33,12],[32,2,32,4],[32,5,32,6],[32,8,32,9],[32,11,32,12],[31,2,31,4],[31,5,31,6],[31,8,31,9],[31,11,31,12],[4,28,4,29],[4,1,4,6],[4,8,4,9],[4,11,4,12],[4,14,4,22],[4,23,4,24],[4,26,4,27],[25,2,25,4],[25,5,25,6],[25,8,25,9],[25,11,25,12],[24,2,24,4],[24,5,24,6],[24,8,24,9],[21,8,21,9],[21,11,21,12],[22,8,22,9],[22,11,22,12],[23,8,23,9],[23,11,23,12],[15,8,15,9],[15,11,15,12],[16,8,16,9],[16,11,16,12],[29,2,29,4],[29,5,29,6],[29,8,29,9],[29,11,29,12],[28,2,28,4],[28,5,28,6],[24,11,24,12],[27,8,27,9],[27,11,27,12],[6,33,7,33],[0,1,2,29],[0,30,2,30],[27,2,27,4],[27,5,27,6],[40,2,40,4],[40,5,40,6],[28,8,28,9],[28,11,28,12],[36,8,36,9],[36,11,36,12],[35,2,35,4],[35,5,35,6],[35,8,35,9],[35,11,35,12],[26,2,26,4],[26,5,26,6],[26,8,26,9],[26,11,26,12],[33,2,33,4],[33,5,33,6],[33,8,33,9],[30,8,30,9],[30,11,30,12]]}
[null,"CONNAISSANCES & LANGUES_",null,null,null,null,null,null,null,null,null,null,null,null,null,null,null,null,null,null,null,null,null,null,null,null,null,null,null,null,5]
[]
[]
[]
[null,"COMPETENCES_",null,null,null,null,null,"Attr.","Base",null,"Maît.","Glob.",null,null,"COMPETENCES_",null,null,null,null,null,null,null,null,"Attr.",null,"Base","Maît",null,"Glob."]
[null,"Connaissances",null,null,null,null,null,null,null,null,null,null,null,null,"Connaissances"]
[null,{"$f":"IF(EXPERIENCE_PRELIMINAIRE!V84=EXPERIENCE_PRELIMINAIRE!Q84,\"o\",\"n\")","v":"o"},"Bureaucratie +",null,null,null,null,"INT/VOL",{"$f":"EXPERIENCE_PRELIMINAIRE!U84","v":-2},null,{"$f":"EXPERIENCE_PRELIMINAIRE!V84","v":0},{"$f":"EXPERIENCE_PRELIMINAIRE!W84","v":-2},null,null,{"$f":"IF(EXPERIENCE_PRELIMINAIRE!V151=EXPERIENCE_PRELIMINAIRE!Q151,\"o\",\"n\")","v":"o"},"Sci./Con. (Psychologie) +",null,null,null,null,null,null,"(X)","INT/INT",null,{"$f":"EXPERIENCE_PRELIMINAIRE!U151","v":-2},{"$f":"EXPERIENCE_PRELIMINAIRE!V151","v":"X"},null,{"$f":"EXPERIENCE_PRELIMINAIRE!W151","v":"X"}]
[null,{"$f":"IF(EXPERIENCE_PRELIMINAIRE!V85=EXPERIENCE_PRELIMINAIRE!Q85,\"o\",\"n\")","v":"o"},"Cartographie +",null,null,"(X)",null,"INT/INT",{"$f":"EXPERIENCE_PRELIMINAIRE!U85","v":-2},null,{"$f":"EXPERIENCE_PRELIMINAIRE!V85","v":"X"},{"$f":"EXPERIENCE_PRELIMINAIRE!W85","v":"X"},null,null,{"$f":"IF(EXPERIENCE_PRELIMINAIRE!V152=EXPERIENCE_PRELIMINAIRE!Q152,\"o\",\"n\")","v":"o"},"Sci./Con. (Sciences politiques) +",null,null,null,null,null,null,"(X)","INT/INT",null,{"$f":"EXPERIENCE_PRELIMINAIRE!U152","v":-2},{"$f":"EXPERIENCE_PRELIMINAIRE!V152","v":"X"},null,{"$f":"EXPERIENCE_PRELIMINAIRE!W152","v":"X"}]
[null,{"$f":"IF(EXPERIENCE_PRELIMINAIRE!V86=EXPERIENCE_PRELIMINAIRE!Q86,\"o\",\"n\")","v":"o"},"Commerce/Trafic (Armes) +",null,null,"(X)",null,"INT/PRE",{"$f":"EXPERIENCE_PRELIMINAIRE!U86","v":-2},null,{"$f":"EXPERIENCE_PRELIMINAIRE!V86","v":"X"},{"$f":"EXPERIENCE_PRELIMINAIRE!W86","v":"X"},null,null,{"$f":"IF(EXPERIENCE_PRELIMINAIRE!V153=EXPERIENCE_PRELIMINAIRE!Q153,\"o\",\"n\")","v":"o"},"Sci./Con. (Sociologie) +",null,null,null,null,null,null,"(X)","INT/INT",null,{"$f":"EXPERIENCE_PRELIMINAIRE!U153","v":-2},{"$f":"EXPERIENCE_PRELIMINAIRE!V153","v":"X"},null,{"$f":"EXPERIENCE_PRELIMINAIRE!W153","v":"X"}]
[null,{"$f":"IF(EXPERIENCE_PRELIMINAIRE!V87=EXPERIENCE_PRELIMINAIRE!Q87,\"o\",\"n\")","v":"o"},"Commerce/Trafic (Artisanat) +",null,null,"(-3)",null,"INT/PRE",{"$f":"EXPERIENCE_PRELIMINAIRE!U87","v":-2},null,{"$f":"EXPERIENCE_PRELIMINAIRE!V87","v":-3},{"$f":"EXPERIENCE_PRELIMINAIRE!W87","v":-5},null,null,{"$f":"IF(EXPERIENCE_PRELIMINAIRE!V154=EXPERIENCE_PRELIMINAIRE!Q154,\"o\",\"n\")","v":"o"},"Sci./Con. (Zoologie) +",null,null,null,null,null,null,"(X)","INT/INT",null,{"$f":"EXPERIENCE_PRELIMINAIRE!U154","v":-2},{"$f":"EXPERIENCE_PRELIMINAIRE!V154","v":"X"},null,{"$f":"EXPERIENCE_PRELIMINAIRE!W154","v":"X"}]
[null,{"$f":"IF(EXPERIENCE_PRELIMINAIRE!V88=EXPERIENCE_PRELIMINAIRE!Q88,\"o\",\"n\")","v":"o"},"Commerce/Trafic (Denrées aliment.) +",null,null,"(-3)",null,"INT/PRE",{"$f":"EXPERIENCE_PRELIMINAIRE!U88","v":-2},null,{"$f":"EXPERIENCE_PRELIMINAIRE!V88","v":-3},{"$f":"EXPERIENCE_PRELIMINAIRE!W88","v":-5},null,null,{"$f":"IF(EXPERIENCE_PRELIMINAIRE!V155=EXPERIENCE_PRELIMINAIRE!Q155,\"o\",\"n\")","v":"o"},"Sci./Con. (……….) +",null,null,null,null,null,null,"(X)","INT/INT",null,{"$f":"EXPERIENCE_PRELIMINAIRE!U155","v":-2},{"$f":"EXPERIENCE_PRELIMINAIRE!V155","v":"X"},null,{"$f":"EXPERIENCE_PRELIMINAIRE!W155","v":"X"}]
[null,{"$f":"IF(EXPERIENCE_PRELIMINAIRE!V89=EXPERIENCE_PRELIMINAIRE!Q89,\"o\",\"n\")","v":"o"},"Commerce/Trafic (Drogues) +",null,null,"(X)",null,"INT/PRE",{"$f":"EXPERIENCE_PRELIMINAIRE!U89","v":-2},null,{"$f":"EXPERIENCE_PRELIMINAIRE!V89","v":"X"},{"$f":"EXPERIENCE_PRELIMINAIRE!W89","v":"X"},null,null,{"$f":"IF(EXPERIENCE_PRELIMINAIRE!V156=EXPERIENCE_PRELIMINAIRE!Q156,\"o\",\"n\")","v":"o"},"Stratégie +",null,null,null,null,null,null,"(-3)","INT/VOL",null,{"$f":"EXPERIENCE_PRELIMINAIRE!U156","v":-2},{"$f":"EXPERIENCE_PRELIMINAIRE!V156","v":-3},null,{"$f":"EXPERIENCE_PRELIMINAIRE!W156","v":-5}]
[null,{"$f":"IF(EXPERIENCE_PRELIMINAIRE!V90=EXPERIENCE_PRELIMINAIRE!Q90,\"o\",\"n\")","v":"o"},"Commerce/Trafic (Informations) +",null,null,"(-3)",null,"INT/PRE",{"$f":"EXPERIENCE_PRELIMINAIRE!U90","v":-2},null,{"$f":"EXPERIENCE_PRELIMINAIRE!V90","v":-3},{"$f":"EXPERIENCE_PRELIMINAIRE!W90","v":-5},null,null,{"$f":"IF(EXPERIENCE_PRELIMINAIRE!V157=EXPERIENCE_PRELIMINAIRE!Q157,\"o\",\"n\")","v":"o"},"Tactique (Combat naval)",null,null,null,null,null,null,"(-3)","INT/ADA",null,{"$f":"EXPERIENCE_PRELIMINAIRE!U157","v":-2},{"$f":"EXPERIENCE_PRELIMINAIRE!V157","v":-3},null,{"$f":"EXPERIENCE_PRELIMINAIRE!W157","v":-5}]
[null,{"$f":"IF(EXPERIENCE_PRELIMINAIRE!V91=EXPERIENCE_PRELIMINAIRE!Q91,\"o\",\"n\")","v":"o"},"Commerce/Trafic (Matériel médical) +",null,null,"(-3)",null,"INT/PRE",{"$f":"EXPERIENCE_PRELIMINAIRE!U91","v":-2},null,{"$f":"EXPERIENCE_PRELIMINAIRE!V91","v":-3},{"$f":"EXPERIENCE_PRELIMINAIRE!W91","v":-5},null,null,{"$f":"IF(EXPERIENCE_PRELIMINAIRE!V158=EXPERIENCE_PRELIMINAIRE!Q158,\"o\",\"n\")","v":"o"},"Tactique (Combat souterrain)",null,null,null,null,null,null,null,"INT/ADA",null,{"$f":"EXPERIENCE_PRELIMINAIRE!U158","v":-2},{"$f":"EXPERIENCE_PRELIMINAIRE!V158","v":0},null,{"$f":"EXPERIENCE_PRELIMINAIRE!W158","v":-2}]
[null,{"$f":"IF(EXPERIENCE_PRELIMINAIRE!V92=EXPERIENCE_PRELIMINAIRE!Q92,\"o\",\"n\")","v":"o"},"Commerce/Trafic (Matières prem.) +",null,null,"(-3)",null,"INT/PRE",{"$f":"EXPERIENCE_PRELIMINAIRE!U92","v":-2},null,{"$f":"EXPERIENCE_PRELIMINAIRE!V92","v":-3},{"$f":"EXPERIENCE_PRELIMINAIRE!W92","v":-5},null,null,{"$f":"IF(EXPERIENCE_PRELIMINAIRE!V159=EXPERIENCE_PRELIMINAIRE!Q159,\"o\",\"n\")","v":"o"},"Tactique (Combat terrestre)",null,null,null,null,null,null,null,"INT/ADA",null,{"$f":"EXPERIENCE_PRELIMINAIRE!U159","v":-2},{"$f":"EXPERIENCE_PRELIMINAIRE!V159","v":0},null,{"$f":"EXPERIENCE_PRELIMINAIRE!W159","v":-2}]
[null,{"$f":"IF(EXPERIENCE_PRELIMINAIRE!V93=EXPERIENCE_PRELIMINAIRE!Q93,\"o\",\"n\")","v":"o"},"Commerce/Trafic (Œuvres d'art) +",null,null,"(X)",null,"INT/PRE",{"$f":"EXPERIENCE_PRELIMINAIRE!U93","v":-2},null,{"$f":"EXPERIENCE_PRELIMINAIRE!V93","v":"X"},{"$f":"EXPERIENCE_PRELIMINAIRE!W93","v":"X"},null,null,{"$f":"IF(EXPERIENCE_PRELIMINAIRE!V160=EXPERIENCE_PRELIMINAIRE!Q160,\"o\",\"n\")","v":"o"},"Tactique (Opérations commando)",null,null,null,null,null,null,null,"INT/ADA",null,{"$f":"EXPERIENCE_PRELIMINAIRE!U160","v":-2},{"$f":"EXPERIENCE_PRELIMINAIRE!V160","v":0},null,{"$f":"EXPERIENCE_PRELIMINAIRE!W160","v":-2}]
[null,{"$f":"IF(EXPERIENCE_PRELIMINAIRE!V94=EXPERIENCE_PRELIMINAIRE!Q94,\"o\",\"n\")","v":"o"},"Commerce/Trafic (Véhicules) +",null,null,"(-3)",null,"INT/PRE",{"$f":"EXPERIENCE_PRELIMINAIRE!U94","v":-2},null,{"$f":"EXPERIENCE_PRELIMINAIRE!V94","v":-3},{"$f":"EXPERIENCE_PRELIMINAIRE!W94","v":-5},null,null,"Langues/Langages"]
[null,{"$f":"IF(EXPERIENCE_PRELIMINAIRE!V95=EXPERIENCE_PRELIMINAIRE!Q95,\"o\",\"n\")","v":"o"},"Commerce/Trafic I (……….) +",null,null,"(-3)",null,"INT/PRE",{"$f":"EXPERIENCE_PRELIMINAIRE!U95","v":-2},null,{"$f":"EXPERIENCE_PRELIMINAIRE!V95","v":-3},{"$f":"EXPERIENCE_PRELIMINAIRE!W95","v":-5},null,null,{"$f":"IF(EXPERIENCE_PRELIMINAIRE!Z174=10,\"n\",IF(EXPERIENCE_PRELIMINAIRE!V174=EXPERIENCE_PRELIMINAIRE!Q174,\"o\",\"n\"))","v":"o"},"Langue étrangère (Amanéun) * PN",null,null,null,null,null,null,"(X)","INT/PRE",null,{"$f":"EXPERIENCE_PRELIMINAIRE!U174","v":-2},{"$f":"EXPERIENCE_PRELIMINAIRE!V174","v":"X"},null,{"$f":"EXPERIENCE_PRELIMINAIRE!W174","v":"X"}]
[null,{"$f":"IF(EXPERIENCE_PRELIMINAIRE!V96=EXPERIENCE_PRELIMINAIRE!Q96,\"o\",\"n\")","v":"o"},"Commerce/Trafic II (……….) +",null,null,"(X)",null,"INT/PRE",{"$f":"EXPERIENCE_PRELIMINAIRE!U96","v":-2},null,{"$f":"EXPERIENCE_PRELIMINAIRE!V96","v":"X"},{"$f":"EXPERIENCE_PRELIMINAIRE!W96","v":"X"},null,null,{"$f":"IF(EXPERIENCE_PRELIMINAIRE!Z175=10,\"n\",IF(EXPERIENCE_PRELIMINAIRE!V175=EXPERIENCE_PRELIMINAIRE!Q175,\"o\",\"n\"))","v":"o"},"Langue étrangère (Azran) * PN",null,null,null,null,null,null,"(X)","INT/PRE",null,{"$f":"EXPERIENCE_PRELIMINAIRE!U175","v":-2},{"$f":"EXPERIENCE_PRELIMINAIRE!V175","v":"X"},null,{"$f":"EXPERIENCE_PRELIMINAIRE!W175","v":"X"}]
[null,{"$f":"IF(EXPERIENCE_PRELIMINAIRE!V97=EXPERIENCE_PRELIMINAIRE!Q97,\"o\",\"n\")","v":"o"},"Con. Nation (Amazonia) * PN",null,null,null,null,"INT/PRE",{"$f":"EXPERIENCE_PRELIMINAIRE!U97","v":-2},null,{"$f":"EXPERIENCE_PRELIMINAIRE!V97","v":0},{"$f":"EXPERIENCE_PRELIMINAIRE!W97","v":-2},null,null,{"$f":"IF(EXPERIENCE_PRELIMINAIRE!Z176=10,\"n\",IF(EXPERIENCE_PRELIMINAIRE!V176=EXPERIENCE_PRELIMINAIRE!Q176,\"o\",\"n\"))","v":"o"},"Langue étrangère (Gashklar) * PN",null,null,null,null,null,null,"(X)","INT/PRE",null,{"$f":"EXPERIENCE_PRELIMINAIRE!U176","v":-2},{"$f":"EXPERIENCE_PRELIMINAIRE!V176","v":"X"},null,{"$f":"EXPERIENCE_PRELIMINAIRE!W176","v":"X"}]
[null,{"$f":"IF(EXPERIENCE_PRELIMINAIRE!V98=EXPERIENCE_PRELIMINAIRE!Q98,\"o\",\"n\")","v":"o"},"Con. Nation (Alliance Polaire) * PN",null,null,null,null,"INT/PRE",{"$f":"EXPERIENCE_PRELIMINAIRE!U98","v":-2},null,{"$f":"EXPERIENCE_PRELIMINAIRE!V98","v":0},{"$f":"EXPERIENCE_PRELIMINAIRE!W98","v":-2},null,null,{"$f":"IF(EXPERIENCE_PRELIMINAIRE!Z177=10,\"n\",IF(EXPERIENCE_PRELIMINAIRE!V177=EXPERIENCE_PRELIMINAIRE!Q177,\"o\",\"n\"))","v":"o"},"Langue étrangère (Isitac) * PN",null,null,null,null,null,null,"(X)","INT/PRE",null,{"$f":"EXPERIENCE_PRELIMINAIRE!U177","v":-2},{"$f":"EXPERIENCE_PRELIMINAIRE!V177","v":"X"},null,{"$f":"EXPERIENCE_PRELIMINAIRE!W177","v":"X"}]
[null,{"$f":"IF(EXPERIENCE_PRELIMINAIRE!V99=EXPERIENCE_PRELIMINAIRE!Q99,\"o\",\"n\")","v":"o"},"Con. Nation (Equinoxe) * PN",null,null,null,null,"INT/PRE",{"$f":"EXPERIENCE_PRELIMINAIRE!U99","v":-2},null,{"$f":"EXPERIENCE_PRELIMINAIRE!V99","v":0},{"$f":"EXPERIENCE_PRELIMINAIRE!W99","v":-2},null,null,{"$f":"IF(EXPERIENCE_PRELIMINAIRE!Z178=10,\"n\",IF(EXPERIENCE_PRELIMINAIRE!V178=EXPERIENCE_PRELIMINAIRE!Q178,\"o\",\"n\"))","v":"o"},"Langue étrangère (Lesarach) * PN",null,null,null,null,null,null,"(X)","INT/PRE",null,{"$f":"EXPERIENCE_PRELIMINAIRE!U178","v":-2},{"$f":"EXPERIENCE_PRELIMINAIRE!V178","v":"X"},null,{"$f":"EXPERIENCE_PRELIMINAIRE!W178","v":"X"}]
[null,{"$f":"IF(EXPERIENCE_PRELIMINAIRE!V100=EXPERIENCE_PRELIMINAIRE!Q100,\"o\",\"n\")","v":"o"},"Con. Nation (Hégémonie) * PN",null,null,null,null,"INT/PRE",{"$f":"EXPERIENCE_PRELIMINAIRE!U100","v":-2},null,{"$f":"EXPERIENCE_PRELIMINAIRE!V100","v":0},{"$f":"EXPERIENCE_PRELIMINAIRE!W100","v":-2},null,null,{"$f":"IF(EXPERIENCE_PRELIMINAIRE!Z179=10,\"n\",IF(EXPERIENCE_PRELIMINAIRE!V179=EXPERIENCE_PRELIMINAIRE!Q179,\"o\",\"n\"))","v":"o"},"Langue étrangère (Léxzion) * PN",null,null,null,null,null,null,"(X)","INT/PRE",null,{"$f":"EXPERIENCE_PRELIMINAIRE!U179","v":-2},{"$f":"EXPERIENCE_PRELIMINAIRE!V179","v":"X"},null,{"$f":"EXPERIENCE_PRELIMINAIRE!W179","v":"X"}]
[null,{"$f":"IF(EXPERIENCE_PRELIMINAIRE!V101=EXPERIENCE_PRELIMINAIRE!Q101,\"o\",\"n\")","v":"o"},"Con. Nation (Ligue Rouge) * PN",null,null,null,null,"INT/PRE",{"$f":"EXPERIENCE_PRELIMINAIRE!U101","v":-2},null,{"$f":"EXPERIENCE_PRELIMINAIRE!V101","v":0},{"$f":"EXPERIENCE_PRELIMINAIRE!W101","v":-2},null,null,{"$f":"IF(EXPERIENCE_PRELIMINAIRE!Z180=10,\"n\",IF(EXPERIENCE_PRELIMINAIRE!V180=EXPERIENCE_PRELIMINAIRE!Q180,\"o\",\"n\"))","v":"o"},"Langue étrangère (Néo-azuran) * PN",null,null,null,null,null,null,"(X)","INT/PRE",null,{"$f":"EXPERIENCE_PRELIMINAIRE!U180","v":-2},{"$f":"EXPERIENCE_PRELIMINAIRE!V180","v":"X"},null,{"$f":"EXPERIENCE_PRELIMINAIRE!W180","v":"X"}]
[null,{"$f":"IF(EXPERIENCE_PRELIMINAIRE!V102=EXPERIENCE_PRELIMINAIRE!Q102,\"o\",\"n\")","v":"o"},"Con. Nation (Nations Pirates) * PN",null,null,null,null,"INT/PRE",{"$f":"EXPERIENCE_PRELIMINAIRE!U102","v":-2},null,{"$f":"EXPERIENCE_PRELIMINAIRE!V102","v":0},{"$f":"EXPERIENCE_PRELIMINAIRE!W102","v":-2},null,null,{"$f":"IF(EXPERIENCE_PRELIMINAIRE!Z181=10,\"n\",IF(EXPERIENCE_PRELIMINAIRE!V181=EXPERIENCE_PRELIMINAIRE!Q181,\"o\",\"n\"))","v":"o"},"Langue étrangère (Nezraïs) * PN",null,null,null,null,null,null,"(X)","INT/PRE",null,{"$f":"EXPERIENCE_PRELIMINAIRE!U181","v":-2},{"$f":"EXPERIENCE_PRELIMINAIRE!V181","v":"X"},null,{"$f":"EXPERIENCE_PRELIMINAIRE!W181","v":"X"}]
[null,{"$f":"IF(EXPERIENCE_PRELIMINAIRE!V103=EXPERIENCE_PRELIMINAIRE!Q103,\"o\",\"n\")","v":"o"},"Con. Nation (République du Corail) * PN",null,null,null,null,"INT/PRE",{"$f":"EXPERIENCE_PRELIMINAIRE!U103","v":-2},null,{"$f":"EXPERIENCE_PRELIMINAIRE!V103","v":0},{"$f":"EXPERIENCE_PRELIMINAIRE!W103","v":-2},null,null,{"$f":"IF(EXPERIENCE_PRELIMINAIRE!Z182=10,\"n\",IF(EXPERIENCE_PRELIMINAIRE!V182=EXPERIENCE_PRELIMINAIRE!Q182,\"o\",\"n\"))","v":"o"},"Langue étrangère (Océane) * PN",null,null,null,null,null,null,"(X)","INT/PRE",null,{"$f":"EXPERIENCE_PRELIMINAIRE!U182","v":-2},{"$f":"EXPERIENCE_PRELIMINAIRE!V182","v":"X"},null,{"$f":"EXPERIENCE_PRELIMINAIRE!W182","v":"X"}]
[null,{"$f":"IF(EXPERIENCE_PRELIMINAIRE!V104=EXPERIENCE_PRELIMINAIRE!Q104,\"o\",\"n\")","v":"o"},"Con. Nation (Union Méditerran.) * PN",null,null,null,null,"INT/PRE",{"$f":"EXPERIENCE_PRELIMINAIRE!U104","v":-2},null,{"$f":"EXPERIENCE_PRELIMINAIRE!V104","v":0},{"$f":"EXPERIENCE_PRELIMINAIRE!W104","v":-2},null,null,{"$f":"IF(EXPERIENCE_PRELIMINAIRE!Z183=10,\"n\",IF(EXPERIENCE_PRELIMINAIRE!V183=EXPERIENCE_PRELIMINAIRE!Q183,\"o\",\"n\"))","v":"o"},"Langue étrangère (Olakar) * PN",null,null,null,null,null,null,"(X)","INT/PRE",null,{"$f":"EXPERIENCE_PRELIMINAIRE!U183","v":-2},{"$f":"EXPERIENCE_PRELIMINAIRE!V183","v":"X"},null,{"$f":"EXPERIENCE_PRELIMINAIRE!W183","v":"X"}]
[null,{"$f":"IF(EXPERIENCE_PRELIMINAIRE!V105=EXPERIENCE_PRELIMINAIRE!Q105,\"o\",\"n\")","v":"o"},"Con. Nat./Comun. I (……….) * PN",null,null,null,null,"INT/PRE",{"$f":"EXPERIENCE_PRELIMINAIRE!U105","v":-2},null,{"$f":"EXPERIENCE_PRELIMINAIRE!V105","v":0},{"$f":"EXPERIENCE_PRELIMINAIRE!W105","v":-2},null,null,{"$f":"IF(EXPERIENCE_PRELIMINAIRE!Z184=10,\"n\",IF(EXPERIENCE_PRELIMINAIRE!V184=EXPERIENCE_PRELIMINAIRE!Q184,\"o\",\"n\"))","v":"o"},"Langue étrangère (Olosak) * PN",null,null,null,null,null,null,"(X)","INT/PRE",null,{"$f":"EXPERIENCE_PRELIMINAIRE!U184","v":-2},{"$f":"EXPERIENCE_PRELIMINAIRE!V184","v":"X"},null,{"$f":"EXPERIENCE_PRELIMINAIRE!W184","v":"X"}]
[null,{"$f":"IF(EXPERIENCE_PRELIMINAIRE!V106=EXPERIENCE_PRELIMINAIRE!Q106,\"o\",\"n\")","v":"o"},"Con. Nat./Comun. II (……….) * PN",null,null,null,null,"INT/PRE",{"$f":"EXPERIENCE_PRELIMINAIRE!U106","v":-2},null,{"$f":"EXPERIENCE_PRELIMINAIRE!V106","v":0},{"$f":"EXPERIENCE_PRELIMINAIRE!W106","v":-2},null,null,{"$f":"IF(EXPERIENCE_PRELIMINAIRE!Z185=10,\"n\",IF(EXPERIENCE_PRELIMINAIRE!V185=EXPERIENCE_PRELIMINAIRE!Q185,\"o\",\"n\"))","v":"o"},"Langue étrangère (Ossyrien) * PN",null,null,null,null,null,null,"(X)","INT/PRE",null,{"$f":"EXPERIENCE_PRELIMINAIRE!U185","v":-2},{"$f":"EXPERIENCE_PRELIMINAIRE!V185","v":"X"},null,{"$f":"EXPERIENCE_PRELIMINAIRE!W185","v":"X"}]
[null,{"$f":"IF(EXPERIENCE_PRELIMINAIRE!V107=EXPERIENCE_PRELIMINAIRE!Q107,\"o\",\"n\")","v":"o"},"Con. Orga. (Armée) * PN",null,null,null,null,"INT/PRE",{"$f":"EXPERIENCE_PRELIMINAIRE!U107","v":-2},null,{"$f":"EXPERIENCE_PRELIMINAIRE!V107","v":0},{"$f":"EXPERIENCE_PRELIMINAIRE!W107","v":-2},null,null,{"$f":"IF(EXPERIENCE_PRELIMINAIRE!Z186=10,\"n\",IF(EXPERIENCE_PRELIMINAIRE!V186=EXPERIENCE_PRELIMINAIRE!Q186,\"o\",\"n\"))","v":"o"},"Langue étrangère (Rénaréan) * PN",null,null,null,null,null,null,"(X)","INT/PRE",null,{"$f":"EXPERIENCE_PRELIMINAIRE!U186","v":-2},{"$f":"EXPERIENCE_PRELIMINAIRE!V186","v":"X"},null,{"$f":"EXPERIENCE_PRELIMINAIRE!W186","v":"X"}]
[null,{"$f":"IF(EXPERIENCE_PRELIMINAIRE!V108=EXPERIENCE_PRELIMINAIRE!Q108,\"o\",\"n\")","v":"o"},"Con. Orga. (Contrebandiers) * PN",null,null,null,null,"INT/PRE",{"$f":"EXPERIENCE_PRELIMINAIRE!U108","v":-2},null,{"$f":"EXPERIENCE_PRELIMINAIRE!V108","v":0},{"$f":"EXPERIENCE_PRELIMINAIRE!W108","v":-2},null,null,{"$f":"IF(EXPERIENCE_PRELIMINAIRE!Z187=10,\"n\",IF(EXPERIENCE_PRELIMINAIRE!V187=EXPERIENCE_PRELIMINAIRE!Q187,\"o\",\"n\"))","v":"o"},"Langue étrangère (Ternaset) * PN",null,null,null,null,null,null,"(X)","INT/PRE",null,{"$f":"EXPERIENCE_PRELIMINAIRE!U187","v":-2},{"$f":"EXPERIENCE_PRELIMINAIRE!V187","v":"X"},null,{"$f":"EXPERIENCE_PRELIMINAIRE!W187","v":"X"}]
[null,{"$f":"IF(EXPERIENCE_PRELIMINAIRE!V109=EXPERIENCE_PRELIMINAIRE!Q109,\"o\",\"n\")","v":"o"},"Con. Orga. (Crime organisé) * PN",null,null,null,null,"INT/PRE",{"$f":"EXPERIENCE_PRELIMINAIRE!U109","v":-2},null,{"$f":"EXPERIENCE_PRELIMINAIRE!V109","v":0},{"$f":"EXPERIENCE_PRELIMINAIRE!W109","v":-2},null,null,{"$f":"IF(EXPERIENCE_PRELIMINAIRE!Z188=10,\"n\",IF(EXPERIENCE_PRELIMINAIRE!V188=EXPERIENCE_PRELIMINAIRE!Q188,\"o\",\"n\"))","v":"o"},"Langue étrangère (Trashan) * PN",null,null,null,null,null,null,"(X)","INT/PRE",null,{"$f":"EXPERIENCE_PRELIMINAIRE!U188","v":-2},{"$f":"EXPERIENCE_PRELIMINAIRE!V188","v":"X"},null,{"$f":"EXPERIENCE_PRELIMINAIRE!W188","v":"X"}]
[null,{"$f":"IF(EXPERIENCE_PRELIMINAIRE!V110=EXPERIENCE_PRELIMINAIRE!Q110,\"o\",\"n\")","v":"o"},"Con. Orga. (Culte du Trident) * PN",null,null,null,null,"INT/PRE",{"$f":"EXPERIENCE_PRELIMINAIRE!U110","v":-2},null,{"$f":"EXPERIENCE_PRELIMINAIRE!V110","v":0},{"$f":"EXPERIENCE_PRELIMINAIRE!W110","v":-2},null,null,{"$f":"IF(EXPERIENCE_PRELIMINAIRE!Z189=10,\"n\",IF(EXPERIENCE_PRELIMINAIRE!V189=EXPERIENCE_PRELIMINAIRE!Q189,\"o\",\"n\"))","v":"o"},"Langue étrangère (……….) * PN",null,null,null,null,null,null,"(X)","INT/PRE",null,{"$f":"EXPERIENCE_PRELIMINAIRE!U189","v":-2},{"$f":"EXPERIENCE_PRELIMINAIRE!V189","v":"X"},null,{"$f":"EXPERIENCE_PRELIMINAIRE!W189","v":"X"}]
[null,{"$f":"IF(EXPERIENCE_PRELIMINAIRE!V111=EXPERIENCE_PRELIMINAIRE!Q111,\"o\",\"n\")","v":"o"},"Con. Orga. (Mercenaires) * PN",null,null,null,null,"INT/PRE",{"$f":"EXPERIENCE_PRELIMINAIRE!U111","v":-2},null,{"$f":"EXPERIENCE_PRELIMINAIRE!V111","v":0},{"$f":"EXPERIENCE_PRELIMINAIRE!W111","v":-2},null,null,{"$f":"IF(EXPERIENCE_PRELIMINAIRE!Z190=10,\"n\",IF(EXPERIENCE_PRELIMINAIRE!V190=EXPERIENCE_PRELIMINAIRE!Q190,\"o\",\"n\"))","v":"o"},"Langue ancienne (Arkonien) *",null,null,null,null,null,null,"(X)","INT/INT",null,{"$f":"EXPERIENCE_PRELIMINAIRE!U190","v":-2},{"$f":"EXPERIENCE_PRELIMINAIRE!V190","v":"X"},null,{"$f":"EXPERIENCE_PRELIMINAIRE!W190","v":"X"}]
[null,{"$f":"IF(EXPERIENCE_PRELIMINAIRE!V112=EXPERIENCE_PRELIMINAIRE!Q112,\"o\",\"n\")","v":"o"},"Con. Orga. (Milieu pol. nat. origine) * PN",null,null,null,null,"INT/PRE",{"$f":"EXPERIENCE_PRELIMINAIRE!U112","v":-2},null,{"$f":"EXPERIENCE_PRELIMINAIRE!V112","v":0},{"$f":"EXPERIENCE_PRELIMINAIRE!W112","v":-2},null,null,{"$f":"IF(EXPERIENCE_PRELIMINAIRE!Z191=10,\"n\",IF(EXPERIENCE_PRELIMINAIRE!V191=EXPERIENCE_PRELIMINAIRE!Q191,\"o\",\"n\"))","v":"o"},"Langue ancienne (Azuran) *",null,null,null,null,null,null,"(X)","INT/INT",null,{"$f":"EXPERIENCE_PRELIMINAIRE!U191","v":-2},{"$f":"EXPERIENCE_PRELIMINAIRE!V191","v":"X"},null,{"$f":"EXPERIENCE_PRELIMINAIRE!W191","v":"X"}]
[null,{"$f":"IF(EXPERIENCE_PRELIMINAIRE!V113=EXPERIENCE_PRELIMINAIRE!Q113,\"o\",\"n\")","v":"o"},"Con. Orga. (Pirates) * PN",null,null,null,null,"INT/PRE",{"$f":"EXPERIENCE_PRELIMINAIRE!U113","v":-2},null,{"$f":"EXPERIENCE_PRELIMINAIRE!V113","v":0},{"$f":"EXPERIENCE_PRELIMINAIRE!W113","v":-2},null,null,{"$f":"IF(EXPERIENCE_PRELIMINAIRE!Z192=10,\"n\",IF(EXPERIENCE_PRELIMINAIRE!V192=EXPERIENCE_PRELIMINAIRE!Q192,\"o\",\"n\"))","v":"o"},"Langue ancienne (Azuréen) *",null,null,null,null,null,null,"(X)","INT/INT",null,{"$f":"EXPERIENCE_PRELIMINAIRE!U192","v":-2},{"$f":"EXPERIENCE_PRELIMINAIRE!V192","v":"X"},null,{"$f":"EXPERIENCE_PRELIMINAIRE!W192","v":"X"}]
[null,{"$f":"IF(EXPERIENCE_PRELIMINAIRE!V114=EXPERIENCE_PRELIMINAIRE!Q114,\"o\",\"n\")","v":"o"},"Con. Orga. (Police) * PN",null,null,null,null,"INT/PRE",{"$f":"EXPERIENCE_PRELIMINAIRE!U114","v":-2},null,{"$f":"EXPERIENCE_PRELIMINAIRE!V114","v":0},{"$f":"EXPERIENCE_PRELIMINAIRE!W114","v":-2},null,null,{"$f":"IF(EXPERIENCE_PRELIMINAIRE!Z193=10,\"n\",IF(EXPERIENCE_PRELIMINAIRE!V193=EXPERIENCE_PRELIMINAIRE!Q193,\"o\",\"n\"))","v":"o"},"Langue ancienne (Gatéen) *",null,null,null,null,null,null,"(X)","INT/INT",null,{"$f":"EXPERIENCE_PRELIMINAIRE!U193","v":-2},{"$f":"EXPERIENCE_PRELIMINAIRE!V193","v":"X"},null,{"$f":"EXPERIENCE_PRELIMINAIRE!W193","v":"X"}]
[null,{"$f":"IF(EXPERIENCE_PRELIMINAIRE!V115=EXPERIENCE_PRELIMINAIRE!Q115,\"o\",\"n\")","v":"o"},"Con. Orga. (Ports commerciaux) * PN",null,null,null,null,"INT/PRE",{"$f":"EXPERIENCE_PRELIMINAIRE!U115","v":-2},null,{"$f":"EXPERIENCE_PRELIMINAIRE!V115","v":0},{"$f":"EXPERIENCE_PRELIMINAIRE!W115","v":-2},null,null,{"$f":"IF(EXPERIENCE_PRELIMINAIRE!Z194=10,\"n\",IF(EXPERIENCE_PRELIMINAIRE!V194=EXPERIENCE_PRELIMINAIRE!Q194,\"o\",\"n\"))","v":"o"},"Langue ancienne (……….) *",null,null,null,null,null,null,"(X)","INT/INT",null,{"$f":"EXPERIENCE_PRELIMINAIRE!U194","v":-2},{"$f":"EXPERIENCE_PRELIMINAIRE!V194","v":"X"},null,{"$f":"EXPERIENCE_PRELIMINAIRE!W194","v":"X"}]
[null,{"$f":"IF(EXPERIENCE_PRELIMINAIRE!V116=EXPERIENCE_PRELIMINAIRE!Q116,\"o\",\"n\")","v":"o"},"Con. Orga. (Veilleurs) * PN",null,null,null,null,"INT/PRE",{"$f":"EXPERIENCE_PRELIMINAIRE!U116","v":-2},null,{"$f":"EXPERIENCE_PRELIMINAIRE!V116","v":0},{"$f":"EXPERIENCE_PRELIMINAIRE!W116","v":-2},null,null,{"$f":"IF(EXPERIENCE_PRELIMINAIRE!Z195=10,\"n\",IF(EXPERIENCE_PRELIMINAIRE!V195=EXPERIENCE_PRELIMINAIRE!Q195,\"o\",\"n\"))","v":"o"},"Langage des signe I (……….) *",null,null,null,null,null,null,"(X)","COO/PER",null,{"$f":"EXPERIENCE_PRELIMINAIRE!U195","v":-2},{"$f":"EXPERIENCE_PRELIMINAIRE!V195","v":"X"},null,{"$f":"EXPERIENCE_PRELIMINAIRE!W195","v":"X"}]
[null,{"$f":"IF(EXPERIENCE_PRELIMINAIRE!V117=EXPERIENCE_PRELIMINAIRE!Q117,\"o\",\"n\")","v":"o"},"Con. Orga. I (……….) * PN",null,null,null,null,"INT/PRE",{"$f":"EXPERIENCE_PRELIMINAIRE!U117","v":-2},null,{"$f":"EXPERIENCE_PRELIMINAIRE!V117","v":0},{"$f":"EXPERIENCE_PRELIMINAIRE!W117","v":-2},null,null,{"$f":"IF(EXPERIENCE_PRELIMINAIRE!Z196=10,\"n\",IF(EXPERIENCE_PRELIMINAIRE!V196=EXPERIENCE_PRELIMINAIRE!Q196,\"o\",\"n\"))","v":"o"},"Langage des signe II (……….) *",null,null,null,null,null,null,"(X)","COO/PER",null,{"$f":"EXPERIENCE_PRELIMINAIRE!U196","v":-2},{"$f":"EXPERIENCE_PRELIMINAIRE!V196","v":"X"},null,{"$f":"EXPERIENCE_PRELIMINAIRE!W196","v":"X"}]
[null,{"$f":"IF(EXPERIENCE_PRELIMINAIRE!V118=EXPERIENCE_PRELIMINAIRE!Q118,\"o\",\"n\")","v":"o"},"Con. Orga. II (……….) * PN",null,null,null,null,"INT/PRE",{"$f":"EXPERIENCE_PRELIMINAIRE!U118","v":-2},null,{"$f":"EXPERIENCE_PRELIMINAIRE!V118","v":0},{"$f":"EXPERIENCE_PRELIMINAIRE!W118","v":-2},null,null,{"$f":"IF(EXPERIENCE_PRELIMINAIRE!Z197=10,\"n\",IF(EXPERIENCE_PRELIMINAIRE!V197=EXPERIENCE_PRELIMINAIRE!Q197,\"o\",\"n\"))","v":"o"},"Langage des signe III (……….) *",null,null,null,null,null,null,"(X)","COO/PER",null,{"$f":"EXPERIENCE_PRELIMINAIRE!U197","v":-2},{"$f":"EXPERIENCE_PRELIMINAIRE!V197","v":"X"},null,{"$f":"EXPERIENCE_PRELIMINAIRE!W197","v":"X"}]
[null,{"$f":"IF(EXPERIENCE_PRELIMINAIRE!V129=EXPERIENCE_PRELIMINAIRE!Q129,\"o\",\"n\")","v":"o"},"Cryptographie +",null,null,"(X)",null,"INT/INT",{"$f":"EXPERIENCE_PRELIMINAIRE!U129","v":-2},null,{"$f":"EXPERIENCE_PRELIMINAIRE!V129","v":"X"},{"$f":"EXPERIENCE_PRELIMINAIRE!W129","v":"X"},null,null,{"$f":"IF(EXPERIENCE_PRELIMINAIRE!Z198=10,\"n\",IF(EXPERIENCE_PRELIMINAIRE!V198=EXPERIENCE_PRELIMINAIRE!Q198,\"o\",\"n\"))","v":"o"},"Langue spécifique (Absolan) * PN",null,null,null,null,null,null,"(X)","INT/INT",null,{"$f":"EXPERIENCE_PRELIMINAIRE!U198","v":-2},{"$f":"EXPERIENCE_PRELIMINAIRE!V198","v":"X"},null,{"$f":"EXPERIENCE_PRELIMINAIRE!W198","v":"X"}]
[null,{"$f":"IF(EXPERIENCE_PRELIMINAIRE!V130=EXPERIENCE_PRELIMINAIRE!Q130,\"o\",\"n\")","v":"o"},"Education/Culture générale",null,null,"(-3)",null,"INT/INT",{"$f":"EXPERIENCE_PRELIMINAIRE!U130","v":-2},null,{"$f":"EXPERIENCE_PRELIMINAIRE!V130","v":-3},{"$f":"EXPERIENCE_PRELIMINAIRE!W130","v":-5},null,null,{"$f":"IF(EXPERIENCE_PRELIMINAIRE!Z199=10,\"n\",IF(EXPERIENCE_PRELIMINAIRE!V199=EXPERIENCE_PRELIMINAIRE!Q199,\"o\",\"n\"))","v":"o"},"Langue spécifique (Enéfid) * PN",null,null,null,null,null,null,"(X)","INT/INT",null,{"$f":"EXPERIENCE_PRELIMINAIRE!U199","v":-2},{"$f":"EXPERIENCE_PRELIMINAIRE!V199","v":"X"},null,{"$f":"EXPERIENCE_PRELIMINAIRE!W199","v":"X"}]
[null,{"$f":"IF(EXPERIENCE_PRELIMINAIRE!V131=EXPERIENCE_PRELIMINAIRE!Q131,\"o\",\"n\")","v":"o"},"Jeu",null,null,null,null,"INT/VOL",{"$f":"EXPERIENCE_PRELIMINAIRE!U131","v":-2},null,{"$f":"EXPERIENCE_PRELIMINAIRE!V131","v":0},{"$f":"EXPERIENCE_PRELIMINAIRE!W131","v":-2},null,null,{"$f":"IF(EXPERIENCE_PRELIMINAIRE!Z200=10,\"n\",IF(EXPERIENCE_PRELIMINAIRE!V200=EXPERIENCE_PRELIMINAIRE!Q200,\"o\",\"n\"))","v":"o"},"Langue spécifique (Exon) * PN",null,null,null,null,null,null,"(X)","INT/INT",null,{"$f":"EXPERIENCE_PRELIMINAIRE!U200","v":-2},{"$f":"EXPERIENCE_PRELIMINAIRE!V200","v":"X"},null,{"$f":"EXPERIENCE_PRELIMINAIRE!W200","v":"X"}]
[null,{"$f":"IF(EXPERIENCE_PRELIMINAIRE!V132=EXPERIENCE_PRELIMINAIRE!Q132,\"o\",\"n\")","v":"o"},"Navigation +",null,null,"(X)",null,"INT/INT",{"$f":"EXPERIENCE_PRELIMINAIRE!U132","v":-2},null,{"$f":"EXPERIENCE_PRELIMINAIRE!V132","v":"X"},{"$f":"EXPERIENCE_PRELIMINAIRE!W132","v":"X"},null,null,{"$f":"IF(EXPERIENCE_PRELIMINAIRE!Z201=10,\"n\",IF(EXPERIENCE_PRELIMINAIRE!V201=EXPERIENCE_PRELIMINAIRE!Q201,\"o\",\"n\"))","v":"o"},"Langue spécifique (Foreur) * PN",null,null,null,null,null,null,"(X)","INT/INT",null,{"$f":"EXPERIENCE_PRELIMINAIRE!U201","v":-2},{"$f":"EXPERIENCE_PRELIMINAIRE!V201","v":"X"},null,{"$f":"EXPERIENCE_PRELIMINAIRE!W201","v":"X"}]
[null,{"$f":"IF(EXPERIENCE_PRELIMINAIRE!V133=EXPERIENCE_PRELIMINAIRE!Q133,\"o\",\"n\")","v":"o"},"Recherches d'informations +",null,null,"(-3)",null,"INT/ADA",{"$f":"EXPERIENCE_PRELIMINAIRE!U133","v":-2},null,{"$f":"EXPERIENCE_PRELIMINAIRE!V133","v":-3},{"$f":"EXPERIENCE_PRELIMINAIRE!W133","v":-5},null,null,{"$f":"IF(EXPERIENCE_PRELIMINAIRE!Z202=10,\"n\",IF(EXPERIENCE_PRELIMINAIRE!V202=EXPERIENCE_PRELIMINAIRE!Q202,\"o\",\"n\"))","v":"o"},"Langue spécifique (Inésis) * PN",null,null,null,null,null,null,"(X)","INT/INT",null,{"$f":"EXPERIENCE_PRELIMINAIRE!U202","v":-2},{"$f":"EXPERIENCE_PRELIMINAIRE!V202","v":"X"},null,{"$f":"EXPERIENCE_PRELIMINAIRE!W202","v":"X"}]
[null,{"$f":"IF(EXPERIENCE_PRELIMINAIRE!V134=EXPERIENCE_PRELIMINAIRE!Q134,\"o\",\"n\")","v":"o"},"Sci./Con. (Administration/gestion) +",null,null,"(X)",null,"INT/INT",{"$f":"EXPERIENCE_PRELIMINAIRE!U134","v":-2},null,{"$f":"EXPERIENCE_PRELIMINAIRE!V134","v":"X"},{"$f":"EXPERIENCE_PRELIMINAIRE!W134","v":"X"},null,null,{"$f":"IF(EXPERIENCE_PRELIMINAIRE!Z203=10,\"n\",IF(EXPERIENCE_PRELIMINAIRE!V203=EXPERIENCE_PRELIMINAIRE!Q203,\"o\",\"n\"))","v":"o"},"Langue spécifique (Ithraxien) * PN",null,null,null,null,null,null,"(X)","INT/INT",null,{"$f":"EXPERIENCE_PRELIMINAIRE!U203","v":-2},{"$f":"EXPERIENCE_PRELIMINAIRE!V203","v":"X"},null,{"$f":"EXPERIENCE_PRELIMINAIRE!W203","v":"X"}]
[null,{"$f":"IF(EXPERIENCE_PRELIMINAIRE!V135=EXPERIENCE_PRELIMINAIRE!Q135,\"o\",\"n\")","v":"o"},"Sci./Con. (Armes/Syst. d'armement) +",null,null,"(X)",null,"INT/INT",{"$f":"EXPERIENCE_PRELIMINAIRE!U135","v":-2},null,{"$f":"EXPERIENCE_PRELIMINAIRE!V135","v":"X"},{"$f":"EXPERIENCE_PRELIMINAIRE!W135","v":"X"},null,null,{"$f":"IF(EXPERIENCE_PRELIMINAIRE!Z204=10,\"n\",IF(EXPERIENCE_PRELIMINAIRE!V204=EXPERIENCE_PRELIMINAIRE!Q204,\"o\",\"n\"))","v":"o"},"Langue spécifique (Klan) * PN",null,null,null,null,null,null,"(X)","INT/INT",null,{"$f":"EXPERIENCE_PRELIMINAIRE!U204","v":-2},{"$f":"EXPERIENCE_PRELIMINAIRE!V204","v":"X"},null,{"$f":"EXPERIENCE_PRELIMINAIRE!W204","v":"X"}]
[null,{"$f":"IF(EXPERIENCE_PRELIMINAIRE!V136=EXPERIENCE_PRELIMINAIRE!Q136,\"o\",\"n\")","v":"o"},"Sci./Con. (Astrophysique/Astronomie) +",null,null,"(X)",null,"INT/INT",{"$f":"EXPERIENCE_PRELIMINAIRE!U136","v":-2},null,{"$f":"EXPERIENCE_PRELIMINAIRE!V136","v":"X"},{"$f":"EXPERIENCE_PRELIMINAIRE!W136","v":"X"},null,null,{"$f":"IF(EXPERIENCE_PRELIMINAIRE!Z205=10,\"n\",IF(EXPERIENCE_PRELIMINAIRE!V205=EXPERIENCE_PRELIMINAIRE!Q205,\"o\",\"n\"))","v":"o"},"Langue spécifique (Lévéan) * PN",null,null,null,null,null,null,"(X)","INT/INT",null,{"$f":"EXPERIENCE_PRELIMINAIRE!U205","v":-2},{"$f":"EXPERIENCE_PRELIMINAIRE!V205","v":"X"},null,{"$f":"EXPERIENCE_PRELIMINAIRE!W205","v":"X"}]
[null,{"$f":"IF(EXPERIENCE_PRELIMINAIRE!V137=EXPERIENCE_PRELIMINAIRE!Q137,\"o\",\"n\")","v":"o"},"Sci./Con. (Biologie/Physiologie) +",null,null,"(X)",null,"INT/INT",{"$f":"EXPERIENCE_PRELIMINAIRE!U137","v":-2},null,{"$f":"EXPERIENCE_PRELIMINAIRE!V137","v":"X"},{"$f":"EXPERIENCE_PRELIMINAIRE!W137","v":"X"},null,null,{"$f":"IF(EXPERIENCE_PRELIMINAIRE!Z206=10,\"n\",IF(EXPERIENCE_PRELIMINAIRE!V206=EXPERIENCE_PRELIMINAIRE!Q206,\"o\",\"n\"))","v":"o"},"Langue spécifique (Métalan) * PN",null,null,null,null,null,null,"(X)","INT/INT",null,{"$f":"EXPERIENCE_PRELIMINAIRE!U206","v":-2},{"$f":"EXPERIENCE_PRELIMINAIRE!V206","v":"X"},null,{"$f":"EXPERIENCE_PRELIMINAIRE!W206","v":"X"}]
[null,{"$f":"IF(EXPERIENCE_PRELIMINAIRE!V138=EXPERIENCE_PRELIMINAIRE!Q138,\"o\",\"n\")","v":"o"},"Sci./Con. (Botanique) +",null,null,"(X)",null,"INT/INT",{"$f":"EXPERIENCE_PRELIMINAIRE!U138","v":-2},null,{"$f":"EXPERIENCE_PRELIMINAIRE!V138","v":"X"},{"$f":"EXPERIENCE_PRELIMINAIRE!W138","v":"X"},null,null,{"$f":"IF(EXPERIENCE_PRELIMINAIRE!Z207=10,\"n\",IF(EXPERIENCE_PRELIMINAIRE!V207=EXPERIENCE_PRELIMINAIRE!Q207,\"o\",\"n\"))","v":"o"},"Langue spécifique (Néolan) * PN",null,null,null,null,null,null,"(X)","INT/INT",null,{"$f":"EXPERIENCE_PRELIMINAIRE!U207","v":-2},{"$f":"EXPERIENCE_PRELIMINAIRE!V207","v":"X"},null,{"$f":"EXPERIENCE_PRELIMINAIRE!W207","v":"X"}]
[null,{"$f":"IF(EXPERIENCE_PRELIMINAIRE!V139=EXPERIENCE_PRELIMINAIRE!Q139,\"o\",\"n\")","v":"o"},"Sci./Con. (Connaissance des drogues) +",null,null,"(X)",null,"INT/INT",{"$f":"EXPERIENCE_PRELIMINAIRE!U139","v":-2},null,{"$f":"EXPERIENCE_PRELIMINAIRE!V139","v":"X"},{"$f":"EXPERIENCE_PRELIMINAIRE!W139","v":"X"},null,null,{"$f":"IF(EXPERIENCE_PRELIMINAIRE!Z208=10,\"n\",IF(EXPERIENCE_PRELIMINAIRE!V208=EXPERIENCE_PRELIMINAIRE!Q208,\"o\",\"n\"))","v":"o"},"Langue spécifique (Sirs) * PN",null,null,null,null,null,null,"(X)","INT/INT",null,{"$f":"EXPERIENCE_PRELIMINAIRE!U208","v":-2},{"$f":"EXPERIENCE_PRELIMINAIRE!V208","v":"X"},null,{"$f":"EXPERIENCE_PRELIMINAIRE!W208","v":"X"}]
[null,{"$f":"IF(EXPERIENCE_PRELIMINAIRE!V140=EXPERIENCE_PRELIMINAIRE!Q140,\"o\",\"n\")","v":"o"},"Sci./Con. (Connaissance des poisons) +",null,null,"(X)",null,"INT/INT",{"$f":"EXPERIENCE_PRELIMINAIRE!U140","v":-2},null,{"$f":"EXPERIENCE_PRELIMINAIRE!V140","v":"X"},{"$f":"EXPERIENCE_PRELIMINAIRE!W140","v":"X"},null,null,{"$f":"IF(EXPERIENCE_PRELIMINAIRE!Z209=10,\"n\",IF(EXPERIENCE_PRELIMINAIRE!V209=EXPERIENCE_PRELIMINAIRE!Q209,\"o\",\"n\"))","v":"o"},"Langue spécifique (Soléen) * PN",null,null,null,null,null,null,"(X)","INT/INT",null,{"$f":"EXPERIENCE_PRELIMINAIRE!U209","v":-2},{"$f":"EXPERIENCE_PRELIMINAIRE!V209","v":"X"},null,{"$f":"EXPERIENCE_PRELIMINAIRE!W209","v":"X"}]
[null,{"$f":"IF(EXPERIENCE_PRELIMINAIRE!V141=EXPERIENCE_PRELIMINAIRE!Q141,\"o\",\"n\")","v":"o"},"Sci./Con. (Criminalistique) +",null,null,"(X)",null,"INT/INT",{"$f":"EXPERIENCE_PRELIMINAIRE!U141","v":-2},null,{"$f":"EXPERIENCE_PRELIMINAIRE!V141","v":"X"},{"$f":"EXPERIENCE_PRELIMINAIRE!W141","v":"X"},null,null,{"$f":"IF(EXPERIENCE_PRELIMINAIRE!Z210=10,\"n\",IF(EXPERIENCE_PRELIMINAIRE!V210=EXPERIENCE_PRELIMINAIRE!Q210,\"o\",\"n\"))","v":"o"},"Langue spécifique (……….) * PN",null,null,null,null,null,null,"(X)","INT/INT",null,{"$f":"EXPERIENCE_PRELIMINAIRE!U210","v":-2},{"$f":"EXPERIENCE_PRELIMINAIRE!V210","v":"X"},null,{"$f":"EXPERIENCE_PRELIMINAIRE!W210","v":"X"}]
[null,{"$f":"IF(EXPERIENCE_PRELIMINAIRE!V142=EXPERIENCE_PRELIMINAIRE!Q142,\"o\",\"n\")","v":"o"},"Sci./Con. (Droit/Législation) +",null,null,"(X)",null,"INT/INT",{"$f":"EXPERIENCE_PRELIMINAIRE!U142","v":-2},null,{"$f":"EXPERIENCE_PRELIMINAIRE!V142","v":"X"},{"$f":"EXPERIENCE_PRELIMINAIRE!W142","v":"X"},null,null,{"$f":"IF(EXPERIENCE_PRELIMINAIRE!Z211=10,\"n\",IF(EXPERIENCE_PRELIMINAIRE!V211=EXPERIENCE_PRELIMINAIRE!Q211,\"o\",\"n\"))","v":"o"},"Langage surface (Cinn) * PN",null,null,null,null,null,null,"(X)","COO/PER",null,{"$f":"EXPERIENCE_PRELIMINAIRE!U211","v":-2},{"$f":"EXPERIENCE_PRELIMINAIRE!V211","v":"X"},null,{"$f":"EXPERIENCE_PRELIMINAIRE!W211","v":"X"}]
[null,{"$f":"IF(EXPERIENCE_PRELIMINAIRE!V143=EXPERIENCE_PRELIMINAIRE!Q143,\"o\",\"n\")","v":"o"},"Sci./Con. (Economie) +",null,null,"(X)",null,"INT/INT",{"$f":"EXPERIENCE_PRELIMINAIRE!U143","v":-2},null,{"$f":"EXPERIENCE_PRELIMINAIRE!V143","v":"X"},{"$f":"EXPERIENCE_PRELIMINAIRE!W143","v":"X"},null,null,{"$f":"IF(EXPERIENCE_PRELIMINAIRE!Z212=10,\"n\",IF(EXPERIENCE_PRELIMINAIRE!V212=EXPERIENCE_PRELIMINAIRE!Q212,\"o\",\"n\"))","v":"o"},"Langage surface (Hassyrien) * PN",null,null,null,null,null,null,"(X)","INT/PER",null,{"$f":"EXPERIENCE_PRELIMINAIRE!U212","v":-2},{"$f":"EXPERIENCE_PRELIMINAIRE!V212","v":"X"},null,{"$f":"EXPERIENCE_PRELIMINAIRE!W212","v":"X"}]
[null,{"$f":"IF(EXPERIENCE_PRELIMINAIRE!V144=EXPERIENCE_PRELIMINAIRE!Q144,\"o\",\"n\")","v":"o"},"Sci./Con. (Finances) +",null,null,"(X)",null,"INT/INT",{"$f":"EXPERIENCE_PRELIMINAIRE!U144","v":-2},null,{"$f":"EXPERIENCE_PRELIMINAIRE!V144","v":"X"},{"$f":"EXPERIENCE_PRELIMINAIRE!W144","v":"X"},null,null,{"$f":"IF(EXPERIENCE_PRELIMINAIRE!Z213=10,\"n\",IF(EXPERIENCE_PRELIMINAIRE!V213=EXPERIENCE_PRELIMINAIRE!Q213,\"o\",\"n\"))","v":"o"},"Langage surface (Kern) * PN",null,null,null,null,null,null,"(X)","INT/PER",null,{"$f":"EXPERIENCE_PRELIMINAIRE!U213","v":-2},{"$f":"EXPERIENCE_PRELIMINAIRE!V213","v":"X"},null,{"$f":"EXPERIENCE_PRELIMINAIRE!W213","v":"X"}]
[null,{"$f":"IF(EXPERIENCE_PRELIMINAIRE!V145=EXPERIENCE_PRELIMINAIRE!Q145,\"o\",\"n\")","v":"o"},"Sci./Con. (Géologie) +",null,null,"(X)",null,"INT/INT",{"$f":"EXPERIENCE_PRELIMINAIRE!U145","v":-2},null,{"$f":"EXPERIENCE_PRELIMINAIRE!V145","v":"X"},{"$f":"EXPERIENCE_PRELIMINAIRE!W145","v":"X"},null,null,{"$f":"IF(EXPERIENCE_PRELIMINAIRE!Z214=10,\"n\",IF(EXPERIENCE_PRELIMINAIRE!V214=EXPERIENCE_PRELIMINAIRE!Q214,\"o\",\"n\"))","v":"o"},"Langage surface (Koreg) * PN",null,null,null,null,null,null,"(X)","INT/PER",null,{"$f":"EXPERIENCE_PRELIMINAIRE!U214","v":-2},{"$f":"EXPERIENCE_PRELIMINAIRE!V214","v":"X"},null,{"$f":"EXPERIENCE_PRELIMINAIRE!W214","v":"X"}]
[null,{"$f":"IF(EXPERIENCE_PRELIMINAIRE!V146=EXPERIENCE_PRELIMINAIRE!Q146,\"o\",\"n\")","v":"o"},"Sci./Con. (Géographie) +",null,null,"(X)",null,"INT/INT",{"$f":"EXPERIENCE_PRELIMINAIRE!U146","v":-2},null,{"$f":"EXPERIENCE_PRELIMINAIRE!V146","v":"X"},{"$f":"EXPERIENCE_PRELIMINAIRE!W146","v":"X"},null,null,{"$f":"IF(EXPERIENCE_PRELIMINAIRE!Z215=10,\"n\",IF(EXPERIENCE_PRELIMINAIRE!V215=EXPERIENCE_PRELIMINAIRE!Q215,\"o\",\"n\"))","v":"o"},"Langage surface (Latkan) * PN",null,null,null,null,null,null,"(X)","INT/PER",null,{"$f":"EXPERIENCE_PRELIMINAIRE!U215","v":-2},{"$f":"EXPERIENCE_PRELIMINAIRE!V215","v":"X"},null,{"$f":"EXPERIENCE_PRELIMINAIRE!W215","v":"X"}]
[null,{"$f":"IF(EXPERIENCE_PRELIMINAIRE!V147=EXPERIENCE_PRELIMINAIRE!Q147,\"o\",\"n\")","v":"o"},"Sci./Con. (Histoire/Archéologie) +",null,null,"(X)",null,"INT/INT",{"$f":"EXPERIENCE_PRELIMINAIRE!U147","v":-2},null,{"$f":"EXPERIENCE_PRELIMINAIRE!V147","v":"X"},{"$f":"EXPERIENCE_PRELIMINAIRE!W147","v":"X"},null,null,{"$f":"IF(EXPERIENCE_PRELIMINAIRE!Z216=10,\"n\",IF(EXPERIENCE_PRELIMINAIRE!V216=EXPERIENCE_PRELIMINAIRE!Q216,\"o\",\"n\"))","v":"o"},"Langage surface (Oni) * PN",null,null,null,null,null,null,"(X)","INT/PER",null,{"$f":"EXPERIENCE_PRELIMINAIRE!U216","v":-2},{"$f":"EXPERIENCE_PRELIMINAIRE!V216","v":"X"},null,{"$f":"EXPERIENCE_PRELIMINAIRE!W216","v":"X"}]
[null,{"$f":"IF(EXPERIENCE_PRELIMINAIRE!V148=EXPERIENCE_PRELIMINAIRE!Q148,\"o\",\"n\")","v":"o"},"Sci./Con. (Médecine) +",null,null,"(X)",null,"INT/INT",{"$f":"EXPERIENCE_PRELIMINAIRE!U148","v":-2},null,{"$f":"EXPERIENCE_PRELIMINAIRE!V148","v":"X"},{"$f":"EXPERIENCE_PRELIMINAIRE!W148","v":"X"},null,null,{"$f":"IF(EXPERIENCE_PRELIMINAIRE!Z217=10,\"n\",IF(EXPERIENCE_PRELIMINAIRE!V217=EXPERIENCE_PRELIMINAIRE!Q217,\"o\",\"n\"))","v":"o"},"Langage surface (Terra Azuran) * PN",null,null,null,null,null,null,"(X)","INT/PER",null,{"$f":"EXPERIENCE_PRELIMINAIRE!U217","v":-2},{"$f":"EXPERIENCE_PRELIMINAIRE!V217","v":"X"},null,{"$f":"EXPERIENCE_PRELIMINAIRE!W217","v":"X"}]
[null,{"$f":"IF(EXPERIENCE_PRELIMINAIRE!V149=EXPERIENCE_PRELIMINAIRE!Q149,\"o\",\"n\")","v":"o"},"Sci./Con. (Pharmacologie) +",null,null,"(X)",null,"INT/INT",{"$f":"EXPERIENCE_PRELIMINAIRE!U149","v":-2},null,{"$f":"EXPERIENCE_PRELIMINAIRE!V149","v":"X"},{"$f":"EXPERIENCE_PRELIMINAIRE!W149","v":"X"},null,null,{"$f":"IF(EXPERIENCE_PRELIMINAIRE!Z218=10,\"n\",IF(EXPERIENCE_PRELIMINAIRE!V218=EXPERIENCE_PRELIMINAIRE!Q218,\"o\",\"n\"))","v":"o"},"Langage surface (Yss) * PN",null,null,null,null,null,null,"(X)","INT/PER",null,{"$f":"EXPERIENCE_PRELIMINAIRE!U218","v":-2},{"$f":"EXPERIENCE_PRELIMINAIRE!V218","v":"X"},null,{"$f":"EXPERIENCE_PRELIMINAIRE!W218","v":"X"}]
[null,{"$f":"IF(EXPERIENCE_PRELIMINAIRE!V150=EXPERIENCE_PRELIMINAIRE!Q150,\"o\",\"n\")","v":"o"},"Sci./Con. (Physique/Chimie) +",null,null,"(X)",null,"INT/INT",{"$f":"EXPERIENCE_PRELIMINAIRE!U150","v":-2},null,{"$f":"EXPERIENCE_PRELIMINAIRE!V150","v":"X"},{"$f":"EXPERIENCE_PRELIMINAIRE!W150","v":"X"},null,null,{"$f":"IF(EXPERIENCE_PRELIMINAIRE!Z219=10,\"n\",IF(EXPERIENCE_PRELIMINAIRE!V219=EXPERIENCE_PRELIMINAIRE!Q219,\"o\",\"n\"))","v":"o"},"Langage surface (Zahl) * PN",null,null,null,null,null,null,"(X)","INT/PER",null,{"$f":"EXPERIENCE_PRELIMINAIRE!U219","v":-2},{"$f":"EXPERIENCE_PRELIMINAIRE!V219","v":"X"},null,{"$f":"EXPERIENCE_PRELIMINAIRE!W219","v":"X"}]

{"sheet":"ACTIONS_COMBAT","index":15,"n_rows":70,"n_cols":49,"rows_kept":70,"cut":false,"hidden":false,"merged":[[26,19,26,24],[27,19,27,24],[18,26,18,33],[20,26,20,33],[19,34,19,47],[20,34,20,47],[19,26,19,33],[69,28,69,30],[69,31,69,34],[69,35,69,39],[69,45,69,47],[67,1,67,47],[68,31,68,34],[68,28,68,30],[68,23,68,27],[68,35,68,39],[68,40,68,44],[69,40,69,44],[68,17,68,22],[68,14,68,16],[68,1,68,4],[68,5,68,8],[69,1,69,4],[69,5,69,8],[69,9,69,13],[69,14,69,16],[69,17,69,22],[69,23,69,27],[62,44,62,46],[68,45,68,47],[68,9,68,13],[62,14,62,24],[62,25,62,28],[62,29,62,32],[62,33,62,39],[62,40,62,43],[64,40,64,43],[64,44,64,46],[65,14,65,24],[65,25,65,28],[65,29,65,32],[65,33,65,39],[65,40,65,43],[65,44,65,46],[63,14,63,24],[64,14,64,24],[64,25,64,28],[64,29,64,32],[64,33,64,39],[63,44,63,46],[63,40,63,43],[63,33,63,39],[63,29,63,32],[63,25,63,28],[61,35,61,39],[61,40,61,44],[61,45,61,47],[52,14,52,47],[56,18,56,19],[56,14,56,17],[57,14,57,17],[57,18,57,19],[58,14,58,17],[58,18,58,19],[59,14,59,17],[59,18,59,19],[59,40,59,44],[59,45,59,47],[57,20,57,24],[57,25,57,27],[57,28,57,30],[57,31,57,34],[56,20,56,24],[56,25,56,27],[56,28,56,30],[56,31,56,34],[56,35,56,39],[56,40,56,44],[56,45,56,47],[57,35,57,39],[57,40,57,44],[61,14,61,17],[61,18,61,19],[61,20,61,24],[61,25,61,27],[61,28,61,30],[61,31,61,34],[59,35,59,39],[60,20,60,24],[60,25,60,27],[60,28,60,30],[60,31,60,34],[60,35,60,39],[53,14,53,19],[55,35,55,39],[55,40,55,44],[60,40,60,44],[60,45,60,47],[59,20,59,24],[59,25,59,27],[59,28,59,30],[59,31,59,34],[58,20,58,24],[58,25,58,27],[58,28,58,30],[58,31,58,34],[58,35,58,39],[58,40,58,44],[58,45,58,47],[60,14,60,17],[60,18,60,19],[54,20,54,24],[54,25,54,27],[54,28,54,30],[54,31,54,34],[54,35,54,39],[54,40,54,44],[54,45,54,47],[53,20,53,24],[53,25,53,27],[53,28,53,30],[53,31,53,34],[53,35,53,39],[55,45,55,47],[52,1,52,12],[65,1,65,12],[53,1,53,12],[54,1,54,12],[55,1,55,12],[56,1,56,12],[57,1,57,12],[58,1,58,12],[59,1,59,12],[60,1,60,12],[61,1,61,12],[62,1,62,12],[63,1,63,12],[64,1,64,12],[57,45,57,47],[55,14,55,19],[55,20,55,24],[55,25,55,27],[55,28,55,30],[55,31,55,34],[53,40,53,44],[53,45,53,47],[54,14,54,19],[40,37,40,38],[40,39,40,42],[40,27,40,36],[46,39,46,42],[43,27,43,36],[43,37,43,38],[43,39,43,42],[47,16,47,17],[47,18,47,20],[46,16,46,17],[46,18,46,20],[41,43,41,44],[41,45,41,46],[46,43,46,44],[46,45,46,46],[45,27,45,36],[45,37,45,38],[45,39,45,42],[46,27,46,36],[46,37,46,38],[47,12,47,13],[45,12,45,13],[43,12,43,13],[41,12,41,13],[45,2,45,11],[47,2,47,11],[41,14,41,15],[43,14,43,15],[45,14,45,15],[47,14,47,15],[46,2,46,11],[46,12,46,13],[46,14,46,15],[42,2,42,11],[42,12,42,13],[42,14,42,15],[44,37,44,38],[46,21,46,24],[47,21,47,24],[42,21,42,24],[45,18,45,20],[45,21,45,24],[48,27,48,36],[48,37,48,38],[48,39,48,42],[48,43,48,44],[48,45,48,46],[47,27,47,36],[47,37,47,38],[47,39,47,42],[47,43,47,44],[47,45,47,46],[50,27,50,36],[50,37,50,38],[50,39,50,42],[50,43,50,44],[50,45,50,46],[49,27,49,36],[49,37,49,38],[49,39,49,42],[49,43,49,44],[49,45,49,46],[44,39,44,42],[44,43,44,44],[44,45,44,46],[39,45,39,46],[40,43,40,44],[40,45,40,46],[38,26,38,47],[37,26,37,38],[37,43,37,44],[37,45,37,46],[37,39,37,42],[39,27,39,36],[39,37,39,38],[39,39,39,42],[39,43,39,44],[43,43,43,44],[43,45,43,46],[42,27,42,36],[42,37,42,38],[42,39,42,42],[42,43,42,44],[42,45,42,46],[41,27,41,36],[41,37,41,38],[41,39,41,42],[44,21,44,24],[45,43,45,44],[45,45,45,46],[44,27,44,36],[50,2,50,11],[50,12,50,13],[50,14,50,15],[50,16,50,17],[50,18,50,20],[48,21,48,24],[49,12,49,13],[49,14,49,15],[49,16,49,17],[49,18,49,20],[49,21,49,24],[48,2,48,11],[48,12,48,13],[48,14,48,15],[48,16,48,17],[48,18,48,20],[49,2,49,11],[50,21,50,24],[45,16,45,17],[44,2,44,11],[44,12,44,13],[44,14,44,15],[44,16,44,17],[44,18,44,20],[43,16,43,17],[43,18,43,20],[43,21,43,24],[43,2,43,11],[42,16,42,17],[42,18,42,20],[40,21,40,24],[41,16,41,17],[41,18,41,20],[41,21,41,24],[40,2,40,11],[40,12,40,13],[40,14,40,15],[40,16,40,17],[40,18,40,20],[41,2,41,11],[39,2,39,11],[39,12,39,13],[39,14,39,15],[39,16,39,17],[39,18,39,20],[39,21,39,24],[38,1,38,24],[12,1,13,2],[37,1,37,13],[29,12,29,14],[29,8,29,11],[29,1,29,7],[37,18,37,20],[37,21,37,24],[37,16,37,17],[37,14,37,15],[33,1,33,7],[33,8,33,11],[33,12,33,14],[30,8,30,11],[30,12,30,14],[15,1,15,24],[16,19,16,24],[17,19,17,24],[35,37,35,46],[35,1,35,7],[35,8,35,11],[35,12,35,14],[33,37,33,46],[34,1,34,7],[34,8,34,11],[34,12,34,14],[34,37,34,46],[33,15,33,16],[34,15,34,16],[35,15,35,16],[33,17,33,25],[34,17,34,25],[35,17,35,25],[33,30,33,33],[34,30,34,33],[35,30,35,33],[31,37,31,46],[32,1,32,7],[32,8,32,11],[32,12,32,14],[32,37,32,46],[31,1,31,7],[31,8,31,11],[31,12,31,14],[31,26,31,27],[32,26,32,27],[31,15,31,16],[32,15,32,16],[31,17,31,25],[32,17,32,25],[31,30,31,33],[32,30,32,33],[29,37,29,46],[30,37,30,46],[30,1,30,7],[30,26,30,27],[29,30,29,33],[30,30,30,33],[19,19,19,24],[20,19,20,24],[21,19,21,24],[22,19,22,24],[23,19,23,24],[24,19,24,24],[25,19,25,24],[25,37,25,39],[26,37,26,39],[27,37,27,39],[24,40,24,42],[25,40,25,42],[26,40,26,42],[27,40,27,42],[29,15,29,16],[30,15,30,16],[29,17,29,25],[30,17,30,25],[18,19,18,24],[15,26,16,33],[15,34,15,37],[15,38,15,42],[15,43,15,45],[15,46,15,47],[16,34,16,37],[16,38,16,42],[16,43,16,45],[16,46,16,47],[18,43,18,45],[18,46,18,47],[17,26,17,33],[17,38,17,42],[17,34,17,37],[18,34,18,37],[18,38,18,42],[17,46,17,47],[17,43,17,45],[12,3,13,4],[12,44,12,46],[13,42,13,43],[13,44,13,46],[12,28,13,29],[12,30,13,32],[12,14,13,15],[12,42,12,43],[7,46,8,47],[7,34,8,37],[7,38,8,42],[7,43,8,45],[12,16,13,17],[12,22,13,25],[11,7,11,15],[11,16,11,25],[11,26,11,32],[12,18,13,21],[12,26,13,27],[0,0,2,0],[5,1,6,3],[7,1,8,3],[5,4,6,5],[7,4,8,5],[5,6,6,10],[5,27,6,29],[7,27,8,29],[5,30,6,33],[7,30,8,33],[7,6,8,10],[5,11,6,14],[7,11,8,14],[5,15,6,17],[0,1,2,47],[5,23,6,26],[7,23,8,26],[7,15,8,17],[7,18,8,22],[0,48,2,48],[4,1,4,37],[5,18,6,22],[4,38,4,47],[5,46,6,47],[5,34,6,37],[5,38,6,42],[5,43,6,45],[22,47,23,47],[22,45,23,46],[22,37,23,39],[22,43,23,44],[22,40,23,42],[22,30,23,32],[22,33,23,35],[22,36,23,36],[11,42,11,47],[12,5,13,6],[12,7,13,9],[12,10,13,13],[11,1,11,6],[11,33,11,41],[12,33,13,35],[12,36,13,37],[29,28,29,29],[29,26,29,27],[29,34,29,36],[30,34,30,36],[31,34,31,36],[32,34,32,36],[33,34,33,36],[34,34,34,36],[35,34,35,36],[33,26,33,27],[34,26,34,27],[35,26,35,27],[30,28,30,29],[31,28,31,29],[32,28,32,29],[33,28,33,29],[34,28,34,29],[35,28,35,29],[6,51,7,51],[24,30,24,32],[25,30,25,32],[26,30,26,32],[27,30,27,32],[24,26,24,29],[25,26,25,29],[26,26,26,29],[27,26,27,29],[24,33,24,35],[25,33,25,35],[26,33,26,35],[27,33,27,35],[24,45,24,46],[25,45,25,46],[26,45,26,46],[27,45,27,46],[24,43,24,44],[25,43,25,44],[26,43,26,44],[27,43,27,44],[24,37,24,39],[12,38,13,41],[10,1,10,47]]}
[null,"ACTIONS & COMBAT_",null,null,null,null,null,null,null,null,null,null,null,null,null,null,null,null,null,null,null,null,null,null,null,null,null,null,null,null,null,null,null,null,null,null,null,null,null,null,null,null,null,null,null,null,null,null,6]
[]
[]
[]
[null,"INITIATIVE_",null,null,null,null,null,null,null,null,null,null,null,null,null,null,null,null,null,null,null,null,null,null,null,null,null,null,null,null,null,null,null,null,null,null,null,null,"Niveau de départ = Réaction"]
[null,0,null,null,1,null,2,null,null,null,null,3,null,null,null,4,null,null,5,null,null,null,null,6,null,null,null,7,null,null,8,null,null,null,9,null,null,null,10,null,null,null,null,11,null,null,12]
[]
[null,13,null,null,14,null,15,null,null,null,null,16,null,null,null,17,null,null,18,null,null,null,null,19,null,null,null,20,null,null,21,null,null,null,22,null,null,null,23,null,null,null,null,24,null,null,25]
[]
[]
[null,"FATIGUE_"]
[null,"Normal",null,null,null,null,null,"Légèrement fatigué (-3)",null,null,null,null,null,null,null,null,"Fatigué (-5)",null,null,null,null,null,null,null,null,null,"Très fatigué (-7)",null,null,null,null,null,null,"Epuisé (-10)",null,null,null,null,null,null,null,null,"A bout de force (-10)"]
[null,0,null,-5,null,-10,null,0,null,null,-5,null,null,null,-10,null,0,null,-5,null,null,null,-10,null,null,null,0,null,-5,null,-10,null,null,0,null,null,-5,null,-10,null,null,null,"Choc",null,"Choc",null,null,"Choc"]
[null,null,null,null,null,null,null,null,null,null,null,null,null,null,null,null,null,null,null,null,null,null,null,null,null,null,null,null,null,null,null,null,null,null,null,null,null,null,null,null,null,null,-5,null,-10,null,null,-15]
[]
[null,"ATTRIBUTS SECONDAIRES_",null,null,null,null,null,null,null,null,null,null,null,null,null,null,null,null,null,null,null,null,null,null,null,null,"DEPLACEMENTS_",null,null,null,null,null,null,null,"Allure",null,null,null,"Allure",null,null,null,null,"Allure",null,null,"Allure"]
[null,"Choc",null,null,null,null,null,"•","Seuil d'étourdissement",null,null,null,null,null,null,null,null,null,null,{"$f":"ATTRIBUTS!J47","v":7},null,null,null,null,null,null,null,null,null,null,null,null,null,null,"lente",null,null,null,"moyenne",null,null,null,null,"rapide",null,null,"maximum"]
[null,null,null,null,null,null,null,"•","Seuil d'inconscience",null,null,null,null,null,null,null,null,null,null,{"$f":"ATTRIBUTS!N47","v":17},null,null,null,null,null,null,"Au sol",null,null,null,null,null,null,null,{"$f":"ATTRIBUTS!J58","v":4},null,null,null,{"$f":"ATTRIBUTS!N58","v":8},null,null,null,null,{"$f":"ATTRIBUTS!R58","v":16},null,null,{"$f":"ATTRIBUTS!J60","v":32}]
[null,"Modif. de dommages (au contact)",null,null,null,null,null,null,null,null,null,null,null,null,null,null,null,null,null,{"$f":"ATTRIBUTS!N28","v":-1},null,null,null,null,null,null,"Sous l'eau",null,null,null,null,null,null,null,{"$f":"ATTRIBUTS!J64","v":1},null,null,null,{"$f":"ATTRIBUTS!N64","v":2},null,null,null,null,{"$f":"ATTRIBUTS!R64","v":4},null,null,{"$f":"ATTRIBUTS!J66","v":6}]
[null,"Réaction",null,null,null,null,null,null,"(ADA+PER)/2",null,null,null,null,null,null,null,null,"(ADA+PER) / 2",null,{"$f":"ATTRIBUTS!J28","v":7},null,null,null,null,null,null,"Profondeur opérationnelle",null,null,null,null,null,null,null,{"$f":"CONCATENATE(TYPE_GENETIQUE!P14,\" m\")","v":"100 m"}]
[null,"Résistance aux dommages",null,null,null,null,null,null,null,null,null,null,null,null,null,null,null,null,null,{"$f":"ATTRIBUTS!R28","v":1},null,null,null,null,null,null,"Méthode de plongée",null,null,null,null,null,null,null,{"$f":"IF(TYPE_GENETIQUE!D25=\" \",\"Naturelle\",CONCATENATE(\"Utilisation de \",TYPE_GENETIQUE!D25))","v":"Naturelle"}]
[null,"Résistances naturelles",null,null,null,null,null,"•","Drogue",null,null,null,null,null,null,null,null,"(CON+VOL) / 2",null,{"$f":"ATTRIBUTS!V34","v":1}]
[null,null,null,null,null,null,null,"•","Maladie",null,null,null,null,null,null,null,null,"(CON)",null,{"$f":"ATTRIBUTS!N34","v":1},null,null,null,null,null,null,"ARMES",null,null,null,"Dom.",null,null,"Choc",null,null,"Pén.","FOR",null,null,"Ini.",null,null,"Charg.",null,"All.",null,"ITG"]
[null,null,null,null,null,null,null,"•","Poison",null,null,null,null,null,null,null,null,"(CON)",null,{"$f":"ATTRIBUTS!J34","v":1},null,null,null,null,null,null,"(CONTACT)_"]
[null,null,null,null,null,null,null,"•","Radiation",null,null,null,null,null,null,null,null,"(CON)",null,{"$f":"ATTRIBUTS!R34","v":1},null,null,null,null,null,null,{"$f":"IF(CAPACITES_SPECIALES!AO168>0,\"Griffes\",\"Mains nues\")","v":"Mains nues"},null,null,null,{"$f":"IF(CAPACITES_SPECIALES!AO168>0,CAPACITES_SPECIALES!AR12,\"1D6\")","v":"1D6"}]
[null,"Souffle",null,null,null,null,null,null,null,null,null,null,null,null,null,null,null,"(CON+VOL) / 2",null,{"$f":"ATTRIBUTS!R47","v":7},null,null,null,null,null,null,{"$f":"IF(ACHATS!E22=\"\",\"\",ACHATS!E22)","v":""},null,null,null,{"$f":"IF(ACHATS!I22=\"\",\"\",ACHATS!I22)","v":""},null,null,{"$f":"IF(ACHATS!K22=\"\",\"\",ACHATS!K22)","v":""},null,null,{"$f":"IF(ACHATS!M22=\"\",\"\",ACHATS!M22)","v":""},{"$f":"IF(ACHATS!N22=\"\",\"\",ACHATS!N22)","v":""},null,null,{"$f":"IF(ACHATS!O22=\"\",\"\",ACHATS!O22)","v":""},null,null,{"$f":"IF(ACHATS!S22=\"\",\"\",ACHATS!S22)","v":""},null,{"$f":"IF(ACHATS!P22=\"\",\"\",ACHATS!P22)","v":""},null,{"$f":"IF(ACHATS!AE22=\"\",\"\",ACHATS!AE22)","v":""}]
[null,"Tolérance aux Corps Organiques Étrangers",null,null,null,null,null,null,null,null,null,null,null,null,null,null,null,"(CONAM+COOA+ADAM+VOLA)",null,{"$f":"ATTRIBUTS!J38","v":28},null,null,null,null,null,null,{"$f":"IF(ACHATS!E23=\"\",\"\",ACHATS!E23)","v":""},null,null,null,{"$f":"IF(ACHATS!I23=\"\",\"\",ACHATS!I23)","v":""},null,null,{"$f":"IF(ACHATS!K23=\"\",\"\",ACHATS!K23)","v":""},null,null,{"$f":"IF(ACHATS!M23=\"\",\"\",ACHATS!M23)","v":""},{"$f":"IF(ACHATS!N23=\"\",\"\",ACHATS!N23)","v":""},null,null,{"$f":"IF(ACHATS!O23=\"\",\"\",ACHATS!O23)","v":""},null,null,{"$f":"IF(ACHATS!S23=\"\",\"\",ACHATS!S23)","v":""},null,{"$f":"IF(ACHATS!P23=\"\",\"\",ACHATS!P23)","v":""},null,{"$f":"IF(ACHATS!AE23=\"\",\"\",ACHATS!AE23)","v":""}]
[null,"Contrôle des Corps Organiques Étrangers",null,null,null,null,null,null,null,null,null,null,null,null,null,null,null,"(ADA+INT+VOL)",null,{"$f":"ATTRIBUTS!N38","v":21},null,null,null,null,null,null,{"$f":"IF(ACHATS!E24=\"\",\"\",ACHATS!E24)","v":""},null,null,null,{"$f":"IF(ACHATS!I24=\"\",\"\",ACHATS!I24)","v":""},null,null,{"$f":"IF(ACHATS!K24=\"\",\"\",ACHATS!K24)","v":""},null,null,{"$f":"IF(ACHATS!M24=\"\",\"\",ACHATS!M24)","v":""},{"$f":"IF(ACHATS!N24=\"\",\"\",ACHATS!N24)","v":""},null,null,{"$f":"IF(ACHATS!O24=\"\",\"\",ACHATS!O24)","v":""},null,null,{"$f":"IF(ACHATS!S24=\"\",\"\",ACHATS!S24)","v":""},null,{"$f":"IF(ACHATS!P24=\"\",\"\",ACHATS!P24)","v":""},null,{"$f":"IF(ACHATS!AE24=\"\",\"\",ACHATS!AE24)","v":""}]
[null,null,null,null,null,null,null,null,null,null,null,null,null,null,null,null,null,null,"AM Coefficient x2 appliquable pour les Altérés et/ou les Mutants"]
[null,"ARMES (TIR)_",null,null,null,null,null,null,"Dom.",null,null,null,"Choc",null,null,"Pén.",null,"Portée (+0/-5/-10/-15)",null,null,null,null,null,null,null,null,"FOR",null,"Ini.",null,"Mode de tir",null,null,null,"Munitions",null,null,"Notes",null,null,null,null,null,null,null,null,null,"ITG"]
[null,{"$f":"IF(ACHATS!E29=\"\",\"\",ACHATS!E29)","v":""},null,null,null,null,null,null,{"$f":"IF(ACHATS!I29=\"\",\"\",ACHATS!I29)","v":""},null,null,null,{"$f":"IF(ACHATS!K29=\"\",\"\",ACHATS!K29)","v":""},null,null,{"$f":"IF(ACHATS!M29=\"\",\"\",ACHATS!M29)","v":""},null,{"$f":"IF(ACHATS!N29=\"\",\"\",ACHATS!N29)","v":""},null,null,null,null,null,null,null,null,{"$f":"IF(ACHATS!Q29=\"\",\"\",ACHATS!Q29)","v":""},null,{"$f":"IF(ACHATS!R29=\"\",\"\",ACHATS!R29)","v":""},null,{"$f":"IF(ACHATS!S29=\"\",\"\",ACHATS!S29)","v":""},null,null,null,{"$f":"IF(ACHATS!V29=\"\",\"\",ACHATS!V29)","v":""},null,null,{"$f":"IF(ACHATS!AE29=\"\",\"\",ACHATS!AE29)","v":""},null,null,null,null,null,null,null,null,null,{"$f":"IF(ACHATS!AH29=\"\",\"\",ACHATS!AH29)","v":""}]
[null,{"$f":"IF(ACHATS!E30=\"\",\"\",ACHATS!E30)","v":""},null,null,null,null,null,null,{"$f":"IF(ACHATS!I30=\"\",\"\",ACHATS!I30)","v":""},null,null,null,{"$f":"IF(ACHATS!K30=\"\",\"\",ACHATS!K30)","v":""},null,null,{"$f":"IF(ACHATS!M30=\"\",\"\",ACHATS!M30)","v":""},null,{"$f":"IF(ACHATS!N30=\"\",\"\",ACHATS!N30)","v":""},null,null,null,null,null,null,null,null,{"$f":"IF(ACHATS!Q30=\"\",\"\",ACHATS!Q30)","v":""},null,{"$f":"IF(ACHATS!R30=\"\",\"\",ACHATS!R30)","v":""},null,{"$f":"IF(ACHATS!S30=\"\",\"\",ACHATS!S30)","v":""},null,null,null,{"$f":"IF(ACHATS!V30=\"\",\"\",ACHATS!V30)","v":""},null,null,{"$f":"IF(ACHATS!AE30=\"\",\"\",ACHATS!AE30)","v":""},null,null,null,null,null,null,null,null,null,{"$f":"IF(ACHATS!AH30=\"\",\"\",ACHATS!AH30)","v":""}]
[null,{"$f":"IF(ACHATS!E31=\"\",\"\",ACHATS!E31)","v":""},null,null,null,null,null,null,{"$f":"IF(ACHATS!I31=\"\",\"\",ACHATS!I31)","v":""},null,null,null,{"$f":"IF(ACHATS!K31=\"\",\"\",ACHATS!K31)","v":""},null,null,{"$f":"IF(ACHATS!M31=\"\",\"\",ACHATS!M31)","v":""},null,{"$f":"IF(ACHATS!N31=\"\",\"\",ACHATS!N31)","v":""},null,null,null,null,null,null,null,null,{"$f":"IF(ACHATS!Q31=\"\",\"\",ACHATS!Q31)","v":""},null,{"$f":"IF(ACHATS!R31=\"\",\"\",ACHATS!R31)","v":""},null,{"$f":"IF(ACHATS!S31=\"\",\"\",ACHATS!S31)","v":""},null,null,null,{"$f":"IF(ACHATS!V31=\"\",\"\",ACHATS!V31)","v":""},null,null,{"$f":"IF(ACHATS!AE31=\"\",\"\",ACHATS!AE31)","v":""},null,null,null,null,null,null,null,null,null,{"$f":"IF(ACHATS!AH31=\"\",\"\",ACHATS!AH31)","v":""}]
[null,{"$f":"IF(ACHATS!E32=\"\",\"\",ACHATS!E32)","v":""},null,null,null,null,null,null,{"$f":"IF(ACHATS!I32=\"\",\"\",ACHATS!I32)","v":""},null,null,null,{"$f":"IF(ACHATS!K32=\"\",\"\",ACHATS!K32)","v":""},null,null,{"$f":"IF(ACHATS!M32=\"\",\"\",ACHATS!M32)","v":""},null,{"$f":"IF(ACHATS!N32=\"\",\"\",ACHATS!N32)","v":""},null,null,null,null,null,null,null,null,{"$f":"IF(ACHATS!Q32=\"\",\"\",ACHATS!Q32)","v":""},null,{"$f":"IF(ACHATS!R32=\"\",\"\",ACHATS!R32)","v":""},null,{"$f":"IF(ACHATS!S32=\"\",\"\",ACHATS!S32)","v":""},null,null,null,{"$f":"IF(ACHATS!V32=\"\",\"\",ACHATS!V32)","v":""},null,null,{"$f":"IF(ACHATS!AE32=\"\",\"\",ACHATS!AE32)","v":""},null,null,null,null,null,null,null,null,null,{"$f":"IF(ACHATS!AH32=\"\",\"\",ACHATS!AH32)","v":""}]
[null,{"$f":"IF(ACHATS!E33=\"\",\"\",ACHATS!E33)","v":""},null,null,null,null,null,null,{"$f":"IF(ACHATS!I33=\"\",\"\",ACHATS!I33)","v":""},null,null,null,{"$f":"IF(ACHATS!K33=\"\",\"\",ACHATS!K33)","v":""},null,null,{"$f":"IF(ACHATS!M33=\"\",\"\",ACHATS!M33)","v":""},null,{"$f":"IF(ACHATS!N33=\"\",\"\",ACHATS!N33)","v":""},null,null,null,null,null,null,null,null,{"$f":"IF(ACHATS!Q33=\"\",\"\",ACHATS!Q33)","v":""},null,{"$f":"IF(ACHATS!R33=\"\",\"\",ACHATS!R33)","v":""},null,{"$f":"IF(ACHATS!S33=\"\",\"\",ACHATS!S33)","v":""},null,null,null,{"$f":"IF(ACHATS!V33=\"\",\"\",ACHATS!V33)","v":""},null,null,{"$f":"IF(ACHATS!AE33=\"\",\"\",ACHATS!AE33)","v":""},null,null,null,null,null,null,null,null,null,{"$f":"IF(ACHATS!AH33=\"\",\"\",ACHATS!AH33)","v":""}]
[null,{"$f":"IF(ACHATS!E34=\"\",\"\",ACHATS!E34)","v":""},null,null,null,null,null,null,{"$f":"IF(ACHATS!I34=\"\",\"\",ACHATS!I34)","v":""},null,null,null,{"$f":"IF(ACHATS!K34=\"\",\"\",ACHATS!K34)","v":""},null,null,{"$f":"IF(ACHATS!M34=\"\",\"\",ACHATS!M34)","v":""},null,{"$f":"IF(ACHATS!N34=\"\",\"\",ACHATS!N34)","v":""},null,null,null,null,null,null,null,null,{"$f":"IF(ACHATS!Q34=\"\",\"\",ACHATS!Q34)","v":""},null,{"$f":"IF(ACHATS!R34=\"\",\"\",ACHATS!R34)","v":""},null,{"$f":"IF(ACHATS!S34=\"\",\"\",ACHATS!S34)","v":""},null,null,null,{"$f":"IF(ACHATS!V34=\"\",\"\",ACHATS!V34)","v":""},null,null,{"$f":"IF(ACHATS!AE34=\"\",\"\",ACHATS!AE34)","v":""},null,null,null,null,null,null,null,null,null,{"$f":"IF(ACHATS!AH34=\"\",\"\",ACHATS!AH34)","v":""}]
[]
[null,"COMPETENCES_",null,null,null,null,null,null,null,null,null,null,null,null,"Attr.",null,"Base",null,"Maît.",null,null,"Glob.",null,null,null,null,"COMPETENCES_",null,null,null,null,null,null,null,null,null,null,null,null,"Attr.",null,null,null,"Base",null,"Maît.",null,"Glob."]
[null,"Combat (contact)",null,null,null,null,null,null,null,null,null,null,null,null,null,null,null,null,null,null,null,null,null,null,null,null,"Combat (tir)"]
[null,{"$f":"IF(EXPERIENCE_PRELIMINAIRE!V32=EXPERIENCE_PRELIMINAIRE!Q32,\"o\",\"n\")","v":"o"},"Armes lourdes (contact)",null,null,null,null,null,null,null,null,null,null,null,"FOR/FOR",null,{"$f":"EXPERIENCE_PRELIMINAIRE!U32","v":-2},null,{"$f":"EXPERIENCE_PRELIMINAIRE!V32","v":0},null,null,{"$f":"EXPERIENCE_PRELIMINAIRE!W32","v":-2},null,null,null,null,{"$f":"IF(EXPERIENCE_PRELIMINAIRE!V48=EXPERIENCE_PRELIMINAIRE!Q48,\"o\",\"n\")","v":"o"},"Armes de jet",null,null,null,null,null,null,null,null,null,"(-3)",null,"COO/PER",null,null,null,{"$f":"EXPERIENCE_PRELIMINAIRE!U48","v":-2},null,{"$f":"EXPERIENCE_PRELIMINAIRE!V48","v":-3},null,{"$f":"EXPERIENCE_PRELIMINAIRE!W48","v":-5}]
[null,{"$f":"IF(EXPERIENCE_PRELIMINAIRE!V33=EXPERIENCE_PRELIMINAIRE!Q33,\"o\",\"n\")","v":"o"},"Armes spéciales (contact) I (……….)",null,null,null,null,null,null,null,null,null,null,null,"FOR/COO",null,{"$f":"EXPERIENCE_PRELIMINAIRE!U33","v":-2},null,{"$f":"EXPERIENCE_PRELIMINAIRE!V33","v":0},null,null,{"$f":"EXPERIENCE_PRELIMINAIRE!W33","v":-2},null,null,null,null,{"$f":"IF(EXPERIENCE_PRELIMINAIRE!V49=EXPERIENCE_PRELIMINAIRE!Q49,\"o\",\"n\")","v":"o"},"Armes lourdes (tir)",null,null,null,null,null,null,null,null,null,"(-3)",null,"COO/PER",null,null,null,{"$f":"EXPERIENCE_PRELIMINAIRE!U49","v":-2},null,{"$f":"EXPERIENCE_PRELIMINAIRE!V49","v":-3},null,{"$f":"EXPERIENCE_PRELIMINAIRE!W49","v":-5}]
[null,{"$f":"IF(EXPERIENCE_PRELIMINAIRE!V34=EXPERIENCE_PRELIMINAIRE!Q34,\"o\",\"n\")","v":"o"},"Armes spéciales (contact) II (……….)",null,null,null,null,null,null,null,null,null,null,null,"COO/COO",null,{"$f":"EXPERIENCE_PRELIMINAIRE!U34","v":-2},null,{"$f":"EXPERIENCE_PRELIMINAIRE!V34","v":0},null,null,{"$f":"EXPERIENCE_PRELIMINAIRE!W34","v":-2},null,null,null,null,{"$f":"IF(EXPERIENCE_PRELIMINAIRE!V50=EXPERIENCE_PRELIMINAIRE!Q50,\"o\",\"n\")","v":"n"},"Armes de poing",null,null,null,null,null,null,null,null,null,null,null,"COO/PER",null,null,null,{"$f":"EXPERIENCE_PRELIMINAIRE!U50","v":-2},null,{"$f":"EXPERIENCE_PRELIMINAIRE!V50","v":1},null,{"$f":"EXPERIENCE_PRELIMINAIRE!W50","v":-1}]
[null,{"$f":"IF(EXPERIENCE_PRELIMINAIRE!V35=EXPERIENCE_PRELIMINAIRE!Q35,\"o\",\"n\")","v":"o"},"Armes spéciales (contact) III (……….)",null,null,null,null,null,null,null,null,null,"(X)",null,"FOR/COO",null,{"$f":"EXPERIENCE_PRELIMINAIRE!U35","v":-2},null,{"$f":"EXPERIENCE_PRELIMINAIRE!V35","v":"X"},null,null,{"$f":"EXPERIENCE_PRELIMINAIRE!W35","v":"X"},null,null,null,null,{"$f":"IF(EXPERIENCE_PRELIMINAIRE!V51=EXPERIENCE_PRELIMINAIRE!Q51,\"o\",\"n\")","v":"o"},"Armes sous-marines",null,null,null,null,null,null,null,null,null,null,null,"COO/PER",null,null,null,{"$f":"EXPERIENCE_PRELIMINAIRE!U51","v":-2},null,{"$f":"EXPERIENCE_PRELIMINAIRE!V51","v":0},null,{"$f":"EXPERIENCE_PRELIMINAIRE!W51","v":-2}]
[null,{"$f":"IF(EXPERIENCE_PRELIMINAIRE!V36=EXPERIENCE_PRELIMINAIRE!Q36,\"o\",\"n\")","v":"o"},"Armes spéciales (contact) IV (……….)",null,null,null,null,null,null,null,null,null,"(X)",null,"COO/COO",null,{"$f":"EXPERIENCE_PRELIMINAIRE!U36","v":-2},null,{"$f":"EXPERIENCE_PRELIMINAIRE!V36","v":"X"},null,null,{"$f":"EXPERIENCE_PRELIMINAIRE!W36","v":"X"},null,null,null,null,{"$f":"IF(EXPERIENCE_PRELIMINAIRE!V52=EXPERIENCE_PRELIMINAIRE!Q52,\"o\",\"n\")","v":"o"},"Armes spéciales (tir) I (…….…)",null,null,null,null,null,null,null,null,null,null,null,"FOR/COO",null,null,null,{"$f":"EXPERIENCE_PRELIMINAIRE!U52","v":-2},null,{"$f":"EXPERIENCE_PRELIMINAIRE!V52","v":0},null,{"$f":"EXPERIENCE_PRELIMINAIRE!W52","v":-2}]
[null,{"$f":"IF(EXPERIENCE_PRELIMINAIRE!V37=EXPERIENCE_PRELIMINAIRE!Q37,\"o\",\"n\")","v":"o"},"Arts martiaux (Lutte) *",null,null,null,null,null,null,null,null,null,"(-3)",null,"COO/ADA",null,{"$f":"EXPERIENCE_PRELIMINAIRE!U37","v":-2},null,{"$f":"EXPERIENCE_PRELIMINAIRE!V37","v":-3},null,null,{"$f":"EXPERIENCE_PRELIMINAIRE!W37","v":-5},null,null,null,null,{"$f":"IF(EXPERIENCE_PRELIMINAIRE!V53=EXPERIENCE_PRELIMINAIRE!Q53,\"o\",\"n\")","v":"o"},"Armes spéciales (tir) II (…….…)",null,null,null,null,null,null,null,null,null,null,null,"COO/PER",null,null,null,{"$f":"EXPERIENCE_PRELIMINAIRE!U53","v":-2},null,{"$f":"EXPERIENCE_PRELIMINAIRE!V53","v":0},null,{"$f":"EXPERIENCE_PRELIMINAIRE!W53","v":-2}]
[null,{"$f":"IF(EXPERIENCE_PRELIMINAIRE!V38=EXPERIENCE_PRELIMINAIRE!Q38,\"o\",\"n\")","v":"o"},"Arts martiaux (Tech. défensives) *",null,null,null,null,null,null,null,null,null,"(-3)",null,"COO/ADA",null,{"$f":"EXPERIENCE_PRELIMINAIRE!U38","v":-2},null,{"$f":"EXPERIENCE_PRELIMINAIRE!V38","v":-3},null,null,{"$f":"EXPERIENCE_PRELIMINAIRE!W38","v":-5},null,null,null,null,{"$f":"IF(EXPERIENCE_PRELIMINAIRE!V54=EXPERIENCE_PRELIMINAIRE!Q54,\"o\",\"n\")","v":"o"},"Armes spéciales (tir) III (…….…)",null,null,null,null,null,null,null,null,null,"(X)",null,"FOR/COO",null,null,null,{"$f":"EXPERIENCE_PRELIMINAIRE!U54","v":-2},null,{"$f":"EXPERIENCE_PRELIMINAIRE!V54","v":"X"},null,{"$f":"EXPERIENCE_PRELIMINAIRE!W54","v":"X"}]
[null,{"$f":"IF(EXPERIENCE_PRELIMINAIRE!V39=EXPERIENCE_PRELIMINAIRE!Q39,\"o\",\"n\")","v":"o"},"Arts martiaux (Tech. offensives) *",null,null,null,null,null,null,null,null,null,"(-3)",null,"COO/ADA",null,{"$f":"EXPERIENCE_PRELIMINAIRE!U39","v":-2},null,{"$f":"EXPERIENCE_PRELIMINAIRE!V39","v":-3},null,null,{"$f":"EXPERIENCE_PRELIMINAIRE!W39","v":-5},null,null,null,null,{"$f":"IF(EXPERIENCE_PRELIMINAIRE!V55=EXPERIENCE_PRELIMINAIRE!Q55,\"o\",\"n\")","v":"o"},"Armes spéciales (tir) IV (…….…)",null,null,null,null,null,null,null,null,null,"(X)",null,"COO/PER",null,null,null,{"$f":"EXPERIENCE_PRELIMINAIRE!U55","v":-2},null,{"$f":"EXPERIENCE_PRELIMINAIRE!V55","v":"X"},null,{"$f":"EXPERIENCE_PRELIMINAIRE!W55","v":"X"}]
[null,{"$f":"IF(EXPERIENCE_PRELIMINAIRE!V40=EXPERIENCE_PRELIMINAIRE!Q40,\"o\",\"n\")","v":"n"},"Combat armé",null,null,null,null,null,null,null,null,null,null,null,"FOR/COO",null,{"$f":"EXPERIENCE_PRELIMINAIRE!U40","v":-2},null,{"$f":"EXPERIENCE_PRELIMINAIRE!V40","v":2},null,null,{"$f":"EXPERIENCE_PRELIMINAIRE!W40","v":0},null,null,null,null,{"$f":"IF(EXPERIENCE_PRELIMINAIRE!V56=EXPERIENCE_PRELIMINAIRE!Q56,\"o\",\"n\")","v":"o"},"Armes de trait",null,null,null,null,null,null,null,null,null,"(-3)",null,"COO/PER",null,null,null,{"$f":"EXPERIENCE_PRELIMINAIRE!U56","v":-2},null,{"$f":"EXPERIENCE_PRELIMINAIRE!V56","v":-3},null,{"$f":"EXPERIENCE_PRELIMINAIRE!W56","v":-5}]
[null,{"$f":"IF(EXPERIENCE_PRELIMINAIRE!V46=EXPERIENCE_PRELIMINAIRE!Q46,\"o\",\"n\")","v":"n"},"Combat à mains nues",null,null,null,null,null,null,null,null,null,null,null,"FOR/COO",null,{"$f":"EXPERIENCE_PRELIMINAIRE!U46","v":-2},null,{"$f":"EXPERIENCE_PRELIMINAIRE!V46","v":2},null,null,{"$f":"EXPERIENCE_PRELIMINAIRE!W46","v":0},null,null,null,null,{"$f":"IF(EXPERIENCE_PRELIMINAIRE!V57=EXPERIENCE_PRELIMINAIRE!Q57,\"o\",\"n\")","v":"o"},"Fusils/Armes d'épaule",null,null,null,null,null,null,null,null,null,null,null,"COO/PER",null,null,null,{"$f":"EXPERIENCE_PRELIMINAIRE!U57","v":-2},null,{"$f":"EXPERIENCE_PRELIMINAIRE!V57","v":0},null,{"$f":"EXPERIENCE_PRELIMINAIRE!W57","v":-2}]
[null,"o",null,null,null,null,null,null,null,null,null,null,null,null,null,null,null,null,null,null,null,null,null,null,null,null,{"$f":"IF(EXPERIENCE_PRELIMINAIRE!V58=EXPERIENCE_PRELIMINAIRE!Q58,\"o\",\"n\")","v":"o"},"Tir automatique *",null,null,null,null,null,null,null,null,null,null,null,"FOR/PER",null,null,null,{"$f":"EXPERIENCE_PRELIMINAIRE!U58","v":-2},null,{"$f":"EXPERIENCE_PRELIMINAIRE!V58","v":0},null,{"$f":"EXPERIENCE_PRELIMINAIRE!W58","v":-2}]
[null,"o",null,null,null,null,null,null,null,null,null,null,null,null,null,null,null,null,null,null,null,null,null,null,null,null,{"$f":"IF(EXPERIENCE_PRELIMINAIRE!V64=EXPERIENCE_PRELIMINAIRE!Q64,\"o\",\"n\")","v":"o"},"Tir de précision",null,null,null,null,null,null,null,null,null,"(-3)",null,"PER/VOL",null,null,null,{"$f":"EXPERIENCE_PRELIMINAIRE!U64","v":-2},null,{"$f":"EXPERIENCE_PRELIMINAIRE!V64","v":-3},null,{"$f":"EXPERIENCE_PRELIMINAIRE!W64","v":-5}]
[]
[null,"BLESSURES & SEQUELLES_",null,null,null,null,null,null,null,null,null,null,null,null,"ETAT DE SANTE & PROTECTIONS_"]
[null,{"$f":"CONCATENATE(MJ_EXPERIENCE!E86,\" \",MJ_EXPERIENCE!H86)","v":" "},null,null,null,null,null,null,null,null,null,null,null,null,"Localisation (contact)",null,null,null,null,null,"1 - 4",null,null,null,null,"5 - 10",null,null,"11 - 13",null,null,"14 - 16",null,null,null,"17 - 18",null,null,null,null,"19 - 20",null,null,null,null,"Armure naturelle"]
[null,{"$f":"CONCATENATE(MJ_EXPERIENCE!E87,\" \",MJ_EXPERIENCE!H87)","v":" "},null,null,null,null,null,null,null,null,null,null,null,null,"Localisation (distance)",null,null,null,null,null,"1 - 2",null,null,null,null,"3 - 8",null,null,"9 - 11",null,null,"12 - 14",null,null,null,"15 - 17",null,null,null,null,"18 - 20",null,null,null,null,{"$f":"ATTRIBUTS!V28","v":0}]
[null,{"$f":"CONCATENATE(MJ_EXPERIENCE!E88,\" \",MJ_EXPERIENCE!H88)","v":" "},null,null,null,null,null,null,null,null,null,null,null,null,"BLESSURES_",null,null,null,null,null,"Tête",null,null,null,null,"Corps",null,null,"Bras d.",null,null,"Bras g.",null,null,null,"Jambe d.",null,null,null,null,"Jambe g.",null,null,null,null,"Malus"]
[null,{"$f":"CONCATENATE(MJ_EXPERIENCE!E89,\" \",MJ_EXPERIENCE!H89)","v":" "},null,null,null,null,null,null,null,null,null,null,null,null,"Légères",null,null,null,{"$f":"CONCATENATE(\"(\",TYPE_GENETIQUE!P45,\")\")","v":"(0)"},null," ooo",null,null,null,null," oooo",null,null," ooo",null,null," ooo",null,null,null," ooo",null,null,null,null," ooo",null,null,null,null,-1]
[null,"TEXTE",null,null,null,null,null,null,null,null,null,null,null,null,"Moyennes",null,null,null,{"$f":"CONCATENATE(\"(\",TYPE_GENETIQUE!P46,\")\")","v":"(5)"},null," ooo",null,null,null,null," ooo",null,null," ooo",null,null," ooo",null,null,null," ooo",null,null,null,null," ooo",null,null,null,null,-3]
[null,"TEXTE",null,null,null,null,null,null,null,null,null,null,null,null,"Graves",null,null,null,{"$f":"CONCATENATE(\"(\",TYPE_GENETIQUE!P47,\")\")","v":"(10)"},null," oo -5",null,null,null,null," ooo +0",null,null," oo",null,null," oo",null,null,null," oo",null,null,null,null," oo",null,null,null,null,-5]
[null,"TEXTE",null,null,null,null,null,null,null,null,null,null,null,null,"Critiques",null,null,null,{"$f":"CONCATENATE(\"(\",TYPE_GENETIQUE!P48,\")\")","v":"(15)"},null," oo -10",null,null,null,null," oo -5",null,null," oo +0",null,null," oo +0",null,null,null," oo +0",null,null,null,null," oo +0",null,null,null,null,-10]
[null,"TEXTE",null,null,null,null,null,null,null,null,null,null,null,null,"Mortelles",null,null,null,{"$f":"CONCATENATE(\"(\",TYPE_GENETIQUE!P49,\")\")","v":"(20)"},null," o -15",null,null,null,null," oo -10",null,null," o -5",null,null," o -5",null,null,null," o -5",null,null,null,null," o -5",null,null,null,null,"Action Impossible"]
[null,"TEXTE",null,null,null,null,null,null,null,null,null,null,null,null,"Mort/Membre d.",null,null,null,{"$f":"CONCATENATE(\"(\",TYPE_GENETIQUE!P50,\")\")","v":"(25)"},null,"Mort",null,null,null,null,"Mort",null,null," o -10",null,null," o -10",null,null,null," o -10",null,null,null,null," o -10",null,null,null,null,"Action Impossible"]
[null,"TEXTE",null,null,null,null,null,null,null,null,null,null,null,null,"PROTECTIONS_",null,null,null,null,null,null,null,null,null,null,"Protection",null,null,null,"Choc",null,null,null,"Localisation",null,null,null,null,null,null,"Catégorie/malus",null,null,null,"ITG",null,null,"NT"]
[null,"TEXTE",null,null,null,null,null,null,null,null,null,null,null,null,{"$f":"IF(ACHATS!E39=\"\",\"\",ACHATS!E39)","v":""},null,null,null,null,null,null,null,null,null,null,{"$f":"IF(ACHATS!I39=\"\",\"\",ACHATS!I39)","v":""},null,null,null,{"$f":"IF(ACHATS!K39=\"\",\"\",ACHATS!K39)","v":""},null,null,null,{"$f":"IF(ACHATS!M39=\"\",\"\",ACHATS!M39)","v":""},null,null,null,null,null,null,{"$f":"IF(ACHATS!O39=\"\",\"\",ACHATS!O39)","v":""},null,null,null,{"$f":"IF(ACHATS!AC39=\"\",\"\",ACHATS!AC39)","v":""},null,null,{"$f":"IF(ACHATS!W39=\"\",\"\",ACHATS!W39)","v":""}]
[null,"TEXTE",null,null,null,null,null,null,null,null,null,null,null,null,{"$f":"IF(ACHATS!E40=\"\",\"\",ACHATS!E40)","v":""},null,null,null,null,null,null,null,null,null,null,{"$f":"IF(ACHATS!I40=\"\",\"\",ACHATS!I40)","v":""},null,null,null,{"$f":"IF(ACHATS!K40=\"\",\"\",ACHATS!K40)","v":""},null,null,null,{"$f":"IF(ACHATS!M40=\"\",\"\",ACHATS!M40)","v":""},null,null,null,null,null,null,{"$f":"IF(ACHATS!O40=\"\",\"\",ACHATS!O40)","v":""},null,null,null,{"$f":"IF(ACHATS!AC40=\"\",\"\",ACHATS!AC40)","v":""},null,null,{"$f":"IF(ACHATS!W40=\"\",\"\",ACHATS!W40)","v":""}]
[null,"TEXTE",null,null,null,null,null,null,null,null,null,null,null,null,{"$f":"IF(ACHATS!E41=\"\",\"\",ACHATS!E41)","v":""},null,null,null,null,null,null,null,null,null,null,{"$f":"IF(ACHATS!I41=\"\",\"\",ACHATS!I41)","v":""},null,null,null,{"$f":"IF(ACHATS!K41=\"\",\"\",ACHATS!K41)","v":""},null,null,null,{"$f":"IF(ACHATS!M41=\"\",\"\",ACHATS!M41)","v":""},null,null,null,null,null,null,{"$f":"IF(ACHATS!O41=\"\",\"\",ACHATS!O41)","v":""},null,null,null,{"$f":"IF(ACHATS!AC41=\"\",\"\",ACHATS!AC41)","v":""},null,null,{"$f":"IF(ACHATS!W41=\"\",\"\",ACHATS!W41)","v":""}]
[]
[null,"TABLE DES MARGES DE REUSSITE ET D'ECHEC_"]
[null,"Marge",null,null,null,"1-2",null,null,null,"3-4",null,null,null,null,"5-6",null,null,"7-9",null,null,null,null,null,"10-12",null,null,null,null,"13-14",null,null,"15-19",null,null,null,"20-24",null,null,null,null,"25-34",null,null,null,null,"35+"]
[null,"Modificateur",null,null,null,"+/- 0",null,null,null,"+/- 1",null,null,null,null,"+/- 2",null,null,"+/- 3",null,null,null,null,null,"+/- 4",null,null,null,null,"+/- 5",null,null,"+/- 6",null,null,null,"+/- 7",null,null,null,null,"+/- 8",null,null,null,null,"+/- 9"]

{"sheet":"ACTIONS SPECIALES","index":16,"n_rows":70,"n_cols":49,"rows_kept":70,"cut":false,"hidden":false,"merged":[[58,14,58,17],[59,14,59,17],[61,14,61,17],[62,14,62,17],[60,14,60,17],[60,21,60,30],[59,18,59,20],[60,18,60,20],[61,18,61,30],[62,18,62,30],[58,18,58,20],[58,21,58,30],[59,21,59,30],[53,14,53,17],[50,1,50,12],[52,14,52,17],[52,1,52,12],[53,32,53,36],[54,32,54,36],[53,37,53,40],[53,41,53,47],[53,1,53,12],[52,18,52,30],[53,18,53,30],[54,18,54,30],[44,29,44,31],[45,18,45,20],[45,21,45,25],[45,26,45,28],[45,29,45,31],[49,18,49,30],[50,18,50,30],[51,18,51,30],[47,14,47,30],[44,14,44,17],[45,14,45,17],[45,1,45,12],[47,1,47,12],[49,14,49,17],[46,1,46,12],[48,14,48,30],[49,1,49,12],[51,14,51,17],[48,1,48,12],[50,14,50,17],[51,1,51,12],[42,1,42,12],[40,2,40,11],[40,12,40,13],[40,14,40,15],[40,16,40,17],[40,18,40,20],[40,21,40,24],[42,14,42,26],[44,1,44,12],[43,1,43,12],[44,26,44,28],[39,21,39,24],[39,27,39,36],[39,37,39,38],[39,39,39,42],[40,43,40,44],[40,45,40,46],[38,27,38,36],[38,37,38,38],[38,39,38,42],[39,43,39,44],[39,45,39,46],[38,21,38,24],[40,39,40,42],[40,37,40,38],[40,27,40,36],[39,2,39,11],[39,12,39,13],[39,14,39,15],[39,16,39,17],[39,18,39,20],[38,2,38,11],[38,12,38,13],[38,14,38,15],[38,16,38,17],[38,18,38,20],[37,21,37,24],[37,27,37,36],[37,37,37,38],[37,39,37,42],[38,43,38,44],[38,45,38,46],[36,27,36,36],[36,37,36,38],[36,39,36,42],[37,43,37,44],[37,45,37,46],[36,21,36,24],[36,43,36,44],[36,45,36,46],[37,2,37,11],[37,12,37,13],[37,14,37,15],[37,16,37,17],[37,18,37,20],[36,2,36,11],[36,12,36,13],[36,14,36,15],[36,16,36,17],[36,18,36,20],[35,21,35,24],[35,27,35,36],[35,37,35,38],[35,39,35,42],[35,43,35,44],[35,45,35,46],[34,27,34,36],[34,37,34,38],[34,39,34,42],[34,43,34,44],[34,45,34,46],[34,21,34,24],[35,2,35,11],[35,12,35,13],[35,14,35,15],[35,16,35,17],[35,18,35,20],[34,2,34,11],[34,12,34,13],[34,14,34,15],[34,16,34,17],[34,18,34,20],[6,51,7,51],[29,45,29,46],[30,26,30,47],[31,27,31,36],[31,37,31,38],[31,39,31,42],[31,43,31,44],[31,45,31,46],[33,45,33,46],[32,45,32,46],[29,26,29,38],[29,39,29,42],[29,43,29,44],[9,24,9,35],[9,36,9,39],[15,36,15,39],[15,40,15,47],[20,44,20,47],[19,44,19,47],[32,21,32,24],[33,21,33,24],[33,27,33,36],[33,37,33,38],[33,39,33,42],[0,0,2,0],[0,1,2,47],[0,48,2,48],[30,1,30,24],[31,2,31,11],[31,12,31,13],[31,14,31,15],[31,16,31,17],[31,18,31,20],[31,21,31,24],[29,1,29,13],[29,14,29,15],[29,16,29,17],[29,18,29,20],[29,21,29,24],[8,36,8,39],[8,40,8,47],[9,1,9,4],[9,5,9,18],[9,19,9,23],[4,36,4,39],[4,40,4,47],[6,36,6,39],[6,40,6,47],[5,19,5,23],[5,24,5,35],[5,36,5,39],[5,40,5,47],[7,19,7,23],[7,24,7,35],[7,36,7,39],[7,40,7,47],[4,19,4,23],[4,24,4,35],[6,19,6,23],[6,24,6,35],[4,1,4,13],[4,14,4,15],[4,16,4,18],[6,1,6,13],[6,14,6,15],[5,1,5,4],[5,5,5,18],[7,1,7,4],[7,5,7,18],[8,1,8,13],[8,14,8,15],[8,16,8,18],[8,19,8,23],[8,24,8,35],[6,16,6,18],[9,40,9,47],[10,1,10,13],[10,14,10,15],[10,16,10,18],[10,19,10,23],[10,24,10,35],[10,36,10,39],[10,40,10,47],[11,1,11,4],[11,5,11,18],[11,19,11,23],[11,24,11,35],[11,36,11,39],[11,40,11,47],[12,1,12,13],[12,14,12,15],[12,16,12,18],[12,19,12,23],[12,24,12,35],[12,36,12,39],[12,40,12,47],[13,1,13,4],[13,5,13,18],[13,19,13,23],[13,24,13,35],[13,36,13,39],[13,40,13,47],[16,40,16,47],[17,1,17,4],[17,5,17,18],[17,19,17,23],[17,24,17,35],[17,36,17,39],[17,40,17,47],[14,1,14,13],[14,14,14,15],[14,16,14,18],[14,19,14,23],[14,24,14,35],[14,36,14,39],[14,40,14,47],[15,1,15,4],[15,5,15,18],[15,19,15,23],[15,24,15,35],[16,1,16,13],[16,14,16,15],[16,16,16,18],[16,19,16,23],[16,24,16,35],[16,36,16,39],[20,14,20,15],[20,38,20,43],[20,33,20,37],[20,27,20,32],[20,16,20,26],[19,38,19,43],[19,33,19,37],[19,27,19,32],[19,16,19,26],[32,39,32,42],[32,43,32,44],[24,1,24,13],[24,14,24,15],[24,16,24,26],[24,27,24,32],[24,33,24,37],[24,38,24,43],[19,1,19,13],[20,1,20,13],[19,14,19,15],[22,1,22,4],[23,1,23,4],[21,27,21,47],[22,27,22,47],[23,27,23,47],[21,21,21,26],[22,21,22,26],[23,21,23,26],[21,5,21,20],[22,5,22,20],[23,5,23,20],[21,1,21,4],[24,44,24,47],[25,1,25,4],[25,5,25,20],[25,21,25,26],[25,27,25,47],[26,1,26,4],[26,5,26,20],[26,21,26,26],[26,27,26,47],[27,1,27,4],[27,5,27,20],[27,21,27,26],[27,27,27,47],[32,2,32,11],[32,12,32,13],[32,14,32,15],[32,16,32,17],[32,18,32,20],[33,43,33,44],[32,27,32,36],[32,37,32,38],[44,18,44,20],[44,21,44,25],[44,32,44,35],[44,36,44,47],[43,36,43,47],[43,32,43,35],[43,29,43,31],[43,26,43,28],[43,21,43,25],[43,18,43,20],[43,14,43,17],[33,2,33,11],[33,12,33,13],[33,14,33,15],[33,16,33,17],[33,18,33,20],[45,32,45,35],[45,36,45,47],[58,32,58,36],[49,32,49,36],[50,32,50,36],[51,32,51,36],[52,32,52,36],[52,37,52,40],[52,41,52,47],[49,37,49,47],[50,37,50,47],[51,37,51,47],[48,32,48,47],[47,32,47,47],[59,32,59,36],[60,32,60,36],[61,32,61,36],[62,32,62,36],[59,37,59,40],[59,41,59,47],[60,37,60,40],[60,41,60,47],[61,37,61,47],[62,37,62,47],[55,1,55,12],[54,37,54,40],[54,41,54,47],[55,37,55,40],[55,41,55,47],[56,37,56,40],[56,41,56,47],[57,37,57,47],[55,32,55,36],[56,32,56,36],[57,32,57,36],[55,18,55,20],[56,18,56,20],[55,21,55,30],[56,21,56,30],[54,14,54,17],[55,14,55,17],[56,14,56,17],[57,14,57,17],[57,18,57,20],[57,21,57,30],[66,29,66,38],[68,23,68,28],[68,29,68,47],[57,6,57,8],[57,9,57,12],[69,23,69,47],[69,6,69,13],[65,14,65,22],[66,14,66,22],[67,14,67,22],[67,29,67,38],[67,39,67,47],[64,1,64,13],[65,1,65,5],[66,1,66,5],[67,1,67,5],[65,6,65,13],[66,6,66,13],[67,6,67,13],[65,23,65,28],[66,23,66,28],[67,23,67,28],[58,37,58,40],[58,41,58,47],[58,1,58,5],[58,6,58,8],[58,9,58,12],[68,1,68,5],[66,39,66,47],[65,39,65,47],[68,6,68,22],[56,9,56,12],[56,6,56,8],[56,1,56,5],[59,9,59,12],[59,6,59,8],[59,1,59,5],[60,1,60,5],[60,6,60,8],[60,9,60,12],[61,1,61,5],[61,6,61,8],[61,9,61,12],[62,1,62,5],[62,6,62,8],[62,9,62,12],[57,1,57,5],[65,29,65,38]]}
[null,"AVANTAGES PROFESSIONNELS & ACTIONS SPECIALES",null,null,null,null,null,null,null,null,null,null,null,null,null,null,null,null,null,null,null,null,null,null,null,null,null,null,null,null,null,null,null,null,null,null,null,null,null,null,null,null,null,null,null,null,null,null,7]
[]
[]
[]
[null,"AVANTAGES PROFESSIONNELS_",null,null,null,null,null,null,null,null,null,null,null,null,"Points",null,"Restant",null,null,"Utilisation 1",null,null,null,null,"Effets / Description 1",null,null,null,null,null,null,null,null,null,null,null,"Utilisation 2",null,null,null,"Effets / Description 2"]
[null,"Utilisation 3",null,null,null,"Effets / Description 3",null,null,null,null,null,null,null,null,null,null,null,null,null,"Utilisation 4",null,null,null,null,"Effets / Description 4",null,null,null,null,null,null,null,null,null,null,null,"Utilisation 5",null,null,null,"Effets / Description 5"]
[null,"TEXTE",null,null,null,null,null,null,null,null,null,null,null,null,"?",null,{"$f":"IF(O7=\"\",\"\",IF(O7=\"?\",\"\",O7-T7-AK7-B8-T8-AK8))","v":""},null,null,"?",null,null,null,null,"TEXTE",null,null,null,null,null,null,null,null,null,null,null,"?",null,null,null,"TEXTE"]
[null,"?",null,null,null,"TEXTE",null,null,null,null,null,null,null,null,null,null,null,null,null,"?",null,null,null,null,"TEXTE",null,null,null,null,null,null,null,null,null,null,null,"?",null,null,null,"TEXTE"]
[null,"TEXTE",null,null,null,null,null,null,null,null,null,null,null,null,"?",null,{"$f":"IF(O9=\"\",\"\",IF(O9=\"?\",\"\",O9-T9-AK9-B10-T10-AK10))","v":""},null,null,"?",null,null,null,null,"TEXTE",null,null,null,null,null,null,null,null,null,null,null,"?",null,null,null,"TEXTE"]
[null,"?",null,null,null,"TEXTE",null,null,null,null,null,null,null,null,null,null,null,null,null,"?",null,null,null,null,"TEXTE",null,null,null,null,null,null,null,null,null,null,null,"?",null,null,null,"TEXTE"]
[null,"TEXTE",null,null,null,null,null,null,null,null,null,null,null,null,"?",null,{"$f":"IF(O11=\"\",\"\",IF(O11=\"?\",\"\",O11-T11-AK11-B12-T12-AK12))","v":""},null,null,"?",null,null,null,null,"TEXTE",null,null,null,null,null,null,null,null,null,null,null,"?",null,null,null,"TEXTE"]
[null,"?",null,null,null,"TEXTE",null,null,null,null,null,null,null,null,null,null,null,null,null,"?",null,null,null,null,"TEXTE",null,null,null,null,null,null,null,null,null,null,null,"?",null,null,null,"TEXTE"]
[null,"TEXTE",null,null,null,null,null,null,null,null,null,null,null,null,"?",null,{"$f":"IF(O13=\"\",\"\",IF(O13=\"?\",\"\",O13-T13-AK13-B14-T14-AK14))","v":""},null,null,"?",null,null,null,null,"TEXTE",null,null,null,null,null,null,null,null,null,null,null,"?",null,null,null,"TEXTE"]
[null,"?",null,null,null,"TEXTE",null,null,null,null,null,null,null,null,null,null,null,null,null,"?",null,null,null,null,"TEXTE",null,null,null,null,null,null,null,null,null,null,null,"?",null,null,null,"TEXTE"]
[null,"TEXTE",null,null,null,null,null,null,null,null,null,null,null,null,"?",null,{"$f":"IF(O15=\"\",\"\",IF(O15=\"?\",\"\",O15-T15-AK15-B16-T16-AK16))","v":""},null,null,"?",null,null,null,null,"TEXTE",null,null,null,null,null,null,null,null,null,null,null,"?",null,null,null,"TEXTE"]
[null,"?",null,null,null,"TEXTE",null,null,null,null,null,null,null,null,null,null,null,null,null,"?",null,null,null,null,"TEXTE",null,null,null,null,null,null,null,null,null,null,null,"?",null,null,null,"TEXTE"]
[null,"TEXTE",null,null,null,null,null,null,null,null,null,null,null,null,"?",null,{"$f":"IF(O17=\"\",\"\",IF(O17=\"?\",\"\",O17-T17-AK17-B18-T18-AK18))","v":""},null,null,"?",null,null,null,null,"TEXTE",null,null,null,null,null,null,null,null,null,null,null,"?",null,null,null,"TEXTE"]
[null,"?",null,null,null,"TEXTE",null,null,null,null,null,null,null,null,null,null,null,null,null,"?",null,null,null,null,"TEXTE",null,null,null,null,null,null,null,null,null,null,null,"?",null,null,null,"TEXTE"]
[]
[null,"TECHNIQUES DE COMBAT_",null,null,null,null,null,null,null,null,null,null,null,null,"Niveau",null,"Comp. Associée (Niv)",null,null,null,null,null,null,null,null,null,null,"Bonus au test d'attaque",null,null,null,null,null,"Malus test adversaire",null,null,null,null,"Bonus aux dommages",null,null,null,null,null,"Autres modif."]
[null,{"$f":"IF(AVANTAGES_PROFESSIONNELS!E115=\"\",\"\",AVANTAGES_PROFESSIONNELS!E115)","v":""},null,null,null,null,null,null,null,null,null,null,null,null,{"$f":"AVANTAGES_PROFESSIONNELS!I115","v":"X"},null,{"$f":"AVANTAGES_PROFESSIONNELS!J117","v":""},null,null,null,null,null,null,null,null,null,null,{"$f":"AVANTAGES_PROFESSIONNELS!O115","v":0},null,null,null,null,null,{"$f":"AVANTAGES_PROFESSIONNELS!R115","v":0},null,null,null,null,{"$f":"AVANTAGES_PROFESSIONNELS!T115","v":0},null,null,null,null,null,{"$f":"IF(AVANTAGES_PROFESSIONNELS!V115=\"\",\"\",AVANTAGES_PROFESSIONNELS!V115)","v":""}]
[null,"Botte débloquée 1 :",null,null,null,{"$f":"IF(AVANTAGES_PROFESSIONNELS!E120=\"\",\"\",AVANTAGES_PROFESSIONNELS!E120)","v":""},null,null,null,null,null,null,null,null,null,null,null,null,null,null,null,"Effets de la botte :",null,null,null,null,null,{"$f":"IF(AVANTAGES_PROFESSIONNELS!H120=\"\",\"\",AVANTAGES_PROFESSIONNELS!H120)","v":""}]
[null,"Botte débloquée 2 :",null,null,null,{"$f":"IF(AVANTAGES_PROFESSIONNELS!E121=\"\",\"\",AVANTAGES_PROFESSIONNELS!E121)","v":""},null,null,null,null,null,null,null,null,null,null,null,null,null,null,null,"Effets de la botte :",null,null,null,null,null,{"$f":"IF(AVANTAGES_PROFESSIONNELS!H121=\"\",\"\",AVANTAGES_PROFESSIONNELS!H121)","v":""}]
[null,"Botte débloquée 3 :",null,null,null,{"$f":"IF(AVANTAGES_PROFESSIONNELS!E122=\"\",\"\",AVANTAGES_PROFESSIONNELS!E122)","v":""},null,null,null,null,null,null,null,null,null,null,null,null,null,null,null,"Effets de la botte :",null,null,null,null,null,{"$f":"IF(AVANTAGES_PROFESSIONNELS!H122=\"\",\"\",AVANTAGES_PROFESSIONNELS!H122)","v":""}]
[null,{"$f":"IF(AVANTAGES_PROFESSIONNELS!E116=\"\",\"\",AVANTAGES_PROFESSIONNELS!E116)","v":""},null,null,null,null,null,null,null,null,null,null,null,null,{"$f":"AVANTAGES_PROFESSIONNELS!I116","v":"X"},null,{"$f":"AVANTAGES_PROFESSIONNELS!J118","v":""},null,null,null,null,null,null,null,null,null,null,{"$f":"AVANTAGES_PROFESSIONNELS!O116","v":0},null,null,null,null,null,{"$f":"AVANTAGES_PROFESSIONNELS!R116","v":0},null,null,null,null,{"$f":"AVANTAGES_PROFESSIONNELS!T116","v":0},null,null,null,null,null,{"$f":"IF(AVANTAGES_PROFESSIONNELS!V116=\"\",\"\",AVANTAGES_PROFESSIONNELS!V116)","v":""}]
[null,"Botte débloquée 1 :",null,null,null,{"$f":"IF(AVANTAGES_PROFESSIONNELS!E126=\"\",\"\",AVANTAGES_PROFESSIONNELS!E126)","v":""},null,null,null,null,null,null,null,null,null,null,null,null,null,null,null,"Effets de la botte :",null,null,null,null,null,{"$f":"IF(AVANTAGES_PROFESSIONNELS!H126=\"\",\"\",AVANTAGES_PROFESSIONNELS!H126)","v":""}]
[null,"Botte débloquée 2 :",null,null,null,{"$f":"IF(AVANTAGES_PROFESSIONNELS!E127=\"\",\"\",AVANTAGES_PROFESSIONNELS!E127)","v":""},null,null,null,null,null,null,null,null,null,null,null,null,null,null,null,"Effets de la botte :",null,null,null,null,null,{"$f":"IF(AVANTAGES_PROFESSIONNELS!H127=\"\",\"\",AVANTAGES_PROFESSIONNELS!H127)","v":""}]
[null,"Botte débloquée 3 :",null,null,null,{"$f":"IF(AVANTAGES_PROFESSIONNELS!E128=\"\",\"\",AVANTAGES_PROFESSIONNELS!E128)","v":""},null,null,null,null,null,null,null,null,null,null,null,null,null,null,null,"Effets de la botte :",null,null,null,null,null,{"$f":"IF(AVANTAGES_PROFESSIONNELS!H128=\"\",\"\",AVANTAGES_PROFESSIONNELS!H128)","v":""}]
[]
[null,"COMPETENCES_",null,null,null,null,null,null,null,null,null,null,null,null,"Attr.",null,"Base",null,"Maît.",null,null,"Glob.",null,null,null,null,"COMPETENCES_",null,null,null,null,null,null,null,null,null,null,null,null,"Attr.",null,null,null,"Base",null,"Maît.",null,"Glob."]
[null,"Compétences spéciales",null,null,null,null,null,null,null,null,null,null,null,null,null,null,null,null,null,null,null,null,null,null,null,null,"Compétences spéciales"]
[null,{"$f":"IF(EXPERIENCE_PRELIMINAIRE!V316=EXPERIENCE_PRELIMINAIRE!Q316,\"o\",\"n\")","v":"o"},"Absence +",null,null,null,null,null,null,null,null,null,"(X)",null,"ADA/VOL",null,{"$f":"EXPERIENCE_PRELIMINAIRE!U316","v":-2},null,{"$f":"EXPERIENCE_PRELIMINAIRE!V316","v":"X"},null,null,{"$f":"EXPERIENCE_PRELIMINAIRE!W316","v":"X"},null,null,null,null,{"$f":"IF(EXPERIENCE_PRELIMINAIRE!V326=EXPERIENCE_PRELIMINAIRE!Q326,\"o\",\"n\")","v":"o"},"Hypnose +",null,null,null,null,null,null,null,null,null,"(X)",null,"VOL/PRE",null,null,null,{"$f":"EXPERIENCE_PRELIMINAIRE!U326","v":-2},null,{"$f":"EXPERIENCE_PRELIMINAIRE!V326","v":"X"},null,{"$f":"EXPERIENCE_PRELIMINAIRE!W326","v":"X"}]
[null,{"$f":"IF(EXPERIENCE_PRELIMINAIRE!V317=EXPERIENCE_PRELIMINAIRE!Q317,\"o\",\"n\")","v":"n"},"Adaptation Extérieure +",null,null,null,null,null,null,null,null,null,"(-3)",null,"CON/CON",null,{"$f":"EXPERIENCE_PRELIMINAIRE!U317","v":-2},null,{"$f":"EXPERIENCE_PRELIMINAIRE!V317","v":-3},null,null,{"$f":"EXPERIENCE_PRELIMINAIRE!W317","v":"X"},null,null,null,null,{"$f":"IF(EXPERIENCE_PRELIMINAIRE!V327=EXPERIENCE_PRELIMINAIRE!Q327,\"o\",\"n\")","v":"o"},"Lecture sur les lèvres +",null,null,null,null,null,null,null,null,null,null,null,"INT/PER",null,null,null,{"$f":"EXPERIENCE_PRELIMINAIRE!U327","v":-2},null,{"$f":"EXPERIENCE_PRELIMINAIRE!V327","v":0},null,{"$f":"EXPERIENCE_PRELIMINAIRE!W327","v":"X"}]
[null,{"$f":"IF(EXPERIENCE_PRELIMINAIRE!V318=EXPERIENCE_PRELIMINAIRE!Q318,\"o\",\"n\")","v":"o"},"Agilité caudale +",null,null,null,null,null,null,null,null,null,null,null,"COO/COO",null,{"$f":"EXPERIENCE_PRELIMINAIRE!U318","v":-2},null,{"$f":"EXPERIENCE_PRELIMINAIRE!V318","v":0},null,null,{"$f":"EXPERIENCE_PRELIMINAIRE!W318","v":"X"},null,null,null,null,{"$f":"IF(EXPERIENCE_PRELIMINAIRE!V330=EXPERIENCE_PRELIMINAIRE!Q330,\"o\",\"n\")","v":"o"},"Méditation +",null,null,null,null,null,null,null,null,null,"(X)",null,"VOL/VOL",null,null,null,{"$f":"EXPERIENCE_PRELIMINAIRE!U330","v":-2},null,{"$f":"EXPERIENCE_PRELIMINAIRE!V330","v":"X"},null,{"$f":"EXPERIENCE_PRELIMINAIRE!W330","v":"X"}]
[null,{"$f":"IF(EXPERIENCE_PRELIMINAIRE!V319=EXPERIENCE_PRELIMINAIRE!Q319,\"o\",\"n\")","v":"o"},"Bouclier mental +",null,null,null,null,null,null,null,null,null,"(X)",null,"VOL/VOL",null,{"$f":"EXPERIENCE_PRELIMINAIRE!U319","v":-2},null,{"$f":"EXPERIENCE_PRELIMINAIRE!V319","v":"X"},null,null,{"$f":"EXPERIENCE_PRELIMINAIRE!W319","v":"X"},null,null,null,null,{"$f":"IF(EXPERIENCE_PRELIMINAIRE!V331=EXPERIENCE_PRELIMINAIRE!Q331,\"o\",\"n\")","v":"o"},"Mémoire +",null,null,null,null,null,null,null,null,null,"(X)",null,"INT/VOL",null,null,null,{"$f":"EXPERIENCE_PRELIMINAIRE!U331","v":-2},null,{"$f":"EXPERIENCE_PRELIMINAIRE!V331","v":"X"},null,{"$f":"EXPERIENCE_PRELIMINAIRE!W331","v":"X"}]
[null,{"$f":"IF(EXPERIENCE_PRELIMINAIRE!V320=EXPERIENCE_PRELIMINAIRE!Q320,\"o\",\"n\")","v":"o"},"Contagion +",null,null,null,null,null,null,null,null,null,"(X)",null,"CON/VOL",null,{"$f":"EXPERIENCE_PRELIMINAIRE!U320","v":-2},null,{"$f":"EXPERIENCE_PRELIMINAIRE!V320","v":"X"},null,null,{"$f":"EXPERIENCE_PRELIMINAIRE!W320","v":"X"},null,null,null,null,{"$f":"IF(EXPERIENCE_PRELIMINAIRE!V332=EXPERIENCE_PRELIMINAIRE!Q332,\"o\",\"n\")","v":"o"},"Métamorphose +",null,null,null,null,null,null,null,null,null,"(-3)",null,"CON/VOL",null,null,null,{"$f":"EXPERIENCE_PRELIMINAIRE!U332","v":-2},null,{"$f":"EXPERIENCE_PRELIMINAIRE!V332","v":-3},null,{"$f":"EXPERIENCE_PRELIMINAIRE!W332","v":"X"}]
[null,{"$f":"IF(EXPERIENCE_PRELIMINAIRE!V321=EXPERIENCE_PRELIMINAIRE!Q321,\"o\",\"n\")","v":"o"},"Contrôle corporel +",null,null,null,null,null,null,null,null,null,"(X)",null,"CON/VOL",null,{"$f":"EXPERIENCE_PRELIMINAIRE!U321","v":-2},null,{"$f":"EXPERIENCE_PRELIMINAIRE!V321","v":"X"},null,null,{"$f":"EXPERIENCE_PRELIMINAIRE!W321","v":"X"},null,null,null,null,{"$f":"IF(EXPERIENCE_PRELIMINAIRE!V333=EXPERIENCE_PRELIMINAIRE!Q333,\"o\",\"n\")","v":"o"},"Mimétisme +",null,null,null,null,null,null,null,null,null,"(X)",null,"ADA/INT",null,null,null,{"$f":"EXPERIENCE_PRELIMINAIRE!U333","v":-2},null,{"$f":"EXPERIENCE_PRELIMINAIRE!V333","v":"X"},null,{"$f":"EXPERIENCE_PRELIMINAIRE!W333","v":"X"}]
[null,{"$f":"IF(EXPERIENCE_PRELIMINAIRE!V322=EXPERIENCE_PRELIMINAIRE!Q322,\"o\",\"n\")","v":"o"},"Contrôle mental +",null,null,null,null,null,null,null,null,null,"(X)",null,"INT/VOL",null,{"$f":"EXPERIENCE_PRELIMINAIRE!U322","v":-2},null,{"$f":"EXPERIENCE_PRELIMINAIRE!V322","v":"X"},null,null,{"$f":"EXPERIENCE_PRELIMINAIRE!W322","v":"X"},null,null,null,null,{"$f":"IF(EXPERIENCE_PRELIMINAIRE!V341=EXPERIENCE_PRELIMINAIRE!Q341,\"o\",\"n\")","v":"o"},"Purulence +",null,null,null,null,null,null,null,null,null,"(X)",null,"CON/VOL",null,null,null,{"$f":"EXPERIENCE_PRELIMINAIRE!U341","v":-2},null,{"$f":"EXPERIENCE_PRELIMINAIRE!V341","v":"X"},null,{"$f":"EXPERIENCE_PRELIMINAIRE!W341","v":"X"}]
[null,{"$f":"IF(EXPERIENCE_PRELIMINAIRE!V323=EXPERIENCE_PRELIMINAIRE!Q323,\"o\",\"n\")","v":"o"},"Contrôle moléculaire +",null,null,null,null,null,null,null,null,null,null,null,"CON/VOL",null,{"$f":"EXPERIENCE_PRELIMINAIRE!U323","v":-2},null,{"$f":"EXPERIENCE_PRELIMINAIRE!V323","v":0},null,null,{"$f":"EXPERIENCE_PRELIMINAIRE!W323","v":"X"},null,null,null,null,{"$f":"IF(EXPERIENCE_PRELIMINAIRE!V342=EXPERIENCE_PRELIMINAIRE!Q342,\"o\",\"n\")","v":"o"},"Radiations +",null,null,null,null,null,null,null,null,null,"(-3)",null,"CON/VOL",null,null,null,{"$f":"EXPERIENCE_PRELIMINAIRE!U342","v":-2},null,{"$f":"EXPERIENCE_PRELIMINAIRE!V342","v":-3},null,{"$f":"EXPERIENCE_PRELIMINAIRE!W342","v":"X"}]
[null,{"$f":"IF(EXPERIENCE_PRELIMINAIRE!V324=EXPERIENCE_PRELIMINAIRE!Q324,\"o\",\"n\")","v":"o"},"Empathie +",null,null,null,null,null,null,null,null,null,"(-3)",null,"VOL/PRE",null,{"$f":"EXPERIENCE_PRELIMINAIRE!U324","v":-2},null,{"$f":"EXPERIENCE_PRELIMINAIRE!V324","v":-3},null,null,{"$f":"EXPERIENCE_PRELIMINAIRE!W324","v":"X"},null,null,null,null,{"$f":"IF(EXPERIENCE_PRELIMINAIRE!V343=EXPERIENCE_PRELIMINAIRE!Q343,\"o\",\"n\")","v":"o"},"Sonar +",null,null,null,null,null,null,null,null,null,null,null,"PER/PER",null,null,null,{"$f":"EXPERIENCE_PRELIMINAIRE!U343","v":-2},null,{"$f":"EXPERIENCE_PRELIMINAIRE!V343","v":0},null,{"$f":"EXPERIENCE_PRELIMINAIRE!W343","v":"X"}]
[null,{"$f":"IF(EXPERIENCE_PRELIMINAIRE!W325=\"X\",\"o\",IF(EXPERIENCE_PRELIMINAIRE!V325=EXPERIENCE_PRELIMINAIRE!Q325,\"o\",\"n\"))","v":"o"},"Hybride +",null,null,null,null,null,null,null,null,null,null,null,"CON/COO",null,{"$f":"EXPERIENCE_PRELIMINAIRE!U325","v":-2},null,{"$f":"EXPERIENCE_PRELIMINAIRE!V325","v":-3},null,null,{"$f":"EXPERIENCE_PRELIMINAIRE!W325","v":"X"},null,null,null,null,{"$f":"IF(EXPERIENCE_PRELIMINAIRE!V350=EXPERIENCE_PRELIMINAIRE!Q350,\"o\",\"n\")","v":"o"},"Vision du Flux +",null,null,null,null,null,null,null,null,null,"(X)",null,"PER/VOL",null,null,null,{"$f":"EXPERIENCE_PRELIMINAIRE!U350","v":-2},null,{"$f":"EXPERIENCE_PRELIMINAIRE!V350","v":"X"},null,{"$f":"EXPERIENCE_PRELIMINAIRE!W350","v":"X"}]
[]
[null,"MALADIES & VIRUS (historique)_",null,null,null,null,null,null,null,null,null,null,null,null,"EFFETS SUR LA SANTE_",null,null,null,null,null,null,null,null,null,null,null,null,null,null,null,null,null,null,null,null,null,null,null,null,null,null,null,null,null,null,null,null,"p247-249"]
[null,{"$f":"CONCATENATE(MJ_EXPERIENCE!E92,\" \",MJ_EXPERIENCE!H92)","v":" "},null,null,null,null,null,null,null,null,null,null,null,null,"Irradiation",null,null,null,"Valeur :",null,null,{"$f":"MJ_EXPERIENCE!E98","v":0},null,null,null,null,"Seuil atteint :",null,null,"?",null,null,"Effets :",null,null,null,"TEXTE"]
[null,{"$f":"CONCATENATE(MJ_EXPERIENCE!E93,\" \",MJ_EXPERIENCE!H93)","v":" "},null,null,null,null,null,null,null,null,null,null,null,null,"Narco-dommages",null,null,null,"Valeur :",null,null,{"$f":"MJ_EXPERIENCE!E99","v":0},null,null,null,null,"Seuil atteint :",null,null,"?",null,null,"Effets :",null,null,null,"TEXTE"]
[null,{"$f":"CONCATENATE(MJ_EXPERIENCE!E94,\" \",MJ_EXPERIENCE!H94)","v":" "},null,null,null,null,null,null,null,null,null,null,null,null,"TEXTE",null,null,null,{"$f":"IF($O$46=\"\",\"\",\"Valeur :\")","v":"Valeur :"},null,null,"?",null,null,null,null,{"$f":"IF($O$46=\"\",\"\",\"Seuil atteint :\")","v":"Seuil atteint :"},null,null,"?",null,null,{"$f":"IF($O$46=\"\",\"\",\"Effets :\")","v":"Effets :"},null,null,null,"TEXTE"]
[null,{"$f":"CONCATENATE(MJ_EXPERIENCE!E95,\" \",MJ_EXPERIENCE!H95)","v":" "}]
[null,"TEXTE",null,null,null,null,null,null,null,null,null,null,null,null,"MALADIE / VIRUS / POISON   EN COURS_",null,null,null,null,null,null,null,null,null,null,null,null,null,null,null,null,null,"DROGUE   EN COURS_"]
[null,"TEXTE",null,null,null,null,null,null,null,null,null,null,null,null,"TEXTE",null,null,null,null,null,null,null,null,null,null,null,null,null,null,null,null,null,"TEXTE"]
[null,"TEXTE",null,null,null,null,null,null,null,null,null,null,null,null,"Mode de contamin. :",null,null,null,"TEXTE",null,null,null,null,null,null,null,null,null,null,null,null,null,"Modif. de détection :",null,null,null,null,"TEXTE"]
[null,"TEXTE",null,null,null,null,null,null,null,null,null,null,null,null,"Modif. de détection :",null,null,null,"TEXTE",null,null,null,null,null,null,null,null,null,null,null,null,null,"Délai d'action :",null,null,null,null,"TEXTE"]
[null,"TEXTE",null,null,null,null,null,null,null,null,null,null,null,null,"Modif. de contagion :",null,null,null,"TEXTE",null,null,null,null,null,null,null,null,null,null,null,null,null,"Puissance :",null,null,null,null,"TEXTE"]
[null,"TEXTE",null,null,null,null,null,null,null,null,null,null,null,null,"Période d'incubation :",null,null,null,"TEXTE",null,null,null,null,null,null,null,null,null,null,null,null,null,"Seuils/Effets :",null,null,null,null,5,null,null,null,"TEXTE"]
[null,"TEXTE",null,null,null,null,null,null,null,null,null,null,null,null,"Délai d'action :",null,null,null,"TEXTE",null,null,null,null,null,null,null,null,null,null,null,null,null,null,null,null,null,null,10,null,null,null,"TEXTE"]
[null,null,null,null,null,null,null,null,null,null,null,null,null,null,"Virulence/Evolutions :",null,null,null,"TEXTE",null,null,null,null,null,null,null,null,null,null,null,null,null,null,null,null,null,null,15,null,null,null,"TEXTE"]
[null,"POISONS & DROGUES (possession)_",null,null,null,null,null,null,null,null,null,null,null,null,"Seuils/Effets :",null,null,null,5,null,null,"TEXTE",null,null,null,null,null,null,null,null,null,null,null,null,null,null,null,20,null,null,null,"TEXTE"]
[null,"Nom",null,null,null,null,"Coût",null,null,"Nb. Doses",null,null,null,null,null,null,null,null,10,null,null,"TEXTE",null,null,null,null,null,null,null,null,null,null,null,null,null,null,null,25,null,null,null,"TEXTE"]
[null,"TEXTE",null,null,null,null,"?",null,null,"?",null,null,null,null,null,null,null,null,15,null,null,"TEXTE",null,null,null,null,null,null,null,null,null,null,"Durée :",null,null,null,null,"TEXTE"]
[null,"TEXTE",null,null,null,null,"?",null,null,"?",null,null,null,null,null,null,null,null,20,null,null,"TEXTE",null,null,null,null,null,null,null,null,null,null,"Effets secondaires :",null,null,null,null,"1 à 9",null,null,null,"TEXTE"]
[null,"TEXTE",null,null,null,null,"?",null,null,"?",null,null,null,null,null,null,null,null,25,null,null,"TEXTE",null,null,null,null,null,null,null,null,null,null,"(Marge de…)",null,null,null,null,"10 à 14",null,null,null,"TEXTE"]
[null,"TEXTE",null,null,null,null,"?",null,null,"?",null,null,null,null,null,null,null,null,30,null,null,"TEXTE",null,null,null,null,null,null,null,null,null,null,null,null,null,null,null,"15 et +",null,null,null,"TEXTE"]
[null,"TEXTE",null,null,null,null,"?",null,null,"?",null,null,null,null,"Modif. de diagnostic :",null,null,null,"TEXTE",null,null,null,null,null,null,null,null,null,null,null,null,null,"Manque :",null,null,null,null,"TEXTE"]
[null,"TEXTE",null,null,null,null,"?",null,null,"?",null,null,null,null,"Modif. de guérison :",null,null,null,"TEXTE",null,null,null,null,null,null,null,null,null,null,null,null,null,"Modif.de dépendance :",null,null,null,null,"TEXTE"]
[]
[null,"INFORMATIQUE_",null,null,null,null,null,null,null,null,null,null,null,null,null,null,null,null,null,null,null,null,null,null,null,null,null,null,null,null,null,null,null,null,null,null,null,null,null,null,null,null,null,null,null,null,null,"GT p284"]
[null,"Programme en cours d'écriture :",null,null,null,null,"TEXTE",null,null,null,null,null,null,null,"Fragments maîtres obtenus / requis :",null,null,null,null,null,null,null,null,"? / ?",null,null,null,null,null,"Niveaux de fragment maître dispo. (Av. pro.) :",null,null,null,null,null,null,null,null,null,{"$f":"AVANTAGES_PROFESSIONNELS!N135","v":"0 (aucun niveau allouable)"}]
[null,"Niveau du programme (égal aussi au niveau d'un fragment maître) :",null,null,null,null,"?",null,null,null,null,null,null,null,"Fragments secondaires obtenus / requis :",null,null,null,null,null,null,null,null,"? / ?",null,null,null,null,null,"Niveau d'un fragment maître temporaire :",null,null,null,null,null,null,null,null,null,"?"]
[null,"Points de recherche obtenus :",null,null,null,null,"?",null,null,null,null,null,null,null,"% de finition du programme :",null,null,null,null,null,null,null,null,"? %",null,null,null,null,null,"Risque de dysfonctionnement (sur 2D10) :",null,null,null,null,null,null,null,null,null,"? - ?"]
[null,"Atouts du programme :",null,null,null,null,"TEXTE",null,null,null,null,null,null,null,null,null,null,null,null,null,null,null,null,"Défauts du programme :",null,null,null,null,null,"TEXTE"]
[null,"Virus : Furtivité / Défense :",null,null,null,null,"? / ?",null,null,null,null,null,null,null,"Fonctions particulières (diff. recherche) :",null,null,null,null,null,null,null,null,"TEXTE"]

{"sheet":"EQUIPEMENT","index":17,"n_rows":63,"n_cols":14,"rows_kept":63,"cut":false,"hidden":false,"merged":[[62,7,62,10],[62,2,62,4],[61,7,61,10],[59,7,59,10],[60,7,60,10],[58,7,58,10],[60,2,60,4],[61,2,61,4],[59,2,59,4],[58,2,58,4],[37,10,37,11],[41,4,41,6],[41,8,41,9],[41,10,41,11],[37,7,37,9],[37,1,37,6],[44,1,44,2],[44,4,44,6],[44,8,44,9],[44,10,44,11],[42,8,42,9],[42,10,42,11],[43,1,43,2],[43,4,43,6],[43,8,43,9],[43,10,43,11],[39,1,39,12],[40,1,40,2],[40,4,40,6],[40,8,40,9],[40,10,40,11],[41,1,41,2],[45,1,45,2],[45,4,45,6],[45,8,45,9],[45,10,45,11],[42,1,42,2],[42,4,42,6],[18,4,18,6],[18,8,18,9],[18,10,18,11],[21,1,21,2],[20,4,20,6],[20,8,20,9],[20,1,20,2],[19,4,19,6],[19,8,19,9],[19,10,19,11],[19,1,19,2],[18,1,18,2],[22,4,22,6],[22,8,22,9],[22,10,22,11],[23,4,23,6],[23,8,23,9],[23,10,23,11],[6,16,7,16],[9,2,9,4],[9,5,9,8],[11,1,11,8],[7,5,7,8],[7,2,7,4],[8,2,8,4],[8,5,8,8],[12,10,12,12],[0,0,2,0],[0,13,2,13],[0,1,2,12],[4,1,4,8],[6,6,6,8],[5,1,5,8],[6,1,6,4],[13,10,13,12],[10,2,10,4],[10,5,10,8],[12,1,12,8],[13,1,13,8],[14,10,14,12],[4,10,4,12],[17,1,17,2],[17,4,17,6],[17,8,17,9],[17,10,17,11],[16,1,16,12],[5,11,5,12],[6,10,6,12],[7,10,7,12],[8,10,8,12],[9,10,9,12],[10,10,10,12],[11,10,11,12],[14,1,14,8],[20,10,20,11],[21,4,21,6],[21,8,21,9],[21,10,21,11],[28,10,28,11],[29,10,29,11],[24,10,24,11],[25,4,25,6],[25,8,25,9],[25,10,25,11],[28,4,28,6],[28,8,28,9],[29,4,29,6],[29,8,29,9],[26,4,26,6],[26,8,26,9],[26,10,26,11],[27,4,27,6],[27,8,27,9],[27,10,27,11],[24,4,24,6],[24,8,24,9],[35,1,35,2],[36,1,36,2],[34,1,34,2],[22,1,22,2],[23,1,23,2],[26,1,26,2],[27,1,27,2],[28,1,28,2],[29,1,29,2],[30,1,30,2],[31,1,31,2],[24,1,24,2],[25,1,25,2],[32,1,32,2],[33,1,33,2],[36,10,36,11],[34,10,34,11],[35,4,35,6],[35,8,35,9],[35,10,35,11],[32,10,32,11],[33,10,33,11],[30,10,30,11],[31,10,31,11],[36,4,36,6],[36,8,36,9],[34,4,34,6],[34,8,34,9],[32,4,32,6],[32,8,32,9],[33,4,33,6],[33,8,33,9],[30,4,30,6],[30,8,30,9],[31,4,31,6],[31,8,31,9],[48,1,48,2],[48,4,48,6],[48,8,48,9],[48,10,48,11],[49,1,49,2],[49,4,49,6],[49,8,49,9],[49,10,49,11],[46,1,46,2],[46,4,46,6],[46,8,46,9],[46,10,46,11],[47,1,47,2],[47,4,47,6],[47,8,47,9],[47,10,47,11],[52,1,52,2],[52,4,52,6],[52,8,52,9],[52,10,52,11],[53,1,53,2],[53,4,53,6],[53,8,53,9],[53,10,53,11],[50,1,50,2],[50,4,50,6],[50,8,50,9],[50,10,50,11],[51,1,51,2],[51,4,51,6],[51,8,51,9],[51,10,51,11],[56,1,56,2],[56,4,56,6],[56,8,56,9],[56,10,56,11],[54,1,54,2],[54,4,54,6],[54,8,54,9],[54,10,54,11],[55,1,55,2],[55,4,55,6],[55,8,55,9],[55,10,55,11]]}
[null,"EQUIPEMENT_",null,null,null,null,null,null,null,null,null,null,null,8]
[]
[]
[]
[null,"ORDINATEUR"]
[null,"TYPE DE MATERIEL_",null,null,null,null,null,null,null,null,null,"VETEMENTS & OBJETS PERSONNELS_"]
[null,{"$f":"IF(ACHATS!E105=0,\"\",ACHATS!E105)","v":""},null,null,null,"Poids",{"$f":"IF(ACHATS!W105=0,\"\",ACHATS!W105)","v":""},null,null,null,"TEXTE"]
[null,"Niv. max. des prog.","Gestion systèmes",null,null,"Potentiel",null,null,null,null,"TEXTE"]
[null,{"$f":"IF(ACHATS!M105=0,\"\",ACHATS!M105)","v":""},{"$f":"IF(ACHATS!O105=0,\"\",ACHATS!O105)","v":""},null,null,{"$f":"IF(ACHATS!Q105=0,\"\",ACHATS!Q105)","v":""},null,null,null,null,"TEXTE"]
[null,"NT / Génération","Blindage IEM",null,null,"Intégrité (ITG)",null,null,null,null,"TEXTE"]
[null,{"$f":"IF(ACHATS!AJ106=0,\"\",ACHATS!AJ106)","v":""},{"$f":"IF(ACHATS!S105=0,\"\",ACHATS!S105)","v":""},null,null,{"$f":"IF(ACHATS!AB105=0,\"\",ACHATS!AB105)","v":""},null,null,null,null,"TEXTE"]
[null,"Programmes",null,null,null,null,null,null,null,null,"TEXTE"]
[null,{"$f":"ACHATS!AJ115","v":"             "},null,null,null,null,null,null,null,null,"TEXTE"]
[null,{"$f":"ACHATS!AJ116","v":"             "},null,null,null,null,null,null,null,null,"TEXTE"]
[null,{"$f":"ACHATS!AJ117","v":"             "},null,null,null,null,null,null,null,null,"TEXTE"]
[]
[null,"EQUIPEMENT PORTE"]
[null,"MATERIEL_",null,"Niveau/Bonus","Emplacement",null,null,"Poids","NT",null,"Notes",null,"ITG"]
[null,{"$f":"IF(ACHATS!E46=\"\",\"\",ACHATS!E46)","v":""},null,{"$f":"IF(ACHATS!I46=\"\",\"\",ACHATS!I46)","v":""},{"$f":"IF(ACHATS!K46=\"\",\"\",ACHATS!K46)","v":""},null,null,{"$f":"IF(ACHATS!Q46=\"\",\"\",ACHATS!Q46)","v":""},{"$f":"IF(ACHATS!R46=\"\",\"\",ACHATS!R46)","v":""},null,{"$f":"IF(ACHATS!U46=\"\",\"\",ACHATS!U46)","v":""},null,{"$f":"IF(ACHATS!X46=\"\",\"\",ACHATS!X46)","v":""}]
[null,{"$f":"IF(ACHATS!E47=\"\",\"\",ACHATS!E47)","v":""},null,{"$f":"IF(ACHATS!I47=\"\",\"\",ACHATS!I47)","v":""},{"$f":"IF(ACHATS!K47=\"\",\"\",ACHATS!K47)","v":""},null,null,{"$f":"IF(ACHATS!Q47=\"\",\"\",ACHATS!Q47)","v":""},{"$f":"IF(ACHATS!R47=\"\",\"\",ACHATS!R47)","v":""},null,{"$f":"IF(ACHATS!U47=\"\",\"\",ACHATS!U47)","v":""},null,{"$f":"IF(ACHATS!X47=\"\",\"\",ACHATS!X47)","v":""}]
[null,{"$f":"IF(ACHATS!E48=\"\",\"\",ACHATS!E48)","v":""},null,{"$f":"IF(ACHATS!I48=\"\",\"\",ACHATS!I48)","v":""},{"$f":"IF(ACHATS!K48=\"\",\"\",ACHATS!K48)","v":""},null,null,{"$f":"IF(ACHATS!Q48=\"\",\"\",ACHATS!Q48)","v":""},{"$f":"IF(ACHATS!R48=\"\",\"\",ACHATS!R48)","v":""},null,{"$f":"IF(ACHATS!U48=\"\",\"\",ACHATS!U48)","v":""},null,{"$f":"IF(ACHATS!X48=\"\",\"\",ACHATS!X48)","v":""}]
[null,{"$f":"IF(ACHATS!E49=\"\",\"\",ACHATS!E49)","v":""},null,{"$f":"IF(ACHATS!I49=\"\",\"\",ACHATS!I49)","v":""},{"$f":"IF(ACHATS!K49=\"\",\"\",ACHATS!K49)","v":""},null,null,{"$f":"IF(ACHATS!Q49=\"\",\"\",ACHATS!Q49)","v":""},{"$f":"IF(ACHATS!R49=\"\",\"\",ACHATS!R49)","v":""},null,{"$f":"IF(ACHATS!U49=\"\",\"\",ACHATS!U49)","v":""},null,{"$f":"IF(ACHATS!X49=\"\",\"\",ACHATS!X49)","v":""}]
[null,{"$f":"IF(ACHATS!E50=\"\",\"\",ACHATS!E50)","v":""},null,{"$f":"IF(ACHATS!I50=\"\",\"\",ACHATS!I50)","v":""},{"$f":"IF(ACHATS!K50=\"\",\"\",ACHATS!K50)","v":""},null,null,{"$f":"IF(ACHATS!Q50=\"\",\"\",ACHATS!Q50)","v":""},{"$f":"IF(ACHATS!R50=\"\",\"\",ACHATS!R50)","v":""},null,{"$f":"IF(ACHATS!U50=\"\",\"\",ACHATS!U50)","v":""},null,{"$f":"IF(ACHATS!X50=\"\",\"\",ACHATS!X50)","v":""}]
[null,{"$f":"IF(ACHATS!E51=\"\",\"\",ACHATS!E51)","v":""},null,{"$f":"IF(ACHATS!I51=\"\",\"\",ACHATS!I51)","v":""},{"$f":"IF(ACHATS!K51=\"\",\"\",ACHATS!K51)","v":""},null,null,{"$f":"IF(ACHATS!Q51=\"\",\"\",ACHATS!Q51)","v":""},{"$f":"IF(ACHATS!R51=\"\",\"\",ACHATS!R51)","v":""},null,{"$f":"IF(ACHATS!U51=\"\",\"\",ACHATS!U51)","v":""},null,{"$f":"IF(ACHATS!X51=\"\",\"\",ACHATS!X51)","v":""}]
[null,{"$f":"IF(ACHATS!E52=\"\",\"\",ACHATS!E52)","v":""},null,{"$f":"IF(ACHATS!I52=\"\",\"\",ACHATS!I52)","v":""},{"$f":"IF(ACHATS!K52=\"\",\"\",ACHATS!K52)","v":""},null,null,{"$f":"IF(ACHATS!Q52=\"\",\"\",ACHATS!Q52)","v":""},{"$f":"IF(ACHATS!R52=\"\",\"\",ACHATS!R52)","v":""},null,{"$f":"IF(ACHATS!U52=\"\",\"\",ACHATS!U52)","v":""},null,{"$f":"IF(ACHATS!X52=\"\",\"\",ACHATS!X52)","v":""}]
[null,{"$f":"IF(ACHATS!E53=\"\",\"\",ACHATS!E53)","v":""},null,{"$f":"IF(ACHATS!I53=\"\",\"\",ACHATS!I53)","v":""},{"$f":"IF(ACHATS!K53=\"\",\"\",ACHATS!K53)","v":""},null,null,{"$f":"IF(ACHATS!Q53=\"\",\"\",ACHATS!Q53)","v":""},{"$f":"IF(ACHATS!R53=\"\",\"\",ACHATS!R53)","v":""},null,{"$f":"IF(ACHATS!U53=\"\",\"\",ACHATS!U53)","v":""},null,{"$f":"IF(ACHATS!X53=\"\",\"\",ACHATS!X53)","v":""}]
[null,{"$f":"IF(ACHATS!E54=\"\",\"\",ACHATS!E54)","v":""},null,{"$f":"IF(ACHATS!I54=\"\",\"\",ACHATS!I54)","v":""},{"$f":"IF(ACHATS!K54=\"\",\"\",ACHATS!K54)","v":""},null,null,{"$f":"IF(ACHATS!Q54=\"\",\"\",ACHATS!Q54)","v":""},{"$f":"IF(ACHATS!R54=\"\",\"\",ACHATS!R54)","v":""},null,{"$f":"IF(ACHATS!U54=\"\",\"\",ACHATS!U54)","v":""},null,{"$f":"IF(ACHATS!X54=\"\",\"\",ACHATS!X54)","v":""}]
[null,{"$f":"IF(ACHATS!E55=\"\",\"\",ACHATS!E55)","v":""},null,{"$f":"IF(ACHATS!I55=\"\",\"\",ACHATS!I55)","v":""},{"$f":"IF(ACHATS!K55=\"\",\"\",ACHATS!K55)","v":""},null,null,{"$f":"IF(ACHATS!Q55=\"\",\"\",ACHATS!Q55)","v":""},{"$f":"IF(ACHATS!R55=\"\",\"\",ACHATS!R55)","v":""},null,{"$f":"IF(ACHATS!U55=\"\",\"\",ACHATS!U55)","v":""},null,{"$f":"IF(ACHATS!X55=\"\",\"\",ACHATS!X55)","v":""}]
[null,{"$f":"IF(ACHATS!E56=\"\",\"\",ACHATS!E56)","v":""},null,{"$f":"IF(ACHATS!I56=\"\",\"\",ACHATS!I56)","v":""},{"$f":"IF(ACHATS!K56=\"\",\"\",ACHATS!K56)","v":""},null,null,{"$f":"IF(ACHATS!Q56=\"\",\"\",ACHATS!Q56)","v":""},{"$f":"IF(ACHATS!R56=\"\",\"\",ACHATS!R56)","v":""},null,{"$f":"IF(ACHATS!U56=\"\",\"\",ACHATS!U56)","v":""},null,{"$f":"IF(ACHATS!X56=\"\",\"\",ACHATS!X56)","v":""}]
[null,{"$f":"IF(ACHATS!E57=\"\",\"\",ACHATS!E57)","v":""},null,{"$f":"IF(ACHATS!I57=\"\",\"\",ACHATS!I57)","v":""},{"$f":"IF(ACHATS!K57=\"\",\"\",ACHATS!K57)","v":""},null,null,{"$f":"IF(ACHATS!Q57=\"\",\"\",ACHATS!Q57)","v":""},{"$f":"IF(ACHATS!R57=\"\",\"\",ACHATS!R57)","v":""},null,{"$f":"IF(ACHATS!U57=\"\",\"\",ACHATS!U57)","v":""},null,{"$f":"IF(ACHATS!X57=\"\",\"\",ACHATS!X57)","v":""}]
[null,{"$f":"IF(ACHATS!E58=\"\",\"\",ACHATS!E58)","v":""},null,{"$f":"IF(ACHATS!I58=\"\",\"\",ACHATS!I58)","v":""},{"$f":"IF(ACHATS!K58=\"\",\"\",ACHATS!K58)","v":""},null,null,{"$f":"IF(ACHATS!Q58=\"\",\"\",ACHATS!Q58)","v":""},{"$f":"IF(ACHATS!R58=\"\",\"\",ACHATS!R58)","v":""},null,{"$f":"IF(ACHATS!U58=\"\",\"\",ACHATS!U58)","v":""},null,{"$f":"IF(ACHATS!X58=\"\",\"\",ACHATS!X58)","v":""}]
[null,{"$f":"IF(ACHATS!E59=\"\",\"\",ACHATS!E59)","v":""},null,{"$f":"IF(ACHATS!I59=\"\",\"\",ACHATS!I59)","v":""},{"$f":"IF(ACHATS!K59=\"\",\"\",ACHATS!K59)","v":""},null,null,{"$f":"IF(ACHATS!Q59=\"\",\"\",ACHATS!Q59)","v":""},{"$f":"IF(ACHATS!R59=\"\",\"\",ACHATS!R59)","v":""},null,{"$f":"IF(ACHATS!U59=\"\",\"\",ACHATS!U59)","v":""},null,{"$f":"IF(ACHATS!X59=\"\",\"\",ACHATS!X59)","v":""}]
[null,{"$f":"IF(ACHATS!E60=\"\",\"\",ACHATS!E60)","v":""},null,{"$f":"IF(ACHATS!I60=\"\",\"\",ACHATS!I60)","v":""},{"$f":"IF(ACHATS!K60=\"\",\"\",ACHATS!K60)","v":""},null,null,{"$f":"IF(ACHATS!Q60=\"\",\"\",ACHATS!Q60)","v":""},{"$f":"IF(ACHATS!R60=\"\",\"\",ACHATS!R60)","v":""},null,{"$f":"IF(ACHATS!U60=\"\",\"\",ACHATS!U60)","v":""},null,{"$f":"IF(ACHATS!X60=\"\",\"\",ACHATS!X60)","v":""}]
[null,{"$f":"IF(ACHATS!E61=\"\",\"\",ACHATS!E61)","v":""},null,{"$f":"IF(ACHATS!I61=\"\",\"\",ACHATS!I61)","v":""},{"$f":"IF(ACHATS!K61=\"\",\"\",ACHATS!K61)","v":""},null,null,{"$f":"IF(ACHATS!Q61=\"\",\"\",ACHATS!Q61)","v":""},{"$f":"IF(ACHATS!R61=\"\",\"\",ACHATS!R61)","v":""},null,{"$f":"IF(ACHATS!U61=\"\",\"\",ACHATS!U61)","v":""},null,{"$f":"IF(ACHATS!X61=\"\",\"\",ACHATS!X61)","v":""}]
[null,{"$f":"IF(ACHATS!E62=\"\",\"\",ACHATS!E62)","v":""},null,{"$f":"IF(ACHATS!I62=\"\",\"\",ACHATS!I62)","v":""},{"$f":"IF(ACHATS!K62=\"\",\"\",ACHATS!K62)","v":""},null,null,{"$f":"IF(ACHATS!Q62=\"\",\"\",ACHATS!Q62)","v":""},{"$f":"IF(ACHATS!R62=\"\",\"\",ACHATS!R62)","v":""},null,{"$f":"IF(ACHATS!U62=\"\",\"\",ACHATS!U62)","v":""},null,{"$f":"IF(ACHATS!X62=\"\",\"\",ACHATS!X62)","v":""}]
[null,{"$f":"IF(ACHATS!E63=\"\",\"\",ACHATS!E63)","v":""},null,{"$f":"IF(ACHATS!I63=\"\",\"\",ACHATS!I63)","v":""},{"$f":"IF(ACHATS!K63=\"\",\"\",ACHATS!K63)","v":""},null,null,{"$f":"IF(ACHATS!Q63=\"\",\"\",ACHATS!Q63)","v":""},{"$f":"IF(ACHATS!R63=\"\",\"\",ACHATS!R63)","v":""},null,{"$f":"IF(ACHATS!U63=\"\",\"\",ACHATS!U63)","v":""},null,{"$f":"IF(ACHATS!X63=\"\",\"\",ACHATS!X63)","v":""}]
[null,{"$f":"IF(ACHATS!E64=\"\",\"\",ACHATS!E64)","v":""},null,{"$f":"IF(ACHATS!I64=\"\",\"\",ACHATS!I64)","v":""},{"$f":"IF(ACHATS!K64=\"\",\"\",ACHATS!K64)","v":""},null,null,{"$f":"IF(ACHATS!Q64=\"\",\"\",ACHATS!Q64)","v":""},{"$f":"IF(ACHATS!R64=\"\",\"\",ACHATS!R64)","v":""},null,{"$f":"IF(ACHATS!U64=\"\",\"\",ACHATS!U64)","v":""},null,{"$f":"IF(ACHATS!X64=\"\",\"\",ACHATS!X64)","v":""}]
[null,"Poids total (avec armure légère, implants, ordinateur; armes à part) :",null,null,null,null,null,{"$f":"ACHATS!AT81","v":0},null,null,"Poids admissible :",null,{"$f":"ACHATS!AT83","v":12}]
[]
[null,"EQUIPEMENT ENTREPOSE"]
[null,"MATERIEL_",null,"Niveau/Bonus","Emplacement",null,null,"Poids","NT",null,"Notes",null,"ITG"]
[null,{"$f":"IF(ACHATS!E69=\"\",\"\",ACHATS!E69)","v":""},null,{"$f":"IF(ACHATS!I69=\"\",\"\",ACHATS!I69)","v":""},{"$f":"IF(ACHATS!K69=\"\",\"\",ACHATS!K69)","v":""},null,null,{"$f":"IF(ACHATS!Q69=\"\",\"\",ACHATS!Q69)","v":""},{"$f":"IF(ACHATS!R69=\"\",\"\",ACHATS!R69)","v":""},null,{"$f":"IF(ACHATS!U69=\"\",\"\",ACHATS!U69)","v":""},null,{"$f":"IF(ACHATS!X69=\"\",\"\",ACHATS!X69)","v":""}]
[null,{"$f":"IF(ACHATS!E70=\"\",\"\",ACHATS!E70)","v":""},null,{"$f":"IF(ACHATS!I70=\"\",\"\",ACHATS!I70)","v":""},{"$f":"IF(ACHATS!K70=\"\",\"\",ACHATS!K70)","v":""},null,null,{"$f":"IF(ACHATS!Q70=\"\",\"\",ACHATS!Q70)","v":""},{"$f":"IF(ACHATS!R70=\"\",\"\",ACHATS!R70)","v":""},null,{"$f":"IF(ACHATS!U70=\"\",\"\",ACHATS!U70)","v":""},null,{"$f":"IF(ACHATS!X70=\"\",\"\",ACHATS!X70)","v":""}]
[null,{"$f":"IF(ACHATS!E71=\"\",\"\",ACHATS!E71)","v":""},null,{"$f":"IF(ACHATS!I71=\"\",\"\",ACHATS!I71)","v":""},{"$f":"IF(ACHATS!K71=\"\",\"\",ACHATS!K71)","v":""},null,null,{"$f":"IF(ACHATS!Q71=\"\",\"\",ACHATS!Q71)","v":""},{"$f":"IF(ACHATS!R71=\"\",\"\",ACHATS!R71)","v":""},null,{"$f":"IF(ACHATS!U71=\"\",\"\",ACHATS!U71)","v":""},null,{"$f":"IF(ACHATS!X71=\"\",\"\",ACHATS!X71)","v":""}]
[null,{"$f":"IF(ACHATS!E72=\"\",\"\",ACHATS!E72)","v":""},null,{"$f":"IF(ACHATS!I72=\"\",\"\",ACHATS!I72)","v":""},{"$f":"IF(ACHATS!K72=\"\",\"\",ACHATS!K72)","v":""},null,null,{"$f":"IF(ACHATS!Q72=\"\",\"\",ACHATS!Q72)","v":""},{"$f":"IF(ACHATS!R72=\"\",\"\",ACHATS!R72)","v":""},null,{"$f":"IF(ACHATS!U72=\"\",\"\",ACHATS!U72)","v":""},null,{"$f":"IF(ACHATS!X72=\"\",\"\",ACHATS!X72)","v":""}]
[null,{"$f":"IF(ACHATS!E73=\"\",\"\",ACHATS!E73)","v":""},null,{"$f":"IF(ACHATS!I73=\"\",\"\",ACHATS!I73)","v":""},{"$f":"IF(ACHATS!K73=\"\",\"\",ACHATS!K73)","v":""},null,null,{"$f":"IF(ACHATS!Q73=\"\",\"\",ACHATS!Q73)","v":""},{"$f":"IF(ACHATS!R73=\"\",\"\",ACHATS!R73)","v":""},null,{"$f":"IF(ACHATS!U73=\"\",\"\",ACHATS!U73)","v":""},null,{"$f":"IF(ACHATS!X73=\"\",\"\",ACHATS!X73)","v":""}]
[null,{"$f":"IF(ACHATS!E74=\"\",\"\",ACHATS!E74)","v":""},null,{"$f":"IF(ACHATS!I74=\"\",\"\",ACHATS!I74)","v":""},{"$f":"IF(ACHATS!K74=\"\",\"\",ACHATS!K74)","v":""},null,null,{"$f":"IF(ACHATS!Q74=\"\",\"\",ACHATS!Q74)","v":""},{"$f":"IF(ACHATS!R74=\"\",\"\",ACHATS!R74)","v":""},null,{"$f":"IF(ACHATS!U74=\"\",\"\",ACHATS!U74)","v":""},null,{"$f":"IF(ACHATS!X74=\"\",\"\",ACHATS!X74)","v":""}]
[null,{"$f":"IF(ACHATS!E75=\"\",\"\",ACHATS!E75)","v":""},null,{"$f":"IF(ACHATS!I75=\"\",\"\",ACHATS!I75)","v":""},{"$f":"IF(ACHATS!K75=\"\",\"\",ACHATS!K75)","v":""},null,null,{"$f":"IF(ACHATS!Q75=\"\",\"\",ACHATS!Q75)","v":""},{"$f":"IF(ACHATS!R75=\"\",\"\",ACHATS!R75)","v":""},null,{"$f":"IF(ACHATS!U75=\"\",\"\",ACHATS!U75)","v":""},null,{"$f":"IF(ACHATS!X75=\"\",\"\",ACHATS!X75)","v":""}]
[null,{"$f":"IF(ACHATS!E76=\"\",\"\",ACHATS!E76)","v":""},null,{"$f":"IF(ACHATS!I76=\"\",\"\",ACHATS!I76)","v":""},{"$f":"IF(ACHATS!K76=\"\",\"\",ACHATS!K76)","v":""},null,null,{"$f":"IF(ACHATS!Q76=\"\",\"\",ACHATS!Q76)","v":""},{"$f":"IF(ACHATS!R76=\"\",\"\",ACHATS!R76)","v":""},null,{"$f":"IF(ACHATS!U76=\"\",\"\",ACHATS!U76)","v":""},null,{"$f":"IF(ACHATS!X76=\"\",\"\",ACHATS!X76)","v":""}]
[null,{"$f":"IF(ACHATS!E77=\"\",\"\",ACHATS!E77)","v":""},null,{"$f":"IF(ACHATS!I77=\"\",\"\",ACHATS!I77)","v":""},{"$f":"IF(ACHATS!K77=\"\",\"\",ACHATS!K77)","v":""},null,null,{"$f":"IF(ACHATS!Q77=\"\",\"\",ACHATS!Q77)","v":""},{"$f":"IF(ACHATS!R77=\"\",\"\",ACHATS!R77)","v":""},null,{"$f":"IF(ACHATS!U77=\"\",\"\",ACHATS!U77)","v":""},null,{"$f":"IF(ACHATS!X77=\"\",\"\",ACHATS!X77)","v":""}]
[null,{"$f":"IF(ACHATS!E78=\"\",\"\",ACHATS!E78)","v":""},null,{"$f":"IF(ACHATS!I78=\"\",\"\",ACHATS!I78)","v":""},{"$f":"IF(ACHATS!K78=\"\",\"\",ACHATS!K78)","v":""},null,null,{"$f":"IF(ACHATS!Q78=\"\",\"\",ACHATS!Q78)","v":""},{"$f":"IF(ACHATS!R78=\"\",\"\",ACHATS!R78)","v":""},null,{"$f":"IF(ACHATS!U78=\"\",\"\",ACHATS!U78)","v":""},null,{"$f":"IF(ACHATS!X78=\"\",\"\",ACHATS!X78)","v":""}]
[null,{"$f":"IF(ACHATS!E79=\"\",\"\",ACHATS!E79)","v":""},null,{"$f":"IF(ACHATS!I79=\"\",\"\",ACHATS!I79)","v":""},{"$f":"IF(ACHATS!K79=\"\",\"\",ACHATS!K79)","v":""},null,null,{"$f":"IF(ACHATS!Q79=\"\",\"\",ACHATS!Q79)","v":""},{"$f":"IF(ACHATS!R79=\"\",\"\",ACHATS!R79)","v":""},null,{"$f":"IF(ACHATS!U79=\"\",\"\",ACHATS!U79)","v":""},null,{"$f":"IF(ACHATS!X79=\"\",\"\",ACHATS!X79)","v":""}]
[null,{"$f":"IF(ACHATS!E80=\"\",\"\",ACHATS!E80)","v":""},null,{"$f":"IF(ACHATS!I80=\"\",\"\",ACHATS!I80)","v":""},{"$f":"IF(ACHATS!K80=\"\",\"\",ACHATS!K80)","v":""},null,null,{"$f":"IF(ACHATS!Q80=\"\",\"\",ACHATS!Q80)","v":""},{"$f":"IF(ACHATS!R80=\"\",\"\",ACHATS!R80)","v":""},null,{"$f":"IF(ACHATS!U80=\"\",\"\",ACHATS!U80)","v":""},null,{"$f":"IF(ACHATS!X80=\"\",\"\",ACHATS!X80)","v":""}]
[null,{"$f":"IF(ACHATS!E81=\"\",\"\",ACHATS!E81)","v":""},null,{"$f":"IF(ACHATS!I81=\"\",\"\",ACHATS!I81)","v":""},{"$f":"IF(ACHATS!K81=\"\",\"\",ACHATS!K81)","v":""},null,null,{"$f":"IF(ACHATS!Q81=\"\",\"\",ACHATS!Q81)","v":""},{"$f":"IF(ACHATS!R81=\"\",\"\",ACHATS!R81)","v":""},null,{"$f":"IF(ACHATS!U81=\"\",\"\",ACHATS!U81)","v":""},null,{"$f":"IF(ACHATS!X81=\"\",\"\",ACHATS!X81)","v":""}]
[null,{"$f":"IF(ACHATS!E82=\"\",\"\",ACHATS!E82)","v":""},null,{"$f":"IF(ACHATS!I82=\"\",\"\",ACHATS!I82)","v":""},{"$f":"IF(ACHATS!K82=\"\",\"\",ACHATS!K82)","v":""},null,null,{"$f":"IF(ACHATS!Q82=\"\",\"\",ACHATS!Q82)","v":""},{"$f":"IF(ACHATS!R82=\"\",\"\",ACHATS!R82)","v":""},null,{"$f":"IF(ACHATS!U82=\"\",\"\",ACHATS!U82)","v":""},null,{"$f":"IF(ACHATS!X82=\"\",\"\",ACHATS!X82)","v":""}]
[null,{"$f":"IF(ACHATS!E83=\"\",\"\",ACHATS!E83)","v":""},null,{"$f":"IF(ACHATS!I83=\"\",\"\",ACHATS!I83)","v":""},{"$f":"IF(ACHATS!K83=\"\",\"\",ACHATS!K83)","v":""},null,null,{"$f":"IF(ACHATS!Q83=\"\",\"\",ACHATS!Q83)","v":""},{"$f":"IF(ACHATS!R83=\"\",\"\",ACHATS!R83)","v":""},null,{"$f":"IF(ACHATS!U83=\"\",\"\",ACHATS!U83)","v":""},null,{"$f":"IF(ACHATS!X83=\"\",\"\",ACHATS!X83)","v":""}]
[null,{"$f":"IF(ACHATS!E84=\"\",\"\",ACHATS!E84)","v":""},null,{"$f":"IF(ACHATS!I84=\"\",\"\",ACHATS!I84)","v":""},{"$f":"IF(ACHATS!K84=\"\",\"\",ACHATS!K84)","v":""},null,null,{"$f":"IF(ACHATS!Q84=\"\",\"\",ACHATS!Q84)","v":""},{"$f":"IF(ACHATS!R84=\"\",\"\",ACHATS!R84)","v":""},null,{"$f":"IF(ACHATS!U84=\"\",\"\",ACHATS!U84)","v":""},null,{"$f":"IF(ACHATS!X84=\"\",\"\",ACHATS!X84)","v":""}]
[]
[null,"Finances_","Note",null,null,"Valeur",null,"Autres biens_",null,null,null,"Description","Valeur"]
[null,"Economies","TEXTE",null,null,{"$f":"ACHATS!F14","v":0},null,"Objets d'art",null,null,null,"TEXTE",{"$f":"ACHATS!U13","v":0}]
[null,"Dettes","TEXTE",null,null,{"$f":"ACHATS!K14","v":0},null,"Reliques / butin",null,null,null,"TEXTE",{"$f":"ACHATS!U14","v":0}]
[null,"Bénéfices mensuels","TEXTE",null,null,{"$f":"ACHATS!AA12","v":0},null,"Stock de marchandises",null,null,null,"TEXTE",{"$f":"ACHATS!U15","v":0}]
[null,"Rente mensuelle","TEXTE",null,null,{"$f":"ACHATS!U18","v":0},null,"Parts : matériel/mois",null,null,null,"TEXTE",{"$f":"ACHATS!U17","v":0}]

{"sheet":"ARMURE_MECANISEE","index":18,"n_rows":67,"n_cols":37,"rows_kept":67,"cut":false,"hidden":false,"merged":[[17,1,17,5],[17,6,17,8],[18,1,18,5],[18,6,18,8],[40,18,40,24],[35,16,35,17],[39,16,39,17],[40,16,40,17],[40,2,40,14],[36,16,36,17],[37,16,37,17],[38,16,38,17],[36,18,36,24],[37,18,37,24],[38,18,38,24],[38,2,39,14],[29,16,29,17],[29,18,29,24],[39,18,39,24],[25,16,25,17],[25,18,25,24],[23,16,23,17],[23,18,23,24],[26,8,26,11],[66,27,66,28],[66,23,66,26],[66,20,66,22],[40,34,40,35],[35,27,35,33],[39,27,39,33],[40,27,40,33],[35,25,35,26],[39,25,39,26],[40,25,40,26],[36,25,36,26],[37,25,37,26],[38,25,38,26],[36,27,36,33],[37,27,37,33],[38,27,38,33],[36,34,36,35],[37,34,37,35],[38,34,38,35],[61,33,61,34],[56,33,56,34],[42,34,42,35],[61,25,61,32],[62,25,62,32],[26,5,26,7],[27,5,27,7],[32,3,32,12],[35,34,35,35],[39,34,39,35],[65,10,65,12],[66,10,66,12],[65,13,65,14],[66,13,66,14],[65,15,65,19],[66,15,66,19],[65,1,65,3],[66,1,66,3],[65,4,65,6],[66,4,66,6],[65,7,65,9],[66,7,66,9],[65,20,65,22],[65,23,65,26],[65,27,65,28],[65,29,65,31],[65,32,65,35],[66,32,66,35],[66,29,66,31],[62,1,62,5],[62,6,62,8],[62,33,62,34],[61,1,61,5],[61,6,61,8],[61,9,61,10],[64,1,64,35],[12,21,12,34],[12,17,12,20],[20,5,21,7],[46,1,46,10],[48,5,48,10],[50,5,50,10],[49,5,49,10],[47,5,47,10],[25,1,25,4],[26,1,26,4],[27,1,27,4],[30,3,30,12],[23,5,23,7],[22,5,22,7],[24,5,24,7],[25,5,25,7],[58,33,58,34],[60,1,60,5],[60,6,60,8],[60,33,60,34],[58,1,58,5],[58,6,58,8],[58,9,58,10],[59,1,59,5],[59,6,59,8],[59,9,59,10],[59,33,59,34],[58,13,58,16],[59,13,59,16],[60,13,60,16],[58,11,58,12],[59,11,59,12],[60,11,60,12],[58,17,58,19],[59,17,59,19],[60,17,60,19],[58,25,58,32],[59,25,59,32],[60,25,60,32],[57,1,57,5],[57,6,57,8],[57,33,57,34],[56,1,56,5],[56,6,56,8],[56,9,56,10],[56,11,56,12],[57,11,57,12],[56,20,56,21],[56,25,56,32],[57,25,57,32],[57,20,57,21],[56,17,56,19],[56,13,56,16],[57,13,57,16],[57,17,57,19],[54,1,54,14],[54,16,54,17],[54,18,54,24],[54,25,54,26],[54,27,54,33],[54,34,54,35],[53,1,53,14],[53,16,53,17],[53,18,53,24],[53,25,53,26],[53,27,53,33],[53,34,53,35],[52,1,52,14],[52,16,52,17],[52,18,52,24],[52,25,52,26],[52,27,52,33],[52,34,52,35],[50,27,50,33],[50,34,50,35],[51,1,51,14],[51,16,51,17],[51,18,51,24],[51,25,51,26],[51,27,51,33],[51,34,51,35],[50,1,50,4],[50,11,50,14],[50,16,50,17],[50,18,50,24],[50,25,50,26],[49,11,49,14],[49,16,49,17],[49,18,49,24],[49,25,49,26],[49,27,49,33],[49,34,49,35],[48,11,48,14],[48,16,48,17],[48,18,48,24],[48,25,48,26],[48,1,48,4],[46,27,46,33],[46,34,46,35],[47,11,47,14],[47,16,47,17],[47,18,47,24],[47,25,47,26],[47,27,47,33],[47,34,47,35],[46,11,46,12],[46,13,46,14],[46,16,46,17],[46,18,46,24],[46,25,46,26],[47,1,47,4],[48,27,48,33],[48,34,48,35],[41,2,41,14],[41,16,41,17],[41,18,41,24],[41,25,41,26],[41,27,41,33],[41,34,41,35],[44,34,44,35],[45,1,45,14],[45,16,45,17],[45,18,45,24],[45,25,45,26],[45,27,45,33],[45,34,45,35],[43,16,43,17],[43,18,43,24],[43,25,43,26],[43,27,43,33],[43,34,43,35],[44,1,44,14],[44,16,44,17],[44,18,44,24],[44,25,44,26],[44,27,44,33],[49,1,49,4],[57,9,57,10],[60,9,60,10],[32,16,32,17],[32,18,32,24],[32,25,32,26],[32,27,32,33],[32,34,32,35],[62,9,62,10],[34,16,34,17],[34,18,34,24],[34,25,34,26],[34,27,34,33],[34,34,34,35],[33,16,33,17],[33,18,33,24],[33,25,33,26],[33,27,33,33],[33,34,33,35],[42,2,42,14],[42,16,42,17],[42,18,42,24],[42,25,42,26],[42,27,42,33],[29,34,29,35],[30,16,30,17],[30,18,30,24],[30,25,30,26],[30,27,30,33],[36,1,36,2],[35,13,35,14],[36,13,36,14],[35,1,35,2],[35,3,35,12],[36,3,36,12],[30,34,30,35],[35,18,35,24],[34,1,34,2],[25,34,25,35],[33,13,33,14],[34,13,34,14],[33,1,33,2],[33,3,33,12],[34,3,34,12],[28,16,28,17],[28,18,28,24],[28,25,28,26],[28,27,28,33],[28,34,28,35],[26,34,26,35],[27,16,27,17],[27,18,27,24],[27,25,27,26],[27,27,27,33],[27,34,27,35],[26,16,26,17],[26,18,26,24],[32,1,32,2],[27,8,27,11],[25,12,25,14],[29,25,29,26],[29,27,29,33],[23,34,23,35],[31,13,31,14],[32,13,32,14],[31,1,31,2],[31,3,31,12],[29,1,29,14],[30,1,30,2],[26,27,26,33],[24,34,24,35],[24,16,24,17],[24,18,24,24],[24,25,24,26],[24,27,24,33],[26,25,26,26],[31,16,31,17],[31,18,31,24],[31,25,31,26],[31,27,31,33],[31,34,31,35],[30,13,30,14],[27,12,27,14],[25,8,25,11],[25,25,25,26],[25,27,25,33],[26,12,26,14],[23,8,23,11],[23,12,23,14],[24,8,24,11],[24,12,24,14],[13,22,13,27],[13,17,13,21],[14,17,14,21],[14,22,14,27],[23,25,23,26],[23,27,23,33],[12,1,12,5],[12,6,12,8],[15,9,15,12],[15,13,15,14],[16,9,16,14],[13,1,13,5],[13,6,13,8],[13,9,13,12],[13,13,13,14],[14,9,14,14],[12,9,12,14],[14,1,14,5],[14,6,14,8],[15,1,15,5],[15,6,15,8],[23,1,23,4],[24,1,24,4],[22,8,22,11],[22,12,22,14],[15,17,15,19],[22,1,22,4],[20,8,21,11],[20,12,21,14],[20,1,21,4],[17,9,17,12],[17,13,17,14],[21,16,21,35],[22,34,22,35],[22,16,22,17],[22,18,22,24],[22,25,22,26],[22,27,22,33],[18,9,18,14],[18,17,18,34],[15,20,15,34],[17,17,17,34],[16,17,16,34],[16,1,16,5],[16,6,16,8],[0,0,2,0],[0,1,2,35],[0,36,2,36],[3,1,4,14],[5,17,6,34],[9,9,9,12],[9,13,9,14],[9,17,9,26],[9,27,9,34],[7,31,7,34],[8,1,8,14],[5,1,5,14],[6,1,6,14],[9,1,9,5],[9,6,9,8],[5,39,6,39],[11,17,11,26],[11,27,11,34],[11,1,11,5],[11,6,11,8],[10,17,10,26],[10,27,10,34],[8,31,8,34],[7,22,7,29],[8,22,8,29],[8,17,8,21],[7,17,7,21],[10,9,10,14],[11,9,11,12],[11,13,11,14],[10,6,10,8],[10,1,10,5],[61,17,61,19],[62,17,62,19],[57,22,57,24],[58,22,58,24],[59,22,59,24],[60,22,60,24],[61,22,61,24],[62,22,62,24],[61,11,61,12],[62,11,62,12],[58,20,58,21],[59,20,59,21],[60,20,60,21],[61,20,61,21],[62,20,62,21],[61,13,61,16],[62,13,62,16]]}
[null,"ARMURE MECANISEE_",null,null,null,null,null,null,null,null,null,null,null,null,null,null,null,null,null,null,null,null,null,null,null,null,null,null,null,null,null,null,null,null,null,null,9]
[]
[]
[null,"TYPE D'ARMURE_"]
[]
[null,{"$f":"IF(ACHATS!E136=\"\",\"\",ACHATS!E136)","v":""},null,null,null,null,null,null,null,null,null,null,null,null,null,null,null,"INFORMATIONS SUR L'ARMURE_"]
[null,{"$f":"IF(ACHATS!T136=\"\",\"\",ACHATS!T136)","v":""}]
[null,null,null,null,null,null,null,null,null,null,null,null,null,null,null,null,null,"Catégorie :",null,null,null,null,{"$f":"IF(ACHATS!I136=\"\",\"\",ACHATS!I136)","v":""},null,null,null,null,null,null,null,"NT :",{"$f":"IF(ACHATS!S136=\"\",\"\",ACHATS!S136)","v":""}]
[null,"ATTRIBUTS DE L'ARMURE_",null,null,null,null,null,null,null,null,null,null,null,null,null,null,null,"Echelle / Taille :",null,null,null,null,{"$f":"IF(ACHATS!K136=\"\",\"\",ACHATS!K136)","v":""},null,null,null,null,null,null,null,"Poids :",{"$f":"IF(ACHATS!Q136=\"\",\"\",ACHATS!Q136)","v":""}]
[null,"Résistance aux dom.",null,null,null,null,{"$f":"IF(ACHATS!E144=\"\",\"\",ACHATS!E144)","v":""},null,null,"Vitesse / VIT (PM)",null,null,null,{"$f":"IF(ACHATS!E148=\"\",\"\",ACHATS!E148)","v":""},null,null,null,"Profondeur (Optimale) :",null,null,null,null,null,null,null,null,null,{"$f":"IF(ACHATS!E140=\"\",\"\",ACHATS!E140)","v":""}]
[null,"Modif. test d'intégrité",null,null,null,null,{"$f":"IF(ACHATS!G144=\"\",\"\",ACHATS!G144)","v":""},null,null,{"$f":"IF(ACHATS!E150=\"\",\"\",ACHATS!E150)","v":""},null,null,null,null,null,null,null,"Profondeur (Limite) :",null,null,null,null,null,null,null,null,null,{"$f":"IF(ACHATS!G140=\"\",\"\",ACHATS!G140)","v":""}]
[null,"Blindage",null,null,null,null,{"$f":"IF(ACHATS!I144=\"\",\"\",ACHATS!I144)","v":""},null,null,"Vitesse / VIT (PM)",null,null,null,{"$f":"IF(ACHATS!G148=\"\",\"\",ACHATS!G148)","v":""},null,null,null,"Profondeur (Ecrasement) :",null,null,null,null,null,null,null,null,null,{"$f":"IF(ACHATS!I140=\"\",\"\",ACHATS!I140)","v":""}]
[null,"Blindage visière (volet)",null,null,null,null,{"$f":"IF(ACHATS!K144=\"\",\"\",ACHATS!K144)","v":""},null,null,{"$f":"IF(ACHATS!G150=\"\",\"\",ACHATS!G150)","v":""},null,null,null,null,null,null,null,"Autonomie :",null,null,null,{"$f":"IF(ACHATS!K140=\"\",\"\",ACHATS!K140)","v":""}]
[null,"Exo-Force",null,null,null,null,{"$f":"IF(ACHATS!M144=\"\",\"\",ACHATS!M144)","v":""},null,null,"Vitesse / VIT (PM)",null,null,null,{"$f":"IF(ACHATS!I148=\"\",\"\",ACHATS!I148)","v":""},null,null,null,"• Malus de saisie :",null,null,null,null,{"$f":"IF(ACHATS!N140=\"\",\"\",ACHATS!N140)","v":""}]
[null,"Poids soulevable",null,null,null,null,{"$f":"IF(ACHATS!O144=\"\",\"\",ACHATS!O144)","v":""},null,null,{"$f":"IF(ACHATS!I150=\"\",\"\",ACHATS!I150)","v":""},null,null,null,null,null,null,null,"• Armure à terre :",null,null,null,null,{"$f":"IF(ACHATS!P140=\"\",\"\",ACHATS!P140)","v":""}]
[null,"Modif. de dom. H",null,null,null,null,{"$f":"IF(ACHATS!Q144=\"\",\"\",ACHATS!Q144)","v":""},null,null,"Malus d'initiative",null,null,null,{"$f":"IF(ACHATS!K148=\"\",\"\",ACHATS!K148)","v":""},null,null,null,"Notes :",null,null,{"$f":"IF(ACHATS!V136=\"\",\"\",ACHATS!V136)","v":""}]
[null,"Modif. de dom. V-",null,null,null,null,{"$f":"IF(ACHATS!S144=\"\",\"\",ACHATS!S144)","v":""},null,null,{"$f":"IF(ACHATS!K150=\"\",\"\",ACHATS!K150)","v":""},null,null,null,null,null,null,null,{"$f":"IF(ACHATS!V137=\"\",\"\",ACHATS!V137)","v":""}]
[null,"Bonus dom. au contact H",null,null,null,null,{"$f":"IF(ACHATS!U144=\"\",\"\",ACHATS!U144)","v":""},null,null,"Malus d'initiative",null,null,null,{"$f":"IF(ACHATS!M148=\"\",\"\",ACHATS!M148)","v":""},null,null,null,{"$f":"IF(ACHATS!V138=\"\",\"\",ACHATS!V138)","v":""}]
[null,"Dom. base \"Mains nues\"",null,null,null,null,{"$f":"IF(ACHATS!W144=\"\",\"\",ACHATS!W144)","v":""},null,null,{"$f":"IF(ACHATS!M150=\"\",\"\",ACHATS!M150)","v":""},null,null,null,null,null,null,null,{"$f":"IF(ACHATS!V139=\"\",\"\",ACHATS!V139)","v":""}]
[]
[null,"DOMMAGES_",null,null,null,"Avaries",null,null,"Modificateur d'incident",null,null,null,"Perte définitive d'ITG (structure)"]
[null,null,null,null,null,null,null,null,null,null,null,null,null,null,null,null,"SYSTEMES AUXILIAIRES"]
[null,"Légers (5)",null,null,null," oooo",null,null,"-",null,null,null,"-",null,null,null,"N°",null,"MATERIEL_",null,null,null,null,null,null,"Niv.",null,"Description",null,null,null,null,null,null,"ITG"]
[null,"Moyens (10)",null,null,null," oooo",null,null,"+ 2",null,null,null,"-",null,null,null,1,null,{"$f":"IF(ACHATS!E155=\"\",\"\",ACHATS!E155)","v":""},null,null,null,null,null,null,{"$f":"IF(ACHATS!I155=\"\",\"\",ACHATS!I155)","v":""},null,{"$f":"IF(ACHATS!S155=\"\",\"\",ACHATS!S155)","v":""},null,null,null,null,null,null,{"$f":"IF(ACHATS!V155=\"\",\"\",ACHATS!V155)","v":""}]
[null,"Graves (15)",null,null,null," ooo",null,null,"+ 4",null,null,null,"-",null,null,null,2,null,{"$f":"IF(ACHATS!E156=\"\",\"\",ACHATS!E156)","v":""},null,null,null,null,null,null,{"$f":"IF(ACHATS!I156=\"\",\"\",ACHATS!I156)","v":""},null,{"$f":"IF(ACHATS!S156=\"\",\"\",ACHATS!S156)","v":""},null,null,null,null,null,null,{"$f":"IF(ACHATS!V156=\"\",\"\",ACHATS!V156)","v":""}]
[null,"Critiques (20)",null,null,null," oo",null,null,"+ 6",null,null,null,"1",null,null,null,3,null,{"$f":"IF(ACHATS!E157=\"\",\"\",ACHATS!E157)","v":""},null,null,null,null,null,null,{"$f":"IF(ACHATS!I157=\"\",\"\",ACHATS!I157)","v":""},null,{"$f":"IF(ACHATS!S157=\"\",\"\",ACHATS!S157)","v":""},null,null,null,null,null,null,{"$f":"IF(ACHATS!V157=\"\",\"\",ACHATS!V157)","v":""}]
[null,"Catastrophiques (25)",null,null,null," oo",null,null,"+ 8",null,null,null,"1",null,null,null,4,null,{"$f":"IF(ACHATS!E158=\"\",\"\",ACHATS!E158)","v":""},null,null,null,null,null,null,{"$f":"IF(ACHATS!I158=\"\",\"\",ACHATS!I158)","v":""},null,{"$f":"IF(ACHATS!S158=\"\",\"\",ACHATS!S158)","v":""},null,null,null,null,null,null,{"$f":"IF(ACHATS!V158=\"\",\"\",ACHATS!V158)","v":""}]
[null,"Destruction (30)",null,null,null,"Destruction",null,null,"-",null,null,null,"2",null,null,null,5,null,{"$f":"IF(ACHATS!E159=\"\",\"\",ACHATS!E159)","v":""},null,null,null,null,null,null,{"$f":"IF(ACHATS!I159=\"\",\"\",ACHATS!I159)","v":""},null,{"$f":"IF(ACHATS!S159=\"\",\"\",ACHATS!S159)","v":""},null,null,null,null,null,null,{"$f":"IF(ACHATS!V159=\"\",\"\",ACHATS!V159)","v":""}]
[null,null,null,null,null,null,null,null,null,null,null,null,null,null,null,null,6,null,{"$f":"IF(ACHATS!E160=\"\",\"\",ACHATS!E160)","v":""},null,null,null,null,null,null,{"$f":"IF(ACHATS!I160=\"\",\"\",ACHATS!I160)","v":""},null,{"$f":"IF(ACHATS!S160=\"\",\"\",ACHATS!S160)","v":""},null,null,null,null,null,null,{"$f":"IF(ACHATS!V160=\"\",\"\",ACHATS!V160)","v":""}]
[null,"LOCALISATION DES INCIDENTS_",null,null,null,null,null,null,null,null,null,null,null,null,null,null,7,null,{"$f":"IF(ACHATS!E161=\"\",\"\",ACHATS!E161)","v":""},null,null,null,null,null,null,{"$f":"IF(ACHATS!I161=\"\",\"\",ACHATS!I161)","v":""},null,{"$f":"IF(ACHATS!S161=\"\",\"\",ACHATS!S161)","v":""},null,null,null,null,null,null,{"$f":"IF(ACHATS!V161=\"\",\"\",ACHATS!V161)","v":""}]
[null,"1D10",null,"Eléments",null,null,null,null,null,null,null,null,null,"ITG",null,null,8,null,{"$f":"IF(ACHATS!E162=\"\",\"\",ACHATS!E162)","v":""},null,null,null,null,null,null,{"$f":"IF(ACHATS!I162=\"\",\"\",ACHATS!I162)","v":""},null,{"$f":"IF(ACHATS!S162=\"\",\"\",ACHATS!S162)","v":""},null,null,null,null,null,null,{"$f":"IF(ACHATS!V162=\"\",\"\",ACHATS!V162)","v":""}]
[null,"1-2",null,"Structure",null,null,null,null,null,null,null,null,null,{"$f":"ACHATS!AJ151","v":""},null,null,9,null,{"$f":"IF(ACHATS!E163=\"\",\"\",ACHATS!E163)","v":""},null,null,null,null,null,null,{"$f":"IF(ACHATS!I163=\"\",\"\",ACHATS!I163)","v":""},null,{"$f":"IF(ACHATS!S163=\"\",\"\",ACHATS!S163)","v":""},null,null,null,null,null,null,{"$f":"IF(ACHATS!V163=\"\",\"\",ACHATS!V163)","v":""}]
[null,"3-4",null,"Exosquelette",null,null,null,null,null,null,null,null,null,{"$f":"ACHATS!AL151","v":""},null,null,10,null,{"$f":"IF(ACHATS!E164=\"\",\"\",ACHATS!E164)","v":""},null,null,null,null,null,null,{"$f":"IF(ACHATS!I164=\"\",\"\",ACHATS!I164)","v":""},null,{"$f":"IF(ACHATS!S164=\"\",\"\",ACHATS!S164)","v":""},null,null,null,null,null,null,{"$f":"IF(ACHATS!V164=\"\",\"\",ACHATS!V164)","v":""}]
[null,"5",null,"Générateur",null,null,null,null,null,null,null,null,null,{"$f":"ACHATS!AN151","v":""},null,null,11,null,{"$f":"IF(ACHATS!E165=\"\",\"\",ACHATS!E165)","v":""},null,null,null,null,null,null,{"$f":"IF(ACHATS!I165=\"\",\"\",ACHATS!I165)","v":""},null,{"$f":"IF(ACHATS!S165=\"\",\"\",ACHATS!S165)","v":""},null,null,null,null,null,null,{"$f":"IF(ACHATS!V165=\"\",\"\",ACHATS!V165)","v":""}]
[null,"6-7",null,"Systèmes auxiliaires",null,null,null,null,null,null,null,null,null,{"$f":"ACHATS!AP151","v":""},null,null,12,null,{"$f":"IF(ACHATS!E166=\"\",\"\",ACHATS!E166)","v":""},null,null,null,null,null,null,{"$f":"IF(ACHATS!I166=\"\",\"\",ACHATS!I166)","v":""},null,{"$f":"IF(ACHATS!S166=\"\",\"\",ACHATS!S166)","v":""},null,null,null,null,null,null,{"$f":"IF(ACHATS!V166=\"\",\"\",ACHATS!V166)","v":""}]
[null,"8-9",null,"Armements",null,null,null,null,null,null,null,null,null,{"$f":"ACHATS!AR151","v":""},null,null,13,null,{"$f":"IF(ACHATS!E167=\"\",\"\",ACHATS!E167)","v":""},null,null,null,null,null,null,{"$f":"IF(ACHATS!I167=\"\",\"\",ACHATS!I167)","v":""},null,{"$f":"IF(ACHATS!S167=\"\",\"\",ACHATS!S167)","v":""},null,null,null,null,null,null,{"$f":"IF(ACHATS!V167=\"\",\"\",ACHATS!V167)","v":""}]
[null,"10",null,"Pilote",null,null,null,null,null,null,null,null,null,null,null,null,14,null,{"$f":"IF(ACHATS!E168=\"\",\"\",ACHATS!E168)","v":""},null,null,null,null,null,null,{"$f":"IF(ACHATS!I168=\"\",\"\",ACHATS!I168)","v":""},null,{"$f":"IF(ACHATS!S168=\"\",\"\",ACHATS!S168)","v":""},null,null,null,null,null,null,{"$f":"IF(ACHATS!V168=\"\",\"\",ACHATS!V168)","v":""}]
[null,null,null,null,null,null,null,null,null,null,null,null,null,null,null,null,15,null,{"$f":"IF(ACHATS!E169=\"\",\"\",ACHATS!E169)","v":""},null,null,null,null,null,null,{"$f":"IF(ACHATS!I169=\"\",\"\",ACHATS!I169)","v":""},null,{"$f":"IF(ACHATS!S169=\"\",\"\",ACHATS!S169)","v":""},null,null,null,null,null,null,{"$f":"IF(ACHATS!V169=\"\",\"\",ACHATS!V169)","v":""}]
[null,null,"EFFETS DES INCIDENTS_",null,null,null,null,null,null,null,null,null,null,null,null,null,16,null,{"$f":"IF(ACHATS!E170=\"\",\"\",ACHATS!E170)","v":""},null,null,null,null,null,null,{"$f":"IF(ACHATS!I170=\"\",\"\",ACHATS!I170)","v":""},null,{"$f":"IF(ACHATS!S170=\"\",\"\",ACHATS!S170)","v":""},null,null,null,null,null,null,{"$f":"IF(ACHATS!V170=\"\",\"\",ACHATS!V170)","v":""}]
[null,null,null,null,null,null,null,null,null,null,null,null,null,null,null,null,17,null,{"$f":"IF(ACHATS!E171=\"\",\"\",ACHATS!E171)","v":""},null,null,null,null,null,null,{"$f":"IF(ACHATS!I171=\"\",\"\",ACHATS!I171)","v":""},null,{"$f":"IF(ACHATS!S171=\"\",\"\",ACHATS!S171)","v":""},null,null,null,null,null,null,{"$f":"IF(ACHATS!V171=\"\",\"\",ACHATS!V171)","v":""}]
[null,null,"TEXTE",null,null,null,null,null,null,null,null,null,null,null,null,null,18,null,{"$f":"IF(ACHATS!E172=\"\",\"\",ACHATS!E172)","v":""},null,null,null,null,null,null,{"$f":"IF(ACHATS!I172=\"\",\"\",ACHATS!I172)","v":""},null,{"$f":"IF(ACHATS!S172=\"\",\"\",ACHATS!S172)","v":""},null,null,null,null,null,null,{"$f":"IF(ACHATS!V172=\"\",\"\",ACHATS!V172)","v":""}]
[null,null,"TEXTE",null,null,null,null,null,null,null,null,null,null,null,null,null,19,null,{"$f":"IF(ACHATS!E173=\"\",\"\",ACHATS!E173)","v":""},null,null,null,null,null,null,{"$f":"IF(ACHATS!I173=\"\",\"\",ACHATS!I173)","v":""},null,{"$f":"IF(ACHATS!S173=\"\",\"\",ACHATS!S173)","v":""},null,null,null,null,null,null,{"$f":"IF(ACHATS!V173=\"\",\"\",ACHATS!V173)","v":""}]
[null,null,"TEXTE",null,null,null,null,null,null,null,null,null,null,null,null,null,20,null,{"$f":"IF(ACHATS!E174=\"\",\"\",ACHATS!E174)","v":""},null,null,null,null,null,null,{"$f":"IF(ACHATS!I174=\"\",\"\",ACHATS!I174)","v":""},null,{"$f":"IF(ACHATS!S174=\"\",\"\",ACHATS!S174)","v":""},null,null,null,null,null,null,{"$f":"IF(ACHATS!V174=\"\",\"\",ACHATS!V174)","v":""}]
[null,null,null,null,null,null,null,null,null,null,null,null,null,null,null,null,21,null,{"$f":"IF(ACHATS!E175=\"\",\"\",ACHATS!E175)","v":""},null,null,null,null,null,null,{"$f":"IF(ACHATS!I175=\"\",\"\",ACHATS!I175)","v":""},null,{"$f":"IF(ACHATS!S175=\"\",\"\",ACHATS!S175)","v":""},null,null,null,null,null,null,{"$f":"IF(ACHATS!V175=\"\",\"\",ACHATS!V175)","v":""}]
[null,"ORDINATEUR",null,null,null,null,null,null,null,null,null,null,null,null,null,null,22,null,{"$f":"IF(ACHATS!E176=\"\",\"\",ACHATS!E176)","v":""},null,null,null,null,null,null,{"$f":"IF(ACHATS!I176=\"\",\"\",ACHATS!I176)","v":""},null,{"$f":"IF(ACHATS!S176=\"\",\"\",ACHATS!S176)","v":""},null,null,null,null,null,null,{"$f":"IF(ACHATS!V176=\"\",\"\",ACHATS!V176)","v":""}]
[null,"TYPE DE MATERIEL_",null,null,null,null,null,null,null,null,null,null,null,null,null,null,23,null,{"$f":"IF(ACHATS!E177=\"\",\"\",ACHATS!E177)","v":""},null,null,null,null,null,null,{"$f":"IF(ACHATS!I177=\"\",\"\",ACHATS!I177)","v":""},null,{"$f":"IF(ACHATS!S177=\"\",\"\",ACHATS!S177)","v":""},null,null,null,null,null,null,{"$f":"IF(ACHATS!V177=\"\",\"\",ACHATS!V177)","v":""}]
[null,{"$f":"IF(ACHATS!E191=0,\"\",ACHATS!E191)","v":""},null,null,null,null,null,null,null,null,null,"Poids",null,{"$f":"IF(ACHATS!W191=0,\"\",ACHATS!W191)","v":""},null,null,24,null,{"$f":"IF(ACHATS!E178=\"\",\"\",ACHATS!E178)","v":""},null,null,null,null,null,null,{"$f":"IF(ACHATS!I178=\"\",\"\",ACHATS!I178)","v":""},null,{"$f":"IF(ACHATS!S178=\"\",\"\",ACHATS!S178)","v":""},null,null,null,null,null,null,{"$f":"IF(ACHATS!V178=\"\",\"\",ACHATS!V178)","v":""}]
[null,"Niv. max. des prog.",null,null,null,"Gestion systèmes",null,null,null,null,null,"Potentiel",null,null,null,null,25,null,{"$f":"IF(ACHATS!E179=\"\",\"\",ACHATS!E179)","v":""},null,null,null,null,null,null,{"$f":"IF(ACHATS!I179=\"\",\"\",ACHATS!I179)","v":""},null,{"$f":"IF(ACHATS!S179=\"\",\"\",ACHATS!S179)","v":""},null,null,null,null,null,null,{"$f":"IF(ACHATS!V179=\"\",\"\",ACHATS!V179)","v":""}]
[null,{"$f":"IF(ACHATS!M191=0,\"\",ACHATS!M191)","v":""},null,null,null,{"$f":"IF(ACHATS!O191=0,\"\",ACHATS!O191)","v":""},null,null,null,null,null,{"$f":"IF(ACHATS!Q191=0,\"\",ACHATS!Q191)","v":""},null,null,null,null,26,null,{"$f":"IF(ACHATS!E180=\"\",\"\",ACHATS!E180)","v":""},null,null,null,null,null,null,{"$f":"IF(ACHATS!I180=\"\",\"\",ACHATS!I180)","v":""},null,{"$f":"IF(ACHATS!S180=\"\",\"\",ACHATS!S180)","v":""},null,null,null,null,null,null,{"$f":"IF(ACHATS!V180=\"\",\"\",ACHATS!V180)","v":""}]
[null,"NT / Génération",null,null,null,"Blindage IEM",null,null,null,null,null,"Intégrité",null,null,null,null,27,null,{"$f":"IF(ACHATS!E181=\"\",\"\",ACHATS!E181)","v":""},null,null,null,null,null,null,{"$f":"IF(ACHATS!I181=\"\",\"\",ACHATS!I181)","v":""},null,{"$f":"IF(ACHATS!S181=\"\",\"\",ACHATS!S181)","v":""},null,null,null,null,null,null,{"$f":"IF(ACHATS!V181=\"\",\"\",ACHATS!V181)","v":""}]
[null,{"$f":"IF(ACHATS!AJ192=0,\"\",ACHATS!AJ192)","v":""},null,null,null,{"$f":"IF(ACHATS!S191=0,\"\",ACHATS!S191)","v":""},null,null,null,null,null,{"$f":"IF(ACHATS!AB191=\"\",\"\",ACHATS!AB191)","v":""},null,null,null,null,28,null,{"$f":"IF(ACHATS!E182=\"\",\"\",ACHATS!E182)","v":""},null,null,null,null,null,null,{"$f":"IF(ACHATS!I182=\"\",\"\",ACHATS!I182)","v":""},null,{"$f":"IF(ACHATS!S182=\"\",\"\",ACHATS!S182)","v":""},null,null,null,null,null,null,{"$f":"IF(ACHATS!V182=\"\",\"\",ACHATS!V182)","v":""}]
[null,"Programmes",null,null,null,null,null,null,null,null,null,null,null,null,null,null,29,null,{"$f":"IF(ACHATS!E183=\"\",\"\",ACHATS!E183)","v":""},null,null,null,null,null,null,{"$f":"IF(ACHATS!I183=\"\",\"\",ACHATS!I183)","v":""},null,{"$f":"IF(ACHATS!S183=\"\",\"\",ACHATS!S183)","v":""},null,null,null,null,null,null,{"$f":"IF(ACHATS!V183=\"\",\"\",ACHATS!V183)","v":""}]
[null,{"$f":"ACHATS!AJ200","v":"             "},null,null,null,null,null,null,null,null,null,null,null,null,null,null,30,null,{"$f":"IF(ACHATS!E184=\"\",\"\",ACHATS!E184)","v":""},null,null,null,null,null,null,{"$f":"IF(ACHATS!I184=\"\",\"\",ACHATS!I184)","v":""},null,{"$f":"IF(ACHATS!S184=\"\",\"\",ACHATS!S184)","v":""},null,null,null,null,null,null,{"$f":"IF(ACHATS!V184=\"\",\"\",ACHATS!V184)","v":""}]
[null,{"$f":"ACHATS!AJ201","v":"             "},null,null,null,null,null,null,null,null,null,null,null,null,null,null,31,null,{"$f":"IF(ACHATS!E185=\"\",\"\",ACHATS!E185)","v":""},null,null,null,null,null,null,{"$f":"IF(ACHATS!I185=\"\",\"\",ACHATS!I185)","v":""},null,{"$f":"IF(ACHATS!S185=\"\",\"\",ACHATS!S185)","v":""},null,null,null,null,null,null,{"$f":"IF(ACHATS!V185=\"\",\"\",ACHATS!V185)","v":""}]
[null,{"$f":"ACHATS!AJ202","v":"             "},null,null,null,null,null,null,null,null,null,null,null,null,null,null,32,null,{"$f":"IF(ACHATS!E186=\"\",\"\",ACHATS!E186)","v":""},null,null,null,null,null,null,{"$f":"IF(ACHATS!I186=\"\",\"\",ACHATS!I186)","v":""},null,{"$f":"IF(ACHATS!S186=\"\",\"\",ACHATS!S186)","v":""},null,null,null,null,null,null,{"$f":"IF(ACHATS!V186=\"\",\"\",ACHATS!V186)","v":""}]
[]
[null,"ARMEMENT_",null,null,null,null,"Dom.",null,null,"Choc",null,"Pén.",null,"Portée (+0/-5/-10/-15)",null,null,null,"Ini.",null,null,"Mode tir",null,"Munitions",null,null,"Notes",null,null,null,null,null,null,null,"NT",null,"ITG"]
[null,{"$f":"IF(ACHATS!E210=\"\",\"\",ACHATS!E210)","v":""},null,null,null,null,{"$f":"IF(ACHATS!I210=\"\",\"\",ACHATS!I210)","v":""},null,null,{"$f":"IF(ACHATS!K210=\"\",\"\",ACHATS!K210)","v":""},null,{"$f":"IF(ACHATS!M210=\"\",\"\",ACHATS!M210)","v":""},null,{"$f":"IF(ACHATS!N210=\"\",\"\",ACHATS!N210)","v":""},null,null,null,{"$f":"IF(ACHATS!Q210=\"\",\"\",ACHATS!Q210)","v":""},null,null,{"$f":"IF(ACHATS!R210=\"\",\"\",ACHATS!R210)","v":""},null,{"$f":"IF(ACHATS!U210=\"\",\"\",ACHATS!U210)","v":""},null,null,{"$f":"IF(ACHATS!AD210=\"\",\"\",ACHATS!AD210)","v":""},null,null,null,null,null,null,null,{"$f":"IF(ACHATS!AA210=\"\",\"\",ACHATS!AA210)","v":""},null,{"$f":"IF(ACHATS!AG210=\"\",\"\",ACHATS!AG210)","v":""}]
[null,{"$f":"IF(ACHATS!E211=\"\",\"\",ACHATS!E211)","v":""},null,null,null,null,{"$f":"IF(ACHATS!I211=\"\",\"\",ACHATS!I211)","v":""},null,null,{"$f":"IF(ACHATS!K211=\"\",\"\",ACHATS!K211)","v":""},null,{"$f":"IF(ACHATS!M211=\"\",\"\",ACHATS!M211)","v":""},null,{"$f":"IF(ACHATS!N211=\"\",\"\",ACHATS!N211)","v":""},null,null,null,{"$f":"IF(ACHATS!Q211=\"\",\"\",ACHATS!Q211)","v":""},null,null,{"$f":"IF(ACHATS!R211=\"\",\"\",ACHATS!R211)","v":""},null,{"$f":"IF(ACHATS!U211=\"\",\"\",ACHATS!U211)","v":""},null,null,{"$f":"IF(ACHATS!AD211=\"\",\"\",ACHATS!AD211)","v":""},null,null,null,null,null,null,null,{"$f":"IF(ACHATS!AA211=\"\",\"\",ACHATS!AA211)","v":""},null,{"$f":"IF(ACHATS!AG211=\"\",\"\",ACHATS!AG211)","v":""}]
[null,{"$f":"IF(ACHATS!E212=\"\",\"\",ACHATS!E212)","v":""},null,null,null,null,{"$f":"IF(ACHATS!I212=\"\",\"\",ACHATS!I212)","v":""},null,null,{"$f":"IF(ACHATS!K212=\"\",\"\",ACHATS!K212)","v":""},null,{"$f":"IF(ACHATS!M212=\"\",\"\",ACHATS!M212)","v":""},null,{"$f":"IF(ACHATS!N212=\"\",\"\",ACHATS!N212)","v":""},null,null,null,{"$f":"IF(ACHATS!Q212=\"\",\"\",ACHATS!Q212)","v":""},null,null,{"$f":"IF(ACHATS!R212=\"\",\"\",ACHATS!R212)","v":""},null,{"$f":"IF(ACHATS!U212=\"\",\"\",ACHATS!U212)","v":""},null,null,{"$f":"IF(ACHATS!AD212=\"\",\"\",ACHATS!AD212)","v":""},null,null,null,null,null,null,null,{"$f":"IF(ACHATS!AA212=\"\",\"\",ACHATS!AA212)","v":""},null,{"$f":"IF(ACHATS!AG212=\"\",\"\",ACHATS!AG212)","v":""}]
[null,{"$f":"IF(ACHATS!E213=\"\",\"\",ACHATS!E213)","v":""},null,null,null,null,{"$f":"IF(ACHATS!I213=\"\",\"\",ACHATS!I213)","v":""},null,null,{"$f":"IF(ACHATS!K213=\"\",\"\",ACHATS!K213)","v":""},null,{"$f":"IF(ACHATS!M213=\"\",\"\",ACHATS!M213)","v":""},null,{"$f":"IF(ACHATS!N213=\"\",\"\",ACHATS!N213)","v":""},null,null,null,{"$f":"IF(ACHATS!Q213=\"\",\"\",ACHATS!Q213)","v":""},null,null,{"$f":"IF(ACHATS!R213=\"\",\"\",ACHATS!R213)","v":""},null,{"$f":"IF(ACHATS!U213=\"\",\"\",ACHATS!U213)","v":""},null,null,{"$f":"IF(ACHATS!AD213=\"\",\"\",ACHATS!AD213)","v":""},null,null,null,null,null,null,null,{"$f":"IF(ACHATS!AA213=\"\",\"\",ACHATS!AA213)","v":""},null,{"$f":"IF(ACHATS!AG213=\"\",\"\",ACHATS!AG213)","v":""}]
[null,{"$f":"IF(ACHATS!E214=\"\",\"\",ACHATS!E214)","v":""},null,null,null,null,{"$f":"IF(ACHATS!I214=\"\",\"\",ACHATS!I214)","v":""},null,null,{"$f":"IF(ACHATS!K214=\"\",\"\",ACHATS!K214)","v":""},null,{"$f":"IF(ACHATS!M214=\"\",\"\",ACHATS!M214)","v":""},null,{"$f":"IF(ACHATS!N214=\"\",\"\",ACHATS!N214)","v":""},null,null,null,{"$f":"IF(ACHATS!Q214=\"\",\"\",ACHATS!Q214)","v":""},null,null,{"$f":"IF(ACHATS!R214=\"\",\"\",ACHATS!R214)","v":""},null,{"$f":"IF(ACHATS!U214=\"\",\"\",ACHATS!U214)","v":""},null,null,{"$f":"IF(ACHATS!AD214=\"\",\"\",ACHATS!AD214)","v":""},null,null,null,null,null,null,null,{"$f":"IF(ACHATS!AA214=\"\",\"\",ACHATS!AA214)","v":""},null,{"$f":"IF(ACHATS!AG214=\"\",\"\",ACHATS!AG214)","v":""}]
[null,{"$f":"IF(ACHATS!E215=\"\",\"\",ACHATS!E215)","v":""},null,null,null,null,{"$f":"IF(ACHATS!I215=\"\",\"\",ACHATS!I215)","v":""},null,null,{"$f":"IF(ACHATS!K215=\"\",\"\",ACHATS!K215)","v":""},null,{"$f":"IF(ACHATS!M215=\"\",\"\",ACHATS!M215)","v":""},null,{"$f":"IF(ACHATS!N215=\"\",\"\",ACHATS!N215)","v":""},null,null,null,{"$f":"IF(ACHATS!Q215=\"\",\"\",ACHATS!Q215)","v":""},null,null,{"$f":"IF(ACHATS!R215=\"\",\"\",ACHATS!R215)","v":""},null,{"$f":"IF(ACHATS!U215=\"\",\"\",ACHATS!U215)","v":""},null,null,{"$f":"IF(ACHATS!AD215=\"\",\"\",ACHATS!AD215)","v":""},null,null,null,null,null,null,null,{"$f":"IF(ACHATS!AA215=\"\",\"\",ACHATS!AA215)","v":""},null,{"$f":"IF(ACHATS!AG215=\"\",\"\",ACHATS!AG215)","v":""}]
[]
[null,"TABLE DES MARGES DE REUSSITE ET D'ECHEC_"]
[null,"Marge",null,null,"1-2",null,null,"3-4",null,null,"5-6",null,null,"7-9",null,"10-12",null,null,null,null,"13-14",null,null,"15-19",null,null,null,"20-24",null,"25-34",null,null,"35+"]
[null,"Modificateur",null,null,"+/- 0",null,null,"+/- 1",null,null,"+/- 2",null,null,"+/- 3",null,"+/- 4",null,null,null,null,"+/- 5",null,null,"+/- 6",null,null,null,"+/- 7",null,"+/- 8",null,null,"+/- 9"]

{"sheet":"NAVIRES_VEHICULES","index":19,"n_rows":67,"n_cols":31,"rows_kept":67,"cut":false,"hidden":false,"merged":[[65,1,65,4],[65,5,65,6],[65,7,65,8],[65,10,65,11],[65,12,65,15],[65,18,65,19],[66,1,66,4],[66,5,66,6],[66,7,66,8],[66,10,66,11],[66,12,66,15],[66,18,66,19],[65,16,65,17],[66,16,66,17],[62,1,62,4],[62,5,62,6],[62,27,62,28],[64,1,64,4],[64,5,64,6],[64,7,64,8],[64,10,64,11],[64,12,64,15],[64,18,64,19],[63,7,63,8],[63,10,63,11],[63,12,63,15],[63,18,63,19],[63,5,63,6],[63,1,63,4],[63,20,63,21],[64,20,64,21],[63,16,63,17],[64,16,64,17],[61,27,61,28],[13,18,13,28],[60,27,60,28],[61,1,61,4],[61,5,61,6],[58,27,58,28],[59,1,59,4],[59,5,59,6],[59,27,59,28],[57,27,57,28],[57,5,57,6],[56,27,56,28],[57,1,57,4],[56,8,56,9],[57,8,57,9],[56,14,56,16],[57,14,57,16],[56,19,56,20],[56,21,56,26],[60,1,60,4],[60,5,60,6],[51,1,51,11],[52,1,52,11],[53,1,53,11],[58,1,58,4],[58,5,58,6],[56,5,56,6],[56,1,56,4],[45,1,45,11],[44,1,44,11],[46,8,46,9],[46,10,46,11],[47,1,47,3],[47,4,47,7],[48,8,48,11],[47,8,47,11],[46,1,46,7],[54,1,54,11],[48,1,48,3],[48,4,48,7],[49,1,49,3],[49,4,49,7],[49,8,49,11],[50,1,50,3],[50,4,50,7],[50,8,50,11],[53,13,53,14],[53,15,53,20],[53,21,53,22],[53,23,53,27],[53,28,53,29],[54,13,54,14],[54,15,54,20],[54,21,54,22],[54,23,54,27],[54,28,54,29],[51,21,51,22],[51,23,51,27],[51,28,51,29],[52,13,52,14],[52,15,52,20],[52,21,52,22],[52,23,52,27],[52,28,52,29],[49,13,49,14],[49,15,49,20],[49,21,49,22],[49,23,49,27],[49,28,49,29],[50,13,50,14],[50,15,50,20],[50,21,50,22],[50,23,50,27],[50,28,50,29],[51,13,51,14],[51,15,51,20],[47,13,47,14],[47,15,47,20],[47,21,47,22],[47,23,47,27],[47,28,47,29],[48,13,48,14],[48,15,48,20],[48,21,48,22],[48,23,48,27],[48,28,48,29],[45,13,45,14],[45,15,45,20],[45,21,45,22],[45,23,45,27],[45,28,45,29],[46,13,46,14],[46,15,46,20],[46,21,46,22],[46,23,46,27],[46,28,46,29],[44,13,44,14],[44,15,44,20],[44,21,44,22],[44,23,44,27],[44,28,44,29],[41,2,41,11],[43,13,43,14],[43,15,43,20],[43,21,43,22],[43,23,43,27],[43,28,43,29],[42,13,42,14],[42,15,42,20],[42,21,42,22],[42,23,42,27],[42,28,42,29],[41,13,41,14],[41,15,41,20],[41,21,41,22],[41,23,41,27],[41,28,41,29],[42,2,42,11],[40,2,40,11],[40,28,40,29],[39,2,39,11],[39,13,39,14],[39,15,39,20],[39,21,39,22],[39,23,39,27],[39,28,39,29],[40,13,40,14],[40,15,40,20],[40,21,40,22],[40,23,40,27],[37,28,37,29],[38,13,38,14],[38,15,38,20],[38,21,38,22],[38,23,38,27],[38,28,38,29],[35,1,35,2],[35,3,35,11],[37,13,37,14],[37,15,37,20],[37,21,37,22],[37,23,37,27],[37,2,38,11],[35,28,35,29],[36,13,36,14],[36,15,36,20],[36,21,36,22],[36,23,36,27],[36,28,36,29],[35,13,35,14],[35,15,35,20],[35,21,35,22],[35,23,35,27],[33,28,33,29],[32,1,32,2],[32,3,32,11],[34,13,34,14],[34,15,34,20],[34,21,34,22],[34,23,34,27],[34,28,34,29],[33,13,33,14],[33,15,33,20],[33,21,33,22],[33,23,33,27],[34,1,34,2],[34,3,34,11],[33,1,33,2],[33,3,33,11],[29,28,29,29],[30,1,30,2],[30,3,30,11],[32,13,32,14],[32,15,32,20],[32,21,32,22],[32,23,32,27],[32,28,32,29],[29,1,29,2],[29,3,29,11],[29,13,29,14],[29,15,29,20],[29,21,29,22],[29,23,29,27],[31,13,31,14],[31,15,31,20],[31,23,31,27],[31,28,31,29],[30,13,30,14],[30,15,30,20],[30,21,30,22],[30,23,30,27],[30,28,30,29],[26,13,26,29],[31,1,31,2],[31,3,31,11],[27,1,27,11],[28,1,28,2],[28,3,28,11],[28,13,28,29],[23,20,23,23],[23,25,23,28],[25,1,25,3],[25,4,25,5],[25,6,25,8],[25,9,25,11],[24,13,24,18],[24,20,24,23],[24,25,24,28],[23,1,23,3],[23,4,23,5],[23,6,23,8],[23,9,23,11],[24,1,24,3],[24,4,24,5],[24,6,24,8],[24,9,24,11],[23,13,23,18],[21,1,21,3],[21,4,21,5],[21,6,21,8],[21,9,21,11],[22,1,22,3],[22,4,22,5],[22,6,22,8],[22,9,22,11],[15,1,15,4],[15,5,15,6],[16,1,16,4],[16,5,16,6],[20,1,20,3],[20,4,20,5],[20,6,20,8],[20,9,20,11],[13,5,13,6],[18,1,19,3],[18,4,19,5],[18,6,19,8],[18,9,19,11],[0,30,2,30],[3,1,4,11],[5,14,6,28],[9,1,9,4],[9,5,9,6],[9,7,9,9],[9,10,9,11],[7,14,7,16],[7,18,7,24],[7,26,7,28],[8,1,8,11],[8,14,8,16],[5,1,5,11],[6,1,6,11],[0,0,2,0],[0,1,2,29],[14,1,14,4],[14,5,14,6],[11,14,11,22],[11,23,11,28],[11,1,11,4],[11,5,11,6],[11,7,11,9],[11,10,11,11],[10,14,10,22],[10,23,10,28],[10,1,10,4],[10,5,10,6],[12,1,12,4],[12,5,12,6],[13,1,13,4],[14,18,14,23],[14,25,14,28],[14,14,14,16],[12,7,12,11],[13,7,13,9],[13,10,13,11],[14,7,14,11],[5,33,6,33],[65,20,65,21],[66,20,66,21],[64,22,64,23],[65,22,65,23],[66,22,66,23],[63,25,63,28],[63,22,63,23],[64,25,64,28],[65,25,65,28],[66,25,66,28],[12,14,12,22],[12,23,12,28],[8,25,8,28],[9,25,9,28],[8,18,8,22],[9,18,9,22],[15,18,15,23],[18,14,18,28],[22,13,22,29],[25,13,25,18],[25,20,25,23],[25,25,25,28],[31,21,31,22],[19,14,19,28],[16,18,16,28],[17,14,17,28],[16,14,16,16],[15,14,15,16],[10,7,10,9],[10,10,10,11],[15,7,15,9],[15,10,15,11],[16,7,16,11],[56,17,56,18],[58,8,58,9],[59,8,59,9],[60,8,60,9],[61,8,61,9],[62,8,62,9],[56,10,56,13],[57,10,57,13],[58,10,58,13],[59,10,59,13],[60,10,60,13],[61,10,61,13],[62,10,62,13],[57,21,57,26],[58,21,58,26],[59,21,59,26],[60,21,60,26],[61,21,61,26],[62,21,62,26],[58,14,58,16],[59,14,59,16],[60,14,60,16],[61,14,61,16],[62,14,62,16],[57,17,57,18],[58,17,58,18],[59,17,59,18],[60,17,60,18],[61,17,61,18],[62,17,62,18],[57,19,57,20],[58,19,58,20],[59,19,59,20],[60,19,60,20],[61,19,61,20],[62,19,62,20]]}
[null,"NAVIRES & VEHICULES_",null,null,null,null,null,null,null,null,null,null,null,null,null,null,null,null,null,null,null,null,null,null,null,null,null,null,null,null,10]
[]
[]
[null,"TYPE / NOM DE VEHICULE_"]
[]
[null,{"$f":"IF(ACHATS!E224=\"\",\"\",ACHATS!E224)","v":""},null,null,null,null,null,null,null,null,null,null,null,null,"INFORMATIONS SUR LE VEHICULE_"]
[null,{"$f":"IF(ACHATS!AJ225=\"\",\"\",ACHATS!AJ225)","v":""}]
[null,null,null,null,null,null,null,null,null,null,null,null,null,null,"Catégorie :",null,null,null,{"$f":"IF(ACHATS!I224=\"\",\"\",ACHATS!I224)","v":""},null,null,null,null,null,null,"NT :",{"$f":"IF(ACHATS!U224=\"\",\"\",ACHATS!U224)","v":""}]
[null,"ATTRIBUTS DU VEHICULE_",null,null,null,null,null,null,null,null,null,null,null,null,"Longueur :",null,null,null,{"$f":"IF(ACHATS!E236=\"\",\"\",ACHATS!E236)","v":""},null,null,null,null,"Diamètre :",null,{"$f":"IF(ACHATS!G236=\"\",\"\",ACHATS!G236)","v":""}]
[null,"Gabarit (GAB)",null,null,null,{"$f":"IF(ACHATS!K224=\"\",\"\",ACHATS!K224)","v":""},null,"Manoeuvrabilité",null,null,{"$f":"IF(ACHATS!I236=\"\",\"\",ACHATS!I236)","v":""},null,null,null,"Largeur :",null,null,null,{"$f":"IF(ACHATS!E238=\"\",\"\",ACHATS!E238)","v":""},null,null,null,null,"Hauteur :",null,{"$f":"IF(ACHATS!G238=\"\",\"\",ACHATS!G238)","v":""}]
[null,"Echelle",null,null,null,{"$f":"IF(ACHATS!M224=\"\",\"\",ACHATS!M224)","v":""},null,"Accélération",null,null,{"$f":"IF(ACHATS!I238=\"\",\"\",ACHATS!I238)","v":""},null,null,null,"Profondeur (Optimale) :",null,null,null,null,null,null,null,null,{"$f":"IF(ACHATS!E228=\"\",\"\",ACHATS!E228)","v":""}]
[null,"Résistance aux dom.",null,null,null,{"$f":"IF(ACHATS!E232=\"\",\"\",ACHATS!E232)","v":""},null,"Vitesse / VIT (PM)",null,null,{"$f":"IF(ACHATS!K236=\"\",\"\",ACHATS!K236)","v":""},null,null,null,"Profondeur (Limite) :",null,null,null,null,null,null,null,null,{"$f":"IF(ACHATS!G228=\"\",\"\",ACHATS!G228)","v":""}]
[null,"Résist. aux dom. module",null,null,null,{"$f":"IF(ACHATS!G232=\"\",\"\",ACHATS!G232)","v":""},null,{"$f":"IF(ACHATS!K238=\"\",\"\",ACHATS!K238)","v":""},null,null,null,null,null,null,"Profondeur (Ecrasement) :",null,null,null,null,null,null,null,null,{"$f":"IF(ACHATS!I228=\"\",\"\",ACHATS!I228)","v":""}]
[null,"Modif. test d'intégrité",null,null,null,{"$f":"IF(ACHATS!I232=\"\",\"\",ACHATS!I232)","v":""},null,"Vitesse / VIT (PM)",null,null,{"$f":"IF(ACHATS!M236=\"\",\"\",ACHATS!M236)","v":""},null,null,null,"Autonomie :",null,null,null,{"$f":"IF(ACHATS!K228=\"\",\"\",ACHATS!K228)","v":""}]
[null,"Blindage",null,null,null,{"$f":"IF(ACHATS!K232=\"\",\"\",ACHATS!K232)","v":""},null,{"$f":"IF(ACHATS!M238=\"\",\"\",ACHATS!M238)","v":""},null,null,null,null,null,null,"• Equipage :",null,null,null,{"$f":"IF(ACHATS!N228=\"\",\"\",ACHATS!N228)","v":""},null,null,null,null,null,"• Fret :",{"$f":"IF(ACHATS!R228=\"\",\"\",ACHATS!R228)","v":""}]
[null,"Blindage hublot (volet)",null,null,null,{"$f":"IF(ACHATS!O232=\"\",\"\",ACHATS!O232)","v":""},null,"Vitesse / VIT (PM)",null,null,{"$f":"IF(ACHATS!O236=\"\",\"\",ACHATS!O236)","v":""},null,null,null,"• Passagers :",null,null,null,{"$f":"IF(ACHATS!P228=\"\",\"\",ACHATS!P228)","v":""}]
[null,"Blindage module",null,null,null,{"$f":"IF(ACHATS!M232=\"\",\"\",ACHATS!M232)","v":""},null,{"$f":"IF(ACHATS!O238=\"\",\"\",ACHATS!O238)","v":""},null,null,null,null,null,null,"Notes :",null,null,null,{"$f":"IF(ACHATS!Z224=\"\",\"\",ACHATS!Z224)","v":""}]
[null,null,null,null,null,null,null,null,null,null,null,null,null,null,{"$f":"IF(ACHATS!Z225=\"\",\"\",ACHATS!Z225)","v":""}]
[null,"DOMMAGES_",null,null,"Avaries",null,"Modificateur d'incident",null,null,"Perte définitive d'ITG (structure)",null,null,null,null,{"$f":"IF(ACHATS!Z226=\"\",\"\",ACHATS!Z226)","v":""}]
[null,null,null,null,null,null,null,null,null,null,null,null,null,null,{"$f":"IF(ACHATS!Z227=\"\",\"\",ACHATS!Z227)","v":""}]
[null,"Légers (5)",null,null," oooo",null,"-",null,null,"-"]
[null,"Moyens (10)",null,null," oooo",null,"+ 2",null,null,"-"]
[null,"Graves (15)",null,null," ooo",null,"+ 4",null,null,"-",null,null,null,"TRANCHES_"]
[null,"Critiques (20)",null,null," oo",null,"+ 6",null,null,"1",null,null,null,{"$f":"IF(ACHATS!Q232=\"\",\"\",ACHATS!Q232)","v":""},null,null,null,null,null,"o",{"$f":"IF(ACHATS!S232=\"\",\"\",ACHATS!S232)","v":""},null,null,null,"o",{"$f":"IF(ACHATS!U232=\"\",\"\",ACHATS!U232)","v":""},null,null,null,"o"]
[null,"Catastrophiques (25)",null,null," oo",null,"+ 8",null,null,"1",null,null,null,{"$f":"IF(ACHATS!Q234=\"\",\"\",ACHATS!Q234)","v":""},null,null,null,null,null,"o",{"$f":"IF(ACHATS!S234=\"\",\"\",ACHATS!S234)","v":""},null,null,null,"o",{"$f":"IF(ACHATS!U234=\"\",\"\",ACHATS!U234)","v":""},null,null,null,"o"]
[null,"Destruction (30)",null,null,"Destruction",null,"-",null,null,"2",null,null,null,{"$f":"IF(ACHATS!Q236=\"\",\"\",ACHATS!Q236)","v":""},null,null,null,null,null,"o",{"$f":"IF(ACHATS!S236=\"\",\"\",ACHATS!S236)","v":""},null,null,null,"o",{"$f":"IF(ACHATS!U236=\"\",\"\",ACHATS!U236)","v":""},null,null,null,"o"]
[null,null,null,null,null,null,null,null,null,null,null,null,null,{"$f":"IF(ACHATS!Q238=\"\",\"\",ACHATS!Q238)","v":""}]
[null,"LOCALISATION DES INCIDENTS_"]
[null,"1D10",null,"Eléments",null,null,null,null,null,null,null,null,null,"SYSTEMES AUXILIAIRES"]
[null,"1-3",null,"Structure",null,null,null,null,null,null,null,null,null,"N°",null,"MATERIEL_",null,null,null,null,null,"Niv.",null,"Description",null,null,null,null,"ITG"]
[null,"4",null,"Poste de pilotage / Passerelle de navigation",null,null,null,null,null,null,null,null,null,1,null,{"$f":"IF(ACHATS!E243=\"\",\"\",ACHATS!E243)","v":""},null,null,null,null,null,{"$f":"IF(ACHATS!I243=\"\",\"\",ACHATS!I243)","v":""},null,{"$f":"IF(ACHATS!S243=\"\",\"\",ACHATS!S243)","v":""},null,null,null,null,{"$f":"IF(ACHATS!V243=\"\",\"\",ACHATS!V243)","v":""}]
[null,"5-6",null,"Salle des machines",null,null,null,null,null,null,null,null,null,2,null,{"$f":"IF(ACHATS!E244=\"\",\"\",ACHATS!E244)","v":""},null,null,null,null,null,{"$f":"IF(ACHATS!I244=\"\",\"\",ACHATS!I244)","v":""},null,{"$f":"IF(ACHATS!S244=\"\",\"\",ACHATS!S244)","v":""},null,null,null,null,{"$f":"IF(ACHATS!V244=\"\",\"\",ACHATS!V244)","v":""}]
[null,"7",null,"Propulsion / Gouvernes / Ballast",null,null,null,null,null,null,null,null,null,3,null,{"$f":"IF(ACHATS!E245=\"\",\"\",ACHATS!E245)","v":""},null,null,null,null,null,{"$f":"IF(ACHATS!I245=\"\",\"\",ACHATS!I245)","v":""},null,{"$f":"IF(ACHATS!S245=\"\",\"\",ACHATS!S245)","v":""},null,null,null,null,{"$f":"IF(ACHATS!V245=\"\",\"\",ACHATS!V245)","v":""}]
[null,"8",null,"Armements",null,null,null,null,null,null,null,null,null,4,null,{"$f":"IF(ACHATS!E246=\"\",\"\",ACHATS!E246)","v":""},null,null,null,null,null,{"$f":"IF(ACHATS!I246=\"\",\"\",ACHATS!I246)","v":""},null,{"$f":"IF(ACHATS!S246=\"\",\"\",ACHATS!S246)","v":""},null,null,null,null,{"$f":"IF(ACHATS!V246=\"\",\"\",ACHATS!V246)","v":""}]
[null,"9",null,"Systèmes auxiliaires",null,null,null,null,null,null,null,null,null,5,null,{"$f":"IF(ACHATS!E247=\"\",\"\",ACHATS!E247)","v":""},null,null,null,null,null,{"$f":"IF(ACHATS!I247=\"\",\"\",ACHATS!I247)","v":""},null,{"$f":"IF(ACHATS!S247=\"\",\"\",ACHATS!S247)","v":""},null,null,null,null,{"$f":"IF(ACHATS!V247=\"\",\"\",ACHATS!V247)","v":""}]
[null,"10",null,"Equipage",null,null,null,null,null,null,null,null,null,6,null,{"$f":"IF(ACHATS!E248=\"\",\"\",ACHATS!E248)","v":""},null,null,null,null,null,{"$f":"IF(ACHATS!I248=\"\",\"\",ACHATS!I248)","v":""},null,{"$f":"IF(ACHATS!S248=\"\",\"\",ACHATS!S248)","v":""},null,null,null,null,{"$f":"IF(ACHATS!V248=\"\",\"\",ACHATS!V248)","v":""}]
[null,null,null,null,null,null,null,null,null,null,null,null,null,7,null,{"$f":"IF(ACHATS!E249=\"\",\"\",ACHATS!E249)","v":""},null,null,null,null,null,{"$f":"IF(ACHATS!I249=\"\",\"\",ACHATS!I249)","v":""},null,{"$f":"IF(ACHATS!S249=\"\",\"\",ACHATS!S249)","v":""},null,null,null,null,{"$f":"IF(ACHATS!V249=\"\",\"\",ACHATS!V249)","v":""}]
[null,null,"EFFETS DES INCIDENTS_",null,null,null,null,null,null,null,null,null,null,8,null,{"$f":"IF(ACHATS!E250=\"\",\"\",ACHATS!E250)","v":""},null,null,null,null,null,{"$f":"IF(ACHATS!I250=\"\",\"\",ACHATS!I250)","v":""},null,{"$f":"IF(ACHATS!S250=\"\",\"\",ACHATS!S250)","v":""},null,null,null,null,{"$f":"IF(ACHATS!V250=\"\",\"\",ACHATS!V250)","v":""}]
[null,null,null,null,null,null,null,null,null,null,null,null,null,9,null,{"$f":"IF(ACHATS!E251=\"\",\"\",ACHATS!E251)","v":""},null,null,null,null,null,{"$f":"IF(ACHATS!I251=\"\",\"\",ACHATS!I251)","v":""},null,{"$f":"IF(ACHATS!S251=\"\",\"\",ACHATS!S251)","v":""},null,null,null,null,{"$f":"IF(ACHATS!V251=\"\",\"\",ACHATS!V251)","v":""}]
[null,null,"TEXTE",null,null,null,null,null,null,null,null,null,null,10,null,{"$f":"IF(ACHATS!E252=\"\",\"\",ACHATS!E252)","v":""},null,null,null,null,null,{"$f":"IF(ACHATS!I252=\"\",\"\",ACHATS!I252)","v":""},null,{"$f":"IF(ACHATS!S252=\"\",\"\",ACHATS!S252)","v":""},null,null,null,null,{"$f":"IF(ACHATS!V252=\"\",\"\",ACHATS!V252)","v":""}]
[null,null,"TEXTE",null,null,null,null,null,null,null,null,null,null,11,null,{"$f":"IF(ACHATS!E253=\"\",\"\",ACHATS!E253)","v":""},null,null,null,null,null,{"$f":"IF(ACHATS!I253=\"\",\"\",ACHATS!I253)","v":""},null,{"$f":"IF(ACHATS!S253=\"\",\"\",ACHATS!S253)","v":""},null,null,null,null,{"$f":"IF(ACHATS!V253=\"\",\"\",ACHATS!V253)","v":""}]
[null,null,"TEXTE",null,null,null,null,null,null,null,null,null,null,12,null,{"$f":"IF(ACHATS!E254=\"\",\"\",ACHATS!E254)","v":""},null,null,null,null,null,{"$f":"IF(ACHATS!I254=\"\",\"\",ACHATS!I254)","v":""},null,{"$f":"IF(ACHATS!S254=\"\",\"\",ACHATS!S254)","v":""},null,null,null,null,{"$f":"IF(ACHATS!V254=\"\",\"\",ACHATS!V254)","v":""}]
[null,null,"TEXTE",null,null,null,null,null,null,null,null,null,null,13,null,{"$f":"IF(ACHATS!E255=\"\",\"\",ACHATS!E255)","v":""},null,null,null,null,null,{"$f":"IF(ACHATS!I255=\"\",\"\",ACHATS!I255)","v":""},null,{"$f":"IF(ACHATS!S255=\"\",\"\",ACHATS!S255)","v":""},null,null,null,null,{"$f":"IF(ACHATS!V255=\"\",\"\",ACHATS!V255)","v":""}]
[null,null,null,null,null,null,null,null,null,null,null,null,null,14,null,{"$f":"IF(ACHATS!E256=\"\",\"\",ACHATS!E256)","v":""},null,null,null,null,null,{"$f":"IF(ACHATS!I256=\"\",\"\",ACHATS!I256)","v":""},null,{"$f":"IF(ACHATS!S256=\"\",\"\",ACHATS!S256)","v":""},null,null,null,null,{"$f":"IF(ACHATS!V256=\"\",\"\",ACHATS!V256)","v":""}]
[null,"ORDINATEUR",null,null,null,null,null,null,null,null,null,null,null,15,null,{"$f":"IF(ACHATS!E257=\"\",\"\",ACHATS!E257)","v":""},null,null,null,null,null,{"$f":"IF(ACHATS!I257=\"\",\"\",ACHATS!I257)","v":""},null,{"$f":"IF(ACHATS!S257=\"\",\"\",ACHATS!S257)","v":""},null,null,null,null,{"$f":"IF(ACHATS!V257=\"\",\"\",ACHATS!V257)","v":""}]
[null,"TYPE DE MATERIEL_",null,null,null,null,null,null,null,null,null,null,null,16,null,{"$f":"IF(ACHATS!E258=\"\",\"\",ACHATS!E258)","v":""},null,null,null,null,null,{"$f":"IF(ACHATS!I258=\"\",\"\",ACHATS!I258)","v":""},null,{"$f":"IF(ACHATS!S258=\"\",\"\",ACHATS!S258)","v":""},null,null,null,null,{"$f":"IF(ACHATS!V258=\"\",\"\",ACHATS!V258)","v":""}]
[null,{"$f":"IF(ACHATS!E272=0,\"\",ACHATS!E272)","v":""},null,null,null,null,null,null,"Poids",null,{"$f":"IF(ACHATS!W272=0,\"\",ACHATS!W272)","v":""},null,null,17,null,{"$f":"IF(ACHATS!E259=\"\",\"\",ACHATS!E259)","v":""},null,null,null,null,null,{"$f":"IF(ACHATS!I259=\"\",\"\",ACHATS!I259)","v":""},null,{"$f":"IF(ACHATS!S259=\"\",\"\",ACHATS!S259)","v":""},null,null,null,null,{"$f":"IF(ACHATS!V259=\"\",\"\",ACHATS!V259)","v":""}]
[null,"Niv. max. des prog.",null,null,"Gestion systèmes",null,null,null,"Potentiel",null,null,null,null,18,null,{"$f":"IF(ACHATS!E260=\"\",\"\",ACHATS!E260)","v":""},null,null,null,null,null,{"$f":"IF(ACHATS!I260=\"\",\"\",ACHATS!I260)","v":""},null,{"$f":"IF(ACHATS!S260=\"\",\"\",ACHATS!S260)","v":""},null,null,null,null,{"$f":"IF(ACHATS!V260=\"\",\"\",ACHATS!V260)","v":""}]
[null,{"$f":"IF(ACHATS!M272=0,\"\",ACHATS!M272)","v":""},null,null,{"$f":"IF(ACHATS!O272=0,\"\",ACHATS!O272)","v":""},null,null,null,{"$f":"IF(ACHATS!Q272=0,\"\",ACHATS!Q272)","v":""},null,null,null,null,19,null,{"$f":"IF(ACHATS!E261=\"\",\"\",ACHATS!E261)","v":""},null,null,null,null,null,{"$f":"IF(ACHATS!I261=\"\",\"\",ACHATS!I261)","v":""},null,{"$f":"IF(ACHATS!S261=\"\",\"\",ACHATS!S261)","v":""},null,null,null,null,{"$f":"IF(ACHATS!V261=\"\",\"\",ACHATS!V261)","v":""}]
[null,"NT / Génération",null,null,"Blindage IEM",null,null,null,"Intégrité",null,null,null,null,20,null,{"$f":"IF(ACHATS!E262=\"\",\"\",ACHATS!E262)","v":""},null,null,null,null,null,{"$f":"IF(ACHATS!I262=\"\",\"\",ACHATS!I262)","v":""},null,{"$f":"IF(ACHATS!S262=\"\",\"\",ACHATS!S262)","v":""},null,null,null,null,{"$f":"IF(ACHATS!V262=\"\",\"\",ACHATS!V262)","v":""}]
[null,{"$f":"ACHATS!AJ273","v":""},null,null,{"$f":"IF(ACHATS!S272=0,\"\",ACHATS!S272)","v":""},null,null,null,{"$f":"IF(ACHATS!AB272=\"\",\"\",ACHATS!AB272)","v":""},null,null,null,null,21,null,{"$f":"IF(ACHATS!E263=\"\",\"\",ACHATS!E263)","v":""},null,null,null,null,null,{"$f":"IF(ACHATS!I263=\"\",\"\",ACHATS!I263)","v":""},null,{"$f":"IF(ACHATS!S263=\"\",\"\",ACHATS!S263)","v":""},null,null,null,null,{"$f":"IF(ACHATS!V263=\"\",\"\",ACHATS!V263)","v":""}]
[null,"Programmes",null,null,null,null,null,null,null,null,null,null,null,22,null,{"$f":"IF(ACHATS!E264=\"\",\"\",ACHATS!E264)","v":""},null,null,null,null,null,{"$f":"IF(ACHATS!I264=\"\",\"\",ACHATS!I264)","v":""},null,{"$f":"IF(ACHATS!S264=\"\",\"\",ACHATS!S264)","v":""},null,null,null,null,{"$f":"IF(ACHATS!V264=\"\",\"\",ACHATS!V264)","v":""}]
[null,{"$f":"ACHATS!AJ281","v":"             "},null,null,null,null,null,null,null,null,null,null,null,23,null,{"$f":"IF(ACHATS!E265=\"\",\"\",ACHATS!E265)","v":""},null,null,null,null,null,{"$f":"IF(ACHATS!I265=\"\",\"\",ACHATS!I265)","v":""},null,{"$f":"IF(ACHATS!S265=\"\",\"\",ACHATS!S265)","v":""},null,null,null,null,{"$f":"IF(ACHATS!V265=\"\",\"\",ACHATS!V265)","v":""}]
[null,{"$f":"ACHATS!AJ282","v":"             "},null,null,null,null,null,null,null,null,null,null,null,24,null,{"$f":"IF(ACHATS!E266=\"\",\"\",ACHATS!E266)","v":""},null,null,null,null,null,{"$f":"IF(ACHATS!I266=\"\",\"\",ACHATS!I266)","v":""},null,{"$f":"IF(ACHATS!S266=\"\",\"\",ACHATS!S266)","v":""},null,null,null,null,{"$f":"IF(ACHATS!V266=\"\",\"\",ACHATS!V266)","v":""}]
[null,{"$f":"ACHATS!AJ283","v":"             "},null,null,null,null,null,null,null,null,null,null,null,25,null,{"$f":"IF(ACHATS!E267=\"\",\"\",ACHATS!E267)","v":""},null,null,null,null,null,{"$f":"IF(ACHATS!I267=\"\",\"\",ACHATS!I267)","v":""},null,{"$f":"IF(ACHATS!S267=\"\",\"\",ACHATS!S267)","v":""},null,null,null,null,{"$f":"IF(ACHATS!V267=\"\",\"\",ACHATS!V267)","v":""}]
[]
[null,"ARMEMENT_",null,null,null,"Dom.",null,"Choc","Pén.",null,"Portée (+0/-5/-10/-15)",null,null,null,"Ini.",null,null,"Mode tir",null,"Munitions",null,"Notes",null,null,null,null,null,"NT",null,"ITG"]
[null,{"$f":"IF(ACHATS!E291=\"\",\"\",ACHATS!E291)","v":""},null,null,null,{"$f":"IF(ACHATS!I291=\"\",\"\",ACHATS!I291)","v":""},null,{"$f":"IF(ACHATS!K291=\"\",\"\",ACHATS!K291)","v":""},{"$f":"IF(ACHATS!M291=\"\",\"\",ACHATS!M291)","v":""},null,{"$f":"IF(ACHATS!N291=\"\",\"\",ACHATS!N291)","v":""},null,null,null,{"$f":"IF(ACHATS!Q291=\"\",\"\",ACHATS!Q291)","v":""},null,null,{"$f":"IF(ACHATS!R291=\"\",\"\",ACHATS!R291)","v":""},null,{"$f":"IF(ACHATS!U291=\"\",\"\",ACHATS!U291)","v":""},null,{"$f":"IF(ACHATS!AD291=\"\",\"\",ACHATS!AD291)","v":""},null,null,null,null,null,{"$f":"IF(ACHATS!AA291=\"\",\"\",ACHATS!AA291)","v":""},null,{"$f":"IF(ACHATS!AG291=\"\",\"\",ACHATS!AG291)","v":""}]
[null,{"$f":"IF(ACHATS!E292=\"\",\"\",ACHATS!E292)","v":""},null,null,null,{"$f":"IF(ACHATS!I292=\"\",\"\",ACHATS!I292)","v":""},null,{"$f":"IF(ACHATS!K292=\"\",\"\",ACHATS!K292)","v":""},{"$f":"IF(ACHATS!M292=\"\",\"\",ACHATS!M292)","v":""},null,{"$f":"IF(ACHATS!N292=\"\",\"\",ACHATS!N292)","v":""},null,null,null,{"$f":"IF(ACHATS!Q292=\"\",\"\",ACHATS!Q292)","v":""},null,null,{"$f":"IF(ACHATS!R292=\"\",\"\",ACHATS!R292)","v":""},null,{"$f":"IF(ACHATS!U292=\"\",\"\",ACHATS!U292)","v":""},null,{"$f":"IF(ACHATS!AD292=\"\",\"\",ACHATS!AD292)","v":""},null,null,null,null,null,{"$f":"IF(ACHATS!AA292=\"\",\"\",ACHATS!AA292)","v":""},null,{"$f":"IF(ACHATS!AG292=\"\",\"\",ACHATS!AG292)","v":""}]
[null,{"$f":"IF(ACHATS!E293=\"\",\"\",ACHATS!E293)","v":""},null,null,null,{"$f":"IF(ACHATS!I293=\"\",\"\",ACHATS!I293)","v":""},null,{"$f":"IF(ACHATS!K293=\"\",\"\",ACHATS!K293)","v":""},{"$f":"IF(ACHATS!M293=\"\",\"\",ACHATS!M293)","v":""},null,{"$f":"IF(ACHATS!N293=\"\",\"\",ACHATS!N293)","v":""},null,null,null,{"$f":"IF(ACHATS!Q293=\"\",\"\",ACHATS!Q293)","v":""},null,null,{"$f":"IF(ACHATS!R293=\"\",\"\",ACHATS!R293)","v":""},null,{"$f":"IF(ACHATS!U293=\"\",\"\",ACHATS!U293)","v":""},null,{"$f":"IF(ACHATS!AD293=\"\",\"\",ACHATS!AD293)","v":""},null,null,null,null,null,{"$f":"IF(ACHATS!AA293=\"\",\"\",ACHATS!AA293)","v":""},null,{"$f":"IF(ACHATS!AG293=\"\",\"\",ACHATS!AG293)","v":""}]
[null,{"$f":"IF(ACHATS!E294=\"\",\"\",ACHATS!E294)","v":""},null,null,null,{"$f":"IF(ACHATS!I294=\"\",\"\",ACHATS!I294)","v":""},null,{"$f":"IF(ACHATS!K294=\"\",\"\",ACHATS!K294)","v":""},{"$f":"IF(ACHATS!M294=\"\",\"\",ACHATS!M294)","v":""},null,{"$f":"IF(ACHATS!N294=\"\",\"\",ACHATS!N294)","v":""},null,null,null,{"$f":"IF(ACHATS!Q294=\"\",\"\",ACHATS!Q294)","v":""},null,null,{"$f":"IF(ACHATS!R294=\"\",\"\",ACHATS!R294)","v":""},null,{"$f":"IF(ACHATS!U294=\"\",\"\",ACHATS!U294)","v":""},null,{"$f":"IF(ACHATS!AD294=\"\",\"\",ACHATS!AD294)","v":""},null,null,null,null,null,{"$f":"IF(ACHATS!AA294=\"\",\"\",ACHATS!AA294)","v":""},null,{"$f":"IF(ACHATS!AG294=\"\",\"\",ACHATS!AG294)","v":""}]
[null,{"$f":"IF(ACHATS!E295=\"\",\"\",ACHATS!E295)","v":""},null,null,null,{"$f":"IF(ACHATS!I295=\"\",\"\",ACHATS!I295)","v":""},null,{"$f":"IF(ACHATS!K295=\"\",\"\",ACHATS!K295)","v":""},{"$f":"IF(ACHATS!M295=\"\",\"\",ACHATS!M295)","v":""},null,{"$f":"IF(ACHATS!N295=\"\",\"\",ACHATS!N295)","v":""},null,null,null,{"$f":"IF(ACHATS!Q295=\"\",\"\",ACHATS!Q295)","v":""},null,null,{"$f":"IF(ACHATS!R295=\"\",\"\",ACHATS!R295)","v":""},null,{"$f":"IF(ACHATS!U295=\"\",\"\",ACHATS!U295)","v":""},null,{"$f":"IF(ACHATS!AD295=\"\",\"\",ACHATS!AD295)","v":""},null,null,null,null,null,{"$f":"IF(ACHATS!AA295=\"\",\"\",ACHATS!AA295)","v":""},null,{"$f":"IF(ACHATS!AG295=\"\",\"\",ACHATS!AG295)","v":""}]
[null,{"$f":"IF(ACHATS!E296=\"\",\"\",ACHATS!E296)","v":""},null,null,null,{"$f":"IF(ACHATS!I296=\"\",\"\",ACHATS!I296)","v":""},null,{"$f":"IF(ACHATS!K296=\"\",\"\",ACHATS!K296)","v":""},{"$f":"IF(ACHATS!M296=\"\",\"\",ACHATS!M296)","v":""},null,{"$f":"IF(ACHATS!N296=\"\",\"\",ACHATS!N296)","v":""},null,null,null,{"$f":"IF(ACHATS!Q296=\"\",\"\",ACHATS!Q296)","v":""},null,null,{"$f":"IF(ACHATS!R296=\"\",\"\",ACHATS!R296)","v":""},null,{"$f":"IF(ACHATS!U296=\"\",\"\",ACHATS!U296)","v":""},null,{"$f":"IF(ACHATS!AD296=\"\",\"\",ACHATS!AD296)","v":""},null,null,null,null,null,{"$f":"IF(ACHATS!AA296=\"\",\"\",ACHATS!AA296)","v":""},null,{"$f":"IF(ACHATS!AG296=\"\",\"\",ACHATS!AG296)","v":""}]
[null,"TORPILLES_",null,null,null,"Type / Niv.",null,"Vitesse",null,"Taille","P.O.",null,"Autonomie",null,null,null,"Ini.",null,"Mode tir",null,"Munit.",null,"Dom.",null,"Pén.","Spécial",null,null,null,"NT"]
[null,{"$f":"IF(ACHATS!E300=\"\",\"\",ACHATS!E300)","v":""},null,null,null,{"$f":"ACHATS!AL300","v":""},null,{"$f":"IF(ACHATS!M300=\"\",\"\",ACHATS!M300)","v":""},null,{"$f":"IF(ACHATS!S300=\"\",\"\",ACHATS!S300)","v":""},{"$f":"IF(ACHATS!O300=\"\",\"\",ACHATS!O300)","v":""},null,{"$f":"IF(ACHATS!W300=\"\",\"\",ACHATS!W300)","v":""},null,null,null,{"$f":"IF(ACHATS!Q300=\"\",\"\",ACHATS!Q300)","v":""},null,{"$f":"IF(ACHATS!R300=\"\",\"\",ACHATS!R300)","v":""},null,{"$f":"IF(ACHATS!AA300=\"\",\"\",ACHATS!AA300)","v":""},null,{"$f":"IF(ACHATS!U300=\"\",\"\",ACHATS!U300)","v":""},null,{"$f":"IF(ACHATS!T300=\"\",\"\",ACHATS!T300)","v":""},{"$f":"IF(ACHATS!AH300=\"\",\"\",ACHATS!AH300)","v":""},null,null,null,{"$f":"IF(ACHATS!AE300=\"\",\"\",ACHATS!AE300)","v":""}]
[null,{"$f":"IF(ACHATS!E301=\"\",\"\",ACHATS!E301)","v":""},null,null,null,{"$f":"ACHATS!AL301","v":""},null,{"$f":"IF(ACHATS!M301=\"\",\"\",ACHATS!M301)","v":""},null,{"$f":"IF(ACHATS!S301=\"\",\"\",ACHATS!S301)","v":""},{"$f":"IF(ACHATS!O301=\"\",\"\",ACHATS!O301)","v":""},null,{"$f":"IF(ACHATS!W301=\"\",\"\",ACHATS!W301)","v":""},null,null,null,{"$f":"IF(ACHATS!Q301=\"\",\"\",ACHATS!Q301)","v":""},null,{"$f":"IF(ACHATS!R301=\"\",\"\",ACHATS!R301)","v":""},null,{"$f":"IF(ACHATS!AA301=\"\",\"\",ACHATS!AA301)","v":""},null,{"$f":"IF(ACHATS!U301=\"\",\"\",ACHATS!U301)","v":""},null,{"$f":"IF(ACHATS!T301=\"\",\"\",ACHATS!T301)","v":""},{"$f":"IF(ACHATS!AH301=\"\",\"\",ACHATS!AH301)","v":""},null,null,null,{"$f":"IF(ACHATS!AE301=\"\",\"\",ACHATS!AE301)","v":""}]
[null,{"$f":"IF(ACHATS!E302=\"\",\"\",ACHATS!E302)","v":""},null,null,null,{"$f":"ACHATS!AL302","v":""},null,{"$f":"IF(ACHATS!M302=\"\",\"\",ACHATS!M302)","v":""},null,{"$f":"IF(ACHATS!S302=\"\",\"\",ACHATS!S302)","v":""},{"$f":"IF(ACHATS!O302=\"\",\"\",ACHATS!O302)","v":""},null,{"$f":"IF(ACHATS!W302=\"\",\"\",ACHATS!W302)","v":""},null,null,null,{"$f":"IF(ACHATS!Q302=\"\",\"\",ACHATS!Q302)","v":""},null,{"$f":"IF(ACHATS!R302=\"\",\"\",ACHATS!R302)","v":""},null,{"$f":"IF(ACHATS!AA302=\"\",\"\",ACHATS!AA302)","v":""},null,{"$f":"IF(ACHATS!U302=\"\",\"\",ACHATS!U302)","v":""},null,{"$f":"IF(ACHATS!T302=\"\",\"\",ACHATS!T302)","v":""},{"$f":"IF(ACHATS!AH302=\"\",\"\",ACHATS!AH302)","v":""},null,null,null,{"$f":"IF(ACHATS!AE302=\"\",\"\",ACHATS!AE302)","v":""}]

{"sheet":"PNJ","index":20,"n_rows":74,"n_cols":49,"rows_kept":74,"cut":false,"hidden":false,"merged":[[71,21,71,29],[66,21,66,29],[58,21,58,29],[58,43,59,48],[68,32,68,40],[69,32,69,40],[37,21,48,29],[52,21,56,29],[60,21,64,29],[61,43,64,48],[60,43,60,48],[7,1,7,9],[7,11,7,19],[7,21,7,29],[71,1,71,9],[66,1,66,9],[58,1,58,9],[50,1,50,9],[35,1,35,9],[26,1,26,9],[11,1,11,9],[11,11,11,19],[26,11,26,19],[35,11,35,19],[50,11,50,19],[58,11,58,19],[60,1,64,9],[1,4,2,6],[1,14,2,16],[1,24,2,26],[52,43,53,48],[1,10,3,10],[1,20,3,20],[26,21,26,29],[11,21,11,29],[4,1,5,9],[4,11,5,19],[31,1,31,9],[52,1,56,9],[4,21,5,29],[9,21,9,29],[13,21,24,29],[31,21,31,29],[73,1,73,9],[68,1,68,9],[69,1,69,9],[66,11,66,19],[71,11,71,19],[69,11,69,19],[73,11,73,19],[37,1,48,9],[9,1,9,9],[13,1,24,9],[68,11,68,19],[9,11,9,19],[13,11,24,19],[31,11,31,19],[37,11,48,19],[52,11,56,19],[60,11,64,19],[73,32,73,40],[3,47,6,47],[68,21,68,29],[69,21,69,29],[73,21,73,29],[4,32,5,40],[9,32,9,40],[13,32,24,40],[31,32,31,40],[37,32,48,40],[52,32,56,40],[60,32,64,40],[54,43,55,48],[56,43,57,48],[50,21,50,29],[35,21,35,29]]}
[]
[null,null,null,null,"PNJ 1",null,null,null,null,null,null,null,null,null,"PNJ 2",null,null,null,null,null,null,null,null,null,"PNJ 3"]
[]
[null,null,null,null,null,null,null,null,null,null,null,null,null,null,null,null,null,null,null,null,null,null,null,null,null,null,null,null,null,null,null,null,null,null,null,null,null,null,null,null,null,null,null,{"$f":"IF(EXPERIENCE_PRELIMINAIRE!E184=\"Sans profession\",\"\",EXPERIENCE_PRELIMINAIRE!E184)","v":""},null,{"$f":"IF(AR5=\"\",AR4,CONCATENATE(AR4,\" / \"))","v":""},null,{"$f":"CONCATENATE(AT4,AT5,AT6,AT7)","v":""}]
[null,null,null,null,null,null,null,null,null,null,null,null,null,null,null,null,null,null,null,null,null,null,null,null,null,null,null,null,null,null,null,null,{"$f":"AV4","v":""},null,null,null,null,null,null,null,null,null,null,{"$f":"IF(EXPERIENCE_PRELIMINAIRE!E204=\"Sans profession\",\"\",EXPERIENCE_PRELIMINAIRE!E204)","v":""},null,{"$f":"IF(AR6=\"\",AR5,CONCATENATE(AR5,\" / \"))","v":""}]
[null,null,null,null,null,null,null,null,null,null,null,null,null,null,null,null,null,null,null,null,null,null,null,null,null,null,null,null,null,null,null,null,null,null,null,null,null,null,null,null,null,null,null,{"$f":"IF(EXPERIENCE_PRELIMINAIRE!E235=\"Sans profession\",\"\",EXPERIENCE_PRELIMINAIRE!E235)","v":""},null,""]
[null,null,null,null,null,null,null,null,null,null,null,null,null,null,null,null,null,null,null,null,null,null,null,null,null,null,null,null,null,null,null,null,null,null,null,null,null,null,null,null,null,null,null,{"$f":"IF(EXPERIENCE_PRELIMINAIRE!E260=\"Sans profession\",\"\",EXPERIENCE_PRELIMINAIRE!E260)","v":""},null,{"$f":"AR7","v":""}]
[null," NOM/PRENOM/SURNOM",null,null,null,null,null,null,null,null,null," NOM/PRENOM/SURNOM",null,null,null,null,null,null,null,null,null," NOM/PRENOM/SURNOM",null,null,null,null,null,null,null,null,null,null,"NOM/PRENOM/SURNOM"]
[]
[null,null,null,null,null,null,null,null,null,null,null,null,null,null,null,null,null,null,null,null,null,null,null,null,null,null,null,null,null,null,null,null,{"$f":"CONCATENATE(AR10,\" , \",AS10,\" ans , \",AR11,\" , \",AS11,\".\")","v":"Humain , 16 ans , stérile , droitier."},null,null,null,null,null,null,null,null,null,null,{"$f":"IF($AV$10=\"Femme\",VLOOKUP($AU$10,$AU$15:$AW$17,3),VLOOKUP($AU$10,$AU$15:$AW$17,2))","v":"Humain"},{"$f":"$AW$10","v":16},null,{"$f":"ATTRIBUTS!D12","v":"Humain"},{"$f":"ATTRIBUTS!D11","v":"Homme"},{"$f":"ATTRIBUTS!D37","v":16}]
[null,null,null,null,null,null,null,null,null,null,null,null,null,null,null,null,null,null,null,null,null,null,null,null,null,null,null,null,null,null,null,null,null,null,null,null,null,null,null,null,null,null,null,{"$f":"IF($AV$10=\"Femme\",VLOOKUP($AU$11,AU21:AW22,3),VLOOKUP($AU$11,AU21:AW22,2))","v":"stérile"},{"$f":"IF($AV$10=\"Femme\",VLOOKUP($AV$11,$AU$18:$AW$20,3),VLOOKUP($AV$11,$AU$18:$AW$20,2))","v":"droitier"},null,{"$f":"IF(AVANTAGES_DESAVANTAGES!M20=\"Fécondité\",\"Fécond\",IF(AVANTAGES_DESAVANTAGES!M21=\"Fécondité\",\"Fécond\",IF(AVANTAGES_DESAVANTAGES!M22=\"Fécondité\",\"Fécond\",IF(AVANTAGES_DESAVANTAGES!M23=\"Fécondité\",\"Fécond\",IF(AVANTAGES_DESAVANTAGES!M24=\"Fécondité\",\"Fécond\",IF(AVANTAGES_DESAVANTAGES!M25=\"Fécondité\",\"Fécond\",\"Stérile\"))))))","v":"Stérile"},{"$f":"IF(AVANTAGES_DESAVANTAGES!D20=\"Ambidextrie\",\"Ambidextre\",IF(AVANTAGES_DESAVANTAGES!D21=\"Ambidextrie\",\"Ambidextre\",IF(AVANTAGES_DESAVANTAGES!D22=\"Ambidextrie\",\"Ambidextre\",IF(AVANTAGES_DESAVANTAGES!D23=\"Ambidextrie\",\"Ambidextre\",IF(AVANTAGES_DESAVANTAGES!D24=\"Ambidextrie\",\"Ambidextre\",IF(AVANTAGES_DESAVANTAGES!D25=\"Ambidextrie\",\"Ambidextre\",AVANTAGES_DESAVANTAGES!M27))))))","v":"Droitier"}]
[null,"HISTORIQUE",null,null,null,null,null,null,null,null,null,"HISTORIQUE",null,null,null,null,null,null,null,null,null,"HISTORIQUE",null,null,null,null,null,null,null,null,null,null,"HISTORIQUE"]
[]
[null," TEXTE",null,null,null,null,null,null,null,null,null," TEXTE",null,null,null,null,null,null,null,null,null," TEXTE",null,null,null,null,null,null,null,null,null,null,null,null,null,null,null,null,null,null,null,null,null,null,null,null," ","Homme","Femme"]
[null,null,null,null,null,null,null,null,null,null,null,null,null,null,null,null,null,null,null,null,null,null,null,null,null,null,null,null,null,null,null,null,null,null,null,null,null,null,null,null,null,null,null,null,null,null,"Altéré","Altéré","Altérée"]
[null,null,null,null,null,null,null,null,null,null,null,null,null,null,null,null,null,null,null,null,null,null,null,null,null,null,null,null,null,null,null,null,null,null,null,null,null,null,null,null,null,null,null,null,null,null,"Humain","Humain","Humaine"]
[null,null,null,null,null,null,null,null,null,null,null,null,null,null,null,null,null,null,null,null,null,null,null,null,null,null,null,null,null,null,null,null,null,null,null,null,null,null,null,null,null,null,null,null,null,null,"Mutant","Mutant","Mutante"]
[null,null,null,null,null,null,null,null,null,null,null,null,null,null,null,null,null,null,null,null,null,null,null,null,null,null,null,null,null,null,null,null,null,null,null,null,null,null,null,null,null,null,null,null,null,null,"Ambidextre","ambidextre","ambidextre"]
[null,null,null,null,null,null,null,null,null,null,null,null,null,null,null,null,null,null,null,null,null,null,null,null,null,null,null,null,null,null,null,null,null,null,null,null,null,null,null,null,null,null,null,null,null,null,"Droitier","droitier","droitière"]
[null,null,null,null,null,null,null,null,null,null,null,null,null,null,null,null,null,null,null,null,null,null,null,null,null,null,null,null,null,null,null,null,null,null,null,null,null,null,null,null,null,null,null,null,null,null,"Gaucher","gaucher","gauchère"]
[null,null,null,null,null,null,null,null,null,null,null,null,null,null,null,null,null,null,null,null,null,null,null,null,null,null,null,null,null,null,null,null,null,null,null,null,null,null,null,null,null,null,null,null,null,null,"Fécond","fécond","féconde"]
[null,null,null,null,null,null,null,null,null,null,null,null,null,null,null,null,null,null,null,null,null,null,null,null,null,null,null,null,null,null,null,null,null,null,null,null,null,null,null,null,null,null,null,null,null,null,"Stérile","stérile","stérile"]
[]
[]
[]
[]
[null,"ATTRIBUTS",null,null,null,null,null,null,null,null,null,"ATTRIBUTS",null,null,null,null,null,null,null,null,null,"ATTRIBUTS",null,null,null,null,null,null,null,null,null,null,"ATTRIBUTS"]
[]
[null,null,"FOR","CON","COO","ADA","PER","INT","VOL","PRE",null,null,"FOR","CON","COO","ADA","PER","INT","VOL","PRE",null,null,"FOR","CON","COO","ADA","PER","INT","VOL","PRE",null,null,null,"FOR","CON","COO","ADA","PER","INT","VOL","PRE"]
[null,"Base",null,null,null,null,null,null,null,null,null,"Base",null,null,null,null,null,null,null,null,null,"Base",null,null,null,null,null,null,null,null,null,null,"Base",{"$f":"ATTRIBUTS!J19","v":7},{"$f":"ATTRIBUTS!L19","v":7},{"$f":"ATTRIBUTS!N19","v":7},{"$f":"ATTRIBUTS!P19","v":7},{"$f":"ATTRIBUTS!R19","v":7},{"$f":"ATTRIBUTS!T19","v":7},{"$f":"ATTRIBUTS!V19","v":7},{"$f":"ATTRIBUTS!X19","v":7}]
[null,"A.N.",null,null,null,null,null,null,null,null,null,"A.N.",null,null,null,null,null,null,null,null,null,"A.N.",null,null,null,null,null,null,null,null,null,null,"A.N.",{"$f":"ATTRIBUTS!J20","v":-1},{"$f":"ATTRIBUTS!L20","v":-1},{"$f":"ATTRIBUTS!N20","v":-1},{"$f":"ATTRIBUTS!P20","v":-1},{"$f":"ATTRIBUTS!R20","v":-1},{"$f":"ATTRIBUTS!T20","v":-1},{"$f":"ATTRIBUTS!V20","v":-1},{"$f":"ATTRIBUTS!X20","v":-1}]
[null,"ATTRIBUTS SECONDAIRES",null,null,null,null,null,null,null,null,null,"ATTRIBUTS SECONDAIRES",null,null,null,null,null,null,null,null,null,"ATTRIBUTS SECONDAIRES",null,null,null,null,null,null,null,null,null,null,"ATTRIBUTS SECONDAIRES"]
[null,"Chance",null,null,null,null,"Réaction",null,null,null,null,"Chance",null,null,null,null,"Réaction",null,null,null,null,"Chance",null,null,null,null,"Réaction",null,null,null,null,null,"Chance",null,null,null,{"$f":"ATTRIBUTS!L28","v":13},"Réaction",null,null,{"$f":"ATTRIBUTS!J28","v":7}]
[null,"Modif. Dom. Contact",null,null,null,null,"Résistance aux Dom.",null,null,null,null,"Modif. Dom. Contact",null,null,null,null,"Résistance aux Dom.",null,null,null,null,"Modif. Dom. Contact",null,null,null,null,"Résistance aux Dom.",null,null,null,null,null,"Modif. Dom. Contact",null,null,null,{"$f":"ATTRIBUTS!N28","v":-1},"Résistance aux Dom.",null,null,{"$f":"ATTRIBUTS!R28","v":1}]
[]
[null,"COMPETENCES",null,null,null,null,null,null,null,null,null,"COMPETENCES",null,null,null,null,null,null,null,null,null,"COMPETENCES",null,null,null,null,null,null,null,null,null,null,"COMPETENCES"]
[]
[null,null,null,null,null,null,null,null,null,null,null,null,null,null,null,null,null,null,null,null,null,null,null,null,null,null,null,null,null,null,null,null,{"$f":"EXPERIENCE_PRELIMINAIRE!IM19","v":"Manœuvres sous-marines -1, Combat armé 0, Combat à mains nues 0, Armes de poing -1, Intimidation 0, Camouflage/Dissimulation -4, Pickpocket -2, Manœuvre d'armures (Sous-marines) -1, Pilotage (Navires légers) -5, Pilotage (Scooters sous-marins) 0, Connaissance d'un milieu naturel (Océans) -4, Mécanique (Navires/Chasseurs sous-marins) -1, Systèmes de sécurité -5, "}]
[]
[]
[]
[]
[]
[]
[]
[]
[]
[]
[]
[]
[null,"AVANTAGES & DESAVANTAGES",null,null,null,null,null,null,null,null,null,"AVANTAGES & DESAVANTAGES",null,null,null,null,null,null,null,null,null,"AVANTAGES & DESAVANTAGES",null,null,null,null,null,null,null,null,null,null,"AVANTAGES & DESAVANTAGES"]
[]
[null,null,null,null,null,null,null,null,null,null,null,null,null,null,null,null,null,null,null,null,null,null,null,null,null,null,null,null,null,null,null,null,{"$f":"CONCATENATE(AR53,AR55,AR57,AR59)","v":"Parcelles d'élevage/cultures (4 points), "},null,null,null,null,null,null,null,null,null,"Capacités",{"$f":"CAPACITES_SPECIALES!BL7","v":""}]
[null,null,null,null,null,null,null,null,null,null,null,null,null,null,null,null,null,null,null,null,null,null,null,null,null,null,null,null,null,null,null,null,null,null,null,null,null,null,null,null,null,null,"speciales"]
[null,null,null,null,null,null,null,null,null,null,null,null,null,null,null,null,null,null,null,null,null,null,null,null,null,null,null,null,null,null,null,null,null,null,null,null,null,null,null,null,null,null,"Evolution",{"$f":"AVANTAGES_PROFESSIONNELS!CH10","v":""}]
[null,null,null,null,null,null,null,null,null,null,null,null,null,null,null,null,null,null,null,null,null,null,null,null,null,null,null,null,null,null,null,null,null,null,null,null,null,null,null,null,null,null,"Altéré"]
[null,null,null,null,null,null,null,null,null,null,null,null,null,null,null,null,null,null,null,null,null,null,null,null,null,null,null,null,null,null,null,null,null,null,null,null,null,null,null,null,null,null,"Avantages",{"$f":"AVANTAGES_DESAVANTAGES!AX10","v":""}]
[null,null,null,null,null,null,null,null,null,null,null,null,null,null,null,null,null,null,null,null,null,null,null,null,null,null,null,null,null,null,null,null,null,null,null,null,null,null,null,null,null,null,"Desavantages"]
[null,"EQUIPEMENT",null,null,null,null,null,null,null,null,null,"EQUIPEMENT",null,null,null,null,null,null,null,null,null,"EQUIPEMENT",null,null,null,null,null,null,null,null,null,null,"EQUIPEMENT",null,null,null,null,null,null,null,null,null,"Avantages",{"$f":"AVANTAGES_PROFESSIONNELS!CQ10","v":"Parcelles d'élevage/cultures (4 points), "}]
[null,null,null,null,null,null,null,null,null,null,null,null,null,null,null,null,null,null,null,null,null,null,null,null,null,null,null,null,null,null,null,null,null,null,null,null,null,null,null,null,null,null,"professionnels"]
[null,null,null,null,null,null,null,null,null,null,null,null,null,null,null,null,null,null,null,null,null,null,null,null,null,null,null,null,null,null,null,null,{"$f":"CONCATENATE(AR61,AR62)","v":""},null,null,null,null,null,null,null,null,null,"Sols",{"$f":"IF(AVANTAGES_PROFESSIONNELS!O71=0,\"\",CONCATENATE(AVANTAGES_PROFESSIONNELS!O71,\" sols, \"))","v":""}]
[null,null,null,null,null,null,null,null,null,null,null,null,null,null,null,null,null,null,null,null,null,null,null,null,null,null,null,null,null,null,null,null,null,null,null,null,null,null,null,null,null,null,"Equipement",{"$f":"ACHATS!BL22","v":""}]
[]
[]
[]
[]
[null,"CITATIONS / CARACTERE",null,null,null,null,null,null,null,null,null,"CITATIONS / CARACTERE",null,null,null,null,null,null,null,null,null,"CITATIONS / CARACTERE",null,null,null,null,null,null,null,null,null,null,"CITATIONS / CARACTERE"]
[]
[null," ''CITATION''",null,null,null,null,null,null,null,null,null," ''CITATION''",null,null,null,null,null,null,null,null,null," ''CITATION''"]
[null," CARACTERE, CARACTERE, CARACTERE.",null,null,null,null,null,null,null,null,null," CARACTERE, CARACTERE, CARACTERE.",null,null,null,null,null,null,null,null,null," CARACTERE, CARACTERE, CARACTERE."]
[]
[null,"RELATIONS",null,null,null,null,null,null,null,null,null,"RELATIONS",null,null,null,null,null,null,null,null,null,"RELATIONS",null,null,null,null,null,null,null,null,null,null,"RELATIONS"]
[]
[null,null,null,null,null,null,null,null,null,null,null,null,null,null,null,null,null,null,null,null,null,null,null,null,null,null,null,null,null,null,null,null,{"$f":"AVANTAGES_PROFESSIONNELS!CK4","v":", , ."}]